BEGIN:VCALENDAR
VERSION:2.0
PRODID:-//GunStuff TV - ECPv6.15.20//NONSGML v1.0//EN
CALSCALE:GREGORIAN
METHOD:PUBLISH
X-WR-CALNAME:GunStuff TV
X-ORIGINAL-URL:https://gunstuff.tv
X-WR-CALDESC:Events for GunStuff TV
REFRESH-INTERVAL;VALUE=DURATION:PT1H
X-Robots-Tag:noindex
X-PUBLISHED-TTL:PT1H
BEGIN:VTIMEZONE
TZID:America/New_York
BEGIN:DAYLIGHT
TZOFFSETFROM:-0500
TZOFFSETTO:-0400
TZNAME:EDT
DTSTART:20250309T070000
END:DAYLIGHT
BEGIN:STANDARD
TZOFFSETFROM:-0400
TZOFFSETTO:-0500
TZNAME:EST
DTSTART:20251102T060000
END:STANDARD
BEGIN:DAYLIGHT
TZOFFSETFROM:-0500
TZOFFSETTO:-0400
TZNAME:EDT
DTSTART:20260308T070000
END:DAYLIGHT
BEGIN:STANDARD
TZOFFSETFROM:-0400
TZOFFSETTO:-0500
TZNAME:EST
DTSTART:20261101T060000
END:STANDARD
BEGIN:DAYLIGHT
TZOFFSETFROM:-0500
TZOFFSETTO:-0400
TZNAME:EDT
DTSTART:20270314T070000
END:DAYLIGHT
BEGIN:STANDARD
TZOFFSETFROM:-0400
TZOFFSETTO:-0500
TZNAME:EST
DTSTART:20271107T060000
END:STANDARD
END:VTIMEZONE
BEGIN:VEVENT
DTSTART;TZID=America/New_York:20260506T130000
DTEND;TZID=America/New_York:20260506T160000
DTSTAMP:20260419T190933
CREATED:20260407T020229Z
LAST-MODIFIED:20260414T021701Z
UID:10006863-1778072400-1778083200@gunstuff.tv
SUMMARY:Intro to How to Use your Conceal Carry Purse\, Bag.
DESCRIPTION:Hey Everyone \n\n\nDo you want to carry concealed\, but are just not ready to carry on body? \n\n\nDo you normally carry on body but occasionally wish for another safe option? \n\n\nDo you ever just throw a gun in your purse and think you’re good to go? \n\n\nIt’s time to elevate your off body carry skills and be responsible for your own personal safety. \n\n\nSign up for our CONCEAL Carry Course today and you will empower yourself with the skills and knowledge to properly carry your handgun \n\n\n\nStudents need to bring their purse /bag/sling and bring firearm if they already have it. But we will also have plenty for them to try.
URL:https://gunstuff.tv/event/intro-to-how-to-use-your-conceal-carry-purse-bag-4/
LOCATION:Appalacian Gun\, Pawn & Range\, 140 Shelby Ln.\, Jasper\, GA\, 30143\, United States
CATEGORIES:Basic,firearm-safety,Safe Gun
ORGANIZER;CN="Appalachian Gun":MAILTO:Appalachiangun@gmail.com
END:VEVENT
BEGIN:VEVENT
DTSTART;TZID=America/New_York:20260506T173000
DTEND;TZID=America/New_York:20260506T203000
DTSTAMP:20260419T190933
CREATED:20260407T020229Z
LAST-MODIFIED:20260414T021701Z
UID:10006864-1778088600-1778099400@gunstuff.tv
SUMMARY:Intro to How to Use your Conceal Carry Purse\, Bag.
DESCRIPTION:Hey Everyone \n\n\nDo you want to carry concealed\, but are just not ready to carry on body? \n\n\nDo you normally carry on body but occasionally wish for another safe option? \n\n\nDo you ever just throw a gun in your purse and think you’re good to go? \n\n\nIt’s time to elevate your off body carry skills and be responsible for your own personal safety. \n\n\nSign up for our CONCEAL Carry Course today and you will empower yourself with the skills and knowledge to properly carry your handgun \n\n\n\nStudents need to bring their purse /bag/sling and bring firearm if they already have it. But we will also have plenty for them to try.
URL:https://gunstuff.tv/event/intro-to-how-to-use-your-conceal-carry-purse-bag-5/
LOCATION:Appalacian Gun\, Pawn & Range\, 140 Shelby Ln.\, Jasper\, GA\, 30143\, United States
CATEGORIES:Basic,firearm-safety,Safe Gun
ORGANIZER;CN="Appalachian Gun":MAILTO:Appalachiangun@gmail.com
END:VEVENT
BEGIN:VEVENT
DTSTART;TZID=America/New_York:20260507T093000
DTEND;TZID=America/New_York:20260507T103000
DTSTAMP:20260419T190933
CREATED:20260407T020229Z
LAST-MODIFIED:20260414T021701Z
UID:10006865-1778146200-1778149800@gunstuff.tv
SUMMARY:A Girl & A Gun
DESCRIPTION:A Girl & A Gun® is a ladies-only shooting club founded by women shooters to provide firearms training and community for women. Whether you’re new to gun safety or an experienced marksman\, we help you grow your skills with pistols\, rifles\, and shotguns for self-defense\, competition\, and confidence. With expert instruction and a supportive environment\, you’ll find the tools\, knowledge\, and encouragement to thrive.
URL:https://gunstuff.tv/event/a-girl-a-gun-22/
LOCATION:Appalacian Gun\, Pawn & Range\, 140 Shelby Ln.\, Jasper\, GA\, 30143\, United States
CATEGORIES:Basic,firearm-safety,Safe Gun
ORGANIZER;CN="Appalachian Gun":MAILTO:Appalachiangun@gmail.com
END:VEVENT
BEGIN:VEVENT
DTSTART;TZID=America/New_York:20260507T180000
DTEND;TZID=America/New_York:20260507T213000
DTSTAMP:20260419T190933
CREATED:20260407T020229Z
LAST-MODIFIED:20260414T021701Z
UID:10006866-1778176800-1778189400@gunstuff.tv
SUMMARY:USPSA Match Night – Mountain City Practical Shooters
DESCRIPTION:Weekly USPSA Level 1 Match hosted by Mountain City Practical Shooters. \nLocation: Appalachian Gun\, Pawn & Range \n140 Shelby Ln\, Jasper\, GA 30143 \nArrive: 6:00 PM (New Shooter Briefing) \nFirst Shots: 6:30 PM \nMatch Fee: $20 \nOpen to new and experienced shooters. Come learn\, compete\, and have fun in a safe\, supportive environment. \n\n\n\n\nSchedule subject to change due to weather\, and holidays. \n\n\n 
URL:https://gunstuff.tv/event/uspsa-match-night-mountain-city-practical-shooters-13/
LOCATION:Appalacian Gun\, Pawn & Range\, 140 Shelby Ln.\, Jasper\, GA\, 30143\, United States
CATEGORIES:firearm-safety,Safe Gun
ORGANIZER;CN="Appalachian Gun":MAILTO:Appalachiangun@gmail.com
END:VEVENT
BEGIN:VEVENT
DTSTART;TZID=America/New_York:20260513T150000
DTEND;TZID=America/New_York:20260513T163000
DTSTAMP:20260419T190933
CREATED:20260414T021633Z
LAST-MODIFIED:20260414T021701Z
UID:10007476-1778684400-1778689800@gunstuff.tv
SUMMARY:A Girl & A Gun
DESCRIPTION:A Girl & A Gun® is a ladies-only shooting club founded by women shooters to provide firearms training and community for women. Whether you’re new to gun safety or an experienced marksman\, we help you grow your skills with pistols\, rifles\, and shotguns for self-defense\, competition\, and confidence. With expert instruction and a supportive environment\, you’ll find the tools\, knowledge\, and encouragement to thrive.
URL:https://gunstuff.tv/event/a-girl-a-gun-23/
LOCATION:Appalacian Gun\, Pawn & Range\, 140 Shelby Ln.\, Jasper\, GA\, 30143\, United States
CATEGORIES:Basic,firearm-safety,Safe Gun
ORGANIZER;CN="Appalachian Gun":MAILTO:Appalachiangun@gmail.com
END:VEVENT
BEGIN:VEVENT
DTSTART;TZID=America/New_York:20260514T180000
DTEND;TZID=America/New_York:20260514T213000
DTSTAMP:20260419T190933
CREATED:20260414T021633Z
LAST-MODIFIED:20260414T021701Z
UID:10007477-1778781600-1778794200@gunstuff.tv
SUMMARY:USPSA Match Night – Mountain City Practical Shooters
DESCRIPTION:Weekly USPSA Level 1 Match hosted by Mountain City Practical Shooters. \nLocation: Appalachian Gun\, Pawn & Range \n140 Shelby Ln\, Jasper\, GA 30143 \nArrive: 6:00 PM (New Shooter Briefing) \nFirst Shots: 6:30 PM \nMatch Fee: $20 \nOpen to new and experienced shooters. Come learn\, compete\, and have fun in a safe\, supportive environment. \n\n\n\n\nSchedule subject to change due to weather\, and holidays. \n\n\n 
URL:https://gunstuff.tv/event/uspsa-match-night-mountain-city-practical-shooters-14/
LOCATION:Appalacian Gun\, Pawn & Range\, 140 Shelby Ln.\, Jasper\, GA\, 30143\, United States
CATEGORIES:firearm-safety,Safe Gun
ORGANIZER;CN="Appalachian Gun":MAILTO:Appalachiangun@gmail.com
END:VEVENT
END:VCALENDAR