BEGIN:VCALENDAR
VERSION:2.0
PRODID:-//GunStuff TV - ECPv6.15.20//NONSGML v1.0//EN
CALSCALE:GREGORIAN
METHOD:PUBLISH
X-ORIGINAL-URL:https://gunstuff.tv
X-WR-CALDESC:Events for GunStuff TV
REFRESH-INTERVAL;VALUE=DURATION:PT1H
X-Robots-Tag:noindex
X-PUBLISHED-TTL:PT1H
BEGIN:VTIMEZONE
TZID:America/Phoenix
BEGIN:STANDARD
TZOFFSETFROM:-0700
TZOFFSETTO:-0700
TZNAME:MST
DTSTART:20250101T000000
END:STANDARD
END:VTIMEZONE
BEGIN:VTIMEZONE
TZID:UTC
BEGIN:STANDARD
TZOFFSETFROM:+0000
TZOFFSETTO:+0000
TZNAME:UTC
DTSTART:20250101T000000
END:STANDARD
END:VTIMEZONE
BEGIN:VTIMEZONE
TZID:America/New_York
BEGIN:DAYLIGHT
TZOFFSETFROM:-0500
TZOFFSETTO:-0400
TZNAME:EDT
DTSTART:20250309T070000
END:DAYLIGHT
BEGIN:STANDARD
TZOFFSETFROM:-0400
TZOFFSETTO:-0500
TZNAME:EST
DTSTART:20251102T060000
END:STANDARD
BEGIN:DAYLIGHT
TZOFFSETFROM:-0500
TZOFFSETTO:-0400
TZNAME:EDT
DTSTART:20260308T070000
END:DAYLIGHT
BEGIN:STANDARD
TZOFFSETFROM:-0400
TZOFFSETTO:-0500
TZNAME:EST
DTSTART:20261101T060000
END:STANDARD
BEGIN:DAYLIGHT
TZOFFSETFROM:-0500
TZOFFSETTO:-0400
TZNAME:EDT
DTSTART:20270314T070000
END:DAYLIGHT
BEGIN:STANDARD
TZOFFSETFROM:-0400
TZOFFSETTO:-0500
TZNAME:EST
DTSTART:20271107T060000
END:STANDARD
END:VTIMEZONE
BEGIN:VTIMEZONE
TZID:America/Chicago
BEGIN:DAYLIGHT
TZOFFSETFROM:-0600
TZOFFSETTO:-0500
TZNAME:CDT
DTSTART:20250309T080000
END:DAYLIGHT
BEGIN:STANDARD
TZOFFSETFROM:-0500
TZOFFSETTO:-0600
TZNAME:CST
DTSTART:20251102T070000
END:STANDARD
BEGIN:DAYLIGHT
TZOFFSETFROM:-0600
TZOFFSETTO:-0500
TZNAME:CDT
DTSTART:20260308T080000
END:DAYLIGHT
BEGIN:STANDARD
TZOFFSETFROM:-0500
TZOFFSETTO:-0600
TZNAME:CST
DTSTART:20261101T070000
END:STANDARD
BEGIN:DAYLIGHT
TZOFFSETFROM:-0600
TZOFFSETTO:-0500
TZNAME:CDT
DTSTART:20270314T080000
END:DAYLIGHT
BEGIN:STANDARD
TZOFFSETFROM:-0500
TZOFFSETTO:-0600
TZNAME:CST
DTSTART:20271107T070000
END:STANDARD
END:VTIMEZONE
BEGIN:VTIMEZONE
TZID:America/Los_Angeles
BEGIN:DAYLIGHT
TZOFFSETFROM:-0800
TZOFFSETTO:-0700
TZNAME:PDT
DTSTART:20250309T100000
END:DAYLIGHT
BEGIN:STANDARD
TZOFFSETFROM:-0700
TZOFFSETTO:-0800
TZNAME:PST
DTSTART:20251102T090000
END:STANDARD
BEGIN:DAYLIGHT
TZOFFSETFROM:-0800
TZOFFSETTO:-0700
TZNAME:PDT
DTSTART:20260308T100000
END:DAYLIGHT
BEGIN:STANDARD
TZOFFSETFROM:-0700
TZOFFSETTO:-0800
TZNAME:PST
DTSTART:20261101T090000
END:STANDARD
BEGIN:DAYLIGHT
TZOFFSETFROM:-0800
TZOFFSETTO:-0700
TZNAME:PDT
DTSTART:20270314T100000
END:DAYLIGHT
BEGIN:STANDARD
TZOFFSETFROM:-0700
TZOFFSETTO:-0800
TZNAME:PST
DTSTART:20271107T090000
END:STANDARD
END:VTIMEZONE
BEGIN:VEVENT
DTSTART;VALUE=DATE:20260816
DTEND;VALUE=DATE:20260817
DTSTAMP:20260420T092259
CREATED:20251003T160030Z
LAST-MODIFIED:20260412T043233Z
UID:10001019-1786838400-1786924799@gunstuff.tv
SUMMARY:1000 Yard Practice 6:30am Pits
DESCRIPTION:
URL:https://gunstuff.tv/event/1000-yard-practice-630am-pits-14/
END:VEVENT
BEGIN:VEVENT
DTSTART;TZID=UTC:20260816T080000
DTEND;TZID=UTC:20260816T080000
DTSTAMP:20260420T092259
CREATED:20260128T014755Z
LAST-MODIFIED:20260401T070146Z
UID:10004810-1786867200-1786867200@gunstuff.tv
SUMMARY:Colfax August Steel Challenge
DESCRIPTION:Colfax August Steel Challenge\nDate: 8/16/26\nStart Time: 8:00 AM\nLocation:\nColfax Sportsmens Club (SCSA280)\nE8489 810th Ave\nColfax\, WI\nEvent Contact Information\nCody Berger\n715-495-7259\ncolfaxwishootingsports@gmail.com\nMatch Information\nColfax WI Sportsmen’s Club Tier I Steel Challenge match. We will shoot 6 stages. You must create a registration for each division. Registrations will be limited to two (2) divisions.\nRegistration fee is $20 per division: $10 per division for club members. There will be an additional $5 charge for walk-ins.\n*RSO and NROI participants are permitted two discounted division entries per match.*\n*SASP athletes are permitted two free entries per match. Please select the discount checkbox under payment form.*\nCheck-in runs from 8am – 8:30am with the match starting at 9am. Match scores will be submitted to SCSA website for classification. This match is open to the public\, there is no requirement to be a Colfax Sportsmen’s Club member or a SCSA / USPSA member to compete. Payment can be made through Practiscore or at check-in. Squadding can be done individually through Practiscore and will be adjusted on match day for the most efficient match flow.\nPlan for 5 magazines or speed loaders and a MINIMUM of 200rds per gun.\nIf you are new to Steel Challenge\, please refer to:\nhttps://uspsa.org/viewer/SCSA-Rulebook.pdf\nIt is your responsibility to understand and follow these rules. If you are a SCSA member it is your responsibility to correctly enter your member number in the corresponding box.\nRimfire\, Centerfire\, PCC\, Revolver\, 1911\, Wisconsin\, Midwest\nEvent Website\nhttps://practiscore.com/colfax-august-steel-challenge-2/register
URL:https://gunstuff.tv/event/colfax-august-steel-challenge/
LOCATION:Colfax Sportsmens Club (SCSA280)\, E8489 810th Ave\, Colfax\, WI
END:VEVENT
BEGIN:VEVENT
DTSTART;TZID=America/New_York:20260816T080000
DTEND;TZID=America/New_York:20260816T150000
DTSTAMP:20260420T092259
CREATED:20260111T181637Z
LAST-MODIFIED:20260412T184750Z
UID:10004388-1786867200-1786892400@gunstuff.tv
SUMMARY:Cast Bullet Benchrest
DESCRIPTION:Cast Bullet Benchrest match registered with the Cast Bullet Association (CBA). 100 & 200 yd score and military competition based on CBA rules. Any rifle and ammunition is welcome as an Unclassified Entry to familiarize themselves with the course of fire. Contact Mark Mazzocco memazzocco@verizon.net for more info. 
URL:https://gunstuff.tv/event/cast-bullet-benchrest-7/
LOCATION:Benson Range
END:VEVENT
BEGIN:VEVENT
DTSTART;TZID=UTC:20260816T090000
DTEND;TZID=UTC:20260816T090000
DTSTAMP:20260420T092259
CREATED:20260110T171712Z
LAST-MODIFIED:20260410T113144Z
UID:10004305-1786870800-1786870800@gunstuff.tv
SUMMARY:York Practical Shooters
DESCRIPTION:York Practical Shooters\nDate : 8/16/26\nStart Time: 9:00 AM\nLocation:\nYork Practical Shooters (MID13)\n7131 Iron Stone Hill Rd\nDallastown\, PA\nEvent Contact Information\nRussell Fortney\n9999999999\nYorkUSPSA@gmail.com\nMatch Information\nRegistration opens in Practiscore on the 2nd Sunday of the month at 7:00PM.\nEvent Website\nhttps://www.facebook.com/YorkPracticalShooters
URL:https://gunstuff.tv/event/york-practical-shooters-6/
LOCATION:York Practical Shooters (MID13)\, 7131 Ironstone Hill Way\, Dallastown\, PA\, United States
GEO:39.870491;-76.677504
X-APPLE-STRUCTURED-LOCATION;VALUE=URI;X-ADDRESS=York Practical Shooters (MID13) 7131 Ironstone Hill Way Dallastown PA United States;X-APPLE-RADIUS=500;X-TITLE=7131 Ironstone Hill Way:geo:-76.677504,39.870491
END:VEVENT
BEGIN:VEVENT
DTSTART;TZID=America/New_York:20260816T090000
DTEND;TZID=America/New_York:20260816T120000
DTSTAMP:20260420T092259
CREATED:20251003T162642Z
LAST-MODIFIED:20260411T214635Z
UID:10001479-1786870800-1786881600@gunstuff.tv
SUMMARY:Weekly Trap League
DESCRIPTION:
URL:https://gunstuff.tv/event/weekly-trap-league-46/
LOCATION:Shotgun Range
END:VEVENT
BEGIN:VEVENT
DTSTART;TZID=America/New_York:20260816T090000
DTEND;TZID=America/New_York:20260816T123000
DTSTAMP:20260420T092259
CREATED:20251003T031216Z
LAST-MODIFIED:20260410T070130Z
UID:10000643-1786870800-1786883400@gunstuff.tv
SUMMARY:GRPC NRA 1800
DESCRIPTION:
URL:https://gunstuff.tv/event/grpc-nra-1800-11/
LOCATION:Gateway Rifle & Pistol Club\, 9301 Zambito Ave\, Jacksonville\, FL\, United States
GEO:30.262025;-81.814577
X-APPLE-STRUCTURED-LOCATION;VALUE=URI;X-ADDRESS=Gateway Rifle & Pistol Club 9301 Zambito Ave Jacksonville FL United States;X-APPLE-RADIUS=500;X-TITLE=9301 Zambito Ave:geo:-81.814577,30.262025
END:VEVENT
BEGIN:VEVENT
DTSTART;TZID=America/New_York:20260816T090000
DTEND;TZID=America/New_York:20260816T140000
DTSTAMP:20260420T092259
CREATED:20251003T031216Z
LAST-MODIFIED:20260410T070130Z
UID:10000642-1786870800-1786888800@gunstuff.tv
SUMMARY:Wyoming Antelope 2700
DESCRIPTION:
URL:https://gunstuff.tv/event/wyoming-antelope-2700-22/
LOCATION:Wyoming Antelope Club-Florida\, 3700 126th Ave N\, Clearwater\, FL\, United States
GEO:27.886432;-82.683263
X-APPLE-STRUCTURED-LOCATION;VALUE=URI;X-ADDRESS=Wyoming Antelope Club-Florida 3700 126th Ave N Clearwater FL United States;X-APPLE-RADIUS=500;X-TITLE=3700 126th Ave N:geo:-82.683263,27.886432
END:VEVENT
BEGIN:VEVENT
DTSTART;TZID=America/New_York:20260816T090000
DTEND;TZID=America/New_York:20260816T160000
DTSTAMP:20260420T092259
CREATED:20251109T181651Z
LAST-MODIFIED:20260412T184750Z
UID:10003034-1786870800-1786896000@gunstuff.tv
SUMMARY:Action Pistol Clinic
DESCRIPTION:Action Pistol Clinic hosted by member Adam Metcalf \nadam@openarmsinstruction.com
URL:https://gunstuff.tv/event/action-pistol-clinic-4/
LOCATION:Culver Range
END:VEVENT
BEGIN:VEVENT
DTSTART;TZID=UTC:20260816T100000
DTEND;TZID=UTC:20260816T100000
DTSTAMP:20260420T092259
CREATED:20260124T171827Z
LAST-MODIFIED:20260410T113144Z
UID:10004722-1786874400-1786874400@gunstuff.tv
SUMMARY:EWPSA Monthly USPSA Match
DESCRIPTION:EWPSA Monthly USPSA Match\nDate : 8/16/26\nStart Time: 10:00 AM\nLocation:\nEastern Wa. Practical Shooters (IE02)\n93315 N SR 225\nBenton City\, WA\nEvent Contact Information\nWarren Harper\n1\newpsa.stats@gmail.com\nMatch Information\nMatch Information\nThis is the EWPSA monthly match. Gates will be open by 9 am\, new shooter briefing at 9:30 am\, and shooters meeting at 10 am. We start shooting after the shooters meeting. The match will be $25 for non-members\, $20 for TCSA members\, juniors shoot for free\, new shooters to USPSA shoot for free\, and setup staff shoots for free. Setup for the match will begin at 9 am on Saturday before the match and targets will be put up around 8am on Sunday. Refunds will be given for cancellations minus Stripe fee. Typically 5-6 stages and around 180 rounds\, including a classifier. If you are a new shooter\, feel free to contact the Match Director (below) if you have any questions. Match Director Contact: ewpsa.stats@gmail.com\nEvent Website\nhttps://practiscore.com/search/matches?refinementList%5Bstate%5D%5B0%5D=Washington&refinementList%5Btype%5D%5B0%5D=USPSA&query=ewpsa
URL:https://gunstuff.tv/event/ewpsa-monthly-uspsa-match-10/
LOCATION:Eastern Wa. Practical Shooters (IE02)\, 71598 N State Rte 225 NW\, Benton City\, WA\, United States
GEO:46.31731;-119.493158
X-APPLE-STRUCTURED-LOCATION;VALUE=URI;X-ADDRESS=Eastern Wa. Practical Shooters (IE02) 71598 N State Rte 225 NW Benton City WA United States;X-APPLE-RADIUS=500;X-TITLE=71598 N State Rte 225 NW:geo:-119.493158,46.31731
END:VEVENT
BEGIN:VEVENT
DTSTART;TZID=America/New_York:20260816T100000
DTEND;TZID=America/New_York:20260816T150000
DTSTAMP:20260420T092259
CREATED:20260308T183139Z
LAST-MODIFIED:20260412T184750Z
UID:10006212-1786874400-1786892400@gunstuff.tv
SUMMARY:Running Deer Match
DESCRIPTION:See https://www.fxrgc.org/rifle/running-deer/ for more info
URL:https://gunstuff.tv/event/running-deer-match-5/
LOCATION:Porasky Range
END:VEVENT
BEGIN:VEVENT
DTSTART;TZID=America/New_York:20260816T130000
DTEND;TZID=America/New_York:20260816T150000
DTSTAMP:20260420T092259
CREATED:20251019T193324Z
LAST-MODIFIED:20260414T083130Z
UID:10002466-1786885200-1786892400@gunstuff.tv
SUMMARY:Open Trap Shoot - Weather Permitting
DESCRIPTION:Open shoot\, $5.00 per round.  The trap field is 2/10ths of a mile past the clubhouse. \nFor the latest information visit:https://www.facebook.com/groups/1663932967427026
URL:https://gunstuff.tv/event/open-trap-shoot-weather-permitting-17/
LOCATION:523 Sizer Run Road Emporium\, Emporium\, PA\, United States
GEO:41.500749;-78.322815
END:VEVENT
BEGIN:VEVENT
DTSTART;VALUE=DATE:20260817
DTEND;VALUE=DATE:20260818
DTSTAMP:20260420T092259
CREATED:20260213T031100Z
LAST-MODIFIED:20260410T034703Z
UID:10005284-1786924800-1787011199@gunstuff.tv
SUMMARY:Club Closed
DESCRIPTION:
URL:https://gunstuff.tv/event/club-closed-53/
END:VEVENT
BEGIN:VEVENT
DTSTART;TZID=America/New_York:20260817T090000
DTEND;TZID=America/New_York:20260817T100000
DTSTAMP:20260420T092259
CREATED:20251003T162642Z
LAST-MODIFIED:20251010T162930Z
UID:10001480-1786957200-1786960800@gunstuff.tv
SUMMARY:4-H Class Indoors
DESCRIPTION:Indoor reserved for 4-H class.
URL:https://gunstuff.tv/event/4-h-class-indoors-46/
LOCATION:Indoor Range
END:VEVENT
BEGIN:VEVENT
DTSTART;TZID=America/New_York:20260817T160000
DTEND;TZID=America/New_York:20260817T180000
DTSTAMP:20260420T092259
CREATED:20251003T162642Z
LAST-MODIFIED:20251205T181709Z
UID:10001481-1786982400-1786989600@gunstuff.tv
SUMMARY:Skeet League
DESCRIPTION:Contact Frank Andrews with Questions.
URL:https://gunstuff.tv/event/skeet-league-46/
END:VEVENT
BEGIN:VEVENT
DTSTART;TZID=America/New_York:20260817T160000
DTEND;TZID=America/New_York:20260817T180000
DTSTAMP:20260420T092259
CREATED:20251212T181642Z
LAST-MODIFIED:20260411T214635Z
UID:10003547-1786982400-1786989600@gunstuff.tv
SUMMARY:Skeet League
DESCRIPTION:Contact Frank Andrews with Questions.
URL:https://gunstuff.tv/event/skeet-league-136/
LOCATION:Skeet Range
END:VEVENT
BEGIN:VEVENT
DTSTART;VALUE=DATE:20260818
DTEND;VALUE=DATE:20260819
DTSTAMP:20260420T092259
CREATED:20251003T160030Z
LAST-MODIFIED:20260412T043233Z
UID:10001021-1787011200-1787097599@gunstuff.tv
SUMMARY:100\, 200\, 300 Yard Practice Benchrest Range
DESCRIPTION:
URL:https://gunstuff.tv/event/100-200-300-yard-practice-benchrest-range-38/
END:VEVENT
BEGIN:VEVENT
DTSTART;VALUE=DATE:20260818
DTEND;VALUE=DATE:20260819
DTSTAMP:20260420T092259
CREATED:20260213T031100Z
LAST-MODIFIED:20260410T034703Z
UID:10005285-1787011200-1787097599@gunstuff.tv
SUMMARY:Club closed
DESCRIPTION:
URL:https://gunstuff.tv/event/club-closed-54/
END:VEVENT
BEGIN:VEVENT
DTSTART;TZID=America/New_York:20260818T170000
DTEND;TZID=America/New_York:20260818T200000
DTSTAMP:20260420T092259
CREATED:20260328T214633Z
LAST-MODIFIED:20260411T214635Z
UID:10006596-1787072400-1787083200@gunstuff.tv
SUMMARY:Tactical Tuesday IDPA Practice
DESCRIPTION:Shooters new to Action Shooting contact Eric Zaharee at ABSAIDPA@gmail .com\nSee (Alder Brook) PractiScore.com for sign up Cost $5
URL:https://gunstuff.tv/event/tactical-tuesday-idpa-practice-19/
LOCATION:Action Bays
END:VEVENT
BEGIN:VEVENT
DTSTART;TZID=America/Chicago:20260818T190000
DTEND;TZID=America/Chicago:20260818T200000
DTSTAMP:20260420T092259
CREATED:20260324T220136Z
LAST-MODIFIED:20260414T221654Z
UID:10006493-1787079600-1787083200@gunstuff.tv
SUMMARY:Northwest Suburban Townhall Meeting
DESCRIPTION:Come out and join your friends at the ISRA Northwest Suburban Townhall meeting\, returning to the location at Golden Corral Buffet\, 1591 S Randall Rd\, Algonquin. Doors open at 6:00 PM with Buffet and free soft drink available for a special ISRA Meeting price. The meeting will be from 7-8 PM.\nPlease join us to enjoy great food and company and help support our gracious host\, Golden Corral Algonquin\, in our new location.\nNorthwest Suburban townhall Meeting Board\nmember@isra.org
URL:https://gunstuff.tv/event/northwest-suburban-townhall-meeting/
LOCATION:Golden Corral Restaurant – Algonquin\, 699 S Randall Rd\, Algonquin\, IL\, United States
CATEGORIES:Event Calendar
GEO:42.172548;-88.33535
X-APPLE-STRUCTURED-LOCATION;VALUE=URI;X-ADDRESS=Golden Corral Restaurant – Algonquin 699 S Randall Rd Algonquin IL United States;X-APPLE-RADIUS=500;X-TITLE=699 S Randall Rd:geo:-88.33535,42.172548
END:VEVENT
BEGIN:VEVENT
DTSTART;VALUE=DATE:20260819
DTEND;VALUE=DATE:20260820
DTSTAMP:20260420T092259
CREATED:20251005T190051Z
LAST-MODIFIED:20260412T200155Z
UID:10001685-1787097600-1787183999@gunstuff.tv
SUMMARY:Wednesday Registered Skeet
DESCRIPTION:Registered Skeet.  Contact Jerry Adams at 240-605-3220 for details. \nClick here for flyer
URL:https://gunstuff.tv/event/wednesday-registered-skeet-16/
END:VEVENT
BEGIN:VEVENT
DTSTART;VALUE=DATE:20260819
DTEND;VALUE=DATE:20260820
DTSTAMP:20260420T092259
CREATED:20251026T194721Z
LAST-MODIFIED:20260414T083130Z
UID:10002578-1787097600-1787183999@gunstuff.tv
SUMMARY:Rotary Picnic
DESCRIPTION:
URL:https://gunstuff.tv/event/club-rental-10/
LOCATION:523 Sizer Run Rd\, Emporium\, PA\, United States
GEO:41.51031;-78.23157
END:VEVENT
BEGIN:VEVENT
DTSTART;TZID=UTC:20260819T164500
DTEND;TZID=UTC:20260819T164500
DTSTAMP:20260420T092259
CREATED:20260121T014637Z
LAST-MODIFIED:20260401T070146Z
UID:10004654-1787157900-1787157900@gunstuff.tv
SUMMARY:Bass River Weds Nite Steel
DESCRIPTION:Bass River Weds Nite Steel\nDate: 8/19/26\nStart Time: 4:45 PM\nLocation:\nBass River Rod & Gun Club (SCSA467)\nBass River Rod &Gun 620 Rt. 6A\nYarmouthport\, MA\nEvent Contact Information\nTimothy J Kent\n5082372137\ntjkent@comcast.net\nEvent Website\nhttps://www.bassriverrodandgun.com/
URL:https://gunstuff.tv/event/bass-river-weds-nite-steel-17/
LOCATION:Bass River Rod & Gun Club (SCSA467)\, 79 State Rte 6 Alt\, Dennis\, MA\, United States
GEO:41.721025;-70.196653
X-APPLE-STRUCTURED-LOCATION;VALUE=URI;X-ADDRESS=Bass River Rod & Gun Club (SCSA467) 79 State Rte 6 Alt Dennis MA United States;X-APPLE-RADIUS=500;X-TITLE=79 State Rte 6 Alt:geo:-70.196653,41.721025
END:VEVENT
BEGIN:VEVENT
DTSTART;TZID=America/Los_Angeles:20260819T170000
DTEND;TZID=America/Los_Angeles:20260819T220000
DTSTAMP:20260420T092259
CREATED:20260420T144653Z
LAST-MODIFIED:20260420T144653Z
UID:10008076-1787158800-1787176800@gunstuff.tv
SUMMARY:MOORE N MOORE - NIGHT SHOOT & BBQ
DESCRIPTION:For more information\, contact Moore N Moore at https://www.moorenmoore.com/night-shooting/
URL:https://gunstuff.tv/event/moore-n-moore-night-shoot-bbq-44/
LOCATION:Moore N Moore Sporting Clays\, 12653 Little Tujunga Canyon Rd\, Sylmar\, CA\, United States
CATEGORIES:Moore N Moore
ATTACH;FMTTYPE=image/png:https://gunstuff.tv/wp-content/uploads/2025/10/image-pjjZEf.png
ORGANIZER;CN="Moore N Moore Sporting Clays":MAILTO:info@moorenmoore.com
GEO:34.282317;-118.371281
X-APPLE-STRUCTURED-LOCATION;VALUE=URI;X-ADDRESS=Moore N Moore Sporting Clays 12653 Little Tujunga Canyon Rd Sylmar CA United States;X-APPLE-RADIUS=500;X-TITLE=12653 Little Tujunga Canyon Rd:geo:-118.371281,34.282317
END:VEVENT
BEGIN:VEVENT
DTSTART;TZID=America/Los_Angeles:20260819T170000
DTEND;TZID=America/Los_Angeles:20260819T220000
DTSTAMP:20260420T092259
CREATED:20260420T144654Z
LAST-MODIFIED:20260420T144654Z
UID:10008077-1787158800-1787176800@gunstuff.tv
SUMMARY:MOORE N MOORE - NIGHT SHOOT & BBQ
DESCRIPTION:For more information\, contact Moore N Moore at https://www.moorenmoore.com/night-shooting/
URL:https://gunstuff.tv/event/moore-n-moore-night-shoot-bbq-45/
LOCATION:Moore N Moore Sporting Clays\, 12653 Little Tujunga Canyon Rd\, Sylmar\, CA\, United States
CATEGORIES:Moore N Moore
ATTACH;FMTTYPE=image/png:https://gunstuff.tv/wp-content/uploads/2025/10/image-pjjZEf.png
ORGANIZER;CN="Moore N Moore Sporting Clays":MAILTO:info@moorenmoore.com
GEO:34.282317;-118.371281
X-APPLE-STRUCTURED-LOCATION;VALUE=URI;X-ADDRESS=Moore N Moore Sporting Clays 12653 Little Tujunga Canyon Rd Sylmar CA United States;X-APPLE-RADIUS=500;X-TITLE=12653 Little Tujunga Canyon Rd:geo:-118.371281,34.282317
END:VEVENT
BEGIN:VEVENT
DTSTART;TZID=America/Chicago:20260819T190000
DTEND;TZID=America/Chicago:20260819T200000
DTSTAMP:20260420T092259
CREATED:20260324T220136Z
LAST-MODIFIED:20260414T221654Z
UID:10006494-1787166000-1787169600@gunstuff.tv
SUMMARY:Will County Townhall Meeting
DESCRIPTION: ISRA invites you to join the Will County Townhall for our monthly meeting at the Silver Dollar Restaurant at 422 E. Mississippi Ave.\, Elwood\, IL\, and are open to everyone.\nMeetings start at 7 PM sharp; however\, feel free to come early and socialize with like-minded individuals before the meeting in our private room. Cash food and drinks are available. As always\, we will have our closing raffle where members can win a nice prize!\nHope to see you there!
URL:https://gunstuff.tv/event/will-county-townhall-meeting-8/
LOCATION:Silver Dollar Restaurant\, 398 E Mississippi Ave\, Elwood\, IL\, United States
CATEGORIES:Event Calendar
GEO:41.40415;-88.106391
X-APPLE-STRUCTURED-LOCATION;VALUE=URI;X-ADDRESS=Silver Dollar Restaurant 398 E Mississippi Ave Elwood IL United States;X-APPLE-RADIUS=500;X-TITLE=398 E Mississippi Ave:geo:-88.106391,41.40415
END:VEVENT
BEGIN:VEVENT
DTSTART;VALUE=DATE:20260820
DTEND;VALUE=DATE:20260821
DTSTAMP:20260420T092259
CREATED:20251003T160030Z
LAST-MODIFIED:20260412T043233Z
UID:10001022-1787184000-1787270399@gunstuff.tv
SUMMARY:600 Yard Practice 6:30am Pits
DESCRIPTION:
URL:https://gunstuff.tv/event/600-yard-practice-630am-pits-15/
END:VEVENT
BEGIN:VEVENT
DTSTART;TZID=UTC:20260820T090000
DTEND;TZID=UTC:20260820T090000
DTSTAMP:20260420T092259
CREATED:20260228T173138Z
LAST-MODIFIED:20260415T070237Z
UID:10005890-1787216400-1787216400@gunstuff.tv
SUMMARY:2026 Area 8 Steel Challenge Championship
DESCRIPTION:2026 Area 8 Steel Challenge Championship\nMatch Status: Approved by DNROI\nMatch Starts on Aug 20\, 2026\nMatch will end Aug 23\, 2026\nMatch Location:\nThurmont Conservation and Sportsmen Club\n11617 Hunt Club Rd\nThurmont\, MD 21788\nManaged by:\nThurmont Conservation and Sportsmen Club\nStage Count: 8\nRound Count: 195\nMatch Entry Fee: $75.00\nMatch Director: David (DJ) Rotigel\nRange Master: Jonathan Alexander\nAdditional Details\n2026 Area 8 Steel Challenge Championship\nHosted by Thurmont Conservation & Sportsman Club\n???? August 20–23\, 2026\nThis will be a Tier 3 Steel Challenge match\, featuring 8 standard Steel Challenge stages and bringing together top competitors from across Area 8 and beyond.\n???? Match Fee:\n• $75 flat fee per division\n???? Match Shirts:\nInformation and ordering details will be provided separately.\n???? Match Format (Flights):\n• Thursday – August 20: Staff / setup day\n• Friday – August 21: Competition flights\n• Saturday – August 22: Competition flights\n• Sunday – August 23: Final competition flights\n???? Division & Squadding Notes:\n• Competitors may shoot up to 2 divisions per squad\n• Competitors may not shoot the same division multiple times in the match.\n???? Awards:\nSteel Master\, Rimfire Master\, and Rifle Master awards will be recognized per the current SCSA Rulebook.\nA full list of awards will be available in the match book.\n???? Additional Details:\nStaff information\, schedules\, and matchbook details will be announced closer to the event.\nRegister!\nhttps://practiscore.com/steel-challenge-2026-area-8-championship/register
URL:https://gunstuff.tv/event/2026-area-8-steel-challenge-championship/
LOCATION:Thurmont Conservation and Sportsmen Club\, 11617 Hunt Club Rd\, Thurmont\, MD\, United States
GEO:39.552993;-77.361877
X-APPLE-STRUCTURED-LOCATION;VALUE=URI;X-ADDRESS=Thurmont Conservation and Sportsmen Club 11617 Hunt Club Rd Thurmont MD United States;X-APPLE-RADIUS=500;X-TITLE=11617 Hunt Club Rd:geo:-77.361877,39.552993
END:VEVENT
BEGIN:VEVENT
DTSTART;TZID=UTC:20260820T220000
DTEND;TZID=UTC:20260821T003000
DTSTAMP:20260420T092300
CREATED:20260111T213127Z
LAST-MODIFIED:20260414T084802Z
UID:10004411-1787263200-1787272200@gunstuff.tv
SUMMARY:RMSCA Member Networking ~ North
DESCRIPTION:
URL:https://gunstuff.tv/event/rmsca-member-networking-north/
LOCATION:TBD
ORGANIZER;CN="Rocky Mountain Steel Construction Association":MAILTO:info@rmsca.org
END:VEVENT
BEGIN:VEVENT
DTSTART;VALUE=DATE:20260821
DTEND;VALUE=DATE:20260822
DTSTAMP:20260420T092300
CREATED:20260213T031100Z
LAST-MODIFIED:20260410T034703Z
UID:10005286-1787270400-1787356799@gunstuff.tv
SUMMARY:Competition Bays closed for USPSA set up
DESCRIPTION:
URL:https://gunstuff.tv/event/competition-bays-closed-for-uspsa-set-up-7/
END:VEVENT
BEGIN:VEVENT
DTSTART;VALUE=DATE:20260822
DTEND;VALUE=DATE:20260823
DTSTAMP:20260420T092300
CREATED:20251003T160030Z
LAST-MODIFIED:20260412T043233Z
UID:10001024-1787356800-1787443199@gunstuff.tv
SUMMARY:1000 Yard Practice 6:30am Pits
DESCRIPTION:
URL:https://gunstuff.tv/event/1000-yard-practice-630am-pits-16/
END:VEVENT
END:VCALENDAR