BEGIN:VCALENDAR
VERSION:2.0
PRODID:-//GunStuff TV - ECPv6.15.20//NONSGML v1.0//EN
CALSCALE:GREGORIAN
METHOD:PUBLISH
X-WR-CALNAME:GunStuff TV
X-ORIGINAL-URL:https://gunstuff.tv
X-WR-CALDESC:Events for GunStuff TV
REFRESH-INTERVAL;VALUE=DURATION:PT1H
X-Robots-Tag:noindex
X-PUBLISHED-TTL:PT1H
BEGIN:VTIMEZONE
TZID:UTC
BEGIN:STANDARD
TZOFFSETFROM:+0000
TZOFFSETTO:+0000
TZNAME:UTC
DTSTART:20250101T000000
END:STANDARD
END:VTIMEZONE
BEGIN:VTIMEZONE
TZID:America/New_York
BEGIN:DAYLIGHT
TZOFFSETFROM:-0500
TZOFFSETTO:-0400
TZNAME:EDT
DTSTART:20250309T070000
END:DAYLIGHT
BEGIN:STANDARD
TZOFFSETFROM:-0400
TZOFFSETTO:-0500
TZNAME:EST
DTSTART:20251102T060000
END:STANDARD
BEGIN:DAYLIGHT
TZOFFSETFROM:-0500
TZOFFSETTO:-0400
TZNAME:EDT
DTSTART:20260308T070000
END:DAYLIGHT
BEGIN:STANDARD
TZOFFSETFROM:-0400
TZOFFSETTO:-0500
TZNAME:EST
DTSTART:20261101T060000
END:STANDARD
BEGIN:DAYLIGHT
TZOFFSETFROM:-0500
TZOFFSETTO:-0400
TZNAME:EDT
DTSTART:20270314T070000
END:DAYLIGHT
BEGIN:STANDARD
TZOFFSETFROM:-0400
TZOFFSETTO:-0500
TZNAME:EST
DTSTART:20271107T060000
END:STANDARD
END:VTIMEZONE
BEGIN:VTIMEZONE
TZID:America/Phoenix
BEGIN:STANDARD
TZOFFSETFROM:-0700
TZOFFSETTO:-0700
TZNAME:MST
DTSTART:20250101T000000
END:STANDARD
END:VTIMEZONE
BEGIN:VTIMEZONE
TZID:America/Chicago
BEGIN:DAYLIGHT
TZOFFSETFROM:-0600
TZOFFSETTO:-0500
TZNAME:CDT
DTSTART:20250309T080000
END:DAYLIGHT
BEGIN:STANDARD
TZOFFSETFROM:-0500
TZOFFSETTO:-0600
TZNAME:CST
DTSTART:20251102T070000
END:STANDARD
BEGIN:DAYLIGHT
TZOFFSETFROM:-0600
TZOFFSETTO:-0500
TZNAME:CDT
DTSTART:20260308T080000
END:DAYLIGHT
BEGIN:STANDARD
TZOFFSETFROM:-0500
TZOFFSETTO:-0600
TZNAME:CST
DTSTART:20261101T070000
END:STANDARD
BEGIN:DAYLIGHT
TZOFFSETFROM:-0600
TZOFFSETTO:-0500
TZNAME:CDT
DTSTART:20270314T080000
END:DAYLIGHT
BEGIN:STANDARD
TZOFFSETFROM:-0500
TZOFFSETTO:-0600
TZNAME:CST
DTSTART:20271107T070000
END:STANDARD
END:VTIMEZONE
BEGIN:VEVENT
DTSTART;TZID=UTC:20260711T090000
DTEND;TZID=UTC:20260711T090000
DTSTAMP:20260419T235619
CREATED:20260318T064640Z
LAST-MODIFIED:20260401T070144Z
UID:10006362-1783760400-1783760400@gunstuff.tv
SUMMARY:MTSA Steel Challenge Match July 11th
DESCRIPTION:MTSA Steel Challenge Match July 11th\nDate: 7/11/26\nStart Time: 9:00 AM\nLocation:\nMiddle Tennessee Sporting Association (SCSA371)\n175 Dry Branch Rd\nDixon Springs\, TN\nEvent Contact Information\nArt Thompson\n6154804349\najtndfan@gmail.com\nMatch Information\nShooting 6 stages of Steel Challenge. We will be adding 2 provisional stages each match.\nSmoke N Hope\nRoundabout\nSpeed Option\nPendulum\nStage TS-001\nStage TS-005\nEvent Website\nhttps://practiscore.com/clubs/middle_tennessee_sporting_association
URL:https://gunstuff.tv/event/mtsa-steel-challenge-match-july-11th/
LOCATION:Middle Tennessee Sporting Association (SCSA371)\, 175 Branch Rd\, Springville\, TN\, United States
GEO:36.379111;-88.104472
X-APPLE-STRUCTURED-LOCATION;VALUE=URI;X-ADDRESS=Middle Tennessee Sporting Association (SCSA371) 175 Branch Rd Springville TN United States;X-APPLE-RADIUS=500;X-TITLE=175 Branch Rd:geo:-88.104472,36.379111
END:VEVENT
BEGIN:VEVENT
DTSTART;TZID=UTC:20260711T090000
DTEND;TZID=UTC:20260711T090000
DTSTAMP:20260419T235619
CREATED:20260329T110228Z
LAST-MODIFIED:20260412T110150Z
UID:10006612-1783760400-1783760400@gunstuff.tv
SUMMARY:Appleseed
DESCRIPTION:Chugiak\, AK – Birchwood Recreation & Shooting Center\nJuly 11\, 2026 – July 12\, 2026\nThis is a traditional 25m Project Appleseed rifle event.\nBoth Centerfire and 22 Rimfire rifles are allowed at this event.\nRegister Now\nAddress: 20269 Birchwood Spur Loop\, Chugiak\, AK 99567\nWebsite: www.brspclub.com\nPlease Read:  How to Prepare for an Event\nSafety Notice:\n–  Keep ALL firearms in your vehicle until after the safety briefing and you are instructed to bring them to the firing line.\n–  No illegal firearms are allowed.\n–  At centerfire-friendly ranges\, rifle cartridges are limited to 8mm (rifle) or .45 caliber (pistol and pistol caliber carbines).\n–  Effective 8/8/2025\, Project Appleseed has temporarily suspended the SIG-Sauer P320/M17/M18 (all variants) in our Pistol Clinics.\n–  Parents of youth attending\, please read our Message to Parents.\nSubject to state and local laws\, Instructors at your event may have discounted .22 ammo available. Reach out to the contact at the bottom of this page for availability.\nRange Fee:\nBirchwood Recreation and Shooting Park is a members-only facility.  They have graciously afforded us the use of their facility *at no charge*.  In exchange for this\, we would like for you to seriously consider becoming a member of this fine facility.  More information on the benefits of being a member\, as well as an application\, can be found here: https://brspclub.com/membership/#join\nCamping Available:\nRV sites with water and electric (no sewer) are available.\nPrimitive tent camping sites are also available (no hookups).\nPlease see https://brspclub.com/rv-camping/\nHotels:\nMotel 6\n21.2 mi\nPhone (907) 677-8000\n5000 A St\, Anchorage\, AK 99503\nBear Mountain View B & B\nChugiak\, AK 99567\n(907) 688-5440 ?\nBarrier Free Recreation\n20100 Beach Lake Road\nChugiak\, AK 99567\n(907) 688-5571\nEagle River Motel\n11111 Old Eagle River Road\nEagle River\, AK\n(907) 694-5000\nStephan Lake Lodge\n18809 Fish Hatchery Road\, AK\n(907) 696-2163\nDirections:\nTake the North Birchwood Exit off the Glenn Highway.\nGo West and we are located right next to the Birchwood Airport.\nGoogle Maps:\nhttps://www.google.com/maps/place/61%C2%B025’19.0%22N+149%C2%B030’22.0%22W/@61.421938\,-149.5083117\,17z\nGPS: 61.421938\,-149.506123\nState Laws to be aware of:\nIt is the responsibility of attendees to know and comply with all State and Federal Firearms Laws.\nAlaska State Firearms Laws\nCheck State Laws http://www.criminaldefenselawyer.com/gun-possession-use-laws/alaska.htm\nMisc:\n25m Events:\nThese events will cover the fundamentals of rifle marksmanship utilizing targets scaled for use at 25m.  All rifles\, from .22LR through 8mm are welcome!\nOne-Day 25m Events:\nThese courses are intended as a review for those who have already attended a 25m event.  These are a faster pace than the standard 25m event\, with the intention to provide multiple opportunities for our students to qualify on the Appleseed Qualification Test.  Expect the temperatures to be cold!\nRimfire Known Distance Events:\nThese courses are intended for those who have already attended a 25m event\, and are designed specifically for .22LR.  Targets have been scaled for use out to 200 yards. \nFor more information on Project Appleseed’s events\, please see: https://appleseedinfo.org/programs/\nThere are snacks and drinks available for purchase in the office.\nWhat You Can Expect\nNew Shooters – Learn firearm safety and the fundamentals of rifle marksmanship.\nExperienced Shooters – Reinforce your marksmanship fundamentals.\nExperts – Polish skills and help instruct other shooters.\nEveryone – Expect to have a great time!\nWhat You Should Bring\nA desire to learn and improve.\nA rifle (and a spare\, if you have it).  Optics are OK.\nAt least two magazines or other speed loaders specific to your rifle.\nAmmunition – at least 250 rounds per day.\nGI web sling is strongly recommended.\nEye and ear protection.\nMat or ground cloth especially for April and October.\nHat\, sunscreen\, rain gear\, and appropriate clothing\nWater\, lunch\, and snacks.\nStaple gun\, staples\,  and a sharpie marker.\nSome friends!\nFor more information contact:\nName: AK State Coordinator Email Address: AK@appleseedinfo.org\nName: Personal Message to “AK84” on Appleseed Forum Email Address: bqc_03@yahoo.com\nName: Personal Message to ‘ItsanSKS’ on the Appleseed forum Email Address: RWVA@live.com
URL:https://gunstuff.tv/event/rimfire-known-distance-27/
LOCATION:Birchwood Recreation & Shooting Center\, 20801 Birchwood Spur Rd\, Chugiak\, AK\, United States
GEO:61.41817;-149.495624
X-APPLE-STRUCTURED-LOCATION;VALUE=URI;X-ADDRESS=Birchwood Recreation & Shooting Center 20801 Birchwood Spur Rd Chugiak AK United States;X-APPLE-RADIUS=500;X-TITLE=20801 Birchwood Spur Rd:geo:-149.495624,61.41817
END:VEVENT
BEGIN:VEVENT
DTSTART;TZID=America/New_York:20260711T090000
DTEND;TZID=America/New_York:20260711T150000
DTSTAMP:20260419T235619
CREATED:20251012T173816Z
LAST-MODIFIED:20260412T184747Z
UID:10002114-1783760400-1783782000@gunstuff.tv
SUMMARY:International Benchrest Match
DESCRIPTION:International Benchrest ShootersMatch Director Wayne Francehttps://www.fxrgc.org/rifle/bench-rest/
URL:https://gunstuff.tv/event/international-benchrest-match-3/
LOCATION:Benson Range & Scoring Shed
END:VEVENT
BEGIN:VEVENT
DTSTART;TZID=UTC:20260711T094500
DTEND;TZID=UTC:20260711T094500
DTSTAMP:20260419T235619
CREATED:20260110T171711Z
LAST-MODIFIED:20260410T113141Z
UID:10004289-1783763100-1783763100@gunstuff.tv
SUMMARY:Shadow Hawk Defense USPSA Level 1 - Jul
DESCRIPTION:Shadow Hawk Defense USPSA Level 1 – Jul\nDate : 7/11/26\nStart Time: 9:45 AM\nLocation:\nShadow Hawk Defense (VA31)\n436 Apple Harvest Drive\nHedgesville\, WV\nEvent Contact Information\nLynn Kasic\n304-616-6582\ninfo@shadowhawkdefense.com\nMatch Information\nSame match on both Sat and Sun. The squad you select will determine which day/time that you shoot. USPSA level 1 match. Approx round count 165.\n*** Per rule 6.2.4.1 Multiple entries in the same division are prohibited. ***\nMatch day start times\nSaturday-AM squads\nRange and registration open at 9:00 AM\nMandatory range brief: 9:45 AM*\nHammer down at 10:00 AM\nSunday (PM) only squads (when available)\nRange and registration open at 11:00\nMandatory range brief: 11:45\nHammer down at Noon\nMatch fee is paid at the door.\nEvent Website\nhttp://www.ShadowHawkDefense.com
URL:https://gunstuff.tv/event/shadow-hawk-defense-uspsa-level-1-jul/
LOCATION:Shadow Hawk Defense (VA31)\, 399 Apple Harvest Dr\, Hedgesville\, WV\, United States
GEO:39.389611;-78.197586
X-APPLE-STRUCTURED-LOCATION;VALUE=URI;X-ADDRESS=Shadow Hawk Defense (VA31) 399 Apple Harvest Dr Hedgesville WV United States;X-APPLE-RADIUS=500;X-TITLE=399 Apple Harvest Dr:geo:-78.197586,39.389611
END:VEVENT
BEGIN:VEVENT
DTSTART;TZID=UTC:20260711T100000
DTEND;TZID=UTC:20260711T100000
DTSTAMP:20260419T235619
CREATED:20260304T061640Z
LAST-MODIFIED:20260401T070144Z
UID:10006091-1783764000-1783764000@gunstuff.tv
SUMMARY:SAGC Steel Challenge
DESCRIPTION:SAGC Steel Challenge\nDate: 7/11/26\nStart Time: 10:00 AM\nLocation:\nSan Angelo Gun Club (SCSA575)\n2827 Winger Rd\nSan Angelo\, TX\nEvent Contact Information\nSteve Speer\n469-585-5019\nangeloscsa@gmail.com\nMatch Information\n5-stage Steel Challenge match.\n0830 – Stage Setup. 0930 – Check-in\, payment. 0955 – Safety Briefing. 1000 – Match Shooting Begins.\nEvent Website\nhttps://practiscore.com/clubs/sagc
URL:https://gunstuff.tv/event/sagc-steel-challenge-5/
LOCATION:San Angelo Gun Club (SCSA575)\, San Angelo\, TX\, United States
GEO:31.44451;-100.533397
END:VEVENT
BEGIN:VEVENT
DTSTART;TZID=UTC:20260711T143000
DTEND;TZID=UTC:20260711T143000
DTSTAMP:20260419T235619
CREATED:20260110T171711Z
LAST-MODIFIED:20260410T113141Z
UID:10004290-1783780200-1783780200@gunstuff.tv
SUMMARY:SCWPSA Monthly Match
DESCRIPTION:SCWPSA Monthly Match\nDate : 7/11/26\nStart Time: 2:30 PM\nLocation:\nSouth Central Wisconsin Practical Shooters Assoc (WI31)\n2830 County Rd DR\nMonroe\, WI\nEvent Contact Information\nBob Slusarek\n630-669-0663\nscwpsamatch@pm.me\nMatch Information\nIndoor match typically 2-3 stages including 1 or 2 classifiers
URL:https://gunstuff.tv/event/scwpsa-monthly-match-6/
LOCATION:South Central Wisconsin Practical Shooters Assoc (WI31)\, 2830 County Road Dr\, Monroe\, WI\, United States
GEO:42.617903;-89.602405
X-APPLE-STRUCTURED-LOCATION;VALUE=URI;X-ADDRESS=South Central Wisconsin Practical Shooters Assoc (WI31) 2830 County Road Dr Monroe WI United States;X-APPLE-RADIUS=500;X-TITLE=2830 County Road Dr:geo:-89.602405,42.617903
END:VEVENT
BEGIN:VEVENT
DTSTART;VALUE=DATE:20260712
DTEND;VALUE=DATE:20260713
DTSTAMP:20260419T235619
CREATED:20251003T160029Z
LAST-MODIFIED:20260412T043233Z
UID:10001004-1783814400-1783900799@gunstuff.tv
SUMMARY:600 Yard Practice 6:30am Pits
DESCRIPTION:
URL:https://gunstuff.tv/event/600-yard-practice-630am-pits-10/
LOCATION:MI
END:VEVENT
BEGIN:VEVENT
DTSTART;TZID=UTC:20260712T070000
DTEND;TZID=UTC:20260712T070000
DTSTAMP:20260419T235619
CREATED:20260227T113145Z
LAST-MODIFIED:20260410T113141Z
UID:10005848-1783839600-1783839600@gunstuff.tv
SUMMARY:MCTA JULY 12TH 2026
DESCRIPTION:MCTA JULY 12TH 2026\nDate : 7/12/26\nStart Time: 7:00 AM\nLocation:\nMCTA (MS19)\nFlat Top Rd\nKiln\, MS\nEvent Contact Information\nJonathan Parker\n5044164735\nmctauspsa@gmail.com\nMatch Information\nhttps://practiscore.com/mcta-july-12th-2026/register\nEvent Website\nhttps://practiscore.com/mcta-july-12th-2026/register
URL:https://gunstuff.tv/event/mcta-july-12th-2026/
LOCATION:MCTA (MS19)\, 4001 Violet St\, Kiln\, MS\, United States
GEO:30.428267;-89.401848
X-APPLE-STRUCTURED-LOCATION;VALUE=URI;X-ADDRESS=MCTA (MS19) 4001 Violet St Kiln MS United States;X-APPLE-RADIUS=500;X-TITLE=4001 Violet St:geo:-89.401848,30.428267
END:VEVENT
BEGIN:VEVENT
DTSTART;TZID=America/New_York:20260712T080000
DTEND;TZID=America/New_York:20260712T123000
DTSTAMP:20260419T235619
CREATED:20251010T162949Z
LAST-MODIFIED:20260410T200142Z
UID:10002006-1783843200-1783859400@gunstuff.tv
SUMMARY:MRPC 200 yard Rifle
DESCRIPTION:
URL:https://gunstuff.tv/event/mrpc-200-yard-rifle/
LOCATION:AGC 200 yard Range
END:VEVENT
BEGIN:VEVENT
DTSTART;TZID=UTC:20260712T090000
DTEND;TZID=UTC:20260712T090000
DTSTAMP:20260419T235619
CREATED:20260207T171718Z
LAST-MODIFIED:20260410T113141Z
UID:10005051-1783846800-1783846800@gunstuff.tv
SUMMARY:BSPSC August Hot Shots Match
DESCRIPTION:BSPSC August Hot Shots Match\nDate : 7/12/26\nStart Time: 9:00 AM\nLocation:\nBig Sky Practical Shooting Club (NR02)\n1142 Deer Creek Road\nEast Missoula\, MT\nEvent Contact Information\nSean Boushie\n406-370-6927\nflintlocknfur@hotmail.com\nMatch Information\n6 Stages of Hot USPSA fun\nEvent Website\nhttps://bspsc.org/index.php
URL:https://gunstuff.tv/event/bspsc-august-hot-shots-match/
LOCATION:Big Sky Practical Shooting Club (NR02)\, 1142 Deer Creek Rd\, Missoula\, MT\, United States
GEO:46.862716;-113.891053
X-APPLE-STRUCTURED-LOCATION;VALUE=URI;X-ADDRESS=Big Sky Practical Shooting Club (NR02) 1142 Deer Creek Rd Missoula MT United States;X-APPLE-RADIUS=500;X-TITLE=1142 Deer Creek Rd:geo:-113.891053,46.862716
END:VEVENT
BEGIN:VEVENT
DTSTART;TZID=America/New_York:20260712T090000
DTEND;TZID=America/New_York:20260712T120000
DTSTAMP:20260419T235619
CREATED:20251003T162642Z
LAST-MODIFIED:20260411T214633Z
UID:10001461-1783846800-1783857600@gunstuff.tv
SUMMARY:Weekly Trap League
DESCRIPTION:
URL:https://gunstuff.tv/event/weekly-trap-league-41/
LOCATION:Shotgun Range
END:VEVENT
BEGIN:VEVENT
DTSTART;TZID=America/New_York:20260712T090000
DTEND;TZID=America/New_York:20260712T120000
DTSTAMP:20260419T235619
CREATED:20251207T181651Z
LAST-MODIFIED:20260412T184747Z
UID:10003456-1783846800-1783857600@gunstuff.tv
SUMMARY:Swap Meet
DESCRIPTION:Contact Bob Paiani at dayglo@comcast.net for information
URL:https://gunstuff.tv/event/swap-meet-5/
LOCATION:Clubhouse
END:VEVENT
BEGIN:VEVENT
DTSTART;TZID=America/New_York:20260712T090000
DTEND;TZID=America/New_York:20260712T140000
DTSTAMP:20260419T235619
CREATED:20251003T031215Z
LAST-MODIFIED:20260410T070129Z
UID:10000634-1783846800-1783864800@gunstuff.tv
SUMMARY:Wyoming Antelope 2700
DESCRIPTION:
URL:https://gunstuff.tv/event/wyoming-antelope-2700-19/
LOCATION:Wyoming Antelope Club-Florida\, 3700 126th Ave N\, Clearwater\, FL\, United States
GEO:27.886432;-82.683263
X-APPLE-STRUCTURED-LOCATION;VALUE=URI;X-ADDRESS=Wyoming Antelope Club-Florida 3700 126th Ave N Clearwater FL United States;X-APPLE-RADIUS=500;X-TITLE=3700 126th Ave N:geo:-82.683263,27.886432
END:VEVENT
BEGIN:VEVENT
DTSTART;TZID=America/New_York:20260712T090000
DTEND;TZID=America/New_York:20260712T163000
DTSTAMP:20260419T235619
CREATED:20260111T181637Z
LAST-MODIFIED:20260412T184747Z
UID:10004385-1783846800-1783873800@gunstuff.tv
SUMMARY:Smallbore Silhouette
DESCRIPTION:Smallbore Silhouettes is a series of 60 shots standing unsupported at steel animal silhouettes using a 22 caliber rimfire rifle. Targets are chickens at 40m\, pigs at 60m\, turkeys at 77m rams at 100m\, and all targets are 5 mils so they are all the same angular dimensions at their respective ranges. Participants may compete in Standard Rifle (competition style rifles) and/or Hunting Rifle (typical 22 caliber rifle). Most hunting rifles qualify as standard rifles too. \nContact Chris Moss mossthom22@gmail.com
URL:https://gunstuff.tv/event/smallbore-silhouette-6/
LOCATION:Lea Valley Range
END:VEVENT
BEGIN:VEVENT
DTSTART;TZID=UTC:20260712T114500
DTEND;TZID=UTC:20260712T114500
DTSTAMP:20260419T235619
CREATED:20260110T171711Z
LAST-MODIFIED:20260410T113141Z
UID:10004291-1783856700-1783856700@gunstuff.tv
SUMMARY:Shadow Hawk Defense USPSA Level 1 - Jul
DESCRIPTION:Shadow Hawk Defense USPSA Level 1 – Jul\nDate : 7/12/26\nStart Time: 11:45 AM\nLocation:\nShadow Hawk Defense (VA31)\n436 Apple Harvest Drive\nHedgesville\, WV\nEvent Contact Information\nLynn Kasic\n304-616-6582\ninfo@shadowhawkdefense.com\nMatch Information\nSame match on both Sat and Sun. The squad you select will determine which day/time that you shoot. USPSA level 1 match. Approx round count 165.\n*** Per rule 6.2.4.1 Multiple entries in the same division are prohibited. ***\nMatch day start times\nSaturday-AM squads\nRange and registration open at 9:00 AM\nMandatory range brief: 9:45 AM*\nHammer down at 10:00 AM\nSunday (PM) only squads (when available)\nRange and registration open at 11:00\nMandatory range brief: 11:45\nHammer down at Noon\nMatch fee is paid at the door.\nEvent Website\nhttp://www.ShadowHawkDefense.com
URL:https://gunstuff.tv/event/shadow-hawk-defense-uspsa-level-1-jul-2/
LOCATION:Shadow Hawk Defense (VA31)\, 399 Apple Harvest Dr\, Hedgesville\, WV\, United States
GEO:39.389611;-78.197586
X-APPLE-STRUCTURED-LOCATION;VALUE=URI;X-ADDRESS=Shadow Hawk Defense (VA31) 399 Apple Harvest Dr Hedgesville WV United States;X-APPLE-RADIUS=500;X-TITLE=399 Apple Harvest Dr:geo:-78.197586,39.389611
END:VEVENT
BEGIN:VEVENT
DTSTART;TZID=America/New_York:20260712T123000
DTEND;TZID=America/New_York:20260712T150000
DTSTAMP:20260419T235619
CREATED:20251010T162949Z
LAST-MODIFIED:20260410T200141Z
UID:10002007-1783859400-1783868400@gunstuff.tv
SUMMARY:MRPC Family Picnic
DESCRIPTION:
URL:https://gunstuff.tv/event/mrpc-family-picnic/
LOCATION:memorial Hall
END:VEVENT
BEGIN:VEVENT
DTSTART;TZID=America/New_York:20260712T130000
DTEND;TZID=America/New_York:20260712T150000
DTSTAMP:20260419T235619
CREATED:20251019T193323Z
LAST-MODIFIED:20260414T083129Z
UID:10002461-1783861200-1783868400@gunstuff.tv
SUMMARY:Open Trap Shoot - Weather Permitting
DESCRIPTION:Open shoot\, $5.00 per round.  The trap field is 2/10ths of a mile past the clubhouse. \nFor the latest information visit:https://www.facebook.com/groups/1663932967427026
URL:https://gunstuff.tv/event/open-trap-shoot-weather-permitting-12/
LOCATION:523 Sizer Run Road Emporium\, Emporium\, PA\, United States
GEO:41.500749;-78.322815
END:VEVENT
BEGIN:VEVENT
DTSTART;VALUE=DATE:20260713
DTEND;VALUE=DATE:20260714
DTSTAMP:20260419T235619
CREATED:20260213T031058Z
LAST-MODIFIED:20260410T034702Z
UID:10005266-1783900800-1783987199@gunstuff.tv
SUMMARY:Club Closed
DESCRIPTION:
URL:https://gunstuff.tv/event/club-closed-43/
LOCATION:MI
END:VEVENT
BEGIN:VEVENT
DTSTART;TZID=America/New_York:20260713T080000
DTEND;TZID=America/New_York:20260714T163000
DTSTAMP:20260419T235619
CREATED:20260404T214732Z
LAST-MODIFIED:20260411T214633Z
UID:10006759-1783929600-1784046600@gunstuff.tv
SUMMARY:Rifles Only - 5-Day Rifle Course
DESCRIPTION:POC Mike Mayo Daily Schedule\nM-T Classroom 830- 10 Square Range 10-2 Long Range 2-430 pm
URL:https://gunstuff.tv/event/rifles-only-5-day-rifle-course/
LOCATION:Classroom and Ranges
END:VEVENT
BEGIN:VEVENT
DTSTART;TZID=UTC:20260713T090000
DTEND;TZID=UTC:20260713T090000
DTSTAMP:20260419T235619
CREATED:20260110T165504Z
LAST-MODIFIED:20260412T110150Z
UID:10004092-1783933200-1783933200@gunstuff.tv
SUMMARY:Appleseed
DESCRIPTION:Fairfax\, VA – NRA Headquarters\nJuly 13\, 2026 (One Day Event)\nThis is a traditional 25m Project Appleseed rifle event.\nBoth Centerfire and 22 Rimfire rifles are allowed at this event.\nRegister Now\nAddress: 11250 Waples Mills Rd\, Fairfax\, VA 22030\nWebsite: nrarange.nra.org\nPlease Read:  How to Prepare for an Event\nSafety Notice:\n–  Keep ALL firearms in your vehicle until after the safety briefing and you are instructed to bring them to the firing line.\n–  No illegal firearms are allowed.\n–  At centerfire-friendly ranges\, rifle cartridges are limited to 8mm (rifle) or .45 caliber (pistol and pistol caliber carbines).\n–  Effective 8/8/2025\, Project Appleseed has temporarily suspended the SIG-Sauer P320/M17/M18 (all variants) in our Pistol Clinics.\n–  Parents of youth attending\, please read our Message to Parents.\nSubject to state and local laws\, Instructors at your event may have discounted .22 ammo available. Reach out to the contact at the bottom of this page for availability.\nRange Fee:  $20 per shooter for the entire event\nCamping Available:\nNo\nHotels:\nClose to lodging and food\nDirections:\nSee map on range website\nGPS: 38.863118\,-77.335499\nState Laws to be aware of:\nIt is the responsibility of attendees to know and comply with all State and Federal Firearms Laws.\nVirginia State Firearms Laws\nMisc:\nALL participants MUST have photo ID.\nAll MINORS MUST be accompanied by a PARENT.\nALL attendees MUST take a range safety test.\nAmmo available for purchase onsite.\nNO Alcohol Permitted.\nFor more information contact:\nName: VA State Coordinator Email Address: VA@appleseedinfo.org\nName: Brian Swift – Private Message to “BeSwift” on the Appleseed Forum Email Address: appleseedmaryland@gmail.com
URL:https://gunstuff.tv/event/appleseed-121/
LOCATION:NRA Headquarters\, 11209 Waples Mill Rd\, Fairfax\, VA\, United States
GEO:38.859803;-77.335133
X-APPLE-STRUCTURED-LOCATION;VALUE=URI;X-ADDRESS=NRA Headquarters 11209 Waples Mill Rd Fairfax VA United States;X-APPLE-RADIUS=500;X-TITLE=11209 Waples Mill Rd:geo:-77.335133,38.859803
END:VEVENT
BEGIN:VEVENT
DTSTART;TZID=America/New_York:20260713T090000
DTEND;TZID=America/New_York:20260713T100000
DTSTAMP:20260419T235619
CREATED:20251003T162642Z
LAST-MODIFIED:20251010T162929Z
UID:10001462-1783933200-1783936800@gunstuff.tv
SUMMARY:4-H Class Indoors
DESCRIPTION:Indoor reserved for 4-H class.
URL:https://gunstuff.tv/event/4-h-class-indoors-41/
LOCATION:Indoor Range
END:VEVENT
BEGIN:VEVENT
DTSTART;TZID=America/New_York:20260713T160000
DTEND;TZID=America/New_York:20260713T180000
DTSTAMP:20260419T235619
CREATED:20251003T162642Z
LAST-MODIFIED:20251205T181709Z
UID:10001463-1783958400-1783965600@gunstuff.tv
SUMMARY:Skeet League
DESCRIPTION:Contact Frank Andrews with Questions.
URL:https://gunstuff.tv/event/skeet-league-41/
LOCATION:MI
END:VEVENT
BEGIN:VEVENT
DTSTART;TZID=America/New_York:20260713T160000
DTEND;TZID=America/New_York:20260713T180000
DTSTAMP:20260419T235619
CREATED:20251212T181641Z
LAST-MODIFIED:20260411T214633Z
UID:10003542-1783958400-1783965600@gunstuff.tv
SUMMARY:Skeet League
DESCRIPTION:Contact Frank Andrews with Questions.
URL:https://gunstuff.tv/event/skeet-league-131/
LOCATION:Skeet Range
END:VEVENT
BEGIN:VEVENT
DTSTART;VALUE=DATE:20260714
DTEND;VALUE=DATE:20260715
DTSTAMP:20260419T235619
CREATED:20251003T160029Z
LAST-MODIFIED:20260412T043233Z
UID:10001005-1783987200-1784073599@gunstuff.tv
SUMMARY:100\, 200\, 300 Yard Practice Benchrest Range
DESCRIPTION:
URL:https://gunstuff.tv/event/100-200-300-yard-practice-benchrest-range-33/
LOCATION:MI
END:VEVENT
BEGIN:VEVENT
DTSTART;VALUE=DATE:20260714
DTEND;VALUE=DATE:20260715
DTSTAMP:20260419T235619
CREATED:20260213T031059Z
LAST-MODIFIED:20260410T034702Z
UID:10005267-1783987200-1784073599@gunstuff.tv
SUMMARY:Club closed
DESCRIPTION:
URL:https://gunstuff.tv/event/club-closed-44/
LOCATION:MI
END:VEVENT
BEGIN:VEVENT
DTSTART;VALUE=DATE:20260714
DTEND;VALUE=DATE:20260719
DTSTAMP:20260419T235619
CREATED:20251005T190051Z
LAST-MODIFIED:20260412T200143Z
UID:10001681-1783987200-1784419199@gunstuff.tv
SUMMARY:Texas State 4-H Championship
DESCRIPTION:For more information\, contact Larry Perez\, Larry.Perez@agnet.tamu.edu.For club information contact Amber Schwarz at aschwarz@nssa-nsca.com
URL:https://gunstuff.tv/event/texas-state-4-h-championship/
LOCATION:National Shooting Complex\, 5931 Roft Rd\, San Antonio\, TX\, United States
GEO:29.492881;-98.741985
X-APPLE-STRUCTURED-LOCATION;VALUE=URI;X-ADDRESS=National Shooting Complex 5931 Roft Rd San Antonio TX United States;X-APPLE-RADIUS=500;X-TITLE=5931 Roft Rd:geo:-98.741985,29.492881
END:VEVENT
BEGIN:VEVENT
DTSTART;TZID=America/New_York:20260714T090000
DTEND;TZID=America/New_York:20260714T130000
DTSTAMP:20260419T235619
CREATED:20251012T173816Z
LAST-MODIFIED:20260412T184747Z
UID:10002115-1784019600-1784034000@gunstuff.tv
SUMMARY:GAFC
DESCRIPTION:Event Director David Evans
URL:https://gunstuff.tv/event/gafc-6/
LOCATION:Walsh & Sieger Ranges
END:VEVENT
BEGIN:VEVENT
DTSTART;TZID=America/New_York:20260714T170000
DTEND;TZID=America/New_York:20260714T200000
DTSTAMP:20260419T235619
CREATED:20260328T214632Z
LAST-MODIFIED:20260411T214633Z
UID:10006591-1784048400-1784059200@gunstuff.tv
SUMMARY:Tactical Tuesday IDPA Practice
DESCRIPTION:Shooters new to Action Shooting contact Eric Zaharee at ABSAIDPA@gmail .com\nSee (Alder Brook) PractiScore.com for sign up Cost $5
URL:https://gunstuff.tv/event/tactical-tuesday-idpa-practice-14/
LOCATION:Action Bays
END:VEVENT
BEGIN:VEVENT
DTSTART;TZID=America/New_York:20260715T080000
DTEND;TZID=America/New_York:20260717T163000
DTSTAMP:20260419T235619
CREATED:20260404T214733Z
LAST-MODIFIED:20260411T214634Z
UID:10006760-1784102400-1784305800@gunstuff.tv
SUMMARY:Rifles Only 5-Day Rifle Course part 2
DESCRIPTION:POC Mike Mayo\nDaily Schedule- W-Fri Classroom 830- 10 am\nLong Range 10-430 pm
URL:https://gunstuff.tv/event/rifles-only-5-day-rifle-course-part-2/
LOCATION:Classroom and Long Range
END:VEVENT
BEGIN:VEVENT
DTSTART;TZID=UTC:20260715T090000
DTEND;TZID=UTC:20260715T090000
DTSTAMP:20260419T235619
CREATED:20260419T111820Z
LAST-MODIFIED:20260419T111820Z
UID:10008070-1784106000-1784106000@gunstuff.tv
SUMMARY:Libertyseed
DESCRIPTION:Monongahela\, PA – Monongahela Area Library\nJuly 15\, 2026\nAddress: 813 West Main Street\, Monongahela\, PA\nThis event is a Libertyseed. It is a speaking engagement and no firearms instruction takes place. This event is free to the public and no registration is required.\nProject Appleseed invites you to experience a LibertySeed event where our volunteers will tell the story of the birth of our Nation. These events are free to the public.\nThe 19th of April\, 1775\, a day that forever changed the course of our Nation. Why is this such an important day and who was involved in the birth of our Nation?\nIt will not be the story you think you know\, or the story you heard in school. The volunteers at the RWVA are passionate about American Heritage. We love to tell people the Story of the Three Strikes\, about ‘The Day the Shot was Heard Around the World.’ The volunteers are willing to tell the story to groups around the Nation.\nJuly 15\, 2026 from 6 pm to 7:30 pm\nContact info:\nAmanda Gabeletto\nDirector\n724-258-5409 | monongahelalib@gmail.com
URL:https://gunstuff.tv/event/libertyseed-11/
LOCATION:Monongahela Area Library\, 813 W Main St\, Monongahela\, PA\, United States
GEO:40.205541;-79.932814
X-APPLE-STRUCTURED-LOCATION;VALUE=URI;X-ADDRESS=Monongahela Area Library 813 W Main St Monongahela PA United States;X-APPLE-RADIUS=500;X-TITLE=813 W Main St:geo:-79.932814,40.205541
END:VEVENT
END:VCALENDAR