BEGIN:VCALENDAR
VERSION:2.0
PRODID:-//GunStuff TV - ECPv6.15.20//NONSGML v1.0//EN
CALSCALE:GREGORIAN
METHOD:PUBLISH
X-WR-CALNAME:GunStuff TV
X-ORIGINAL-URL:https://gunstuff.tv
X-WR-CALDESC:Events for GunStuff TV
REFRESH-INTERVAL;VALUE=DURATION:PT1H
X-Robots-Tag:noindex
X-PUBLISHED-TTL:PT1H
BEGIN:VTIMEZONE
TZID:UTC
BEGIN:STANDARD
TZOFFSETFROM:+0000
TZOFFSETTO:+0000
TZNAME:UTC
DTSTART:20250101T000000
END:STANDARD
END:VTIMEZONE
BEGIN:VTIMEZONE
TZID:America/New_York
BEGIN:DAYLIGHT
TZOFFSETFROM:-0500
TZOFFSETTO:-0400
TZNAME:EDT
DTSTART:20250309T070000
END:DAYLIGHT
BEGIN:STANDARD
TZOFFSETFROM:-0400
TZOFFSETTO:-0500
TZNAME:EST
DTSTART:20251102T060000
END:STANDARD
BEGIN:DAYLIGHT
TZOFFSETFROM:-0500
TZOFFSETTO:-0400
TZNAME:EDT
DTSTART:20260308T070000
END:DAYLIGHT
BEGIN:STANDARD
TZOFFSETFROM:-0400
TZOFFSETTO:-0500
TZNAME:EST
DTSTART:20261101T060000
END:STANDARD
BEGIN:DAYLIGHT
TZOFFSETFROM:-0500
TZOFFSETTO:-0400
TZNAME:EDT
DTSTART:20270314T070000
END:DAYLIGHT
BEGIN:STANDARD
TZOFFSETFROM:-0400
TZOFFSETTO:-0500
TZNAME:EST
DTSTART:20271107T060000
END:STANDARD
END:VTIMEZONE
BEGIN:VTIMEZONE
TZID:America/Los_Angeles
BEGIN:DAYLIGHT
TZOFFSETFROM:-0800
TZOFFSETTO:-0700
TZNAME:PDT
DTSTART:20250309T100000
END:DAYLIGHT
BEGIN:STANDARD
TZOFFSETFROM:-0700
TZOFFSETTO:-0800
TZNAME:PST
DTSTART:20251102T090000
END:STANDARD
BEGIN:DAYLIGHT
TZOFFSETFROM:-0800
TZOFFSETTO:-0700
TZNAME:PDT
DTSTART:20260308T100000
END:DAYLIGHT
BEGIN:STANDARD
TZOFFSETFROM:-0700
TZOFFSETTO:-0800
TZNAME:PST
DTSTART:20261101T090000
END:STANDARD
BEGIN:DAYLIGHT
TZOFFSETFROM:-0800
TZOFFSETTO:-0700
TZNAME:PDT
DTSTART:20270314T100000
END:DAYLIGHT
BEGIN:STANDARD
TZOFFSETFROM:-0700
TZOFFSETTO:-0800
TZNAME:PST
DTSTART:20271107T090000
END:STANDARD
END:VTIMEZONE
BEGIN:VTIMEZONE
TZID:America/Chicago
BEGIN:DAYLIGHT
TZOFFSETFROM:-0600
TZOFFSETTO:-0500
TZNAME:CDT
DTSTART:20250309T080000
END:DAYLIGHT
BEGIN:STANDARD
TZOFFSETFROM:-0500
TZOFFSETTO:-0600
TZNAME:CST
DTSTART:20251102T070000
END:STANDARD
BEGIN:DAYLIGHT
TZOFFSETFROM:-0600
TZOFFSETTO:-0500
TZNAME:CDT
DTSTART:20260308T080000
END:DAYLIGHT
BEGIN:STANDARD
TZOFFSETFROM:-0500
TZOFFSETTO:-0600
TZNAME:CST
DTSTART:20261101T070000
END:STANDARD
BEGIN:DAYLIGHT
TZOFFSETFROM:-0600
TZOFFSETTO:-0500
TZNAME:CDT
DTSTART:20270314T080000
END:DAYLIGHT
BEGIN:STANDARD
TZOFFSETFROM:-0500
TZOFFSETTO:-0600
TZNAME:CST
DTSTART:20271107T070000
END:STANDARD
END:VTIMEZONE
BEGIN:VTIMEZONE
TZID:America/Phoenix
BEGIN:STANDARD
TZOFFSETFROM:-0700
TZOFFSETTO:-0700
TZNAME:MST
DTSTART:20250101T000000
END:STANDARD
END:VTIMEZONE
BEGIN:VTIMEZONE
TZID:America/Indiana/Indianapolis
BEGIN:DAYLIGHT
TZOFFSETFROM:-0500
TZOFFSETTO:-0400
TZNAME:EDT
DTSTART:20250309T070000
END:DAYLIGHT
BEGIN:STANDARD
TZOFFSETFROM:-0400
TZOFFSETTO:-0500
TZNAME:EST
DTSTART:20251102T060000
END:STANDARD
BEGIN:DAYLIGHT
TZOFFSETFROM:-0500
TZOFFSETTO:-0400
TZNAME:EDT
DTSTART:20260308T070000
END:DAYLIGHT
BEGIN:STANDARD
TZOFFSETFROM:-0400
TZOFFSETTO:-0500
TZNAME:EST
DTSTART:20261101T060000
END:STANDARD
BEGIN:DAYLIGHT
TZOFFSETFROM:-0500
TZOFFSETTO:-0400
TZNAME:EDT
DTSTART:20270314T070000
END:DAYLIGHT
BEGIN:STANDARD
TZOFFSETFROM:-0400
TZOFFSETTO:-0500
TZNAME:EST
DTSTART:20271107T060000
END:STANDARD
END:VTIMEZONE
BEGIN:VEVENT
DTSTART;TZID=UTC:20260321T100000
DTEND;TZID=UTC:20260321T100000
DTSTAMP:20260424T201224
CREATED:20260304T061633Z
LAST-MODIFIED:20260318T064634Z
UID:10006064-1774087200-1774087200@gunstuff.tv
SUMMARY:LCSA Steel Challenge 03-21-2026 - 5 Official & 1 Provisional Stage
DESCRIPTION:LCSA Steel Challenge 03-21-2026 – 5 Official & 1 Provisional Stage\nDate: 3/21/26\nStart Time: 10:00 AM\nLocation:\nLawrence County Sportsmen’s Assn. (SCSA214)\n3380 N Mill St\nWampum\, PA\nEvent Contact Information\nMark Bombara\n724-312-1796\nlcsasteelchallenge@gmail.com\nMatch Information\nhttps://www.shootlcsa.com/\n10:00AM Hammer Down\nEvent Website\nhttps://practiscore.com/lcsa-steel-challenge-03-21-2026/register
URL:https://gunstuff.tv/event/lcsa-steel-challenge-03-21-2026-5-official-1-provisional-stage/
LOCATION:Lawrence County Sportsmen’s Assn. (SCSA214)\, 3198 Mill St\, Wampum\, PA\, United States
GEO:40.924661;-80.377643
X-APPLE-STRUCTURED-LOCATION;VALUE=URI;X-ADDRESS=Lawrence County Sportsmen’s Assn. (SCSA214) 3198 Mill St Wampum PA United States;X-APPLE-RADIUS=500;X-TITLE=3198 Mill St:geo:-80.377643,40.924661
END:VEVENT
BEGIN:VEVENT
DTSTART;TZID=UTC:20260321T100000
DTEND;TZID=UTC:20260321T100000
DTSTAMP:20260424T201225
CREATED:20260320T113139Z
LAST-MODIFIED:20260320T113151Z
UID:10006416-1774087200-1774087200@gunstuff.tv
SUMMARY:Intrepid Defense March USPSA Classifier Match
DESCRIPTION:Intrepid Defense March USPSA Classifier Match\nDate : 3/21/26\nStart Time: 10:00 AM\nLocation:\nIntrepid Defense Practical Shooters (MO26)\n4645 Elk Head Road\nBland\, MO\nEvent Contact Information\nMelinda Puckett\n(314) 761-9712\nmpuckett@intrepiddefenseusa.com\nMatch Information\nThis is the Intrepid Defense monthly USPSA match. This months’ match will consist of 6 classifiers and 1 regular stage.\nMatch fee is $30 for adults\, $15 for 18 and under. Pay when you register or bring cash on match day.\nCheck in on match day between 9-9:30am at Bay 3. New shooters meeting is at 9:45am followed by the all shooters safety brief at 10am.\nEvent Website\nhttps://practiscore.com/clubs/intrepid_defense_practical_shooters
URL:https://gunstuff.tv/event/intrepid-defense-march-uspsa-classifier-match/
LOCATION:Intrepid Defense Practical Shooters (MO26)\, 4645 Elkhead Rd\, Bland\, MO\, United States
GEO:38.175002;-91.606187
X-APPLE-STRUCTURED-LOCATION;VALUE=URI;X-ADDRESS=Intrepid Defense Practical Shooters (MO26) 4645 Elkhead Rd Bland MO United States;X-APPLE-RADIUS=500;X-TITLE=4645 Elkhead Rd:geo:-91.606187,38.175002
END:VEVENT
BEGIN:VEVENT
DTSTART;TZID=America/New_York:20260321T100000
DTEND;TZID=America/New_York:20260321T120000
DTSTAMP:20260424T201226
CREATED:20260320T051636Z
LAST-MODIFIED:20260320T051636Z
UID:10006370-1774087200-1774094400@gunstuff.tv
SUMMARY:Detroit Athletic Club Instruction
DESCRIPTION:
URL:https://gunstuff.tv/event/detroit-athletic-club-instruction-2/
LOCATION:Indoor Archery Range\, 4770 Waterford Rd\, Clarkston\, MI\, United States
CATEGORIES:Archery,Indoor Archery Range,Range
ATTACH;FMTTYPE=image/png:https://gunstuff.tv/wp-content/uploads/2026/02/archery-color-160x160-1-yUUewR.png
GEO:42.705297;-83.4014
X-APPLE-STRUCTURED-LOCATION;VALUE=URI;X-ADDRESS=Indoor Archery Range 4770 Waterford Rd Clarkston MI United States;X-APPLE-RADIUS=500;X-TITLE=4770 Waterford Rd:geo:-83.4014,42.705297
END:VEVENT
BEGIN:VEVENT
DTSTART;TZID=America/New_York:20260321T100000
DTEND;TZID=America/New_York:20260321T120000
DTSTAMP:20260424T201226
CREATED:20260320T051636Z
LAST-MODIFIED:20260320T051636Z
UID:10006380-1774087200-1774094400@gunstuff.tv
SUMMARY:Detroit Athletic Club Instruction
DESCRIPTION:
URL:https://gunstuff.tv/event/detroit-athletic-club-instruction/
LOCATION:Indoor Archery Range\, 4770 Waterford Rd\, Clarkston\, MI\, United States
CATEGORIES:Archery,Indoor Archery Range,Range
ATTACH;FMTTYPE=image/png:https://gunstuff.tv/wp-content/uploads/2026/02/archery-color-160x160-1-yUUewR.png
GEO:42.705297;-83.4014
X-APPLE-STRUCTURED-LOCATION;VALUE=URI;X-ADDRESS=Indoor Archery Range 4770 Waterford Rd Clarkston MI United States;X-APPLE-RADIUS=500;X-TITLE=4770 Waterford Rd:geo:-83.4014,42.705297
END:VEVENT
BEGIN:VEVENT
DTSTART;TZID=America/New_York:20260321T110000
DTEND;TZID=America/New_York:20260321T130000
DTSTAMP:20260424T201226
CREATED:20260210T013134Z
LAST-MODIFIED:20260317T013325Z
UID:10005129-1774090800-1774098000@gunstuff.tv
SUMMARY:Pistol Cleaning Class – Protect Your Investment
DESCRIPTION:Pistol Cleaning Class – Protect Your Investment\n  \nYour handgun protects you… \nAre YOU protecting it? \nLearn how to properly clean\, inspect\, and maintain your pistol in our Pistol Cleaning Class! \nYou’ll learn: \n* Field stripping \n* Proper lubrication \n* Spotting problems early \n* Safe reassembly \n* Function checks \n2 Hours |  $125 \nInstructor: Thad Burton \nAppalachian Gun\, Range & Training \nPlus—cleaning kit included! \nThis class saves you money AND extends your firearm’s life.
URL:https://gunstuff.tv/event/pistol-cleaning-class-protect-your-investment/
LOCATION:Appalacian Gun\, Pawn & Range\, 140 Shelby Ln.\, Jasper\, GA\, 30143\, United States
CATEGORIES:Basic,firearm-safety,Safe Gun
ORGANIZER;CN="Appalachian Gun":MAILTO:Appalachiangun@gmail.com
END:VEVENT
BEGIN:VEVENT
DTSTART;TZID=America/New_York:20260321T110000
DTEND;TZID=America/New_York:20260321T160000
DTSTAMP:20260424T201226
CREATED:20260320T051636Z
LAST-MODIFIED:20260320T051636Z
UID:10006381-1774090800-1774108800@gunstuff.tv
SUMMARY:Shotgun Shooting Hours
DESCRIPTION:
URL:https://gunstuff.tv/event/shotgun-shooting-hours-12/
LOCATION:Shotgun Ranges\, 4770 Waterford Rd\, Clarkston\, MI\, United States
CATEGORIES:Range,Shotgun,Shotgun Range
ATTACH;FMTTYPE=image/png:https://gunstuff.tv/wp-content/uploads/2025/10/shotgun-logo-160x160-1-mvSnxY.png
GEO:42.705297;-83.4014
X-APPLE-STRUCTURED-LOCATION;VALUE=URI;X-ADDRESS=Shotgun Ranges 4770 Waterford Rd Clarkston MI United States;X-APPLE-RADIUS=500;X-TITLE=4770 Waterford Rd:geo:-83.4014,42.705297
END:VEVENT
BEGIN:VEVENT
DTSTART;TZID=America/New_York:20260321T110000
DTEND;TZID=America/New_York:20260321T160000
DTSTAMP:20260424T201226
CREATED:20260320T051637Z
LAST-MODIFIED:20260320T051637Z
UID:10006371-1774090800-1774108800@gunstuff.tv
SUMMARY:Shotgun Shooting Hours
DESCRIPTION:
URL:https://gunstuff.tv/event/shotgun-shooting-hours-13/
LOCATION:Shotgun Ranges\, 4770 Waterford Rd\, Clarkston\, MI\, United States
CATEGORIES:Range,Shotgun,Shotgun Range
ATTACH;FMTTYPE=image/png:https://gunstuff.tv/wp-content/uploads/2025/10/shotgun-logo-160x160-1-mvSnxY.png
GEO:42.705297;-83.4014
X-APPLE-STRUCTURED-LOCATION;VALUE=URI;X-ADDRESS=Shotgun Ranges 4770 Waterford Rd Clarkston MI United States;X-APPLE-RADIUS=500;X-TITLE=4770 Waterford Rd:geo:-83.4014,42.705297
END:VEVENT
BEGIN:VEVENT
DTSTART;TZID=America/New_York:20260321T120000
DTEND;TZID=America/New_York:20260321T150000
DTSTAMP:20260424T201226
CREATED:20260320T051636Z
LAST-MODIFIED:20260320T051636Z
UID:10006382-1774094400-1774105200@gunstuff.tv
SUMMARY:Quarter Midget Swapmeet
DESCRIPTION:During our Worker Bee this Saturday\, we will also be holding a swapmeet from Noon – 3pm under the Hot Chute. All are welcome to participate. Bring what you have\, and come and look for what you need. Comment below if you will be bringing items to sell so we have a rough idea of what will be there. New and Used items welcome.
URL:https://gunstuff.tv/event/quarter-midget-swapmeet/
LOCATION:Waterford – MMRA\, 21500 Clark's Rd\, Fountain\, FL\, United States
CATEGORIES:Club Events,MMRA
ATTACH;FMTTYPE=image/jpeg:https://gunstuff.tv/wp-content/uploads/2026/03/mmra-swapmeet-Hm80IF.jpg
GEO:30.538017;-85.407653
X-APPLE-STRUCTURED-LOCATION;VALUE=URI;X-ADDRESS=Waterford – MMRA 21500 Clark's Rd Fountain FL United States;X-APPLE-RADIUS=500;X-TITLE=21500 Clark's Rd:geo:-85.407653,30.538017
END:VEVENT
BEGIN:VEVENT
DTSTART;TZID=America/New_York:20260321T120000
DTEND;TZID=America/New_York:20260321T150000
DTSTAMP:20260424T201226
CREATED:20260320T051637Z
LAST-MODIFIED:20260320T051637Z
UID:10006372-1774094400-1774105200@gunstuff.tv
SUMMARY:Quarter Midget Swapmeet
DESCRIPTION:During our Worker Bee this Saturday\, we will also be holding a swapmeet from Noon – 3pm under the Hot Chute. All are welcome to participate. Bring what you have\, and come and look for what you need. Comment below if you will be bringing items to sell so we have a rough idea of what will be there. New and Used items welcome.
URL:https://gunstuff.tv/event/quarter-midget-swapmeet-2/
LOCATION:Waterford – MMRA\, 21500 Clark's Rd\, Fountain\, FL\, United States
CATEGORIES:Club Events,MMRA
ATTACH;FMTTYPE=image/jpeg:https://gunstuff.tv/wp-content/uploads/2026/03/mmra-swapmeet-uC23Ai.jpg
GEO:30.538017;-85.407653
X-APPLE-STRUCTURED-LOCATION;VALUE=URI;X-ADDRESS=Waterford – MMRA 21500 Clark's Rd Fountain FL United States;X-APPLE-RADIUS=500;X-TITLE=21500 Clark's Rd:geo:-85.407653,30.538017
END:VEVENT
BEGIN:VEVENT
DTSTART;TZID=America/Los_Angeles:20260321T130000
DTEND;TZID=America/Los_Angeles:20260321T160000
DTSTAMP:20260424T201226
CREATED:20260220T193135Z
LAST-MODIFIED:20260320T193143Z
UID:10005732-1774098000-1774108800@gunstuff.tv
SUMMARY:Centerfire Rifles (Previously Sighted In) at 200yd Only on the MPR
DESCRIPTION:Diablo Rod and Gun club is hosting a monthly club-level 200 yard centerfire rifle match on the Multi-Purpose Range (MPR) \nAll Clubs Welcome!
URL:https://gunstuff.tv/event/centerfire-rifles-previously-sighted-in-at-200yd-only-on-the-mpr-6/
LOCATION:USI Multi Purpose Range\, 4700 Evora Road\, Concord\, CA\, 94520
END:VEVENT
BEGIN:VEVENT
DTSTART;TZID=America/New_York:20260321T130000
DTEND;TZID=America/New_York:20260322T150000
DTSTAMP:20260424T201226
CREATED:20260220T031629Z
LAST-MODIFIED:20260313T031630Z
UID:10005669-1774098000-1774191600@gunstuff.tv
SUMMARY:Pistol Range Closed
DESCRIPTION:for instructor course
URL:https://gunstuff.tv/event/pistol-range-closed-5/
END:VEVENT
BEGIN:VEVENT
DTSTART;TZID=America/New_York:20260321T150000
DTEND;TZID=America/New_York:20260321T180000
DTSTAMP:20260424T201226
CREATED:20260320T051638Z
LAST-MODIFIED:20260320T051638Z
UID:10006373-1774105200-1774116000@gunstuff.tv
SUMMARY:Chili Rack Cook-Off
DESCRIPTION:Join the OCSC Chili Rack Cook-Off!\nBring your best recipe and your best story to the OCSC Main Hall for an afternoon of great food and friendly competition. Whether you’re a master of “Wild Game” or a “Traditional Red” purist\, we want to see what you’ve got!\n$5 Entry Fee\nHow to Register:\nSpace is limited\, so don’t wait until the last minute to claim your spot at the tasting table.\nDeadline: You must register no later than March 14th.\nContact: Call or text Steve at 586-206-9931 to sign up.
URL:https://gunstuff.tv/event/chili-rack-cook-off-2/
LOCATION:OCSC Main Hall\, 4770 Waterford Rd\, Clarkston\, MI\, United States
CATEGORIES:Club Events,Open to the Public
ATTACH;FMTTYPE=image/png:https://gunstuff.tv/wp-content/uploads/2026/03/Chili-Rack-Cook-Off-2JyQTA.png
GEO:42.705297;-83.4014
X-APPLE-STRUCTURED-LOCATION;VALUE=URI;X-ADDRESS=OCSC Main Hall 4770 Waterford Rd Clarkston MI United States;X-APPLE-RADIUS=500;X-TITLE=4770 Waterford Rd:geo:-83.4014,42.705297
END:VEVENT
BEGIN:VEVENT
DTSTART;TZID=America/New_York:20260321T150000
DTEND;TZID=America/New_York:20260321T180000
DTSTAMP:20260424T201226
CREATED:20260320T051638Z
LAST-MODIFIED:20260320T051638Z
UID:10006383-1774105200-1774116000@gunstuff.tv
SUMMARY:Chili Rack Cook-Off
DESCRIPTION:Join the OCSC Chili Rack Cook-Off!\nBring your best recipe and your best story to the OCSC Main Hall for an afternoon of great food and friendly competition. Whether you’re a master of “Wild Game” or a “Traditional Red” purist\, we want to see what you’ve got!\n$5 Entry Fee\nHow to Register:\nSpace is limited\, so don’t wait until the last minute to claim your spot at the tasting table.\nDeadline: You must register no later than March 14th.\nContact: Call or text Steve at 586-206-9931 to sign up.
URL:https://gunstuff.tv/event/chili-rack-cook-off/
LOCATION:OCSC Main Hall\, 4770 Waterford Rd\, Clarkston\, MI\, United States
CATEGORIES:Club Events,Open to the Public
ATTACH;FMTTYPE=image/png:https://gunstuff.tv/wp-content/uploads/2026/03/Chili-Rack-Cook-Off-2xgMJz.png
GEO:42.705297;-83.4014
X-APPLE-STRUCTURED-LOCATION;VALUE=URI;X-ADDRESS=OCSC Main Hall 4770 Waterford Rd Clarkston MI United States;X-APPLE-RADIUS=500;X-TITLE=4770 Waterford Rd:geo:-83.4014,42.705297
END:VEVENT
BEGIN:VEVENT
DTSTART;TZID=America/Chicago:20260321T150000
DTEND;TZID=America/Chicago:20260321T190000
DTSTAMP:20260424T201226
CREATED:20260227T054631Z
LAST-MODIFIED:20260320T054634Z
UID:10005815-1774105200-1774119600@gunstuff.tv
SUMMARY:Private Event
DESCRIPTION:Private event using the clubhouse.  All courses will still remain open.
URL:https://gunstuff.tv/event/private-event-2/
LOCATION:5H Shooting Sports\, 19105 Co Rd 4235\, Frankston\, TX\, United States
END:VEVENT
BEGIN:VEVENT
DTSTART;TZID=America/Los_Angeles:20260321T170000
DTEND;TZID=America/Los_Angeles:20260321T200000
DTSTAMP:20260424T201226
CREATED:20260220T193135Z
LAST-MODIFIED:20260320T193143Z
UID:10005733-1774112400-1774123200@gunstuff.tv
SUMMARY:Diablo Saturday Night Shooting
DESCRIPTION:Diablo Saturday Night Shooting\n\n\n\n\n\n\n\n\nDiablo will be hosting Saturday night shooting at the public pistol range. \nIMPORTANT: If you need ammunition PLEASE be sure to grab it BEFORE USI closes. Diablo will NOT be selling ammo. \nIf you are in the mood to do some plinking\, head over to USI. Make sure you have your USI “Blue” card if not please make sure you have done the online waiver. \nTHIS WILL BE A WEEKLY SATURDAY NIGHT EVENT. BOTH RIFLE AND PISTOL WILL GENERALLY BE OPEN. \nHope to see everyone there!
URL:https://gunstuff.tv/event/diablo-saturday-night-shooting-20/
LOCATION:USI Public Pistol / Rifle Range\, 4700 Evora Road\, Concord\, 94520\, United States
CATEGORIES:Pistol Events
ATTACH;FMTTYPE=image/jpeg:https://gunstuff.tv/wp-content/uploads/2025/10/unnamed-2-MCqIwU.jpg
END:VEVENT
BEGIN:VEVENT
DTSTART;VALUE=DATE:20260322
DTEND;VALUE=DATE:20260323
DTSTAMP:20260424T201226
CREATED:20251003T160028Z
LAST-MODIFIED:20260322T043130Z
UID:10000940-1774137600-1774223999@gunstuff.tv
SUMMARY:1000 Yard Practice 8:00am Pits
DESCRIPTION:
URL:https://gunstuff.tv/event/600-yard-practice-800am-pits-9/
END:VEVENT
BEGIN:VEVENT
DTSTART;VALUE=DATE:20260322
DTEND;VALUE=DATE:20260323
DTSTAMP:20260424T201226
CREATED:20260213T031054Z
LAST-MODIFIED:20260320T033132Z
UID:10005192-1774137600-1774223999@gunstuff.tv
SUMMARY:Spring/Summer hours begin
DESCRIPTION:
URL:https://gunstuff.tv/event/spring-summer-hours-begin/
END:VEVENT
BEGIN:VEVENT
DTSTART;VALUE=DATE:20260322
DTEND;VALUE=DATE:20260323
DTSTAMP:20260424T201226
CREATED:20260213T031054Z
LAST-MODIFIED:20260313T031629Z
UID:10005193-1774137600-1774223999@gunstuff.tv
SUMMARY:NRA instructor pistol course
DESCRIPTION:
URL:https://gunstuff.tv/event/instructor-course/
END:VEVENT
BEGIN:VEVENT
DTSTART;VALUE=DATE:20260322
DTEND;VALUE=DATE:20260323
DTSTAMP:20260424T201226
CREATED:20260220T031629Z
LAST-MODIFIED:20260313T031629Z
UID:10005671-1774137600-1774223999@gunstuff.tv
SUMMARY:classroom closed
DESCRIPTION:
URL:https://gunstuff.tv/event/classroom-closed-4/
END:VEVENT
BEGIN:VEVENT
DTSTART;VALUE=DATE:20260322
DTEND;VALUE=DATE:20260323
DTSTAMP:20260424T201226
CREATED:20260302T030130Z
LAST-MODIFIED:20260302T030130Z
UID:10005940-1774137600-1774223999@gunstuff.tv
SUMMARY:Steel Challenge
DESCRIPTION:Setup 8:00 AM Registration 10:00 AM\nMatch 11:00 AM\n(Ranges 3 thru 7 & Clubhouse)
URL:https://gunstuff.tv/event/steel-challenge-24/
LOCATION:Wildcat Valley R and P Club\, 12094 S 300 E\, Brookston\, IN\, United States
CATEGORIES:Steel Challenge
GEO:40.576877;-86.811749
X-APPLE-STRUCTURED-LOCATION;VALUE=URI;X-ADDRESS=Wildcat Valley R and P Club 12094 S 300 E Brookston IN United States;X-APPLE-RADIUS=500;X-TITLE=12094 S 300 E:geo:-86.811749,40.576877
END:VEVENT
BEGIN:VEVENT
DTSTART;TZID=America/New_York:20260322T080000
DTEND;TZID=America/New_York:20260322T130000
DTSTAMP:20260424T201226
CREATED:20251010T162936Z
LAST-MODIFIED:20260320T200129Z
UID:10002002-1774166400-1774184400@gunstuff.tv
SUMMARY:MRPC 200 yard Steel at AGC
DESCRIPTION:
URL:https://gunstuff.tv/event/mrpc-200-yard-steel-at-agc/
END:VEVENT
BEGIN:VEVENT
DTSTART;TZID=America/New_York:20260322T080000
DTEND;TZID=America/New_York:20260322T150000
DTSTAMP:20260424T201226
CREATED:20260111T181634Z
LAST-MODIFIED:20260322T184643Z
UID:10004377-1774166400-1774191600@gunstuff.tv
SUMMARY:Cast Bullet Benchrest
DESCRIPTION:Cast Bullet Benchrest match registered with the Cast Bullet Association (CBA). 100 & 200 yd score and military competition based on CBA rules. Any rifle and ammunition is welcome as an Unclassified Entry to familiarize themselves with the course of fire. Contact Mark Mazzocco memazzocco@verizon.net for more info. 
URL:https://gunstuff.tv/event/cast-bullet-benchrest-2/
LOCATION:Benson Range
END:VEVENT
BEGIN:VEVENT
DTSTART;TZID=America/Los_Angeles:20260322T080000
DTEND;TZID=America/Los_Angeles:20260322T150000
DTSTAMP:20260424T201226
CREATED:20260220T193136Z
LAST-MODIFIED:20260227T193141Z
UID:10005737-1774166400-1774191600@gunstuff.tv
SUMMARY:USPSA Match
DESCRIPTION:Match time\, information & sign-up on Practiscore:  https://practiscore.com/clubs/diablo-action-pistol
URL:https://gunstuff.tv/event/uspsa-match-7/
LOCATION:Action Pistol Range\, 4700 Evora Road\, Concord\, CA\, 94520
CATEGORIES:Diablo Action Pistol
ATTACH;FMTTYPE=image/jpeg:https://gunstuff.tv/wp-content/uploads/2025/10/USPSA-Logo_rgb-ujoezn.jpg
ORGANIZER;CN="Chris Colridge":MAILTO:matchsupport@diabloactionpistol.com
GEO:42.705297;-83.4014
X-APPLE-STRUCTURED-LOCATION;VALUE=URI;X-ADDRESS=Action Pistol Range 4700 Evora Road Concord CA 94520;X-APPLE-RADIUS=500;X-TITLE=4700 Evora Road:geo:-83.4014,42.705297
END:VEVENT
BEGIN:VEVENT
DTSTART;TZID=America/Chicago:20260322T080000
DTEND;TZID=America/Chicago:20260322T170000
DTSTAMP:20260424T201226
CREATED:20260303T021740Z
LAST-MODIFIED:20260303T021740Z
UID:10006039-1774166400-1774198800@gunstuff.tv
SUMMARY:2nd Annual Aledo Clay Busters Clay Shoot
DESCRIPTION:Join us on Sunday\, March 22nd for the Second Annual Aledo Clay Busters Clay Shoot! \nAledo Clay Busters (ACB) offers youth shooters in the Weatherford and Aledo areas the opportunity to learn gun safety\, shooting skills\, and to compete with other youth around the county in the clay target sports: skeet\, trap\, and sporting clays. \nRegistration begins at 11:30am / Shooting begins at 1pm
URL:https://gunstuff.tv/event/2nd-annual-aledo-clay-busters-clay-shoot/
LOCATION:Clay Sports Ranch\, 8270 Aledo Road\, Fort Worth\, TX\, 76126\, United States
CATEGORIES:Clay Sports Ranch Events
END:VEVENT
BEGIN:VEVENT
DTSTART;TZID=America/Chicago:20260322T080000
DTEND;TZID=America/Chicago:20260322T170000
DTSTAMP:20260424T201226
CREATED:20260315T211629Z
LAST-MODIFIED:20260322T211630Z
UID:10006335-1774166400-1774198800@gunstuff.tv
SUMMARY:NSCA Blooming Clays 2026
DESCRIPTION:
URL:https://gunstuff.tv/event/nsca-blooming-clays-2026-3/
LOCATION:Austin Gun Club\, 1999 S Key Ave\, Lampasas\, TX\, United States
CATEGORIES:NSCA Registered Shoot
ATTACH;FMTTYPE=image/png:https://gunstuff.tv/wp-content/uploads/2026/03/3.22.26-Blooming-Clays-Flyer-Header-o9WfLN.png
GEO:31.050454;-98.174788
X-APPLE-STRUCTURED-LOCATION;VALUE=URI;X-ADDRESS=Austin Gun Club 1999 S Key Ave Lampasas TX United States;X-APPLE-RADIUS=500;X-TITLE=1999 S Key Ave:geo:-98.174788,31.050454
END:VEVENT
BEGIN:VEVENT
DTSTART;TZID=America/New_York:20260322T080000
DTEND;TZID=America/New_York:20260322T183000
DTSTAMP:20260424T201226
CREATED:20251012T173814Z
LAST-MODIFIED:20260322T184643Z
UID:10002088-1774166400-1774204200@gunstuff.tv
SUMMARY:NORMAN J. SIEGER DEVIL’S BRIGADE MEMORIAL CHAMPIONSHIP
DESCRIPTION:CMP 1400 Pistol Aggregate Championship from 9 AM to 4:30 PM on the Walsh Range.  The CMP 1400 features 40-shot matches followed by a 30-shot EIC for both 22 Rimfire and Service Pistol (140-shot total)\, to be followed by a Service Revolver EIC.  Competitors must use metallic sights for both the 22 Rimfire\, Service Pistol and Service Revolver.  For info & position requests\, contact bullseye@fxrgc.org
URL:https://gunstuff.tv/event/norman-j-sieger-devils-brigade-memorial-championship/
LOCATION:Walsh Range
END:VEVENT
BEGIN:VEVENT
DTSTART;TZID=UTC:20260322T083000
DTEND;TZID=UTC:20260322T083000
DTSTAMP:20260424T201226
CREATED:20260107T013346Z
LAST-MODIFIED:20260318T064634Z
UID:10003809-1774168200-1774168200@gunstuff.tv
SUMMARY:Havasu Steel Challenge Mar 22 2026 (4th Sunday)
DESCRIPTION:Havasu Steel Challenge Mar 22 2026 (4th Sunday)\nDate: 3/22/26\nStart Time: 8:30 AM\nLocation:\nLake Havasu Steel Challenge (SCSA494)\n7200 Dub Campbell Parkway\nLake Havasu City\, AZ\nEvent Contact Information\nJon Breazeal\n928-208-1161\nhavasusteelchallenge@gmail.com\nMatch Information\nTier 1 Steel Challenge Match – shooting 6 stages\n5 to Go\, Pendulum\, Smoke & Hope\, Showdown\, Roundabout\, Accelerator\, and/or two of the new Candidate Stages (tbd)\nSTART TIME: Sign-in @ 8:30am / Match starts @ 9:00am\n*2026 price increase: 1st gun $15\, additional gun(s) $5 each\nEvent Website\nhttps://www.fb.com/havasusteelchallenge
URL:https://gunstuff.tv/event/havasu-steel-challenge-mar-8-2026/
LOCATION:Lake Havasu Steel Challenge (SCSA494)\, 898 Campbell Rd\, Bullhead City\, AZ\, United States
GEO:35.189141;-114.52637
X-APPLE-STRUCTURED-LOCATION;VALUE=URI;X-ADDRESS=Lake Havasu Steel Challenge (SCSA494) 898 Campbell Rd Bullhead City AZ United States;X-APPLE-RADIUS=500;X-TITLE=898 Campbell Rd:geo:-114.52637,35.189141
END:VEVENT
BEGIN:VEVENT
DTSTART;TZID=UTC:20260322T090000
DTEND;TZID=UTC:20260322T090000
DTSTAMP:20260424T201227
CREATED:20260321T174629Z
LAST-MODIFIED:20260321T174629Z
UID:10006450-1774170000-1774170000@gunstuff.tv
SUMMARY:US Steel Nationals
DESCRIPTION:US Steel Nationals\nMatch Status: Approved by DNROI\nMatch Starts on Mar 20\, 2026\nMatch will end Mar 22\, 2026\nMatch Location:\nConnecticut Practical Shooters\n2299 Gun Club Lane\nMims\, FL 32754\nManaged by:\nConnecticut Practical Shooters\nStage Count: 8\nRound Count: 195\nMatch Entry Fee: $100.00\nMatch Director: Douglas Koenig\nRange Master: Bob Young\nAdditional Details\nThe Host club where the match will be held is Titusville Rifle & Pistol club in Titusville\, FL.\nRegister!\nhttps://practiscore.com/2026-us-steel-nationals-march-20-22-2026/register
URL:https://gunstuff.tv/event/us-steel-nationals-2/
LOCATION:Connecticut Practical Shooters\, 3201 Kilbee St\, Mims\, FL\, United States
GEO:28.6865;-80.852848
X-APPLE-STRUCTURED-LOCATION;VALUE=URI;X-ADDRESS=Connecticut Practical Shooters 3201 Kilbee St Mims FL United States;X-APPLE-RADIUS=500;X-TITLE=3201 Kilbee St:geo:-80.852848,28.6865
END:VEVENT
BEGIN:VEVENT
DTSTART;TZID=America/New_York:20260322T090000
DTEND;TZID=America/New_York:20260322T120000
DTSTAMP:20260424T201227
CREATED:20251003T162639Z
LAST-MODIFIED:20260313T190128Z
UID:10001401-1774170000-1774180800@gunstuff.tv
SUMMARY:Weekly Trap League
DESCRIPTION:
URL:https://gunstuff.tv/event/weekly-trap-league-25/
LOCATION:Shotgun Range
END:VEVENT
BEGIN:VEVENT
DTSTART;TZID=America/New_York:20260322T090000
DTEND;TZID=America/New_York:20260322T120000
DTSTAMP:20260424T201227
CREATED:20260224T013141Z
LAST-MODIFIED:20260317T013325Z
UID:10005755-1774170000-1774180800@gunstuff.tv
SUMMARY:Basic Handgun
DESCRIPTION:Thinking about owning a handgun? \nAlready have one but want real training? \nBasic Handgun is where confident shooters are made. \nYou’ll learn: \n* Safety rules \n* Grip & stance \n* Loading/unloading \n* Dry fire practice \n* Live range shooting \n* Malfunction clearing \n3 Hours |  $150 \nAppalachian Gun\, Range & Training \nNo experience needed—just the desire to learn! \nThis is the BEST first step into responsible firearm ownership.
URL:https://gunstuff.tv/event/basic-handgun/
LOCATION:Appalacian Gun\, Pawn & Range\, 140 Shelby Ln.\, Jasper\, GA\, 30143\, United States
CATEGORIES:Basic,firearm-safety,Safe Gun
ORGANIZER;CN="Appalachian Gun":MAILTO:Appalachiangun@gmail.com
END:VEVENT
END:VCALENDAR