BEGIN:VCALENDAR
VERSION:2.0
PRODID:-//GunStuff TV - ECPv6.15.20//NONSGML v1.0//EN
CALSCALE:GREGORIAN
METHOD:PUBLISH
X-WR-CALNAME:GunStuff TV
X-ORIGINAL-URL:https://gunstuff.tv
X-WR-CALDESC:Events for GunStuff TV
REFRESH-INTERVAL;VALUE=DURATION:PT1H
X-Robots-Tag:noindex
X-PUBLISHED-TTL:PT1H
BEGIN:VTIMEZONE
TZID:America/New_York
BEGIN:DAYLIGHT
TZOFFSETFROM:-0500
TZOFFSETTO:-0400
TZNAME:EDT
DTSTART:20250309T070000
END:DAYLIGHT
BEGIN:STANDARD
TZOFFSETFROM:-0400
TZOFFSETTO:-0500
TZNAME:EST
DTSTART:20251102T060000
END:STANDARD
BEGIN:DAYLIGHT
TZOFFSETFROM:-0500
TZOFFSETTO:-0400
TZNAME:EDT
DTSTART:20260308T070000
END:DAYLIGHT
BEGIN:STANDARD
TZOFFSETFROM:-0400
TZOFFSETTO:-0500
TZNAME:EST
DTSTART:20261101T060000
END:STANDARD
BEGIN:DAYLIGHT
TZOFFSETFROM:-0500
TZOFFSETTO:-0400
TZNAME:EDT
DTSTART:20270314T070000
END:DAYLIGHT
BEGIN:STANDARD
TZOFFSETFROM:-0400
TZOFFSETTO:-0500
TZNAME:EST
DTSTART:20271107T060000
END:STANDARD
END:VTIMEZONE
BEGIN:VTIMEZONE
TZID:America/Chicago
BEGIN:DAYLIGHT
TZOFFSETFROM:-0600
TZOFFSETTO:-0500
TZNAME:CDT
DTSTART:20250309T080000
END:DAYLIGHT
BEGIN:STANDARD
TZOFFSETFROM:-0500
TZOFFSETTO:-0600
TZNAME:CST
DTSTART:20251102T070000
END:STANDARD
BEGIN:DAYLIGHT
TZOFFSETFROM:-0600
TZOFFSETTO:-0500
TZNAME:CDT
DTSTART:20260308T080000
END:DAYLIGHT
BEGIN:STANDARD
TZOFFSETFROM:-0500
TZOFFSETTO:-0600
TZNAME:CST
DTSTART:20261101T070000
END:STANDARD
BEGIN:DAYLIGHT
TZOFFSETFROM:-0600
TZOFFSETTO:-0500
TZNAME:CDT
DTSTART:20270314T080000
END:DAYLIGHT
BEGIN:STANDARD
TZOFFSETFROM:-0500
TZOFFSETTO:-0600
TZNAME:CST
DTSTART:20271107T070000
END:STANDARD
END:VTIMEZONE
BEGIN:VTIMEZONE
TZID:UTC
BEGIN:STANDARD
TZOFFSETFROM:+0000
TZOFFSETTO:+0000
TZNAME:UTC
DTSTART:20250101T000000
END:STANDARD
END:VTIMEZONE
BEGIN:VTIMEZONE
TZID:America/Los_Angeles
BEGIN:DAYLIGHT
TZOFFSETFROM:-0800
TZOFFSETTO:-0700
TZNAME:PDT
DTSTART:20250309T100000
END:DAYLIGHT
BEGIN:STANDARD
TZOFFSETFROM:-0700
TZOFFSETTO:-0800
TZNAME:PST
DTSTART:20251102T090000
END:STANDARD
BEGIN:DAYLIGHT
TZOFFSETFROM:-0800
TZOFFSETTO:-0700
TZNAME:PDT
DTSTART:20260308T100000
END:DAYLIGHT
BEGIN:STANDARD
TZOFFSETFROM:-0700
TZOFFSETTO:-0800
TZNAME:PST
DTSTART:20261101T090000
END:STANDARD
BEGIN:DAYLIGHT
TZOFFSETFROM:-0800
TZOFFSETTO:-0700
TZNAME:PDT
DTSTART:20270314T100000
END:DAYLIGHT
BEGIN:STANDARD
TZOFFSETFROM:-0700
TZOFFSETTO:-0800
TZNAME:PST
DTSTART:20271107T090000
END:STANDARD
END:VTIMEZONE
BEGIN:VTIMEZONE
TZID:UTC
BEGIN:STANDARD
TZOFFSETFROM:+0000
TZOFFSETTO:+0000
TZNAME:UTC
DTSTART:20250101T000000
END:STANDARD
END:VTIMEZONE
BEGIN:VEVENT
DTSTART;TZID=America/New_York:20260314T200000
DTEND;TZID=America/New_York:20260314T235900
DTSTAMP:20260424T201703
CREATED:20260313T051631Z
LAST-MODIFIED:20260313T051633Z
UID:10006284-1773518400-1773532740@gunstuff.tv
SUMMARY:Whiskey Business LIVE at OCSC
DESCRIPTION:Get ready to paint the town green! We are kicking off our St. Patrick’s Day festivities early at OCSC Bar & Kitchen in Michigan. Join us for a night of high-energy music\, great drinks\, and unbeatable company.\nWe are thrilled to host Whiskey Business live on stage! They’ll be bringing the tunes and the energy to keep the party moving all night long.\n📅 Event Details:\nWhen: Saturday\, March 14th\nTime: 8:00 PM – 12:00 AM\nLive Music: Whiskey Business 🎸\nCover: $5 at the door\nGrab your friends\, put on your best green gear\, and come celebrate with us. It’s going to be a night of “Whiskey” and wonder you won’t want to miss!
URL:https://gunstuff.tv/event/whiskey-business-live-at-ocsc/
LOCATION:Dining Hall\, 4770 Waterford Rd\, Clarkston\, MI\, United States
CATEGORIES:Band Night,Live Entertainment,Open to the Public
ATTACH;FMTTYPE=image/png:https://gunstuff.tv/wp-content/uploads/2026/03/Band_Night_314-IkcFgY.png
GEO:42.705297;-83.4014
X-APPLE-STRUCTURED-LOCATION;VALUE=URI;X-ADDRESS=Dining Hall 4770 Waterford Rd Clarkston MI United States;X-APPLE-RADIUS=500;X-TITLE=4770 Waterford Rd:geo:-83.4014,42.705297
END:VEVENT
BEGIN:VEVENT
DTSTART;VALUE=DATE:20260315
DTEND;VALUE=DATE:20260316
DTSTAMP:20260424T201703
CREATED:20260213T031053Z
LAST-MODIFIED:20260313T031629Z
UID:10005184-1773532800-1773619199@gunstuff.tv
SUMMARY:NRA basic pistol course
DESCRIPTION: preregister at www.nra.org cost is 50$ (This course is REQUIRED to become an NRA pistol instructor)
URL:https://gunstuff.tv/event/basic-pistol-course/
END:VEVENT
BEGIN:VEVENT
DTSTART;VALUE=DATE:20260315
DTEND;VALUE=DATE:20260316
DTSTAMP:20260424T201703
CREATED:20260220T031628Z
LAST-MODIFIED:20260313T031629Z
UID:10005665-1773532800-1773619199@gunstuff.tv
SUMMARY:classroom closed
DESCRIPTION:
URL:https://gunstuff.tv/event/classroom-closed/
END:VEVENT
BEGIN:VEVENT
DTSTART;VALUE=DATE:20260315
DTEND;VALUE=DATE:20260322
DTSTAMP:20260424T201703
CREATED:20251005T190050Z
LAST-MODIFIED:20260315T200128Z
UID:10001663-1773532800-1774137599@gunstuff.tv
SUMMARY:ACUI Collegiate Championship
DESCRIPTION:For more information at visit the ACUI website.For club information contact Amber Schwarz at aschwarz@nssa-nsca.com
URL:https://gunstuff.tv/event/acui-collegiate-championship/
LOCATION:National Shooting Complex\, 5931 Roft Rd\, San Antonio\, TX\, United States
GEO:29.492881;-98.741985
X-APPLE-STRUCTURED-LOCATION;VALUE=URI;X-ADDRESS=National Shooting Complex 5931 Roft Rd San Antonio TX United States;X-APPLE-RADIUS=500;X-TITLE=5931 Roft Rd:geo:-98.741985,29.492881
END:VEVENT
BEGIN:VEVENT
DTSTART;TZID=UTC:20260315T080000
DTEND;TZID=UTC:20260315T080000
DTSTAMP:20260424T201703
CREATED:20260128T014750Z
LAST-MODIFIED:20260311T063144Z
UID:10004794-1773561600-1773561600@gunstuff.tv
SUMMARY:Colfax March Steel Challenge
DESCRIPTION:Colfax March Steel Challenge\nDate: 3/15/26\nStart Time: 8:00 AM\nLocation:\nColfax Sportsmens Club (SCSA280)\nE8489 810th Ave\nColfax\, WI\nEvent Contact Information\nCody Berger\n715-495-7259\ncolfaxwishootingsports@gmail.com\nMatch Information\nColfax WI Sportsmen’s Club Tier I Steel Challenge match. We will shoot 6 stages. You must create a registration for each division. Registrations will be limited to two (2) divisions.\nRegistration fee is $20 per division: $10 per division for club members. There will be an additional $5 charge for walk-ins.\n*RSO and NROI participants are permitted two discounted division entries per match.*\n*SASP athletes are permitted two free entries per match. Please select the discount checkbox under payment form.*\nCheck-in runs from 8am – 8:30am with the match starting at 9am. Match scores will be submitted to SCSA website for classification. This match is open to the public\, there is no requirement to be a Colfax Sportsmen’s Club member or a SCSA / USPSA member to compete. Payment can be made through Practiscore or at check-in. Squadding can be done individually through Practiscore and will be adjusted on match day for the most efficient match flow.\nPlan for 5 magazines or speed loaders and a MINIMUM of 200rds per gun.\nIf you are new to Steel Challenge\, please refer to:\nhttps://uspsa.org/viewer/SCSA-Rulebook.pdf\nIt is your responsibility to understand and follow these rules. If you are a SCSA member it is your responsibility to correctly enter your member number in the corresponding box.\nRimfire\, Centerfire\, PCC\, Revolver\, 1911\, Wisconsin\, Midwest\nEvent Website\nhttps://practiscore.com/colfax-march-steel-challenge-1/register
URL:https://gunstuff.tv/event/colfax-march-steel-challenge/
LOCATION:Colfax Sportsmens Club (SCSA280)\, E8489 810th Ave\, Colfax\, WI
END:VEVENT
BEGIN:VEVENT
DTSTART;TZID=UTC:20260315T080000
DTEND;TZID=UTC:20260315T080000
DTSTAMP:20260424T201703
CREATED:20260227T113136Z
LAST-MODIFIED:20260313T113148Z
UID:10005822-1773561600-1773561600@gunstuff.tv
SUMMARY:March RAC Match
DESCRIPTION:March RAC Match\nDate : 3/15/26\nStart Time: 8:00 AM\nLocation:\nRAC Guns and Ammo (NV19)\n1410 E. Prater Way Suite B\nSparks\, NV\nEvent Contact Information\nEfren Cabreros\n8054599044\nslomtbiker@hotmail.com\nMatch Information\nPremier indoor range in Sparks\, NV. 5 stages including 1 classifier.
URL:https://gunstuff.tv/event/march-rac-match/
LOCATION:RAC Guns and Ammo (NV19)\, 1410 E Prater Way\, Sparks\, NV\, United States
GEO:39.542028;-119.718605
X-APPLE-STRUCTURED-LOCATION;VALUE=URI;X-ADDRESS=RAC Guns and Ammo (NV19) 1410 E Prater Way Sparks NV United States;X-APPLE-RADIUS=500;X-TITLE=1410 E Prater Way:geo:-119.718605,39.542028
END:VEVENT
BEGIN:VEVENT
DTSTART;TZID=America/Los_Angeles:20260315T080000
DTEND;TZID=America/Los_Angeles:20260315T120000
DTSTAMP:20260424T201703
CREATED:20260213T192140Z
LAST-MODIFIED:20260313T193137Z
UID:10005603-1773561600-1773576000@gunstuff.tv
SUMMARY:Airgun – Field Target
DESCRIPTION:Airgun Field Target is an outdoor venue\, utilizing precision high-power air rifles (sometimes air pistols). The reactionary\, steel animal targets are designed to fall only when the pellet hits the “Kill Zone”\, requiring target-rifle accuracy. Targets are then re-set with a cord from the shooting position. The distance to the targets varies and is unknown\, adding an element of range-finding ability (similar to hunting in the field). All types of air rifles may be used\, up to .22 cal\,  (but NO BB’s) and we do have some loaners available. Junior shooters are welcome and as always\, they shoot FREE when accompanied by an adult club member. \nAirguns have grown up…….Give it a try ! We shoot in all weather\, except for the atypical Lightning storm.
URL:https://gunstuff.tv/event/airgun-field-target-4/
LOCATION:USI Multi Purpose Range\, 4700 Evora Road\, Concord\, CA\, 94520
CATEGORIES:Airgun
ATTACH;FMTTYPE=image/png:https://gunstuff.tv/wp-content/uploads/2025/12/fieldtargetguns580-i92vQ1.png
ORGANIZER;CN="Sam Russo":MAILTO:airgun_fieldtarget@diablorodandgun.com
END:VEVENT
BEGIN:VEVENT
DTSTART;TZID=America/Los_Angeles:20260315T080000
DTEND;TZID=America/Los_Angeles:20260315T150000
DTSTAMP:20260424T201703
CREATED:20260213T192142Z
LAST-MODIFIED:20260313T193138Z
UID:10005608-1773561600-1773586800@gunstuff.tv
SUMMARY:DAWG’s ICORE Match
DESCRIPTION:Diablo Action Pistol / Diablo Action Wheel Gunners (DAWGs) will have a 5-stage ICORE match with at least one stage being a regulation Postal Match stage.  Classified semi-auto shooters & DAP shooters who recently completed the Action Orientation class are welcome! \nYou must complete the USI liability waiver online before match day: this involves watching two short 3-min videos and taking an online safety test. The waiver is located at https://unitedsportsmen.com/waiver/ \nPlease arrive early so we can start on time. On-site Registration opens at 8:00 AM and closes at 8:30 AM.  Shooters’ meeting at 8:55 AM. First shots at 9:00 AM. \n\nPre-Register on Practiscore:  https://practiscore.com/clubs/diablo-action-pistol
URL:https://gunstuff.tv/event/dawgs-icore-match-3/
LOCATION:Action Pistol Range\, 4700 Evora Road\, Concord\, CA\, 94520
CATEGORIES:Diablo Action Pistol
ORGANIZER;CN="Blade Benson":MAILTO:matchsupport@diabloactionpistol.com
GEO:42.705297;-83.4014
X-APPLE-STRUCTURED-LOCATION;VALUE=URI;X-ADDRESS=Action Pistol Range 4700 Evora Road Concord CA 94520;X-APPLE-RADIUS=500;X-TITLE=4700 Evora Road:geo:-83.4014,42.705297
END:VEVENT
BEGIN:VEVENT
DTSTART;TZID=UTC:20260315T083000
DTEND;TZID=UTC:20260315T083000
DTSTAMP:20260424T201703
CREATED:20260128T014750Z
LAST-MODIFIED:20260311T063144Z
UID:10004795-1773563400-1773563400@gunstuff.tv
SUMMARY:Las Vegas Steel @ DSRPC
DESCRIPTION:Las Vegas Steel @ DSRPC\nDate: 3/15/26\nStart Time: 8:30 AM\nLocation:\nLas Vegas Steel at DSRPC (SCSA473)\n12201 W Charleston Blvd\nLas Vegas \, NV\nEvent Contact Information\nLas Vegas Steel At DSRPC\n7024960837\nlasvegassteel5@gmail.com\nEvent Website\nhttp://
URL:https://gunstuff.tv/event/las-vegas-steel-dsrpc-2/
LOCATION:Las Vegas Steel at DSRPC (SCSA473)\, 11099 W Charleston Blvd\, Las Vegas\, NV\, United States
GEO:36.158975;-115.337075
X-APPLE-STRUCTURED-LOCATION;VALUE=URI;X-ADDRESS=Las Vegas Steel at DSRPC (SCSA473) 11099 W Charleston Blvd Las Vegas NV United States;X-APPLE-RADIUS=500;X-TITLE=11099 W Charleston Blvd:geo:-115.337075,36.158975
END:VEVENT
BEGIN:VEVENT
DTSTART;TZID=UTC:20260315T090000
DTEND;TZID=UTC:20260315T090000
DTSTAMP:20260424T201703
CREATED:20260110T171706Z
LAST-MODIFIED:20260313T113148Z
UID:10004240-1773565200-1773565200@gunstuff.tv
SUMMARY:York Practical Shooters
DESCRIPTION:York Practical Shooters\nDate : 3/15/26\nStart Time: 9:00 AM\nLocation:\nYork Practical Shooters (MID13)\n7131 Iron Stone Hill Rd\nDallastown\, PA\nEvent Contact Information\nRussell Fortney\n9999999999\nYorkUSPSA@gmail.com\nMatch Information\nRegistration opens in Practiscore on the 2nd Sunday of the month at 7:00PM.\nEvent Website\nhttps://www.facebook.com/YorkPracticalShooters
URL:https://gunstuff.tv/event/york-practical-shooters/
LOCATION:York Practical Shooters (MID13)\, 7131 Ironstone Hill Way\, Dallastown\, PA\, United States
GEO:39.870491;-76.677504
X-APPLE-STRUCTURED-LOCATION;VALUE=URI;X-ADDRESS=York Practical Shooters (MID13) 7131 Ironstone Hill Way Dallastown PA United States;X-APPLE-RADIUS=500;X-TITLE=7131 Ironstone Hill Way:geo:-76.677504,39.870491
END:VEVENT
BEGIN:VEVENT
DTSTART;TZID=UTC:20260315T090000
DTEND;TZID=UTC:20260315T090000
DTSTAMP:20260424T201703
CREATED:20260227T113137Z
LAST-MODIFIED:20260313T113148Z
UID:10005823-1773565200-1773565200@gunstuff.tv
SUMMARY:SMPS March 15th match
DESCRIPTION:SMPS March 15th match\nDate : 3/15/26\nStart Time: 9:00 AM\nLocation:\nSouthern Maryland Practical Shooters (VA23)\nSanners Lake Sportsmans Club\, Sanners Lane\nLexington Park\, MD\nEvent Contact Information\nDaniel Goodwin\n3013996793\nsmpsuspsa@gmail.com\nMatch Information\nMonthly level 1 match at Sanners lake Sportsmen’s Club.\n6 stages including 1 classifier\nEvent Website\nhttps://practiscore.com/smps-march-15th-2026-uspsa-match-sanners-lake/register
URL:https://gunstuff.tv/event/smps-march-15th-match/
LOCATION:Southern Maryland Practical Shooters (VA23)\, Sanners Lake Sportsmans Club\, Sanners Lane\, Lexington Park\, MD
END:VEVENT
BEGIN:VEVENT
DTSTART;TZID=America/New_York:20260315T090000
DTEND;TZID=America/New_York:20260315T120000
DTSTAMP:20260424T201703
CREATED:20251003T162639Z
LAST-MODIFIED:20260313T190128Z
UID:10001398-1773565200-1773576000@gunstuff.tv
SUMMARY:Weekly Trap League
DESCRIPTION:
URL:https://gunstuff.tv/event/weekly-trap-league-24/
LOCATION:Shotgun Range
END:VEVENT
BEGIN:VEVENT
DTSTART;TZID=America/New_York:20260315T090000
DTEND;TZID=America/New_York:20260315T123000
DTSTAMP:20260424T201703
CREATED:20251003T031214Z
LAST-MODIFIED:20260313T064737Z
UID:10000612-1773565200-1773577800@gunstuff.tv
SUMMARY:GRPC NRA 1800
DESCRIPTION:
URL:https://gunstuff.tv/event/grpc-nra-1800-6/
LOCATION:Gateway Rifle & Pistol Club\, 9301 Zambito Ave\, Jacksonville\, FL\, United States
GEO:30.262025;-81.814577
X-APPLE-STRUCTURED-LOCATION;VALUE=URI;X-ADDRESS=Gateway Rifle & Pistol Club 9301 Zambito Ave Jacksonville FL United States;X-APPLE-RADIUS=500;X-TITLE=9301 Zambito Ave:geo:-81.814577,30.262025
END:VEVENT
BEGIN:VEVENT
DTSTART;TZID=America/New_York:20260315T090000
DTEND;TZID=America/New_York:20260315T140000
DTSTAMP:20260424T201703
CREATED:20251003T031214Z
LAST-MODIFIED:20260313T064737Z
UID:10000611-1773565200-1773583200@gunstuff.tv
SUMMARY:Wyoming Antelope 2700
DESCRIPTION:
URL:https://gunstuff.tv/event/wyoming-antelope-2700-12/
LOCATION:Wyoming Antelope Club-Florida\, 3700 126th Ave N\, Clearwater\, FL\, United States
GEO:27.886432;-82.683263
X-APPLE-STRUCTURED-LOCATION;VALUE=URI;X-ADDRESS=Wyoming Antelope Club-Florida 3700 126th Ave N Clearwater FL United States;X-APPLE-RADIUS=500;X-TITLE=3700 126th Ave N:geo:-82.683263,27.886432
END:VEVENT
BEGIN:VEVENT
DTSTART;TZID=UTC:20260315T100000
DTEND;TZID=UTC:20260315T100000
DTSTAMP:20260424T201703
CREATED:20251031T195458Z
LAST-MODIFIED:20260311T063144Z
UID:10002785-1773568800-1773568800@gunstuff.tv
SUMMARY:SCSA Monthly Match
DESCRIPTION:SCSA Monthly Match\nDate: 3/15/26\nStart Time: 10:00 AM\nLocation:\nDeep 50 Gun Range (SCSA351)\n20201 SR 29\nNaples\, FL\nEvent Contact Information\nMD\n239-201-2600\ninfo@deep50.com\nEvent Website \nDeep 50 Home
URL:https://gunstuff.tv/event/scsa-monthly-match-5/
LOCATION:Deep 50 Gun Range (SCSA351)\, 3199 Sara Ave\, Punta Gorda\, FL\, United States
GEO:26.584602;-81.687359
X-APPLE-STRUCTURED-LOCATION;VALUE=URI;X-ADDRESS=Deep 50 Gun Range (SCSA351) 3199 Sara Ave Punta Gorda FL United States;X-APPLE-RADIUS=500;X-TITLE=3199 Sara Ave:geo:-81.687359,26.584602
END:VEVENT
BEGIN:VEVENT
DTSTART;TZID=UTC:20260315T100000
DTEND;TZID=UTC:20260315T100000
DTSTAMP:20260424T201703
CREATED:20260124T171726Z
LAST-MODIFIED:20260313T113148Z
UID:10004713-1773568800-1773568800@gunstuff.tv
SUMMARY:EWPSA Monthly USPSA Match
DESCRIPTION:EWPSA Monthly USPSA Match\nDate : 3/15/26\nStart Time: 10:00 AM\nLocation:\nEastern Wa. Practical Shooters (IE02)\n93315 N SR 225\nBenton City\, WA\nEvent Contact Information\nWarren Harper\n1\newpsa.stats@gmail.com\nMatch Information\nMatch Information\nThis is the EWPSA monthly match. Gates will be open by 9 am\, new shooter briefing at 9:30 am\, and shooters meeting at 10 am. We start shooting after the shooters meeting. The match will be $25 for non-members\, $20 for TCSA members\, juniors shoot for free\, new shooters to USPSA shoot for free\, and setup staff shoots for free. Setup for the match will begin at 9 am on Saturday before the match and targets will be put up around 8am on Sunday. Refunds will be given for cancellations minus Stripe fee. Typically 5-6 stages and around 180 rounds\, including a classifier. If you are a new shooter\, feel free to contact the Match Director (below) if you have any questions. Match Director Contact: ewpsa.stats@gmail.com\nEvent Website\nhttps://practiscore.com/search/matches?refinementList%5Bstate%5D%5B0%5D=Washington&refinementList%5Btype%5D%5B0%5D=USPSA&query=ewpsa
URL:https://gunstuff.tv/event/ewpsa-monthly-uspsa-match-6/
LOCATION:Eastern Wa. Practical Shooters (IE02)\, 71598 N State Rte 225 NW\, Benton City\, WA\, United States
GEO:46.31731;-119.493158
X-APPLE-STRUCTURED-LOCATION;VALUE=URI;X-ADDRESS=Eastern Wa. Practical Shooters (IE02) 71598 N State Rte 225 NW Benton City WA United States;X-APPLE-RADIUS=500;X-TITLE=71598 N State Rte 225 NW:geo:-119.493158,46.31731
END:VEVENT
BEGIN:VEVENT
DTSTART;TZID=America/New_York:20260315T100000
DTEND;TZID=America/New_York:20260315T130000
DTSTAMP:20260424T201703
CREATED:20260302T111637Z
LAST-MODIFIED:20260309T113128Z
UID:10005960-1773568800-1773579600@gunstuff.tv
SUMMARY:Big Meat trap
DESCRIPTION:10:00 AM sign-up/10:00 AM start $20/50 targets\nPractice trap will be open for anyone not wishing to enter the competition.
URL:https://gunstuff.tv/event/big-meat-trap-8/
LOCATION:Oxford Gun Club\, 798 Oxford Rd\, Lincoln University\, PA\, United States
GEO:39.78874;-75.909509
X-APPLE-STRUCTURED-LOCATION;VALUE=URI;X-ADDRESS=Oxford Gun Club 798 Oxford Rd Lincoln University PA United States;X-APPLE-RADIUS=500;X-TITLE=798 Oxford Rd:geo:-75.909509,39.78874
END:VEVENT
BEGIN:VEVENT
DTSTART;TZID=UTC:20260315T100000
DTEND;TZID=UTC:20260320T220000
DTSTAMP:20260424T201703
CREATED:20260316T200128Z
LAST-MODIFIED:20260316T200128Z
UID:10006341-1773568800-1774044000@gunstuff.tv
SUMMARY:Open Range W/C 15/03/2026
DESCRIPTION:
URL:https://gunstuff.tv/event/open-range-w-c-15-03-2026/
LOCATION:Tiverton Small-bore Rifle Club
END:VEVENT
BEGIN:VEVENT
DTSTART;TZID=America/New_York:20260315T110000
DTEND;TZID=America/New_York:20260315T160000
DTSTAMP:20260424T201703
CREATED:20260313T051636Z
LAST-MODIFIED:20260313T051638Z
UID:10006275-1773572400-1773590400@gunstuff.tv
SUMMARY:Shotgun Shooting Hours
DESCRIPTION:
URL:https://gunstuff.tv/event/shotgun-shooting-hours-10/
LOCATION:Shotgun Ranges\, 4770 Waterford Rd\, Clarkston\, MI\, United States
CATEGORIES:Range,Shotgun,Shotgun Range
ATTACH;FMTTYPE=image/png:https://gunstuff.tv/wp-content/uploads/2025/10/shotgun-logo-160x160-1-mvSnxY.png
GEO:42.705297;-83.4014
X-APPLE-STRUCTURED-LOCATION;VALUE=URI;X-ADDRESS=Shotgun Ranges 4770 Waterford Rd Clarkston MI United States;X-APPLE-RADIUS=500;X-TITLE=4770 Waterford Rd:geo:-83.4014,42.705297
END:VEVENT
BEGIN:VEVENT
DTSTART;TZID=America/Chicago:20260315T120000
DTEND;TZID=America/Chicago:20260315T160000
DTSTAMP:20260424T201703
CREATED:20260224T034630Z
LAST-MODIFIED:20260310T034633Z
UID:10005768-1773576000-1773590400@gunstuff.tv
SUMMARY:Wisconsin Concealed Carry License Class
DESCRIPTION:@ 			\n			\n							 \n\n\n		\n\n\n\n\n\n\n						\n							Add to calendar						 \n\n\n\n									\n										Google Calendar									\n								\n\n									\n										iCalendar									\n								\n\n									\n										Outlook 365									\n								\n\n									\n										Outlook Live
URL:https://gunstuff.tv/event/wisconsin-concealed-carry-license-class-4/
END:VEVENT
BEGIN:VEVENT
DTSTART;TZID=America/Los_Angeles:20260315T130000
DTEND;TZID=America/Los_Angeles:20260315T150000
DTSTAMP:20260424T201703
CREATED:20260213T192141Z
LAST-MODIFIED:20260313T193137Z
UID:10005604-1773579600-1773586800@gunstuff.tv
SUMMARY:Musketeer Archery
DESCRIPTION:18 year and younger Youth Archery practice and instruction every third Sunday .  Youth Archery Equipment is provided\, and there is no charge for the event. \nPlease let us know you are coming: \n                          ->Signup here<- \nWe have various sized bows to accommodate most ages and sizes. \n \n 
URL:https://gunstuff.tv/event/musketeer-archery-5/
LOCATION:USI Archery Range\, 4700 Evora Road\, Concord\, CA\, 94520\, United States
CATEGORIES:Archery,Musketeers
ATTACH;FMTTYPE=image/jpeg:https://gunstuff.tv/wp-content/uploads/2025/10/Youth_Archery_cleanup-gMLvVj.jpg
ORGANIZER;CN="Glenn Rustia":MAILTO:glennjo2@gmail.com
END:VEVENT
BEGIN:VEVENT
DTSTART;TZID=America/New_York:20260315T130000
DTEND;TZID=America/New_York:20260315T150000
DTSTAMP:20260424T201703
CREATED:20260220T031629Z
LAST-MODIFIED:20260313T031629Z
UID:10005667-1773579600-1773586800@gunstuff.tv
SUMMARY:pistol closed
DESCRIPTION:
URL:https://gunstuff.tv/event/pistol-closed-2/
END:VEVENT
BEGIN:VEVENT
DTSTART;TZID=America/New_York:20260315T130000
DTEND;TZID=America/New_York:20260315T160000
DTSTAMP:20260424T201703
CREATED:20251207T181646Z
LAST-MODIFIED:20260315T183129Z
UID:10003443-1773579600-1773590400@gunstuff.tv
SUMMARY:SAWS (Sunday Afternoon Winter Skeet) League
DESCRIPTION:https://www.fxrgc.org/shotgun/saws/ \nLeague Director: John Feroldi    jferoldi@yahoo.com
URL:https://gunstuff.tv/event/saws-sunday-afternoon-winter-skeet-league-10/
LOCATION:Skeet Fields 2-7
END:VEVENT
BEGIN:VEVENT
DTSTART;TZID=America/New_York:20260315T133000
DTEND;TZID=America/New_York:20260315T170000
DTSTAMP:20260424T201703
CREATED:20260313T051639Z
LAST-MODIFIED:20260313T051639Z
UID:10006285-1773581400-1773594000@gunstuff.tv
SUMMARY:JOAD League
DESCRIPTION:
URL:https://gunstuff.tv/event/joad-league-20/
LOCATION:Indoor Archery Range\, 4770 Waterford Rd\, Clarkston\, MI\, United States
CATEGORIES:Archery,Indoor Archery Range,Range
ATTACH;FMTTYPE=image/jpeg:https://gunstuff.tv/wp-content/uploads/2025/10/JOAD-SAM-Tournament-XezJUo.jpg
GEO:42.705297;-83.4014
X-APPLE-STRUCTURED-LOCATION;VALUE=URI;X-ADDRESS=Indoor Archery Range 4770 Waterford Rd Clarkston MI United States;X-APPLE-RADIUS=500;X-TITLE=4770 Waterford Rd:geo:-83.4014,42.705297
END:VEVENT
BEGIN:VEVENT
DTSTART;TZID=America/New_York:20260315T140000
DTEND;TZID=America/New_York:20260315T160000
DTSTAMP:20260424T201703
CREATED:20251228T204643Z
LAST-MODIFIED:20260308T213130Z
UID:10003661-1773583200-1773590400@gunstuff.tv
SUMMARY:CamCo Clay Crushers Practice
DESCRIPTION:*Please dress appropriately for the weather conditions\, layers are a great idea!**Follow the Facebook page (Cameron County Clay Crushers) for all up to date information.***Any questions please contact Coach Mike 814-203-2624 or Coach Sabrina 814-203-2590.
URL:https://gunstuff.tv/event/camco-clay-crushers-practice-3/
LOCATION:523 Sizer Run Rd\, Emporium\, PA\, United States
GEO:41.51031;-78.23157
END:VEVENT
BEGIN:VEVENT
DTSTART;TZID=UTC:20260315T140000
DTEND;TZID=UTC:20260315T180000
DTSTAMP:20260424T201703
CREATED:20260303T001634Z
LAST-MODIFIED:20260310T001639Z
UID:10005980-1773583200-1773597600@gunstuff.tv
SUMMARY:Indoor Range closed 2-6:00pm
DESCRIPTION:Juniors will meet today \nAll new members must schedule\, please call John at 516-250-7373
URL:https://gunstuff.tv/event/indoor-range-closed-2-600pm-5/
END:VEVENT
BEGIN:VEVENT
DTSTART;TZID=America/New_York:20260315T180000
DTEND;TZID=America/New_York:20260315T200000
DTSTAMP:20260424T201703
CREATED:20260313T051639Z
LAST-MODIFIED:20260313T051639Z
UID:10006286-1773597600-1773604800@gunstuff.tv
SUMMARY:FITA Target League
DESCRIPTION:
URL:https://gunstuff.tv/event/fita-target-league-11/
LOCATION:Indoor Archery Range\, 4770 Waterford Rd\, Clarkston\, MI\, United States
CATEGORIES:Archery,Indoor Archery Range,Range,Winter League
ATTACH;FMTTYPE=image/jpeg:https://gunstuff.tv/wp-content/uploads/2025/12/FITA_outdoorwednesday-4fSUc8.jpg
GEO:42.705297;-83.4014
X-APPLE-STRUCTURED-LOCATION;VALUE=URI;X-ADDRESS=Indoor Archery Range 4770 Waterford Rd Clarkston MI United States;X-APPLE-RADIUS=500;X-TITLE=4770 Waterford Rd:geo:-83.4014,42.705297
END:VEVENT
BEGIN:VEVENT
DTSTART;TZID=America/New_York:20260315T180000
DTEND;TZID=America/New_York:20260315T210000
DTSTAMP:20260424T201703
CREATED:20260313T051639Z
LAST-MODIFIED:20260313T051639Z
UID:10006287-1773597600-1773608400@gunstuff.tv
SUMMARY:Bowling-Pin Shoots | Fall/Winter/Spring
DESCRIPTION:Cost: $5 Members\, $10 Non-Members\nThis is a “Fun-Shoot”\, for .22LR pistols\, but\, we will allow .22 LR (magazine fed.) rifles.\nTypical Equipment: Ruger Mark I\, II\, III\, IV\, 22/45; Hi Standard and other similar semi-auto\npistols\, and .22 Cal. Revolvers. Red Dot or Iron Sights.\nRequired: Eye and hearing protection.\nObjective and course of fire: Clear the tables as quickly as possible. Range: 21 Ft.\n6- tables per shooter per set. (Typically 2-3 sets per night.) Up to 5-shooters on the line.\nThe longest time is thrown out\, and the remaining 5 times are averaged for your score.\nThe maximum time for a table is 15-seconds\, cleared or not.\nPins must be OFF the table\, but not necessarily on the floor to stop the clock.\nShooters start at a “Low Ready” position\, waiting for the start buzzer.\nNo magazine changes\, but you are allowed to clear jams.\nCheck out our Range Safety Video at https://ocsportsmensclub.com/ranges/ and watch to the end after the credits\, at about the 14:30 mark to see what this is all about.
URL:https://gunstuff.tv/event/bowling-pin-shoots-fall-winter-spring-19/
LOCATION:Indoor Rifle & Pistol Range\, 4770 Waterford Rd\,\, Village of Clarkston\, 48346
CATEGORIES:D.R. Wilson,Indoor Rifle & Pistol Rage,Muzzleloaders,Range
ATTACH;FMTTYPE=image/jpeg:https://gunstuff.tv/wp-content/uploads/2025/10/Indoor_Pin_Shoots_2025-26_Flyer-FXbFJs.jpg
END:VEVENT
BEGIN:VEVENT
DTSTART;VALUE=DATE:20260316
DTEND;VALUE=DATE:20260317
DTSTAMP:20260424T201703
CREATED:20260213T031054Z
LAST-MODIFIED:20260313T031629Z
UID:10005187-1773619200-1773705599@gunstuff.tv
SUMMARY:Club Closed
DESCRIPTION:
URL:https://gunstuff.tv/event/club-closed-10/
END:VEVENT
BEGIN:VEVENT
DTSTART;VALUE=DATE:20260316
DTEND;VALUE=DATE:20260317
DTSTAMP:20260424T201703
CREATED:20260224T034630Z
LAST-MODIFIED:20260310T034633Z
UID:10005769-1773619200-1773705599@gunstuff.tv
SUMMARY:Closed Mondays
DESCRIPTION:@ 			\n			\n							 \n\nHOURS: \nMonday: Closed \nTues-Thurs: 10am-8pm \nFri: 10am-5pm \nSat: 9:30am-5pm (shooting @10am) \nSun: 10:30am-4pm (shooting @11am) \nLast lane reservation is 1 hour before closing \n\n		\n\n\n\n\n\n\n						\n							Add to calendar						 \n\n\n\n									\n										Google Calendar									\n								\n\n									\n										iCalendar									\n								\n\n									\n										Outlook 365									\n								\n\n									\n										Outlook Live
URL:https://gunstuff.tv/event/closed-mondays-24/
END:VEVENT
END:VCALENDAR