BEGIN:VCALENDAR
VERSION:2.0
PRODID:-//GunStuff TV - ECPv6.15.20//NONSGML v1.0//EN
CALSCALE:GREGORIAN
METHOD:PUBLISH
X-WR-CALNAME:GunStuff TV
X-ORIGINAL-URL:https://gunstuff.tv
X-WR-CALDESC:Events for GunStuff TV
REFRESH-INTERVAL;VALUE=DURATION:PT1H
X-Robots-Tag:noindex
X-PUBLISHED-TTL:PT1H
BEGIN:VTIMEZONE
TZID:America/New_York
BEGIN:DAYLIGHT
TZOFFSETFROM:-0500
TZOFFSETTO:-0400
TZNAME:EDT
DTSTART:20260308T070000
END:DAYLIGHT
BEGIN:STANDARD
TZOFFSETFROM:-0400
TZOFFSETTO:-0500
TZNAME:EST
DTSTART:20261101T060000
END:STANDARD
BEGIN:DAYLIGHT
TZOFFSETFROM:-0500
TZOFFSETTO:-0400
TZNAME:EDT
DTSTART:20270314T070000
END:DAYLIGHT
BEGIN:STANDARD
TZOFFSETFROM:-0400
TZOFFSETTO:-0500
TZNAME:EST
DTSTART:20271107T060000
END:STANDARD
BEGIN:DAYLIGHT
TZOFFSETFROM:-0500
TZOFFSETTO:-0400
TZNAME:EDT
DTSTART:20280312T070000
END:DAYLIGHT
BEGIN:STANDARD
TZOFFSETFROM:-0400
TZOFFSETTO:-0500
TZNAME:EST
DTSTART:20281105T060000
END:STANDARD
END:VTIMEZONE
BEGIN:VTIMEZONE
TZID:America/Chicago
BEGIN:DAYLIGHT
TZOFFSETFROM:-0600
TZOFFSETTO:-0500
TZNAME:CDT
DTSTART:20260308T080000
END:DAYLIGHT
BEGIN:STANDARD
TZOFFSETFROM:-0500
TZOFFSETTO:-0600
TZNAME:CST
DTSTART:20261101T070000
END:STANDARD
BEGIN:DAYLIGHT
TZOFFSETFROM:-0600
TZOFFSETTO:-0500
TZNAME:CDT
DTSTART:20270314T080000
END:DAYLIGHT
BEGIN:STANDARD
TZOFFSETFROM:-0500
TZOFFSETTO:-0600
TZNAME:CST
DTSTART:20271107T070000
END:STANDARD
BEGIN:DAYLIGHT
TZOFFSETFROM:-0600
TZOFFSETTO:-0500
TZNAME:CDT
DTSTART:20280312T080000
END:DAYLIGHT
BEGIN:STANDARD
TZOFFSETFROM:-0500
TZOFFSETTO:-0600
TZNAME:CST
DTSTART:20281105T070000
END:STANDARD
END:VTIMEZONE
BEGIN:VTIMEZONE
TZID:UTC
BEGIN:STANDARD
TZOFFSETFROM:+0000
TZOFFSETTO:+0000
TZNAME:UTC
DTSTART:20260101T000000
END:STANDARD
END:VTIMEZONE
BEGIN:VEVENT
DTSTART;TZID=America/New_York:20270214T090000
DTEND;TZID=America/New_York:20270214T140000
DTSTAMP:20260422T202650
CREATED:20251003T031217Z
LAST-MODIFIED:20260417T071748Z
UID:10000676-1802595600-1802613600@gunstuff.tv
SUMMARY:Wyoming Antelope 2700
DESCRIPTION:
URL:https://gunstuff.tv/event/wyoming-antelope-2700-33/
LOCATION:Wyoming Antelope Club-Florida\, 3700 126th Ave N\, Clearwater\, FL\, United States
GEO:27.886432;-82.683263
X-APPLE-STRUCTURED-LOCATION;VALUE=URI;X-ADDRESS=Wyoming Antelope Club-Florida 3700 126th Ave N Clearwater FL United States;X-APPLE-RADIUS=500;X-TITLE=3700 126th Ave N:geo:-82.683263,27.886432
END:VEVENT
BEGIN:VEVENT
DTSTART;VALUE=DATE:20270215
DTEND;VALUE=DATE:20270216
DTSTAMP:20260422T202650
CREATED:20260213T031107Z
LAST-MODIFIED:20260417T034741Z
UID:10005386-1802649600-1802735999@gunstuff.tv
SUMMARY:Club Closed
DESCRIPTION:
URL:https://gunstuff.tv/event/club-closed-106/
END:VEVENT
BEGIN:VEVENT
DTSTART;TZID=America/New_York:20270215T090000
DTEND;TZID=America/New_York:20270215T100000
DTSTAMP:20260422T202650
CREATED:20251003T162646Z
LAST-MODIFIED:20251010T162934Z
UID:10001576-1802682000-1802685600@gunstuff.tv
SUMMARY:4-H Class Indoors
DESCRIPTION:Indoor reserved for 4-H class.
URL:https://gunstuff.tv/event/4-h-class-indoors-72/
LOCATION:Indoor Range
END:VEVENT
BEGIN:VEVENT
DTSTART;TZID=America/New_York:20270215T160000
DTEND;TZID=America/New_York:20270215T180000
DTSTAMP:20260422T202650
CREATED:20251003T162646Z
LAST-MODIFIED:20251205T181713Z
UID:10001577-1802707200-1802714400@gunstuff.tv
SUMMARY:Skeet League
DESCRIPTION:Contact Frank Andrews with Questions.
URL:https://gunstuff.tv/event/skeet-league-72/
END:VEVENT
BEGIN:VEVENT
DTSTART;VALUE=DATE:20270216
DTEND;VALUE=DATE:20270217
DTSTAMP:20260422T202650
CREATED:20260213T031107Z
LAST-MODIFIED:20260417T034741Z
UID:10005385-1802736000-1802822399@gunstuff.tv
SUMMARY:Club closed
DESCRIPTION:
URL:https://gunstuff.tv/event/club-closed-105/
END:VEVENT
BEGIN:VEVENT
DTSTART;VALUE=DATE:20270218
DTEND;VALUE=DATE:20270220
DTSTAMP:20260422T202650
CREATED:20260301T201631Z
LAST-MODIFIED:20260419T204745Z
UID:10005910-1802908800-1803081599@gunstuff.tv
SUMMARY:Conoco Phillips
DESCRIPTION:Sporting Clay fundraiser to benefitSouth TexasChildren's Hospital of San Antonio Foundation.
URL:https://gunstuff.tv/event/conoco-phillips-2/
END:VEVENT
BEGIN:VEVENT
DTSTART;TZID=UTC:20270218T090000
DTEND;TZID=UTC:20270218T090000
DTSTAMP:20260422T202650
CREATED:20260307T174633Z
LAST-MODIFIED:20260422T071729Z
UID:10006190-1802941200-1802941200@gunstuff.tv
SUMMARY:Wac 2027 10th Annual West Florida Steel Challenge Championship
DESCRIPTION:Wac 2027 10th Annual West Florida Steel Challenge Championship\nMatch Status: Approved by DNROI\nMatch Starts on Feb 18\, 2027\nMatch will end Feb 21\, 2027\nMatch Location:\nGulf Coast Lead Slingers\n3700 126th Avenue North\nClearwater\, FL 33762\nManaged by:\nGulf Coast Lead Slingers\nStage Count: 6\nRound Count: 150\nMatch Entry Fee: $50.00\nMatch Director: Jeff Jones\nRange Master: Zack Jones\nAdditional Details\nRegister!\nRegistration not available.
URL:https://gunstuff.tv/event/wac-2027-10th-annual-west-florida-steel-challenge-championship/
LOCATION:Gulf Coast Lead Slingers\, 3700 126th Ave N\, Clearwater\, FL\, United States
GEO:27.886432;-82.683263
X-APPLE-STRUCTURED-LOCATION;VALUE=URI;X-ADDRESS=Gulf Coast Lead Slingers 3700 126th Ave N Clearwater FL United States;X-APPLE-RADIUS=500;X-TITLE=3700 126th Ave N:geo:-82.683263,27.886432
END:VEVENT
BEGIN:VEVENT
DTSTART;VALUE=DATE:20270219
DTEND;VALUE=DATE:20270220
DTSTAMP:20260422T202650
CREATED:20260213T031107Z
LAST-MODIFIED:20260417T034741Z
UID:10005387-1802995200-1803081599@gunstuff.tv
SUMMARY:Competition Bays closed for USPSA set up
DESCRIPTION:
URL:https://gunstuff.tv/event/competition-bays-closed-for-uspsa-set-up-13/
END:VEVENT
BEGIN:VEVENT
DTSTART;VALUE=DATE:20270220
DTEND;VALUE=DATE:20270221
DTSTAMP:20260422T202650
CREATED:20260213T031107Z
LAST-MODIFIED:20260417T034741Z
UID:10005388-1803081600-1803167999@gunstuff.tv
SUMMARY:USPSA Pistol Match
DESCRIPTION:USPSA (United States Practical ShootingAssociation) Pistol Match: Practical Shooting measures the shooter’s ability toshoot rapidly and accurately through obstacle-laden courses. The shooter moves\,negotiates\, runs\, covers\, and speed reloads through the stage as fast as theirskill will allow.  If this fast paced shooting sounds like fun\, come outand give it a try. Show up with an unloaded centerfire pistol in .38\, 9mm\, .40\,or .45 in an enclosed case and ask a match official where the safe area is soyou can holster your gun safely.  Also bring a rigid holster\, magazines\,and mag pouches capable of holding at least 32 rounds.  Overall matchround counts are usually between 100 and 150 rounds.  Specific divisionrequirements can be found at http://uspsa.org.  Starts at 9:30 AM and costwill be $20 ($15 for Pinetucky members\, active duty military\, police\, andfire). You can sign up at practiscore.com
URL:https://gunstuff.tv/event/uspsa-pistol-match-13/
LOCATION:Pinetucky Gun Club\, 2096 Greenland Rd\, Blythe\, GA\, United States
GEO:33.344103;-82.138722
X-APPLE-STRUCTURED-LOCATION;VALUE=URI;X-ADDRESS=Pinetucky Gun Club 2096 Greenland Rd Blythe GA United States;X-APPLE-RADIUS=500;X-TITLE=2096 Greenland Rd:geo:-82.138722,33.344103
END:VEVENT
BEGIN:VEVENT
DTSTART;TZID=America/New_York:20270220T083000
DTEND;TZID=America/New_York:20270220T143000
DTSTAMP:20260422T202650
CREATED:20251003T031217Z
LAST-MODIFIED:20260417T071748Z
UID:10000677-1803112200-1803133800@gunstuff.tv
SUMMARY:PMRPC Rimfire Match
DESCRIPTION:For more information you may contact the match director: James Sudduth at j.sudduth@ymail.com.
URL:https://gunstuff.tv/event/pmrpc-rimfire-match-17/
LOCATION:Port Malabar Rifle & Pistol Club\, 599 Hurley Blvd SW\, Palm Bay\, FL\, United States
GEO:27.987569;-80.71018
X-APPLE-STRUCTURED-LOCATION;VALUE=URI;X-ADDRESS=Port Malabar Rifle & Pistol Club 599 Hurley Blvd SW Palm Bay FL United States;X-APPLE-RADIUS=500;X-TITLE=599 Hurley Blvd SW:geo:-80.71018,27.987569
END:VEVENT
BEGIN:VEVENT
DTSTART;TZID=UTC:20270220T100000
DTEND;TZID=UTC:20270220T100000
DTSTAMP:20260422T202650
CREATED:20260110T171716Z
LAST-MODIFIED:20260417T114658Z
UID:10004354-1803117600-1803117600@gunstuff.tv
SUMMARY:LowCountry USPSA
DESCRIPTION:LowCountry USPSA\nDate : 2/20/27\nStart Time: 10:00 AM\nLocation:\nLow Country Uspsa (NC37)\n466 Indigo Flats E\nTabor City\, NC\nEvent Contact Information\nallen terrell\n8432311810\nlowcountrypreserveuspsa@gmail.com\nEvent Website\nhttps://practiscore.com/clubs/low-country-uspsa
URL:https://gunstuff.tv/event/lowcountry-uspsa-17/
LOCATION:Low Country Uspsa (NC37)\, 466 Indigo Flats E\, Tabor City\, NC\, United States
GEO:34.025696;-78.628674
X-APPLE-STRUCTURED-LOCATION;VALUE=URI;X-ADDRESS=Low Country Uspsa (NC37) 466 Indigo Flats E Tabor City NC United States;X-APPLE-RADIUS=500;X-TITLE=466 Indigo Flats E:geo:-78.628674,34.025696
END:VEVENT
BEGIN:VEVENT
DTSTART;TZID=America/New_York:20270221T090000
DTEND;TZID=America/New_York:20270221T120000
DTSTAMP:20260422T202650
CREATED:20251003T162646Z
LAST-MODIFIED:20260418T214740Z
UID:10001578-1803200400-1803211200@gunstuff.tv
SUMMARY:Weekly Trap League
DESCRIPTION:
URL:https://gunstuff.tv/event/weekly-trap-league-73/
LOCATION:Shotgun Range
END:VEVENT
BEGIN:VEVENT
DTSTART;TZID=America/New_York:20270221T090000
DTEND;TZID=America/New_York:20270221T123000
DTSTAMP:20260422T202650
CREATED:20251003T031217Z
LAST-MODIFIED:20260417T071748Z
UID:10000678-1803200400-1803213000@gunstuff.tv
SUMMARY:GRPC NRA 1800
DESCRIPTION:
URL:https://gunstuff.tv/event/grpc-nra-1800-17/
LOCATION:Gateway Rifle & Pistol Club\, 9301 Zambito Ave\, Jacksonville\, FL\, United States
GEO:30.262025;-81.814577
X-APPLE-STRUCTURED-LOCATION;VALUE=URI;X-ADDRESS=Gateway Rifle & Pistol Club 9301 Zambito Ave Jacksonville FL United States;X-APPLE-RADIUS=500;X-TITLE=9301 Zambito Ave:geo:-81.814577,30.262025
END:VEVENT
BEGIN:VEVENT
DTSTART;TZID=America/New_York:20270221T090000
DTEND;TZID=America/New_York:20270221T140000
DTSTAMP:20260422T202650
CREATED:20251003T031217Z
LAST-MODIFIED:20260417T071748Z
UID:10000679-1803200400-1803218400@gunstuff.tv
SUMMARY:Wyoming Antelope 2700
DESCRIPTION:
URL:https://gunstuff.tv/event/wyoming-antelope-2700-34/
LOCATION:Wyoming Antelope Club-Florida\, 3700 126th Ave N\, Clearwater\, FL\, United States
GEO:27.886432;-82.683263
X-APPLE-STRUCTURED-LOCATION;VALUE=URI;X-ADDRESS=Wyoming Antelope Club-Florida 3700 126th Ave N Clearwater FL United States;X-APPLE-RADIUS=500;X-TITLE=3700 126th Ave N:geo:-82.683263,27.886432
END:VEVENT
BEGIN:VEVENT
DTSTART;VALUE=DATE:20270222
DTEND;VALUE=DATE:20270223
DTSTAMP:20260422T202650
CREATED:20260213T031107Z
LAST-MODIFIED:20260417T034741Z
UID:10005389-1803254400-1803340799@gunstuff.tv
SUMMARY:Club Closed
DESCRIPTION:
URL:https://gunstuff.tv/event/club-closed-107/
END:VEVENT
BEGIN:VEVENT
DTSTART;TZID=America/New_York:20270222T090000
DTEND;TZID=America/New_York:20270222T100000
DTSTAMP:20260422T202650
CREATED:20251003T162646Z
LAST-MODIFIED:20251010T162934Z
UID:10001579-1803286800-1803290400@gunstuff.tv
SUMMARY:4-H Class Indoors
DESCRIPTION:Indoor reserved for 4-H class.
URL:https://gunstuff.tv/event/4-h-class-indoors-73/
LOCATION:Indoor Range
END:VEVENT
BEGIN:VEVENT
DTSTART;TZID=America/New_York:20270222T160000
DTEND;TZID=America/New_York:20270222T180000
DTSTAMP:20260422T202650
CREATED:20251003T162646Z
LAST-MODIFIED:20251205T181713Z
UID:10001580-1803312000-1803319200@gunstuff.tv
SUMMARY:Skeet League
DESCRIPTION:Contact Frank Andrews with Questions.
URL:https://gunstuff.tv/event/skeet-league-73/
END:VEVENT
BEGIN:VEVENT
DTSTART;VALUE=DATE:20270223
DTEND;VALUE=DATE:20270224
DTSTAMP:20260422T202650
CREATED:20260213T031107Z
LAST-MODIFIED:20260417T034741Z
UID:10005390-1803340800-1803427199@gunstuff.tv
SUMMARY:Club closed
DESCRIPTION:
URL:https://gunstuff.tv/event/club-closed-108/
END:VEVENT
BEGIN:VEVENT
DTSTART;TZID=America/New_York:20270225T180000
DTEND;TZID=America/New_York:20270225T183000
DTSTAMP:20260422T202650
CREATED:20251003T162646Z
LAST-MODIFIED:20260418T214740Z
UID:10001581-1803578400-1803580200@gunstuff.tv
SUMMARY:Member Session
DESCRIPTION:Hear committee reports\, ask questions\, make requests of the board.
URL:https://gunstuff.tv/event/member-session-17/
LOCATION:Indoor Range
END:VEVENT
BEGIN:VEVENT
DTSTART;TZID=America/New_York:20270225T183000
DTEND;TZID=America/New_York:20270225T203000
DTSTAMP:20260422T202650
CREATED:20251003T162647Z
LAST-MODIFIED:20260418T214740Z
UID:10001582-1803580200-1803587400@gunstuff.tv
SUMMARY:Board Meeting
DESCRIPTION:All members welcome.
URL:https://gunstuff.tv/event/board-meeting-20/
LOCATION:Indoor Range
END:VEVENT
BEGIN:VEVENT
DTSTART;VALUE=DATE:20270226
DTEND;VALUE=DATE:20270227
DTSTAMP:20260422T202650
CREATED:20260308T201629Z
LAST-MODIFIED:20260419T204745Z
UID:10006219-1803600000-1803686399@gunstuff.tv
SUMMARY:DPS Foundation
DESCRIPTION:Sporting Clays Tournament to benefit the Department of Public Safety Foundation. 
URL:https://gunstuff.tv/event/dps-foundation-2/
END:VEVENT
BEGIN:VEVENT
DTSTART;VALUE=DATE:20270227
DTEND;VALUE=DATE:20270228
DTSTAMP:20260422T202650
CREATED:20260308T201629Z
LAST-MODIFIED:20260419T204745Z
UID:10006218-1803686400-1803772799@gunstuff.tv
SUMMARY:Aggie Clay Target Foundation
DESCRIPTION:Click here for flyer.
URL:https://gunstuff.tv/event/aggie-clay-target-foundation-2/
END:VEVENT
BEGIN:VEVENT
DTSTART;TZID=UTC:20270227T073000
DTEND;TZID=UTC:20270227T073000
DTSTAMP:20260422T202650
CREATED:20260207T171726Z
LAST-MODIFIED:20260417T114658Z
UID:10005070-1803713400-1803713400@gunstuff.tv
SUMMARY:NNRPA USPSA Match
DESCRIPTION:NNRPA USPSA Match\nDate : 2/27/27\nStart Time: 7:30 AM\nLocation:\nNortheastern Nevada Rifle & Pistol (NV06)\n308 Rifle Range Rd\nElko\, NV\nEvent Contact Information\nDennis Marsh\n775-934-2185\ndenmarsh@aol.com\nEvent Website\nhttp://nnrpa.org
URL:https://gunstuff.tv/event/nnrpa-uspsa-match-15/
LOCATION:Northeastern Nevada Rifle & Pistol (NV06)\, Elko\, NV\, United States
GEO:40.905583;-115.534429
END:VEVENT
BEGIN:VEVENT
DTSTART;TZID=UTC:20270228T090000
DTEND;TZID=UTC:20270228T090000
DTSTAMP:20260422T202651
CREATED:20260117T171712Z
LAST-MODIFIED:20260417T114658Z
UID:10004588-1803805200-1803805200@gunstuff.tv
SUMMARY:Chillicothe Sportsmens Club
DESCRIPTION:Chillicothe Sportsmens Club\nDate : 2/28/27\nStart Time: 9:00 AM\nLocation:\nChillicothe Sportsmens Club (IL08)\n21617 N Yankee Ln\nChillicothe\, IL\nEvent Contact Information\njim stobaugh\n3092089558\njimsbuilders@YAHOO.COM\nMatch Information\nWe shoot the weekend with the 4th Sunday. Saturday starts at 10 am after setup\, setup starts at 8 am. Sunday starts at 9 am. Sign Up on Practiscore. Please check Practiscore for changes due to Weather\, Holidays or other Club Events. Winter Months will be outdoors weather permitting. If Indoor\, match is Sunday Only. Please follow us at Chillicothe USPSA on Facebook for match updates.
URL:https://gunstuff.tv/event/chillicothe-sportsmens-club-18/
LOCATION:Chillicothe Sportsmens Club (IL08)\, 21617 N Yankee Ln\, Chillicothe\, IL\, United States
GEO:40.951421;-89.482129
X-APPLE-STRUCTURED-LOCATION;VALUE=URI;X-ADDRESS=Chillicothe Sportsmens Club (IL08) 21617 N Yankee Ln Chillicothe IL United States;X-APPLE-RADIUS=500;X-TITLE=21617 N Yankee Ln:geo:-89.482129,40.951421
END:VEVENT
BEGIN:VEVENT
DTSTART;TZID=America/New_York:20270228T090000
DTEND;TZID=America/New_York:20270228T120000
DTSTAMP:20260422T202651
CREATED:20251003T162647Z
LAST-MODIFIED:20260418T214740Z
UID:10001584-1803805200-1803816000@gunstuff.tv
SUMMARY:Weekly Trap League
DESCRIPTION:
URL:https://gunstuff.tv/event/weekly-trap-league-74/
LOCATION:Shotgun Range
END:VEVENT
BEGIN:VEVENT
DTSTART;TZID=America/New_York:20270228T090000
DTEND;TZID=America/New_York:20270228T140000
DTSTAMP:20260422T202651
CREATED:20251003T031217Z
LAST-MODIFIED:20260417T071748Z
UID:10000680-1803805200-1803823200@gunstuff.tv
SUMMARY:Wyoming Antelope NRA 2700
DESCRIPTION:
URL:https://gunstuff.tv/event/wyoming-antelope-nra-2700-17/
LOCATION:Wyoming Antelope Club-Florida\, 3700 126th Ave N\, Clearwater\, FL\, United States
GEO:27.886432;-82.683263
X-APPLE-STRUCTURED-LOCATION;VALUE=URI;X-ADDRESS=Wyoming Antelope Club-Florida 3700 126th Ave N Clearwater FL United States;X-APPLE-RADIUS=500;X-TITLE=3700 126th Ave N:geo:-82.683263,27.886432
END:VEVENT
BEGIN:VEVENT
DTSTART;TZID=America/New_York:20270228T100000
DTEND;TZID=America/New_York:20270228T120000
DTSTAMP:20260422T202651
CREATED:20251003T162647Z
LAST-MODIFIED:20251107T180153Z
UID:10001583-1803808800-1803816000@gunstuff.tv
SUMMARY:22 Marksmanship Challenge (Aspirin Shoot)
DESCRIPTION:Aspirin @ 50 yrds\nTums @ 100 yrds\nSteel @ 150 & 200 yrds\nCenterfire prohibited during event.
URL:https://gunstuff.tv/event/22-marksmanship-challenge-aspirin-shoot-17/
LOCATION:Square Range
END:VEVENT
BEGIN:VEVENT
DTSTART;VALUE=DATE:20270301
DTEND;VALUE=DATE:20270302
DTSTAMP:20260422T202651
CREATED:20260213T031107Z
LAST-MODIFIED:20260417T034741Z
UID:10005392-1803859200-1803945599@gunstuff.tv
SUMMARY:Club Closed
DESCRIPTION:
URL:https://gunstuff.tv/event/club-closed-110/
END:VEVENT
BEGIN:VEVENT
DTSTART;TZID=America/New_York:20270301T090000
DTEND;TZID=America/New_York:20270301T100000
DTSTAMP:20260422T202651
CREATED:20251003T162647Z
LAST-MODIFIED:20251010T162934Z
UID:10001585-1803891600-1803895200@gunstuff.tv
SUMMARY:4-H Class Indoors
DESCRIPTION:Indoor reserved for 4-H class.
URL:https://gunstuff.tv/event/4-h-class-indoors-74/
LOCATION:Indoor Range
END:VEVENT
BEGIN:VEVENT
DTSTART;TZID=America/New_York:20270301T160000
DTEND;TZID=America/New_York:20270301T180000
DTSTAMP:20260422T202651
CREATED:20251003T162647Z
LAST-MODIFIED:20251205T181713Z
UID:10001586-1803916800-1803924000@gunstuff.tv
SUMMARY:Skeet League
DESCRIPTION:Contact Frank Andrews with Questions.
URL:https://gunstuff.tv/event/skeet-league-74/
END:VEVENT
END:VCALENDAR