BEGIN:VCALENDAR
VERSION:2.0
PRODID:-//GunStuff TV - ECPv6.15.20//NONSGML v1.0//EN
CALSCALE:GREGORIAN
METHOD:PUBLISH
X-WR-CALNAME:GunStuff TV
X-ORIGINAL-URL:https://gunstuff.tv
X-WR-CALDESC:Events for GunStuff TV
REFRESH-INTERVAL;VALUE=DURATION:PT1H
X-Robots-Tag:noindex
X-PUBLISHED-TTL:PT1H
BEGIN:VTIMEZONE
TZID:UTC
BEGIN:STANDARD
TZOFFSETFROM:+0000
TZOFFSETTO:+0000
TZNAME:UTC
DTSTART:20250101T000000
END:STANDARD
END:VTIMEZONE
BEGIN:VTIMEZONE
TZID:America/New_York
BEGIN:DAYLIGHT
TZOFFSETFROM:-0500
TZOFFSETTO:-0400
TZNAME:EDT
DTSTART:20250309T070000
END:DAYLIGHT
BEGIN:STANDARD
TZOFFSETFROM:-0400
TZOFFSETTO:-0500
TZNAME:EST
DTSTART:20251102T060000
END:STANDARD
BEGIN:DAYLIGHT
TZOFFSETFROM:-0500
TZOFFSETTO:-0400
TZNAME:EDT
DTSTART:20260308T070000
END:DAYLIGHT
BEGIN:STANDARD
TZOFFSETFROM:-0400
TZOFFSETTO:-0500
TZNAME:EST
DTSTART:20261101T060000
END:STANDARD
BEGIN:DAYLIGHT
TZOFFSETFROM:-0500
TZOFFSETTO:-0400
TZNAME:EDT
DTSTART:20270314T070000
END:DAYLIGHT
BEGIN:STANDARD
TZOFFSETFROM:-0400
TZOFFSETTO:-0500
TZNAME:EST
DTSTART:20271107T060000
END:STANDARD
END:VTIMEZONE
BEGIN:VTIMEZONE
TZID:America/Halifax
BEGIN:DAYLIGHT
TZOFFSETFROM:-0400
TZOFFSETTO:-0300
TZNAME:ADT
DTSTART:20250309T060000
END:DAYLIGHT
BEGIN:STANDARD
TZOFFSETFROM:-0300
TZOFFSETTO:-0400
TZNAME:AST
DTSTART:20251102T050000
END:STANDARD
BEGIN:DAYLIGHT
TZOFFSETFROM:-0400
TZOFFSETTO:-0300
TZNAME:ADT
DTSTART:20260308T060000
END:DAYLIGHT
BEGIN:STANDARD
TZOFFSETFROM:-0300
TZOFFSETTO:-0400
TZNAME:AST
DTSTART:20261101T050000
END:STANDARD
BEGIN:DAYLIGHT
TZOFFSETFROM:-0400
TZOFFSETTO:-0300
TZNAME:ADT
DTSTART:20270314T060000
END:DAYLIGHT
BEGIN:STANDARD
TZOFFSETFROM:-0300
TZOFFSETTO:-0400
TZNAME:AST
DTSTART:20271107T050000
END:STANDARD
END:VTIMEZONE
BEGIN:VTIMEZONE
TZID:America/Phoenix
BEGIN:STANDARD
TZOFFSETFROM:-0700
TZOFFSETTO:-0700
TZNAME:MST
DTSTART:20250101T000000
END:STANDARD
END:VTIMEZONE
BEGIN:VTIMEZONE
TZID:America/Chicago
BEGIN:DAYLIGHT
TZOFFSETFROM:-0600
TZOFFSETTO:-0500
TZNAME:CDT
DTSTART:20250309T080000
END:DAYLIGHT
BEGIN:STANDARD
TZOFFSETFROM:-0500
TZOFFSETTO:-0600
TZNAME:CST
DTSTART:20251102T070000
END:STANDARD
BEGIN:DAYLIGHT
TZOFFSETFROM:-0600
TZOFFSETTO:-0500
TZNAME:CDT
DTSTART:20260308T080000
END:DAYLIGHT
BEGIN:STANDARD
TZOFFSETFROM:-0500
TZOFFSETTO:-0600
TZNAME:CST
DTSTART:20261101T070000
END:STANDARD
BEGIN:DAYLIGHT
TZOFFSETFROM:-0600
TZOFFSETTO:-0500
TZNAME:CDT
DTSTART:20270314T080000
END:DAYLIGHT
BEGIN:STANDARD
TZOFFSETFROM:-0500
TZOFFSETTO:-0600
TZNAME:CST
DTSTART:20271107T070000
END:STANDARD
END:VTIMEZONE
BEGIN:VTIMEZONE
TZID:America/Los_Angeles
BEGIN:DAYLIGHT
TZOFFSETFROM:-0800
TZOFFSETTO:-0700
TZNAME:PDT
DTSTART:20250309T100000
END:DAYLIGHT
BEGIN:STANDARD
TZOFFSETFROM:-0700
TZOFFSETTO:-0800
TZNAME:PST
DTSTART:20251102T090000
END:STANDARD
BEGIN:DAYLIGHT
TZOFFSETFROM:-0800
TZOFFSETTO:-0700
TZNAME:PDT
DTSTART:20260308T100000
END:DAYLIGHT
BEGIN:STANDARD
TZOFFSETFROM:-0700
TZOFFSETTO:-0800
TZNAME:PST
DTSTART:20261101T090000
END:STANDARD
BEGIN:DAYLIGHT
TZOFFSETFROM:-0800
TZOFFSETTO:-0700
TZNAME:PDT
DTSTART:20270314T100000
END:DAYLIGHT
BEGIN:STANDARD
TZOFFSETFROM:-0700
TZOFFSETTO:-0800
TZNAME:PST
DTSTART:20271107T090000
END:STANDARD
END:VTIMEZONE
BEGIN:VEVENT
DTSTART;TZID=UTC:20260524T100000
DTEND;TZID=UTC:20260524T100000
DTSTAMP:20260419T180023
CREATED:20260121T014635Z
LAST-MODIFIED:20260401T070142Z
UID:10004638-1779616800-1779616800@gunstuff.tv
SUMMARY:PGC Steel Challenge
DESCRIPTION:PGC Steel Challenge\nDate: 5/24/26\nStart Time: 10:00 AM\nLocation:\nPalmetto Gun Club (SCSA077)\n951 Summers Dr\nRidgeville\, SC\nEvent Contact Information\nThomas Happel\n843-270-9250\nthedeltais@hotmail.com\nMatch Information\nMonthly 6-stage club match at Palmetto Gun Club.\nEvent Website\nhttps://www.palmettogunclub.org/
URL:https://gunstuff.tv/event/pgc-steel-challenge-7/
LOCATION:Palmetto Gun Club (SCSA077)\, 951 Summers Dr\, Ridgeville\, SC\, United States
GEO:32.923478;-80.292014
X-APPLE-STRUCTURED-LOCATION;VALUE=URI;X-ADDRESS=Palmetto Gun Club (SCSA077) 951 Summers Dr Ridgeville SC United States;X-APPLE-RADIUS=500;X-TITLE=951 Summers Dr:geo:-80.292014,32.923478
END:VEVENT
BEGIN:VEVENT
DTSTART;TZID=UTC:20260524T114500
DTEND;TZID=UTC:20260524T114500
DTSTAMP:20260419T180023
CREATED:20260107T013348Z
LAST-MODIFIED:20260401T070142Z
UID:10003830-1779623100-1779623100@gunstuff.tv
SUMMARY:Shadow Hawk Defense Steel Challenge
DESCRIPTION:Shadow Hawk Defense Steel Challenge\nDate: 5/24/26\nStart Time: 11:45 AM\nLocation:\nShadow Hawk Defense (SCSA271)\n436 Apple Harvest Drive\nHedgesville\, WV\nEvent Contact Information\nLynn Kasic\n3046166582\ninfo@shadowhawkdefense.com\nMatch Information\nSame match on Saturday and Sunday. The squad you select determines the day and time that you shoot. All eight stages. Approximately *200* rounds. $30\, Second gun 1/2 price. Pay at the door.\nEvent Website\nhttp://www.ShadowHawkDefense.com
URL:https://gunstuff.tv/event/shadow-hawk-defense-steel-challenge-8/
LOCATION:Shadow Hawk Defense (SCSA271)\, 399 Apple Harvest Dr\, Hedgesville\, WV\, United States
GEO:39.389611;-78.197586
X-APPLE-STRUCTURED-LOCATION;VALUE=URI;X-ADDRESS=Shadow Hawk Defense (SCSA271) 399 Apple Harvest Dr Hedgesville WV United States;X-APPLE-RADIUS=500;X-TITLE=399 Apple Harvest Dr:geo:-78.197586,39.389611
END:VEVENT
BEGIN:VEVENT
DTSTART;TZID=America/New_York:20260524T130000
DTEND;TZID=America/New_York:20260524T150000
DTSTAMP:20260419T180023
CREATED:20251019T193323Z
LAST-MODIFIED:20260414T083128Z
UID:10002454-1779627600-1779634800@gunstuff.tv
SUMMARY:Open Trap Shoot - Weather Permitting
DESCRIPTION:Open shoot\, $5.00 per round.  The trap field is 2/10ths of a mile past the clubhouse. \nFor the latest information visit:https://www.facebook.com/groups/1663932967427026
URL:https://gunstuff.tv/event/open-trap-shoot-weather-permitting-5/
LOCATION:523 Sizer Run Road Emporium\, Emporium\, PA\, United States
GEO:41.500749;-78.322815
END:VEVENT
BEGIN:VEVENT
DTSTART;VALUE=DATE:20260525
DTEND;VALUE=DATE:20260526
DTSTAMP:20260419T180023
CREATED:20251003T162535Z
LAST-MODIFIED:20260412T184743Z
UID:10001257-1779667200-1779753599@gunstuff.tv
SUMMARY:Memorial Day
DESCRIPTION:
URL:https://gunstuff.tv/event/memorial-day/
LOCATION:CA
END:VEVENT
BEGIN:VEVENT
DTSTART;VALUE=DATE:20260525
DTEND;VALUE=DATE:20260526
DTSTAMP:20260419T180023
CREATED:20260213T031057Z
LAST-MODIFIED:20260410T034700Z
UID:10005236-1779667200-1779753599@gunstuff.tv
SUMMARY:Club Closed
DESCRIPTION:
URL:https://gunstuff.tv/event/club-closed-30/
LOCATION:CA
END:VEVENT
BEGIN:VEVENT
DTSTART;TZID=America/Halifax:20260525T080000
DTEND;TZID=America/Halifax:20260525T170000
DTSTAMP:20260419T180023
CREATED:20260107T013331Z
LAST-MODIFIED:20260407T014707Z
UID:10003785-1779696000-1779728400@gunstuff.tv
SUMMARY:CLOSE/FERMER
DESCRIPTION:JUSTICE-PUBLIC SAFETY/JUSTICE-SÉCURITÉ PUBLIQUE\n 
URL:https://gunstuff.tv/event/close-fermer/
LOCATION:CA
END:VEVENT
BEGIN:VEVENT
DTSTART;TZID=America/New_York:20260525T090000
DTEND;TZID=America/New_York:20260525T100000
DTSTAMP:20260419T180023
CREATED:20251003T162641Z
LAST-MODIFIED:20251010T162928Z
UID:10001435-1779699600-1779703200@gunstuff.tv
SUMMARY:4-H Class Indoors
DESCRIPTION:Indoor reserved for 4-H class.
URL:https://gunstuff.tv/event/4-h-class-indoors-34/
LOCATION:Indoor Range
END:VEVENT
BEGIN:VEVENT
DTSTART;TZID=America/New_York:20260525T160000
DTEND;TZID=America/New_York:20260525T180000
DTSTAMP:20260419T180023
CREATED:20251003T162641Z
LAST-MODIFIED:20251205T181708Z
UID:10001436-1779724800-1779732000@gunstuff.tv
SUMMARY:Skeet League
DESCRIPTION:Contact Frank Andrews with Questions.
URL:https://gunstuff.tv/event/skeet-league-34/
LOCATION:CA
END:VEVENT
BEGIN:VEVENT
DTSTART;TZID=America/New_York:20260525T160000
DTEND;TZID=America/New_York:20260525T180000
DTSTAMP:20260419T180023
CREATED:20251212T181640Z
LAST-MODIFIED:20260411T214630Z
UID:10003535-1779724800-1779732000@gunstuff.tv
SUMMARY:Skeet League
DESCRIPTION:Contact Frank Andrews with Questions.
URL:https://gunstuff.tv/event/skeet-league-124/
LOCATION:Skeet Range
END:VEVENT
BEGIN:VEVENT
DTSTART;VALUE=DATE:20260526
DTEND;VALUE=DATE:20260527
DTSTAMP:20260419T180023
CREATED:20251003T160029Z
LAST-MODIFIED:20260412T043230Z
UID:10000975-1779753600-1779839999@gunstuff.tv
SUMMARY:100\, 200\, 300 Yard Practice Benchrest Range
DESCRIPTION:
URL:https://gunstuff.tv/event/100-200-300-yard-practice-benchrest-range-26/
LOCATION:CA
END:VEVENT
BEGIN:VEVENT
DTSTART;VALUE=DATE:20260526
DTEND;VALUE=DATE:20260527
DTSTAMP:20260419T180023
CREATED:20260213T031057Z
LAST-MODIFIED:20260410T034700Z
UID:10005235-1779753600-1779839999@gunstuff.tv
SUMMARY:Club closed
DESCRIPTION:
URL:https://gunstuff.tv/event/club-closed-29/
LOCATION:CA
END:VEVENT
BEGIN:VEVENT
DTSTART;TZID=America/Halifax:20260526T080000
DTEND;TZID=America/Halifax:20260526T170000
DTSTAMP:20260419T180023
CREATED:20260206T013131Z
LAST-MODIFIED:20260407T014707Z
UID:10004975-1779782400-1779814800@gunstuff.tv
SUMMARY:CLOSED/FERMER
DESCRIPTION:JUSTICE-PUBLIC SAFETY/JUSTICE-SÉCURITÉ PUBLIQUE
URL:https://gunstuff.tv/event/closed-fermer-5/
LOCATION:CA
END:VEVENT
BEGIN:VEVENT
DTSTART;TZID=America/New_York:20260526T170000
DTEND;TZID=America/New_York:20260526T200000
DTSTAMP:20260419T180023
CREATED:20260328T214630Z
LAST-MODIFIED:20260411T214630Z
UID:10006582-1779814800-1779825600@gunstuff.tv
SUMMARY:Tactical Tuesday IDPA Practice
DESCRIPTION:Shooters new to Action Shooting contact Eric Zaharee at ABSAIDPA@gmail .com\nSee (Alder Brook) PractiScore.com for sign up Cost $5
URL:https://gunstuff.tv/event/tactical-tuesday-idpa-practice-7/
LOCATION:Action Bays
END:VEVENT
BEGIN:VEVENT
DTSTART;TZID=UTC:20260526T173000
DTEND;TZID=UTC:20260526T173000
DTSTAMP:20260419T180023
CREATED:20260418T174739Z
LAST-MODIFIED:20260418T174739Z
UID:10008048-1779816600-1779816600@gunstuff.tv
SUMMARY:Boise Steel Challenge
DESCRIPTION:Boise Steel Challenge\nDate: 5/26/26\nStart Time: 5:30 PM\nLocation:\nBoise Steel Challenge (SCSA581)\n2420 E Kuna Mora rd\nKuna\, ID\nEvent Contact Information\nPaul\n208-919-5336\nboisesteelchallenge@gmail.com\nMatch Information\nHeld at Black’s Creek Shooting Range\nEvent Website \nBoise Steel Challenge
URL:https://gunstuff.tv/event/boise-steel-challenge-8/
LOCATION:Boise Steel Challenge (SCSA581)\, 2420 E Kuna Mora Rd\, Kuna\, ID\, United States
GEO:43.459228;-116.383121
X-APPLE-STRUCTURED-LOCATION;VALUE=URI;X-ADDRESS=Boise Steel Challenge (SCSA581) 2420 E Kuna Mora Rd Kuna ID United States;X-APPLE-RADIUS=500;X-TITLE=2420 E Kuna Mora Rd:geo:-116.383121,43.459228
END:VEVENT
BEGIN:VEVENT
DTSTART;VALUE=DATE:20260527
DTEND;VALUE=DATE:20260528
DTSTAMP:20260419T180023
CREATED:20251005T190547Z
LAST-MODIFIED:20260412T203314Z
UID:10001720-1779840000-1779926399@gunstuff.tv
SUMMARY:Aim for Impact
DESCRIPTION:Sporting Clay fundraiser to benefit youth in agriculture.
URL:https://gunstuff.tv/event/aim-for-impact/
LOCATION:CA
END:VEVENT
BEGIN:VEVENT
DTSTART;TZID=America/New_York:20260527T080000
DTEND;TZID=America/New_York:20260527T163000
DTSTAMP:20260419T180023
CREATED:20260328T214630Z
LAST-MODIFIED:20260411T214631Z
UID:10006583-1779868800-1779899400@gunstuff.tv
SUMMARY:NH Tactical Officers Association Long Range Seminar
DESCRIPTION:
URL:https://gunstuff.tv/event/nh-tactical-officers-association-long-range-seminar/
LOCATION:Long Range
END:VEVENT
BEGIN:VEVENT
DTSTART;TZID=America/Halifax:20260527T080000
DTEND;TZID=America/Halifax:20260527T170000
DTSTAMP:20260419T180023
CREATED:20260206T013131Z
LAST-MODIFIED:20260407T014707Z
UID:10004976-1779868800-1779901200@gunstuff.tv
SUMMARY:CLOSED/FERMER
DESCRIPTION:JUSTICE-PUBLIC SAFETY/JUSTICE-SÉCURITÉ PUBLIQUE
URL:https://gunstuff.tv/event/closed-fermer-6/
LOCATION:CA
END:VEVENT
BEGIN:VEVENT
DTSTART;TZID=UTC:20260527T090000
DTEND;TZID=UTC:20260527T090000
DTSTAMP:20260419T180023
CREATED:20260128T013132Z
LAST-MODIFIED:20260415T070235Z
UID:10004789-1779872400-1779872400@gunstuff.tv
SUMMARY:Vortex Optics World Speed Shooting Championship
DESCRIPTION:Vortex Optics World Speed Shooting Championship\nMatch Status: Approved by DNROI\nMatch Starts on May 27\, 2026\nMatch will end May 31\, 2026\nMatch Location:\nMatch Tracker\n4387 TURNER MILL ROAD\nTalladaga\, AL 35160\nManaged by:\nSteel Challenge Headquarters\nStage Count: 8\nRound Count: 195\nMatch Entry Fee: $125.00\nMatch Director: Zack Jones\nRange Master: Troy McManus\nAdditional Details\n2026 World Speed Shooting Championship hosted at the CMP range in Talladega\, AL.\nRegister!\nRegistration not available.
URL:https://gunstuff.tv/event/vortex-optics-world-speed-shooting-championship/
LOCATION:Match Tracker\, 599 Talladega Ave\, Talladega\, AL\, United States
GEO:33.415096;-86.118319
X-APPLE-STRUCTURED-LOCATION;VALUE=URI;X-ADDRESS=Match Tracker 599 Talladega Ave Talladega AL United States;X-APPLE-RADIUS=500;X-TITLE=599 Talladega Ave:geo:-86.118319,33.415096
END:VEVENT
BEGIN:VEVENT
DTSTART;TZID=UTC:20260527T164500
DTEND;TZID=UTC:20260527T164500
DTSTAMP:20260419T180023
CREATED:20260121T014636Z
LAST-MODIFIED:20260401T070142Z
UID:10004639-1779900300-1779900300@gunstuff.tv
SUMMARY:Bass River Weds Nite Steel
DESCRIPTION:Bass River Weds Nite Steel\nDate: 5/27/26\nStart Time: 4:45 PM\nLocation:\nBass River Rod & Gun Club (SCSA467)\nBass River Rod &Gun 620 Rt. 6A\nYarmouthport\, MA\nEvent Contact Information\nTimothy J Kent\n5082372137\ntjkent@comcast.net\nEvent Website\nhttps://www.bassriverrodandgun.com/
URL:https://gunstuff.tv/event/bass-river-weds-nite-steel-5/
LOCATION:Bass River Rod & Gun Club (SCSA467)\, 79 State Rte 6 Alt\, Dennis\, MA\, United States
GEO:41.721025;-70.196653
X-APPLE-STRUCTURED-LOCATION;VALUE=URI;X-ADDRESS=Bass River Rod & Gun Club (SCSA467) 79 State Rte 6 Alt Dennis MA United States;X-APPLE-RADIUS=500;X-TITLE=79 State Rte 6 Alt:geo:-70.196653,41.721025
END:VEVENT
BEGIN:VEVENT
DTSTART;TZID=UTC:20260527T170000
DTEND;TZID=UTC:20260527T170000
DTSTAMP:20260419T180023
CREATED:20260410T113137Z
LAST-MODIFIED:20260410T113137Z
UID:10007410-1779901200-1779901200@gunstuff.tv
SUMMARY:On Target USPSA Level 1 May 2026
DESCRIPTION:On Target USPSA Level 1 May 2026\nDate : 5/27/26\nStart Time: 5:00 PM\nLocation:\nOn Target Competitive Shooters (NC20)\n4 Busbee View Road\nAsheville\, NC\nEvent Contact Information\nMaki Goskowicz\n828-274-0028\ndrmaki2026@gmail.com
URL:https://gunstuff.tv/event/on-target-uspsa-level-1-may-2026/
LOCATION:On Target Competitive Shooters (NC20)\, 4 Busbee View Rd\, Asheville\, NC\, United States
GEO:35.541271;-82.52048
X-APPLE-STRUCTURED-LOCATION;VALUE=URI;X-ADDRESS=On Target Competitive Shooters (NC20) 4 Busbee View Rd Asheville NC United States;X-APPLE-RADIUS=500;X-TITLE=4 Busbee View Rd:geo:-82.52048,35.541271
END:VEVENT
BEGIN:VEVENT
DTSTART;TZID=America/Los_Angeles:20260527T170000
DTEND;TZID=America/Los_Angeles:20260527T220000
DTSTAMP:20260419T180023
CREATED:20260125T221629Z
LAST-MODIFIED:20260405T223146Z
UID:10004754-1779901200-1779919200@gunstuff.tv
SUMMARY:MOORE N MOORE - NIGHT SHOOT & BBQ
DESCRIPTION:For more information\, contact Moore N Moore at https://www.moorenmoore.com/night-shooting/
URL:https://gunstuff.tv/event/moore-n-moore-night-shoot-bbq-32/
LOCATION:Moore N Moore Sporting Clays\, 12653 Little Tujunga Canyon Rd\, Sylmar\, CA\, United States
CATEGORIES:Moore N Moore
ATTACH;FMTTYPE=image/png:https://gunstuff.tv/wp-content/uploads/2025/10/image-pjjZEf.png
ORGANIZER;CN="Moore N Moore Sporting Clays":MAILTO:info@moorenmoore.com
GEO:34.282317;-118.371281
X-APPLE-STRUCTURED-LOCATION;VALUE=URI;X-ADDRESS=Moore N Moore Sporting Clays 12653 Little Tujunga Canyon Rd Sylmar CA United States;X-APPLE-RADIUS=500;X-TITLE=12653 Little Tujunga Canyon Rd:geo:-118.371281,34.282317
END:VEVENT
BEGIN:VEVENT
DTSTART;TZID=UTC:20260527T180000
DTEND;TZID=UTC:20260527T180000
DTSTAMP:20260419T180023
CREATED:20260304T061637Z
LAST-MODIFIED:20260401T070142Z
UID:10006082-1779904800-1779904800@gunstuff.tv
SUMMARY:West Houston 4th Wed Steel Challenge
DESCRIPTION:West Houston 4th Wed Steel Challenge\nDate: 5/27/26\nStart Time: 6:00 PM\nLocation:\nWest Houston Shooters Club (SCSA146)\n40440 FM 529\nHempstead\, TX\nEvent Contact Information\nJim Schultz\n7135426832\nwesthoustonshootersclub@gmail.com\nMatch Information\nMatch is every 4th Wednesday\, January thru October\, weather permitting.\nEvent Website\nhttp://westhoustonshootersclub@gmail.com
URL:https://gunstuff.tv/event/west-houston-4th-wed-steel-challenge-3/
LOCATION:West Houston Shooters Club (SCSA146)\, 39798 FM 529\, Hempstead\, TX\, United States
GEO:29.914986;-96.048349
X-APPLE-STRUCTURED-LOCATION;VALUE=URI;X-ADDRESS=West Houston Shooters Club (SCSA146) 39798 FM 529 Hempstead TX United States;X-APPLE-RADIUS=500;X-TITLE=39798 FM 529:geo:-96.048349,29.914986
END:VEVENT
BEGIN:VEVENT
DTSTART;TZID=America/New_York:20260527T190000
DTEND;TZID=America/New_York:20260527T210000
DTSTAMP:20260419T180023
CREATED:20251207T181649Z
LAST-MODIFIED:20260412T184743Z
UID:10003455-1779908400-1779915600@gunstuff.tv
SUMMARY:Wednesday Night Trap League
DESCRIPTION:https://www.fxrgc.org/shotgun/wednesday-night-trap-league/ \nShotgun Fields 1-8.
URL:https://gunstuff.tv/event/wednesday-night-trap-league-19/
LOCATION:Fields 1-8
END:VEVENT
BEGIN:VEVENT
DTSTART;VALUE=DATE:20260528
DTEND;VALUE=DATE:20260529
DTSTAMP:20260419T180023
CREATED:20251003T160029Z
LAST-MODIFIED:20260412T043230Z
UID:10000976-1779926400-1780012799@gunstuff.tv
SUMMARY:1000 Yard Practice 6:30am Pits
DESCRIPTION:
URL:https://gunstuff.tv/event/1000-yard-practice-630am-pits-3/
LOCATION:CA
END:VEVENT
BEGIN:VEVENT
DTSTART;TZID=America/New_York:20260528T110000
DTEND;TZID=America/New_York:20260528T170000
DTSTAMP:20260419T180023
CREATED:20260412T184743Z
LAST-MODIFIED:20260412T184743Z
UID:10007457-1779966000-1779987600@gunstuff.tv
SUMMARY:Atwell Graduation Party
DESCRIPTION:High School Graduation Party for Wyatt Atwell for family and close friends from 11 AM – 5 PM in the clubhouse meeting/banquet room. About 40 people. We will be done and guests gone or leaving by time Skeet League shooters start arriving for Thursday dinner. We plan to cater in Mission BBQ\, and will work with Kelli as appropriate\, but I know she has to prepared for dinner that night.
URL:https://gunstuff.tv/event/atwell-graduation-party/
LOCATION:Clubhouse
END:VEVENT
BEGIN:VEVENT
DTSTART;TZID=America/Los_Angeles:20260528T130000
DTEND;TZID=America/Los_Angeles:20260528T180000
DTSTAMP:20260419T180023
CREATED:20260201T221628Z
LAST-MODIFIED:20260405T223147Z
UID:10004888-1779973200-1779991200@gunstuff.tv
SUMMARY:RIFLE SIDE RANGE CLOSED
DESCRIPTION:NOT OPEN TO THE PUBLIC AFTER 1:00 P. M.
URL:https://gunstuff.tv/event/rifle-side-range-closed-11/
LOCATION:California
END:VEVENT
BEGIN:VEVENT
DTSTART;TZID=America/New_York:20260528T180000
DTEND;TZID=America/New_York:20260528T183000
DTSTAMP:20260419T180023
CREATED:20251003T162641Z
LAST-MODIFIED:20260411T214631Z
UID:10001438-1779991200-1779993000@gunstuff.tv
SUMMARY:Member Session
DESCRIPTION:Hear committee reports\, ask questions\, make requests of the board.
URL:https://gunstuff.tv/event/member-session-8/
LOCATION:Indoor Range
END:VEVENT
BEGIN:VEVENT
DTSTART;TZID=America/New_York:20260528T183000
DTEND;TZID=America/New_York:20260528T203000
DTSTAMP:20260419T180023
CREATED:20251003T162641Z
LAST-MODIFIED:20260411T214631Z
UID:10001437-1779993000-1780000200@gunstuff.tv
SUMMARY:Board Meeting
DESCRIPTION:All members welcome.
URL:https://gunstuff.tv/event/board-meeting-11/
LOCATION:Indoor Range
END:VEVENT
BEGIN:VEVENT
DTSTART;TZID=America/New_York:20260528T190000
DTEND;TZID=America/New_York:20260528T220000
DTSTAMP:20260419T180023
CREATED:20260412T184743Z
LAST-MODIFIED:20260412T184743Z
UID:10007458-1779994800-1780005600@gunstuff.tv
SUMMARY:Doerflein Skeet League
DESCRIPTION:Doerflein Skeet League
URL:https://gunstuff.tv/event/doerflein-skeet-league-24/
LOCATION:Shotgun Fields
END:VEVENT
BEGIN:VEVENT
DTSTART;VALUE=DATE:20260529
DTEND;VALUE=DATE:20260530
DTSTAMP:20260419T180023
CREATED:20251003T160029Z
LAST-MODIFIED:20260412T043230Z
UID:10000978-1780012800-1780099199@gunstuff.tv
SUMMARY:Across the Course Practice 6:30am Pits
DESCRIPTION:
URL:https://gunstuff.tv/event/across-the-course-practice-630am-pits-5/
LOCATION:CA
END:VEVENT
END:VCALENDAR