BEGIN:VCALENDAR
VERSION:2.0
PRODID:-//GunStuff TV - ECPv6.15.20//NONSGML v1.0//EN
CALSCALE:GREGORIAN
METHOD:PUBLISH
X-WR-CALNAME:GunStuff TV
X-ORIGINAL-URL:https://gunstuff.tv
X-WR-CALDESC:Events for GunStuff TV
REFRESH-INTERVAL;VALUE=DURATION:PT1H
X-Robots-Tag:noindex
X-PUBLISHED-TTL:PT1H
BEGIN:VTIMEZONE
TZID:America/New_York
BEGIN:DAYLIGHT
TZOFFSETFROM:-0500
TZOFFSETTO:-0400
TZNAME:EDT
DTSTART:20250309T070000
END:DAYLIGHT
BEGIN:STANDARD
TZOFFSETFROM:-0400
TZOFFSETTO:-0500
TZNAME:EST
DTSTART:20251102T060000
END:STANDARD
BEGIN:DAYLIGHT
TZOFFSETFROM:-0500
TZOFFSETTO:-0400
TZNAME:EDT
DTSTART:20260308T070000
END:DAYLIGHT
BEGIN:STANDARD
TZOFFSETFROM:-0400
TZOFFSETTO:-0500
TZNAME:EST
DTSTART:20261101T060000
END:STANDARD
BEGIN:DAYLIGHT
TZOFFSETFROM:-0500
TZOFFSETTO:-0400
TZNAME:EDT
DTSTART:20270314T070000
END:DAYLIGHT
BEGIN:STANDARD
TZOFFSETFROM:-0400
TZOFFSETTO:-0500
TZNAME:EST
DTSTART:20271107T060000
END:STANDARD
END:VTIMEZONE
BEGIN:VTIMEZONE
TZID:UTC
BEGIN:STANDARD
TZOFFSETFROM:+0000
TZOFFSETTO:+0000
TZNAME:UTC
DTSTART:20250101T000000
END:STANDARD
END:VTIMEZONE
BEGIN:VTIMEZONE
TZID:America/Phoenix
BEGIN:STANDARD
TZOFFSETFROM:-0700
TZOFFSETTO:-0700
TZNAME:MST
DTSTART:20250101T000000
END:STANDARD
END:VTIMEZONE
BEGIN:VTIMEZONE
TZID:America/Chicago
BEGIN:DAYLIGHT
TZOFFSETFROM:-0600
TZOFFSETTO:-0500
TZNAME:CDT
DTSTART:20250309T080000
END:DAYLIGHT
BEGIN:STANDARD
TZOFFSETFROM:-0500
TZOFFSETTO:-0600
TZNAME:CST
DTSTART:20251102T070000
END:STANDARD
BEGIN:DAYLIGHT
TZOFFSETFROM:-0600
TZOFFSETTO:-0500
TZNAME:CDT
DTSTART:20260308T080000
END:DAYLIGHT
BEGIN:STANDARD
TZOFFSETFROM:-0500
TZOFFSETTO:-0600
TZNAME:CST
DTSTART:20261101T070000
END:STANDARD
BEGIN:DAYLIGHT
TZOFFSETFROM:-0600
TZOFFSETTO:-0500
TZNAME:CDT
DTSTART:20270314T080000
END:DAYLIGHT
BEGIN:STANDARD
TZOFFSETFROM:-0500
TZOFFSETTO:-0600
TZNAME:CST
DTSTART:20271107T070000
END:STANDARD
END:VTIMEZONE
BEGIN:VEVENT
DTSTART;TZID=America/New_York:20261011T090000
DTEND;TZID=America/New_York:20261011T120000
DTSTAMP:20260422T224040
CREATED:20251003T162643Z
LAST-MODIFIED:20260418T214737Z
UID:10001509-1791709200-1791720000@gunstuff.tv
SUMMARY:Weekly Trap League
DESCRIPTION:
URL:https://gunstuff.tv/event/weekly-trap-league-54/
LOCATION:Shotgun Range
END:VEVENT
BEGIN:VEVENT
DTSTART;TZID=America/New_York:20261011T090000
DTEND;TZID=America/New_York:20261011T120000
DTSTAMP:20260422T224040
CREATED:20251207T181653Z
LAST-MODIFIED:20260419T190257Z
UID:10003457-1791709200-1791720000@gunstuff.tv
SUMMARY:Swap Meet
DESCRIPTION:Contact Bob Paiani at dayglo@comcast.net for information
URL:https://gunstuff.tv/event/swap-meet-6/
LOCATION:Clubhouse
END:VEVENT
BEGIN:VEVENT
DTSTART;TZID=America/New_York:20261011T090000
DTEND;TZID=America/New_York:20261011T140000
DTSTAMP:20260422T224040
CREATED:20251003T031216Z
LAST-MODIFIED:20260417T071746Z
UID:10000652-1791709200-1791727200@gunstuff.tv
SUMMARY:Wyoming Antelope 2700
DESCRIPTION:
URL:https://gunstuff.tv/event/wyoming-antelope-2700-25/
LOCATION:Wyoming Antelope Club-Florida\, 3700 126th Ave N\, Clearwater\, FL\, United States
GEO:27.886432;-82.683263
X-APPLE-STRUCTURED-LOCATION;VALUE=URI;X-ADDRESS=Wyoming Antelope Club-Florida 3700 126th Ave N Clearwater FL United States;X-APPLE-RADIUS=500;X-TITLE=3700 126th Ave N:geo:-82.683263,27.886432
END:VEVENT
BEGIN:VEVENT
DTSTART;TZID=America/New_York:20261011T090000
DTEND;TZID=America/New_York:20261011T163000
DTSTAMP:20260422T224040
CREATED:20260111T181638Z
LAST-MODIFIED:20260419T190257Z
UID:10004396-1791709200-1791736200@gunstuff.tv
SUMMARY:Smallbore Silhouette
DESCRIPTION:Smallbore Silhouettes is a series of 60 shots standing unsupported at steel animal silhouettes using a 22 caliber rimfire rifle. Targets are chickens at 40m\, pigs at 60m\, turkeys at 77m rams at 100m\, and all targets are 5 mils so they are all the same angular dimensions at their respective ranges. Participants may compete in Standard Rifle (competition style rifles) and/or Hunting Rifle (typical 22 caliber rifle). Most hunting rifles qualify as standard rifles too. \nContact Chris Moss mossthom22@gmail.com
URL:https://gunstuff.tv/event/smallbore-silhouette-9/
LOCATION:Lea Valley Range
END:VEVENT
BEGIN:VEVENT
DTSTART;TZID=UTC:20261011T114500
DTEND;TZID=UTC:20261011T114500
DTSTAMP:20260422T224040
CREATED:20260110T171714Z
LAST-MODIFIED:20260417T114652Z
UID:10004326-1791719100-1791719100@gunstuff.tv
SUMMARY:Shadow Hawk Defense USPSA Level 1 - Oct
DESCRIPTION:Shadow Hawk Defense USPSA Level 1 – Oct\nDate : 10/11/26\nStart Time: 11:45 AM\nLocation:\nShadow Hawk Defense (VA31)\n436 Apple Harvest Drive\nHedgesville\, WV\nEvent Contact Information\nLynn Kasic\n304-616-6582\ninfo@shadowhawkdefense.com\nMatch Information\nSame match on both Sat and Sun. The squad you select will determine which day/time that you shoot. USPSA level 1 match. Approx round count 165.\n*** Per rule 6.2.4.1 Multiple entries in the same division are prohibited. ***\nMatch day start times\nSaturday-AM squads\nRange and registration open at 9:00 AM\nMandatory range brief: 9:45 AM*\nHammer down at 10:00 AM\nSunday (PM) only squads (when available)\nRange and registration open at 11:00\nMandatory range brief: 11:45\nHammer down at Noon\nMatch fee is paid at the door.\nEvent Website\nhttp://www.ShadowHawkDefense.com
URL:https://gunstuff.tv/event/shadow-hawk-defense-uspsa-level-1-oct-2/
LOCATION:Shadow Hawk Defense (VA31)\, 399 Apple Harvest Dr\, Hedgesville\, WV\, United States
GEO:39.389611;-78.197586
X-APPLE-STRUCTURED-LOCATION;VALUE=URI;X-ADDRESS=Shadow Hawk Defense (VA31) 399 Apple Harvest Dr Hedgesville WV United States;X-APPLE-RADIUS=500;X-TITLE=399 Apple Harvest Dr:geo:-78.197586,39.389611
END:VEVENT
BEGIN:VEVENT
DTSTART;VALUE=DATE:20261012
DTEND;VALUE=DATE:20261013
DTSTAMP:20260422T224040
CREATED:20260213T031102Z
LAST-MODIFIED:20260417T034736Z
UID:10005319-1791763200-1791849599@gunstuff.tv
SUMMARY:Club Closed
DESCRIPTION:
URL:https://gunstuff.tv/event/club-closed-69/
LOCATION:WA
END:VEVENT
BEGIN:VEVENT
DTSTART;TZID=America/New_York:20261012T090000
DTEND;TZID=America/New_York:20261012T100000
DTSTAMP:20260422T224040
CREATED:20251003T162643Z
LAST-MODIFIED:20251010T162931Z
UID:10001510-1791795600-1791799200@gunstuff.tv
SUMMARY:4-H Class Indoors
DESCRIPTION:Indoor reserved for 4-H class.
URL:https://gunstuff.tv/event/4-h-class-indoors-54/
LOCATION:Indoor Range
END:VEVENT
BEGIN:VEVENT
DTSTART;TZID=America/New_York:20261012T160000
DTEND;TZID=America/New_York:20261012T180000
DTSTAMP:20260422T224040
CREATED:20251003T162643Z
LAST-MODIFIED:20251205T181710Z
UID:10001511-1791820800-1791828000@gunstuff.tv
SUMMARY:Skeet League
DESCRIPTION:Contact Frank Andrews with Questions.
URL:https://gunstuff.tv/event/skeet-league-54/
LOCATION:WA
END:VEVENT
BEGIN:VEVENT
DTSTART;TZID=America/New_York:20261012T160000
DTEND;TZID=America/New_York:20261012T180000
DTSTAMP:20260422T224040
CREATED:20251212T181643Z
LAST-MODIFIED:20260418T214737Z
UID:10003555-1791820800-1791828000@gunstuff.tv
SUMMARY:Skeet League
DESCRIPTION:Contact Frank Andrews with Questions.
URL:https://gunstuff.tv/event/skeet-league-144/
LOCATION:Skeet Range
END:VEVENT
BEGIN:VEVENT
DTSTART;VALUE=DATE:20261013
DTEND;VALUE=DATE:20261014
DTSTAMP:20260422T224040
CREATED:20251003T160031Z
LAST-MODIFIED:20260419T044755Z
UID:10001056-1791849600-1791935999@gunstuff.tv
SUMMARY:100\, 200\, 300 Yard Practice Benchrest Range
DESCRIPTION:
URL:https://gunstuff.tv/event/100-200-300-yard-practice-benchrest-range-46/
LOCATION:WA
END:VEVENT
BEGIN:VEVENT
DTSTART;VALUE=DATE:20261013
DTEND;VALUE=DATE:20261014
DTSTAMP:20260422T224040
CREATED:20260213T031102Z
LAST-MODIFIED:20260417T034736Z
UID:10005320-1791849600-1791935999@gunstuff.tv
SUMMARY:Club closed
DESCRIPTION:
URL:https://gunstuff.tv/event/club-closed-70/
LOCATION:WA
END:VEVENT
BEGIN:VEVENT
DTSTART;TZID=America/New_York:20261013T090000
DTEND;TZID=America/New_York:20261013T130000
DTSTAMP:20260422T224040
CREATED:20251012T173818Z
LAST-MODIFIED:20260419T190258Z
UID:10002136-1791882000-1791896400@gunstuff.tv
SUMMARY:GAFC
DESCRIPTION:Event Director David Evans
URL:https://gunstuff.tv/event/gafc-8/
LOCATION:Walsh & Sieger Ranges
END:VEVENT
BEGIN:VEVENT
DTSTART;TZID=America/New_York:20261013T170000
DTEND;TZID=America/New_York:20261013T200000
DTSTAMP:20260422T224040
CREATED:20260328T214635Z
LAST-MODIFIED:20260418T214737Z
UID:10006604-1791910800-1791921600@gunstuff.tv
SUMMARY:Tactical Tuesday IDPA Practice
DESCRIPTION:Shooters new to Action Shooting contact Eric Zaharee at ABSAIDPA@gmail .com\nSee (Alder Brook) PractiScore.com for sign up Cost $5
URL:https://gunstuff.tv/event/tactical-tuesday-idpa-practice-27/
LOCATION:Action Bays
END:VEVENT
BEGIN:VEVENT
DTSTART;TZID=America/New_York:20261013T180000
DTEND;TZID=America/New_York:20261013T203000
DTSTAMP:20260422T224040
CREATED:20251003T162405Z
LAST-MODIFIED:20260417T200129Z
UID:10001131-1791914400-1791923400@gunstuff.tv
SUMMARY:MRPC Member Meeting
DESCRIPTION:
URL:https://gunstuff.tv/event/mrpc-member-meeting-7/
LOCATION:Perry’s Restaurant\, 1210 Annapolis Rd\, Odenton\, MD\, United States
GEO:39.083488;-76.692407
X-APPLE-STRUCTURED-LOCATION;VALUE=URI;X-ADDRESS=Perry’s Restaurant 1210 Annapolis Rd Odenton MD United States;X-APPLE-RADIUS=500;X-TITLE=1210 Annapolis Rd:geo:-76.692407,39.083488
END:VEVENT
BEGIN:VEVENT
DTSTART;VALUE=DATE:20261014
DTEND;VALUE=DATE:20261015
DTSTAMP:20260422T224040
CREATED:20251003T160031Z
LAST-MODIFIED:20260419T044755Z
UID:10001054-1791936000-1792022399@gunstuff.tv
SUMMARY:Centerfire and Smallbore Practice - Smallbore Range
DESCRIPTION:
URL:https://gunstuff.tv/event/centerfire-and-smallbore-practice-smallbore-range-17/
LOCATION:WA
END:VEVENT
BEGIN:VEVENT
DTSTART;VALUE=DATE:20261015
DTEND;VALUE=DATE:20261026
DTSTAMP:20260422T224040
CREATED:20251005T190051Z
LAST-MODIFIED:20260419T200303Z
UID:10001690-1792022400-1792972799@gunstuff.tv
SUMMARY:National Sporting Clays Championship
DESCRIPTION:Information and registration
URL:https://gunstuff.tv/event/national-sporting-clays-championship-2/
LOCATION:National Shooting Complex\, 5931 Roft Rd\, San Antonio\, TX\, United States
GEO:29.492881;-98.741985
X-APPLE-STRUCTURED-LOCATION;VALUE=URI;X-ADDRESS=National Shooting Complex 5931 Roft Rd San Antonio TX United States;X-APPLE-RADIUS=500;X-TITLE=5931 Roft Rd:geo:-98.741985,29.492881
END:VEVENT
BEGIN:VEVENT
DTSTART;TZID=UTC:20261015T210000
DTEND;TZID=UTC:20261015T230000
DTSTAMP:20260422T224040
CREATED:20260111T213127Z
LAST-MODIFIED:20260421T084628Z
UID:10004412-1792098000-1792105200@gunstuff.tv
SUMMARY:RMSCA Board of Directors Meeting
DESCRIPTION:
URL:https://gunstuff.tv/event/rmsca-board-of-directors-meeting-5/
LOCATION:WA
ORGANIZER;CN="Rocky Mountain Steel Construction Association":MAILTO:info@rmsca.org
END:VEVENT
BEGIN:VEVENT
DTSTART;VALUE=DATE:20261016
DTEND;VALUE=DATE:20261017
DTSTAMP:20260422T224040
CREATED:20260213T031102Z
LAST-MODIFIED:20260417T034736Z
UID:10005321-1792108800-1792195199@gunstuff.tv
SUMMARY:Competition Bays closed for USPSA set up
DESCRIPTION:
URL:https://gunstuff.tv/event/competition-bays-closed-for-uspsa-set-up-9/
LOCATION:WA
END:VEVENT
BEGIN:VEVENT
DTSTART;VALUE=DATE:20261016
DTEND;VALUE=DATE:20261017
DTSTAMP:20260422T224040
CREATED:20260308T183142Z
LAST-MODIFIED:20260419T190258Z
UID:10006214-1792108800-1792195199@gunstuff.tv
SUMMARY:BSA Troop 581 Campout
DESCRIPTION:Camping:  Friday Night through Sunday at Laurel Hill Campground \nArchery Range:  Saturday 12:00 to 4:00 PM \nFishing at Cotting Lake:  Friday Night through Sunday \nShotgun on Field 8\, and at Baumann Pavilion: Saturday\, 12 PM – 4 PM \nRifle (22 LR & Muzzleloading) firing:  Mann range 9:00 AM – 12:00 PM (non-exclusive) \nInstruction and firing to be conducted according to BSA/NRA rules. \nParticipants:  approx. 28 scouts\, and 8 adults \nEvent Director – Dave Atwell Member 1772
URL:https://gunstuff.tv/event/bsa-troop-581-campout/
LOCATION:Camground\, Cotting Lake\, Field 8\, Bauman Pavilion\, Mann Range
END:VEVENT
BEGIN:VEVENT
DTSTART;TZID=America/Chicago:20261016T080000
DTEND;TZID=America/Chicago:20261016T170000
DTSTAMP:20260422T224040
CREATED:20251102T201641Z
LAST-MODIFIED:20260419T211806Z
UID:10002873-1792137600-1792170000@gunstuff.tv
SUMMARY:Private Sporting Clays Event
DESCRIPTION:Clays course will be closed for a private event.
URL:https://gunstuff.tv/event/private-sporting-clays-event-6/
LOCATION:Austin Gun Club\, 1999 S Key Ave\, Lampasas\, TX\, United States
CATEGORIES:Private Event
ATTACH;FMTTYPE=image/png:https://gunstuff.tv/wp-content/uploads/2025/11/Private-Event-Notice-EGtBqz.png
GEO:31.050454;-98.174788
X-APPLE-STRUCTURED-LOCATION;VALUE=URI;X-ADDRESS=Austin Gun Club 1999 S Key Ave Lampasas TX United States;X-APPLE-RADIUS=500;X-TITLE=1999 S Key Ave:geo:-98.174788,31.050454
END:VEVENT
BEGIN:VEVENT
DTSTART;TZID=UTC:20261016T090000
DTEND;TZID=UTC:20261016T090000
DTSTAMP:20260422T224040
CREATED:20260228T173139Z
LAST-MODIFIED:20260422T071728Z
UID:10005891-1792141200-1792141200@gunstuff.tv
SUMMARY:The Ohio Steel Classic
DESCRIPTION:The Ohio Steel Classic\nMatch Status: Approved by DNROI\nMatch Starts on Oct 16\, 2026\nMatch will end Oct 18\, 2026\nMatch Location:\nCardinal Practical Shooters\n616 OH-61\nMarengo\, OH 43334\nManaged by:\nCardinal Practical Shooters\nStage Count: 8\nRound Count: 195\nMatch Entry Fee: $60.00\nMatch Director: Zach Summerford\nRange Master: Jim Klugiewicz\nAdditional Details\nRegister!\nhttps://practiscore.com/the-2026-ohio-steel-classic/register
URL:https://gunstuff.tv/event/the-ohio-steel-classic/
LOCATION:Cardinal Practical Shooters\, Marengo\, OH\, United States
GEO:40.406317;-82.782091
END:VEVENT
BEGIN:VEVENT
DTSTART;VALUE=DATE:20261017
DTEND;VALUE=DATE:20261018
DTSTAMP:20260422T224040
CREATED:20260213T031102Z
LAST-MODIFIED:20260417T034736Z
UID:10005322-1792195200-1792281599@gunstuff.tv
SUMMARY:USPSA Pistol Match
DESCRIPTION:USPSA (United States Practical ShootingAssociation) Pistol Match: Practical Shooting measures the shooter’s ability toshoot rapidly and accurately through obstacle-laden courses. The shooter moves\,negotiates\, runs\, covers\, and speed reloads through the stage as fast as theirskill will allow.  If this fast paced shooting sounds like fun\, come outand give it a try. Show up with an unloaded centerfire pistol in .38\, 9mm\, .40\,or .45 in an enclosed case and ask a match official where the safe area is soyou can holster your gun safely.  Also bring a rigid holster\, magazines\,and mag pouches capable of holding at least 32 rounds.  Overall matchround counts are usually between 100 and 150 rounds.  Specific divisionrequirements can be found at http://uspsa.org.  Starts at 9:30 AM and costwill be $20 ($15 for Pinetucky members\, active duty military\, police\, andfire). You can sign up at practiscore.com
URL:https://gunstuff.tv/event/uspsa-pistol-match-9/
LOCATION:Pinetucky Gun Club\, 2096 Greenland Rd\, Blythe\, GA\, United States
GEO:33.344103;-82.138722
X-APPLE-STRUCTURED-LOCATION;VALUE=URI;X-ADDRESS=Pinetucky Gun Club 2096 Greenland Rd Blythe GA United States;X-APPLE-RADIUS=500;X-TITLE=2096 Greenland Rd:geo:-82.138722,33.344103
END:VEVENT
BEGIN:VEVENT
DTSTART;VALUE=DATE:20261017
DTEND;VALUE=DATE:20261018
DTSTAMP:20260422T224040
CREATED:20260308T183142Z
LAST-MODIFIED:20260419T190258Z
UID:10006215-1792195200-1792281599@gunstuff.tv
SUMMARY:BSA Troop 581 Campout
DESCRIPTION:Camping:  Friday Night through Sunday at Laurel Hill Campground \nArchery Range:  Saturday 12:00 to 4:00 PM \nFishing at Cotting Lake:  Friday Night through Sunday \nShotgun on Field 8\, and at Baumann Pavilion: Saturday\, 12 PM – 4 PM \nRifle (22 LR & Muzzleloading) firing:  Mann range 9:00 AM – 12:00 PM (non-exclusive) \nInstruction and firing to be conducted according to BSA/NRA rules. \nParticipants:  approx. 28 scouts\, and 8 adults \nEvent Director – Dave Atwell Member 1772
URL:https://gunstuff.tv/event/bsa-troop-581-campout-2/
LOCATION:Camground\, Cotting Lake\, Field 8\, Bauman Pavilion\, Mann Range
END:VEVENT
BEGIN:VEVENT
DTSTART;TZID=UTC:20261017T080000
DTEND;TZID=UTC:20261017T080000
DTSTAMP:20260422T224040
CREATED:20260124T171829Z
LAST-MODIFIED:20260417T114652Z
UID:10004725-1792224000-1792224000@gunstuff.tv
SUMMARY:Prairie Thunder GP17 USPSA - 10-17-26
DESCRIPTION:Prairie Thunder GP17 USPSA – 10-17-26\nDate : 10/17/26\nStart Time: 8:00 AM\nLocation:\nPrairie Thunder (GP17)\n21602 Elk Vale Rd\nPiedmont\, SD\nEvent Contact Information\nBruce Schmidt\n6053919117\nprairiethundergc@gmail.com\nEvent Website\nhttps://practiscore.com/prairie-thunder-gp17-10-17-26-uspsa/register
URL:https://gunstuff.tv/event/prairie-thunder-gp17-uspsa-10-17-26/
LOCATION:Prairie Thunder (GP17)\, 21700 Elk Vale Rd\, Piedmont\, SD\, United States
GEO:44.252848;-103.151343
X-APPLE-STRUCTURED-LOCATION;VALUE=URI;X-ADDRESS=Prairie Thunder (GP17) 21700 Elk Vale Rd Piedmont SD United States;X-APPLE-RADIUS=500;X-TITLE=21700 Elk Vale Rd:geo:-103.151343,44.252848
END:VEVENT
BEGIN:VEVENT
DTSTART;TZID=UTC:20261017T080000
DTEND;TZID=UTC:20261017T080000
DTSTAMP:20260422T224040
CREATED:20260304T061644Z
LAST-MODIFIED:20260418T174750Z
UID:10006104-1792224000-1792224000@gunstuff.tv
SUMMARY:Bandera Steel Challenge
DESCRIPTION:Bandera Steel Challenge\nDate: 10/17/26\nStart Time: 8:00 AM\nLocation:\nBandera Steel Challenge (SCSA516)\n809 FM 1077\nBandera\, TX\nEvent Contact Information\nTim Reedy\n2102873785\nbandera.steel.match@gmail.com\nMatch Information\nOnline payment now accepted!\nIf shooting 2 guns\, put each division after your last name (I.e. Reedy CO\, Reedy RFPO)\nWe will shoot 6 official classifier stages. I will upload results to SCSA.\n* Setup @ 7:30\, Signup @ 8\, New Shooter’s meeting @ 8:40\, Start @9:00\n* Check in at Bay 3\, even if you paid online.\n* First-timers need to attend the “New Shooters’ Meeting” held in Bay 2 about 20 minutes before the match starts.\n* We will shoot 4 stages and after a quick reconfiguration\, shoot the other 2 stages.\nGear:\n* Pistols: Non-collapsing belt holster positioned on or in front of your hips. (No small of back\, or cross-draw allowed).\n* Enough magazines to hold 30 rounds\n* ~200 rounds of ammunition (It’s 150 if you don’t miss)\n* Eye and ear protection.\nPrices:\n* General Public. – $30\n* Bandera Gun Club Member -$20\n* Active Duty LEO or MIL – $20\n* 2nd Gun (2 registrations) – $10\nEvent Website\nhttps://practiscore.com/clubs/bandera_steel
URL:https://gunstuff.tv/event/bandera-steel-challenge-10/
LOCATION:Bandera Steel Challenge (SCSA516)\, Bandera\, TX\, United States
GEO:29.724328;-99.104014
END:VEVENT
BEGIN:VEVENT
DTSTART;TZID=America/New_York:20261017T080000
DTEND;TZID=America/New_York:20261017T160000
DTSTAMP:20260422T224040
CREATED:20251003T162536Z
LAST-MODIFIED:20260419T190258Z
UID:10001287-1792224000-1792252800@gunstuff.tv
SUMMARY:High Power Rifle Match
DESCRIPTION:Details here: https://www.fxrgc.org/rifle/high-power-rifle-vintage/
URL:https://gunstuff.tv/event/high-power-rifle-match-25/
LOCATION:Benson Range
END:VEVENT
BEGIN:VEVENT
DTSTART;TZID=America/New_York:20261017T083000
DTEND;TZID=America/New_York:20261017T143000
DTSTAMP:20260422T224040
CREATED:20251003T031216Z
LAST-MODIFIED:20260417T071746Z
UID:10000653-1792225800-1792247400@gunstuff.tv
SUMMARY:PMRPC Rimfire Match
DESCRIPTION:For more information you may contact the match director: James Sudduth at j.sudduth@ymail.com.
URL:https://gunstuff.tv/event/pmrpc-rimfire-match-13/
LOCATION:Port Malabar Rifle & Pistol Club\, 599 Hurley Blvd SW\, Palm Bay\, FL\, United States
GEO:27.987569;-80.71018
X-APPLE-STRUCTURED-LOCATION;VALUE=URI;X-ADDRESS=Port Malabar Rifle & Pistol Club 599 Hurley Blvd SW Palm Bay FL United States;X-APPLE-RADIUS=500;X-TITLE=599 Hurley Blvd SW:geo:-80.71018,27.987569
END:VEVENT
BEGIN:VEVENT
DTSTART;TZID=UTC:20261017T090000
DTEND;TZID=UTC:20261017T090000
DTSTAMP:20260422T224040
CREATED:20260110T165511Z
LAST-MODIFIED:20260419T111835Z
UID:10004170-1792227600-1792227600@gunstuff.tv
SUMMARY:Appleseed
DESCRIPTION:Waynesville\, IL – Le Roy Rifle and Pistol Club\nOctober 17\, 2026 – October 18\, 2026\nThis is a traditional 25m Project Appleseed rifle event.\nBoth Centerfire and 22 Rimfire rifles are allowed at this event.\nRegister Now\nAddress: 3991 Gabby Rd\, Waynesville\, IL 61778\nWebsite: www.leroyrifleandpistolclub.org\nPlease Read:  How to Prepare for an Event\nSafety Notice:\n–  Keep ALL firearms in your vehicle until after the safety briefing and you are instructed to bring them to the firing line.\n–  No illegal firearms are allowed.\n–  At centerfire-friendly ranges\, rifle cartridges are limited to 8mm (rifle) or .45 caliber (pistol and pistol caliber carbines).\n–  Effective 8/8/2025\, Project Appleseed has temporarily suspended the SIG-Sauer P320/M17/M18 (all variants) in our Pistol Clinics.\n–  Parents of youth attending\, please read our Message to Parents.\nSubject to state and local laws\, Instructors at your event may have discounted .22 ammo available. Reach out to the contact at the bottom of this page for availability.\nRange Fee:  Non-members of Leroy Rifle and Pistol club – range fee is $15 for the weekend; this covers an individual shooter\, or a family – one $15 fee pays for the family\nCamping Available:\nPrimitive camping by request – see contact info below on bottom of page.\nMoraine View State Park is about 20 miles away and is a full service campground with hookups for campers and shower house.\nHotels:\nTravel Lodge by Wyndham\, Atlanta (19mi from range)\nSuper 8 McLean (10.7mi from range)\nDirections:\nSee map to range.\nGPS: 40.298805\,-88.762349\nState Laws to be aware of:\nIt is the responsibility of attendees to know and comply with all State and Federal Firearms Laws.\nIllinois State Firearms Laws\nMisc:\nNo potable water on site; bring your own.\nBring the Centerfire or the .22s and learn valuable marksmanship skills.\nNo alcohol permitted\nFor more information contact:\nName: IL State Coordinator Email Address: IL@appleseedinfo.org\nName: Chuck Email Address: leroyrifle@gmail.com
URL:https://gunstuff.tv/event/appleseed-175/
LOCATION:Le Roy Rifle and Pistol Club\, 3699 Gabby Dr\, Bloomington\, IL\, United States
GEO:40.514522;-88.908791
X-APPLE-STRUCTURED-LOCATION;VALUE=URI;X-ADDRESS=Le Roy Rifle and Pistol Club 3699 Gabby Dr Bloomington IL United States;X-APPLE-RADIUS=500;X-TITLE=3699 Gabby Dr:geo:-88.908791,40.514522
END:VEVENT
BEGIN:VEVENT
DTSTART;TZID=UTC:20261017T090000
DTEND;TZID=UTC:20261017T090000
DTSTAMP:20260422T224040
CREATED:20260110T165511Z
LAST-MODIFIED:20260419T111834Z
UID:10004171-1792227600-1792227600@gunstuff.tv
SUMMARY:Rimfire Known Distance
DESCRIPTION:Fredericksburg\, TX – Patriot Academy\nOctober 17\, 2026 – October 18\, 2026\nThis is a Rimfire Known Distance Event. It is a 22LR (Rimfire) only event where the distances will be out to 100 yards or more based on the range. Only previous Appleseed attendees should sign up.\nCenterfire is NOT allowed at this event – 22 Rimfire Only.\nRegister Now\nAddress: 1103 US-87\, Comfort\, TX 78013\nWebsite: PatriotAcademy.com\nPlease Read:  How to Prepare for an Event\nSafety Notice:\n–  Keep ALL firearms in your vehicle until after the safety briefing and you are instructed to bring them to the firing line.\n–  No illegal firearms are allowed.\n–  At centerfire-friendly ranges\, rifle cartridges are limited to 8mm (rifle) or .45 caliber (pistol and pistol caliber carbines).\n–  Effective 8/8/2025\, Project Appleseed has temporarily suspended the SIG-Sauer P320/M17/M18 (all variants) in our Pistol Clinics.\n–  Parents of youth attending\, please read our Message to Parents.\nSubject to state and local laws\, Instructors at your event may have discounted .22 ammo available. Reach out to the contact at the bottom of this page for availability.\nRange Fee:  $25 per day.\nCamping Available:  No camping on site.\nHotels:\nDirections:\nSee map to range .\nGPS: 30.121474\,-98.912207\nState Laws to be aware of:\nIt is the responsibility of attendees to know and comply with all State and Federal Firearms Laws.\nTexas State Firearms Laws\nMisc:\nFor more information contact:\nName: Texas State Coordinator Email Address: TX@appleseedinfo.org
URL:https://gunstuff.tv/event/rimfire-known-distance-12/
LOCATION:Patriot Academy\, Comfort\, TX\, United States
GEO:29.97155;-98.90414
END:VEVENT
BEGIN:VEVENT
DTSTART;TZID=UTC:20261017T090000
DTEND;TZID=UTC:20261017T090000
DTSTAMP:20260422T224040
CREATED:20260110T165511Z
LAST-MODIFIED:20260419T111835Z
UID:10004172-1792227600-1792227600@gunstuff.tv
SUMMARY:Appleseed
DESCRIPTION:Abbottstown\, PA – York & Adams Game & Fish Association\nOctober 17\, 2026 – October 18\, 2026\nThis is a traditional 25m Project Appleseed rifle event.\nBoth Centerfire and 22 Rimfire rifles are allowed at this event.\nRegister Now\nAddress: 413 Country Club Road\, Abbottstown\, PA 17301\nWebsite: www.yorkadamsgameandfish.com\nPlease Read:  How to Prepare for an Event\nSafety Notice:\n–  Keep ALL firearms in your vehicle until after the safety briefing and you are instructed to bring them to the firing line.\n–  No illegal firearms are allowed.\n–  At centerfire-friendly ranges\, rifle cartridges are limited to 8mm (rifle) or .45 caliber (pistol and pistol caliber carbines).\n–  Effective 8/8/2025\, Project Appleseed has temporarily suspended the SIG-Sauer P320/M17/M18 (all variants) in our Pistol Clinics.\n–  Parents of youth attending\, please read our Message to Parents.\nSubject to state and local laws\, Instructors at your event may have discounted .22 ammo available. Reach out to the contact at the bottom of this page for availability.\nRange Fee:  $10 per person per event. Youth and active duty military exempt.\nCamping Available:\nHotels:\nDirections:\nGPS: 39.875565\,-76.975839\nState Laws to be aware of:\nIt is the responsibility of attendees to know and comply with all State and Federal Firearms Laws.\nPennsylvania State Firearms Laws\nMisc:\nFor more information contact:\nName: PA State Coordinator Email Address: PA@appleseedinfo.org
URL:https://gunstuff.tv/event/appleseed-176/
LOCATION:York & Adams Game & Fish Association\, 399 Country Club Rd\, Abbottstown\, PA\, United States
GEO:39.882795;-76.978355
X-APPLE-STRUCTURED-LOCATION;VALUE=URI;X-ADDRESS=York & Adams Game & Fish Association 399 Country Club Rd Abbottstown PA United States;X-APPLE-RADIUS=500;X-TITLE=399 Country Club Rd:geo:-76.978355,39.882795
END:VEVENT
END:VCALENDAR