BEGIN:VCALENDAR
VERSION:2.0
PRODID:-//GunStuff TV - ECPv6.15.20//NONSGML v1.0//EN
CALSCALE:GREGORIAN
METHOD:PUBLISH
X-WR-CALNAME:GunStuff TV
X-ORIGINAL-URL:https://gunstuff.tv
X-WR-CALDESC:Events for GunStuff TV
REFRESH-INTERVAL;VALUE=DURATION:PT1H
X-Robots-Tag:noindex
X-PUBLISHED-TTL:PT1H
BEGIN:VTIMEZONE
TZID:America/New_York
BEGIN:DAYLIGHT
TZOFFSETFROM:-0500
TZOFFSETTO:-0400
TZNAME:EDT
DTSTART:20250309T070000
END:DAYLIGHT
BEGIN:STANDARD
TZOFFSETFROM:-0400
TZOFFSETTO:-0500
TZNAME:EST
DTSTART:20251102T060000
END:STANDARD
BEGIN:DAYLIGHT
TZOFFSETFROM:-0500
TZOFFSETTO:-0400
TZNAME:EDT
DTSTART:20260308T070000
END:DAYLIGHT
BEGIN:STANDARD
TZOFFSETFROM:-0400
TZOFFSETTO:-0500
TZNAME:EST
DTSTART:20261101T060000
END:STANDARD
BEGIN:DAYLIGHT
TZOFFSETFROM:-0500
TZOFFSETTO:-0400
TZNAME:EDT
DTSTART:20270314T070000
END:DAYLIGHT
BEGIN:STANDARD
TZOFFSETFROM:-0400
TZOFFSETTO:-0500
TZNAME:EST
DTSTART:20271107T060000
END:STANDARD
END:VTIMEZONE
BEGIN:VTIMEZONE
TZID:UTC
BEGIN:STANDARD
TZOFFSETFROM:+0000
TZOFFSETTO:+0000
TZNAME:UTC
DTSTART:20250101T000000
END:STANDARD
END:VTIMEZONE
BEGIN:VTIMEZONE
TZID:America/Los_Angeles
BEGIN:DAYLIGHT
TZOFFSETFROM:-0800
TZOFFSETTO:-0700
TZNAME:PDT
DTSTART:20250309T100000
END:DAYLIGHT
BEGIN:STANDARD
TZOFFSETFROM:-0700
TZOFFSETTO:-0800
TZNAME:PST
DTSTART:20251102T090000
END:STANDARD
BEGIN:DAYLIGHT
TZOFFSETFROM:-0800
TZOFFSETTO:-0700
TZNAME:PDT
DTSTART:20260308T100000
END:DAYLIGHT
BEGIN:STANDARD
TZOFFSETFROM:-0700
TZOFFSETTO:-0800
TZNAME:PST
DTSTART:20261101T090000
END:STANDARD
BEGIN:DAYLIGHT
TZOFFSETFROM:-0800
TZOFFSETTO:-0700
TZNAME:PDT
DTSTART:20270314T100000
END:DAYLIGHT
BEGIN:STANDARD
TZOFFSETFROM:-0700
TZOFFSETTO:-0800
TZNAME:PST
DTSTART:20271107T090000
END:STANDARD
END:VTIMEZONE
BEGIN:VTIMEZONE
TZID:America/Chicago
BEGIN:DAYLIGHT
TZOFFSETFROM:-0600
TZOFFSETTO:-0500
TZNAME:CDT
DTSTART:20250309T080000
END:DAYLIGHT
BEGIN:STANDARD
TZOFFSETFROM:-0500
TZOFFSETTO:-0600
TZNAME:CST
DTSTART:20251102T070000
END:STANDARD
BEGIN:DAYLIGHT
TZOFFSETFROM:-0600
TZOFFSETTO:-0500
TZNAME:CDT
DTSTART:20260308T080000
END:DAYLIGHT
BEGIN:STANDARD
TZOFFSETFROM:-0500
TZOFFSETTO:-0600
TZNAME:CST
DTSTART:20261101T070000
END:STANDARD
BEGIN:DAYLIGHT
TZOFFSETFROM:-0600
TZOFFSETTO:-0500
TZNAME:CDT
DTSTART:20270314T080000
END:DAYLIGHT
BEGIN:STANDARD
TZOFFSETFROM:-0500
TZOFFSETTO:-0600
TZNAME:CST
DTSTART:20271107T070000
END:STANDARD
END:VTIMEZONE
BEGIN:VTIMEZONE
TZID:America/Phoenix
BEGIN:STANDARD
TZOFFSETFROM:-0700
TZOFFSETTO:-0700
TZNAME:MST
DTSTART:20250101T000000
END:STANDARD
END:VTIMEZONE
BEGIN:VEVENT
DTSTART;TZID=America/New_York:20260513T153000
DTEND;TZID=America/New_York:20260513T173000
DTSTAMP:20260419T190517
CREATED:20251228T204644Z
LAST-MODIFIED:20260111T210132Z
UID:10003675-1778686200-1778693400@gunstuff.tv
SUMMARY:CamCo Clay Crushers Practice
DESCRIPTION:*Please dress appropriately for the weather conditions\, layers are a great idea!**Follow the Facebook page (Cameron County Clay Crushers) for all up to date information.***Any questions please contact Coach Mike 814-203-2624 or Coach Sabrina 814-203-2590.
URL:https://gunstuff.tv/event/camco-clay-crushers-practice-11/
LOCATION:523 Sizer Run Rd\, Emporium\, PA\, United States
GEO:41.51031;-78.23157
END:VEVENT
BEGIN:VEVENT
DTSTART;TZID=UTC:20260513T164500
DTEND;TZID=UTC:20260513T164500
DTSTAMP:20260419T190517
CREATED:20260121T014635Z
LAST-MODIFIED:20260401T070141Z
UID:10004636-1778690700-1778690700@gunstuff.tv
SUMMARY:Bass River Weds Nite Steel
DESCRIPTION:Bass River Weds Nite Steel\nDate: 5/13/26\nStart Time: 4:45 PM\nLocation:\nBass River Rod & Gun Club (SCSA467)\nBass River Rod &Gun 620 Rt. 6A\nYarmouthport\, MA\nEvent Contact Information\nTimothy J Kent\n5082372137\ntjkent@comcast.net\nEvent Website\nhttps://www.bassriverrodandgun.com/
URL:https://gunstuff.tv/event/bass-river-weds-nite-steel-3/
LOCATION:Bass River Rod & Gun Club (SCSA467)\, 79 State Rte 6 Alt\, Dennis\, MA\, United States
GEO:41.721025;-70.196653
X-APPLE-STRUCTURED-LOCATION;VALUE=URI;X-ADDRESS=Bass River Rod & Gun Club (SCSA467) 79 State Rte 6 Alt Dennis MA United States;X-APPLE-RADIUS=500;X-TITLE=79 State Rte 6 Alt:geo:-70.196653,41.721025
END:VEVENT
BEGIN:VEVENT
DTSTART;TZID=America/Los_Angeles:20260513T170000
DTEND;TZID=America/Los_Angeles:20260513T220000
DTSTAMP:20260419T190517
CREATED:20260111T220128Z
LAST-MODIFIED:20260405T223147Z
UID:10004419-1778691600-1778709600@gunstuff.tv
SUMMARY:MOORE N MOORE - NIGHT SHOOT & BBQ
DESCRIPTION:For more information\, contact Moore N Moore at https://www.moorenmoore.com/night-shooting/
URL:https://gunstuff.tv/event/moore-n-moore-night-shoot-bbq-30/
LOCATION:Moore N Moore Sporting Clays\, 12653 Little Tujunga Canyon Rd\, Sylmar\, CA\, United States
CATEGORIES:Moore N Moore
ATTACH;FMTTYPE=image/png:https://gunstuff.tv/wp-content/uploads/2025/10/image-pjjZEf.png
ORGANIZER;CN="Moore N Moore Sporting Clays":MAILTO:info@moorenmoore.com
GEO:34.282317;-118.371281
X-APPLE-STRUCTURED-LOCATION;VALUE=URI;X-ADDRESS=Moore N Moore Sporting Clays 12653 Little Tujunga Canyon Rd Sylmar CA United States;X-APPLE-RADIUS=500;X-TITLE=12653 Little Tujunga Canyon Rd:geo:-118.371281,34.282317
END:VEVENT
BEGIN:VEVENT
DTSTART;TZID=America/Chicago:20260513T173000
DTEND;TZID=America/Chicago:20260513T190000
DTSTAMP:20260419T190517
CREATED:20260414T024739Z
LAST-MODIFIED:20260414T024739Z
UID:10007490-1778693400-1778698800@gunstuff.tv
SUMMARY:Ladies Night
DESCRIPTION:  \nLadies Night\nJoin with other like-minded ladies for night of shooting\, instruction\, and drinks! Shoot sporting clays and a 5-stand flurry with free professional instruction from our trainers and then afterwards relax with a few glasses of 12 Gauge Cabernet or 20 Gauge Chardonnay! \nCost\n$50 and includes shooting\, instruction\, gun rental (if needed) and drinks. \n\n\nLocation:\n\nDefender Outdoors • 8270 Aledo Rd. • Fort Worth\, TX 76126\n\n\n  \n\nQuestions? Please Email jessica@defenderoutdoors.com \n\n\n 
URL:https://gunstuff.tv/event/ladies-night-3/
LOCATION:Clay Sports Ranch\, 8270 Aledo Road\, Fort Worth\, TX\, 76126\, United States
CATEGORIES:Clay Sports Ranch Events
ATTACH;FMTTYPE=image/jpeg:https://gunstuff.tv/wp-content/uploads/2026/03/Ladies-Night-2026-QR-Added-scaled-sRVcKp-hsuq7N.jpg
ORGANIZER;CN="Defender Outdoors Clay Sports Ranch":MAILTO:jessica@defenderoutdoors.com
END:VEVENT
BEGIN:VEVENT
DTSTART;TZID=America/New_York:20260513T190000
DTEND;TZID=America/New_York:20260513T210000
DTSTAMP:20260419T190517
CREATED:20251207T181649Z
LAST-MODIFIED:20260412T184742Z
UID:10003452-1778698800-1778706000@gunstuff.tv
SUMMARY:Wednesday Night Trap League
DESCRIPTION:https://www.fxrgc.org/shotgun/wednesday-night-trap-league/ \nShotgun Fields 1-8.
URL:https://gunstuff.tv/event/wednesday-night-trap-league-17/
LOCATION:Fields 1-8
END:VEVENT
BEGIN:VEVENT
DTSTART;VALUE=DATE:20260514
DTEND;VALUE=DATE:20260515
DTSTAMP:20260419T190517
CREATED:20251003T160028Z
LAST-MODIFIED:20260412T043230Z
UID:10000968-1778716800-1778803199@gunstuff.tv
SUMMARY:1000 Yard Practice 6:30am Pits
DESCRIPTION:
URL:https://gunstuff.tv/event/1000-yard-practice-630am-pits/
LOCATION:CO
END:VEVENT
BEGIN:VEVENT
DTSTART;TZID=America/Los_Angeles:20260514T090000
DTEND;TZID=America/Los_Angeles:20260514T120000
DTSTAMP:20260419T190517
CREATED:20260417T194738Z
LAST-MODIFIED:20260417T194803Z
UID:10008022-1778749200-1778760000@gunstuff.tv
SUMMARY:Airgun & 22LR Thursdays
DESCRIPTION:Fun Airgun AND .22 LR from NOON ONWARD…  session at the MPR- look for the big red flag on the pole that says “MPR”- that’s us! \nOpen to public\, airguns .30 cal and below AND .22 LR. Benches available\, targets and stands\, 200 yard range. Good group of people. \nAll types of Airguns- springers\, PCP’s\, Pistols.\nAll Types of .22 LR – Rifle and Pistol. \nEye protection required\, ear required \n$15 Guest\n$10 for Diablo members (did you know Diablo membership is only $25 a year?)\n$5 for those special few that have purchased a USI VIP card.\nYouths accompanied by a Club member adult shoot free.\n \n\nUSI waiver must signed prior to shoot\, you can do so prior to attending: \n\n\nWaiver \n\n\nContact: \nSam Russo \nthePelleteer@gmail.com \n 
URL:https://gunstuff.tv/event/airgun-22lr-thursdays-31/
LOCATION:USI Multi Purpose Range\, 4700 Evora Road\, Concord\, CA\, 94520
CATEGORIES:.22lr Shooting,Airgun
ATTACH;FMTTYPE=image/jpeg:https://gunstuff.tv/wp-content/uploads/2025/10/222-YduOUz.jpg
ORGANIZER;CN="Sam Russo":MAILTO:airgun_fieldtarget@diablorodandgun.com
END:VEVENT
BEGIN:VEVENT
DTSTART;TZID=America/Los_Angeles:20260514T130000
DTEND;TZID=America/Los_Angeles:20260514T180000
DTSTAMP:20260419T190517
CREATED:20260118T221638Z
LAST-MODIFIED:20260405T223146Z
UID:10004601-1778763600-1778781600@gunstuff.tv
SUMMARY:RIFLE SIDE RANGE CLOSED
DESCRIPTION:NOT OPEN TO THE PUBLIC AFTER 1:00 P. M.
URL:https://gunstuff.tv/event/rifle-side-range-closed-10/
LOCATION:California
END:VEVENT
BEGIN:VEVENT
DTSTART;TZID=America/Los_Angeles:20260514T140000
DTEND;TZID=America/Los_Angeles:20260514T170000
DTSTAMP:20260419T190517
CREATED:20260417T194738Z
LAST-MODIFIED:20260417T194805Z
UID:10008023-1778767200-1778778000@gunstuff.tv
SUMMARY:Action Pistol – 2nd/4th Thu Practice
DESCRIPTION:Range fee: \n\n$10  ($5 if you are a USI Access Card/VIP Card holder)\nBring exact change.\n\nPlease note: \n\nThe number of practice bays available may be impacted by competition stage setup needs.
URL:https://gunstuff.tv/event/action-pistol-2nd-4th-thu-practice-14/
LOCATION:Action Pistol Range\, 4700 Evora Road\, Concord\, CA\, 94520
CATEGORIES:Diablo Action Pistol
ATTACH;FMTTYPE=image/png:https://gunstuff.tv/wp-content/uploads/2025/10/White-bg_transparent-daplogo-e1547014989540-HGFVH2.png
ORGANIZER;CN="Blade Benson":MAILTO:matchsupport@diabloactionpistol.com
GEO:42.705297;-83.4014
X-APPLE-STRUCTURED-LOCATION;VALUE=URI;X-ADDRESS=Action Pistol Range 4700 Evora Road Concord CA 94520;X-APPLE-RADIUS=500;X-TITLE=4700 Evora Road:geo:-83.4014,42.705297
END:VEVENT
BEGIN:VEVENT
DTSTART;TZID=America/New_York:20260514T160000
DTEND;TZID=America/New_York:20260514T190000
DTSTAMP:20260419T190517
CREATED:20251228T204644Z
LAST-MODIFIED:20260111T210132Z
UID:10003676-1778774400-1778785200@gunstuff.tv
SUMMARY:CamCo Clay Crushers Meet at Coudersport (Black Forest)
DESCRIPTION:  *Please dress appropriately for the weather conditions\, layers are a great idea!**Follow the Facebook page (Cameron County Clay Crushers) for all up to date information.***Any questions please contact Coach Mike 814-203-2624 or Coach Sabrina 814-203-2590.
URL:https://gunstuff.tv/event/camco-clay-crushers-meet-at-coudersport-black-forest/
LOCATION:Back Road\, 2 Back Rd\, Coudersport\, PA\, United States
GEO:41.740339;-77.991419
X-APPLE-STRUCTURED-LOCATION;VALUE=URI;X-ADDRESS=Back Road 2 Back Rd Coudersport PA United States;X-APPLE-RADIUS=500;X-TITLE=2 Back Rd:geo:-77.991419,41.740339
END:VEVENT
BEGIN:VEVENT
DTSTART;TZID=America/New_York:20260514T180000
DTEND;TZID=America/New_York:20260514T213000
DTSTAMP:20260419T190517
CREATED:20260414T021633Z
LAST-MODIFIED:20260414T021701Z
UID:10007477-1778781600-1778794200@gunstuff.tv
SUMMARY:USPSA Match Night – Mountain City Practical Shooters
DESCRIPTION:Weekly USPSA Level 1 Match hosted by Mountain City Practical Shooters. \nLocation: Appalachian Gun\, Pawn & Range \n140 Shelby Ln\, Jasper\, GA 30143 \nArrive: 6:00 PM (New Shooter Briefing) \nFirst Shots: 6:30 PM \nMatch Fee: $20 \nOpen to new and experienced shooters. Come learn\, compete\, and have fun in a safe\, supportive environment. \n\n\n\n\nSchedule subject to change due to weather\, and holidays. \n\n\n 
URL:https://gunstuff.tv/event/uspsa-match-night-mountain-city-practical-shooters-14/
LOCATION:Appalacian Gun\, Pawn & Range\, 140 Shelby Ln.\, Jasper\, GA\, 30143\, United States
CATEGORIES:firearm-safety,Safe Gun
ORGANIZER;CN="Appalachian Gun":MAILTO:Appalachiangun@gmail.com
END:VEVENT
BEGIN:VEVENT
DTSTART;TZID=America/Chicago:20260514T190000
DTEND;TZID=America/Chicago:20260514T200000
DTSTAMP:20260419T190517
CREATED:20251003T035716Z
LAST-MODIFIED:20260414T221629Z
UID:10000826-1778785200-1778788800@gunstuff.tv
SUMMARY:South Suburban Cook County Townhall Meeting
DESCRIPTION:Come out and join your friends at the ISRA South Suburban Cook County Townhall meeting from 7 pm-8 pm. As always\, we will discuss current events.\nOur host Papa Joe’s Restaurant will be serving a buffet-style dinner with unlimited soft drinks starting at 6:15 pm.\nThe cost of the buffet is $17.\nCome join us and enjoy great food and company and help support our gracious host\, Papa Joe’s Restaurant.
URL:https://gunstuff.tv/event/south-suburban-cook-county-grass-roots-meeting-8/
LOCATION:Papa Joe’s Restaurant – Orland Park\, 14459 la Grange Rd\, Orland Park\, IL\, United States
CATEGORIES:Event Calendar
GEO:41.627517;-87.853783
X-APPLE-STRUCTURED-LOCATION;VALUE=URI;X-ADDRESS=Papa Joe’s Restaurant – Orland Park 14459 la Grange Rd Orland Park IL United States;X-APPLE-RADIUS=500;X-TITLE=14459 la Grange Rd:geo:-87.853783,41.627517
END:VEVENT
BEGIN:VEVENT
DTSTART;TZID=America/New_York:20260514T190000
DTEND;TZID=America/New_York:20260514T220000
DTSTAMP:20260419T190517
CREATED:20260412T184742Z
LAST-MODIFIED:20260412T184742Z
UID:10007454-1778785200-1778796000@gunstuff.tv
SUMMARY:Doerflein Skeet League
DESCRIPTION:Doerflein Skeet League
URL:https://gunstuff.tv/event/doerflein-skeet-league-22/
LOCATION:Shotgun Fields
END:VEVENT
BEGIN:VEVENT
DTSTART;VALUE=DATE:20260515
DTEND;VALUE=DATE:20260516
DTSTAMP:20260419T190517
CREATED:20251003T160028Z
LAST-MODIFIED:20260412T043229Z
UID:10000967-1778803200-1778889599@gunstuff.tv
SUMMARY:Across the Course Practice 6:30am Pits
DESCRIPTION:
URL:https://gunstuff.tv/event/across-the-course-practice-630am-pits-3/
LOCATION:CO
END:VEVENT
BEGIN:VEVENT
DTSTART;VALUE=DATE:20260515
DTEND;VALUE=DATE:20260516
DTSTAMP:20260419T190517
CREATED:20260213T031056Z
LAST-MODIFIED:20260410T034659Z
UID:10005230-1778803200-1778889599@gunstuff.tv
SUMMARY:Competition Bays closed for USPSA set up
DESCRIPTION:
URL:https://gunstuff.tv/event/competition-bays-closed-for-uspsa-set-up-4/
LOCATION:CO
END:VEVENT
BEGIN:VEVENT
DTSTART;TZID=UTC:20260515T090000
DTEND;TZID=UTC:20260515T090000
DTSTAMP:20260419T190517
CREATED:20251031T195552Z
LAST-MODIFIED:20260415T070235Z
UID:10002824-1778835600-1778835600@gunstuff.tv
SUMMARY:Pennsylvania State Steel Challenge Championship 2026
DESCRIPTION:Pennsylvania State Steel Challenge Championship 2026\nMatch Status: Approved by DNROI\nMatch Starts on May 15\, 2026\nMatch will end May 17\, 2026\nMatch Location:\nPricetown Rifle &Pistol Club\n100 Club Lane\nFleetwood\, PA 19522\nManaged by:\nPricetown Rifle &Pistol Club\nStage Count: 6\nRound Count: 150\nMatch Entry Fee: $50.00\nMatch Director: Ben Dumbrowsky\nRange Master: Kurt Omensetter\nAdditional Details\nRegister!\nhttps://practiscore.com/pennsylvania-state-steel-challenge-championship-2026/register
URL:https://gunstuff.tv/event/pennsylvania-state-steel-challenge-championship-2026/
LOCATION:Pricetown Rifle &Pistol Club\, 98 Club Ln\, Fleetwood\, PA\, United States
GEO:40.4272;-75.860298
X-APPLE-STRUCTURED-LOCATION;VALUE=URI;X-ADDRESS=Pricetown Rifle &Pistol Club 98 Club Ln Fleetwood PA United States;X-APPLE-RADIUS=500;X-TITLE=98 Club Ln:geo:-75.860298,40.4272
END:VEVENT
BEGIN:VEVENT
DTSTART;TZID=America/Los_Angeles:20260515T090000
DTEND;TZID=America/Los_Angeles:20260515T170000
DTSTAMP:20260419T190517
CREATED:20260417T194738Z
LAST-MODIFIED:20260417T194805Z
UID:10008024-1778835600-1778864400@gunstuff.tv
SUMMARY:Action Pistol – RO Practice
DESCRIPTION:This practice is for Diablo Range Officers only.  Do not show up if you are not a Diablo Range Officer.
URL:https://gunstuff.tv/event/action-pistol-ro-practice-32/
LOCATION:Action Pistol Range\, 4700 Evora Road\, Concord\, CA\, 94520
CATEGORIES:Diablo Action Pistol
ATTACH;FMTTYPE=image/jpeg:https://gunstuff.tv/wp-content/uploads/2025/10/range_officer-e1638567606101-fR8pOy.jpg
ORGANIZER;CN="Blade Benson":MAILTO:matchsupport@diabloactionpistol.com
GEO:42.705297;-83.4014
X-APPLE-STRUCTURED-LOCATION;VALUE=URI;X-ADDRESS=Action Pistol Range 4700 Evora Road Concord CA 94520;X-APPLE-RADIUS=500;X-TITLE=4700 Evora Road:geo:-83.4014,42.705297
END:VEVENT
BEGIN:VEVENT
DTSTART;TZID=America/New_York:20260515T153000
DTEND;TZID=America/New_York:20260515T173000
DTSTAMP:20260419T190517
CREATED:20251228T204645Z
LAST-MODIFIED:20260414T083128Z
UID:10003678-1778859000-1778866200@gunstuff.tv
SUMMARY:CamCo Clay Crushers Practice
DESCRIPTION:*Please dress appropriately for the weather conditions\, layers are a great idea!**Follow the Facebook page (Cameron County Clay Crushers) for all up to date information.***Any questions please contact Coach Mike 814-203-2624 or Coach Sabrina 814-203-2590.
URL:https://gunstuff.tv/event/camco-clay-crushers-practice-12/
LOCATION:523 Sizer Run Rd\, Emporium\, PA\, United States
GEO:41.51031;-78.23157
END:VEVENT
BEGIN:VEVENT
DTSTART;VALUE=DATE:20260516
DTEND;VALUE=DATE:20260517
DTSTAMP:20260419T190517
CREATED:20251003T160029Z
LAST-MODIFIED:20260412T043230Z
UID:10000969-1778889600-1778975999@gunstuff.tv
SUMMARY:1000 Yard Practice 6:30am Pits
DESCRIPTION:
URL:https://gunstuff.tv/event/1000-yard-practice-630am-pits-2/
LOCATION:CO
END:VEVENT
BEGIN:VEVENT
DTSTART;VALUE=DATE:20260516
DTEND;VALUE=DATE:20260517
DTSTAMP:20260419T190517
CREATED:20251005T190547Z
LAST-MODIFIED:20260412T203314Z
UID:10001716-1778889600-1778975999@gunstuff.tv
SUMMARY:TX Dove Hunters
DESCRIPTION:Sporting Clays Shoot \nSee event flyer
URL:https://gunstuff.tv/event/tx-dove-hunters/
LOCATION:CO
END:VEVENT
BEGIN:VEVENT
DTSTART;VALUE=DATE:20260516
DTEND;VALUE=DATE:20260517
DTSTAMP:20260419T190517
CREATED:20260213T031056Z
LAST-MODIFIED:20260410T034659Z
UID:10005231-1778889600-1778975999@gunstuff.tv
SUMMARY:USPSA Pistol Match
DESCRIPTION:USPSA (United States Practical ShootingAssociation) Pistol Match: Practical Shooting measures the shooter’s ability toshoot rapidly and accurately through obstacle-laden courses. The shooter moves\,negotiates\, runs\, covers\, and speed reloads through the stage as fast as theirskill will allow.  If this fast paced shooting sounds like fun\, come outand give it a try. Show up with an unloaded centerfire pistol in .38\, 9mm\, .40\,or .45 in an enclosed case and ask a match official where the safe area is soyou can holster your gun safely.  Also bring a rigid holster\, magazines\,and mag pouches capable of holding at least 32 rounds.  Overall matchround counts are usually between 100 and 150 rounds.  Specific divisionrequirements can be found at http://uspsa.org.  Starts at 9:30 AM and costwill be $20 ($15 for Pinetucky members\, active duty military\, police\, andfire). You can sign up at practiscore.com
URL:https://gunstuff.tv/event/uspsa-pistol-match-4/
LOCATION:Pinetucky Gun Club\, 2096 Greenland Rd\, Blythe\, GA\, United States
GEO:33.344103;-82.138722
X-APPLE-STRUCTURED-LOCATION;VALUE=URI;X-ADDRESS=Pinetucky Gun Club 2096 Greenland Rd Blythe GA United States;X-APPLE-RADIUS=500;X-TITLE=2096 Greenland Rd:geo:-82.138722,33.344103
END:VEVENT
BEGIN:VEVENT
DTSTART;TZID=UTC:20260516T010000
DTEND;TZID=UTC:20260516T010000
DTSTAMP:20260419T190517
CREATED:20260306T113133Z
LAST-MODIFIED:20260410T113136Z
UID:10006162-1778893200-1778893200@gunstuff.tv
SUMMARY:WLPS May USPSA Practical
DESCRIPTION:WLPS May USPSA Practical\nDates : 5/16/26 – 5/17/26\nStart Time: 1:00 AM\nLocation:\nWest Liberty Practical Shooters (IA10)\n1461 121st Street\nWest Liberty\, IA\nEvent Contact Information\nIan Wicke\n319-330-9476\nikwicke@gmail.com\nMatch Information\nRegister online at Practiscore: https://practiscore.com/clubs/west-liberty-practical-shooters\nEvent Website\nhttps://www.westlibertygunclub.org/calendar
URL:https://gunstuff.tv/event/wlps-may-uspsa-practical/
LOCATION:West Liberty Practical Shooters (IA10)\, 1461 121st St\, West Liberty\, IA\, United States
GEO:41.567392;-91.283002
X-APPLE-STRUCTURED-LOCATION;VALUE=URI;X-ADDRESS=West Liberty Practical Shooters (IA10) 1461 121st St West Liberty IA United States;X-APPLE-RADIUS=500;X-TITLE=1461 121st St:geo:-91.283002,41.567392
END:VEVENT
BEGIN:VEVENT
DTSTART;TZID=UTC:20260516T080000
DTEND;TZID=UTC:20260516T080000
DTSTAMP:20260419T190517
CREATED:20260114T013230Z
LAST-MODIFIED:20260401T070141Z
UID:10004480-1778918400-1778918400@gunstuff.tv
SUMMARY:Lone Star Shooters Steel Challenge 5/16/26
DESCRIPTION:Lone Star Shooters Steel Challenge 5/16/26\nDate: 5/16/26\nStart Time: 8:00 AM\nLocation:\nLone Star Shooters Club (SCSA445)\n2152 County Road 388\nCleveland\, TX\nEvent Contact Information\nJuan Rendon\n2817705259\nqm@lonestarshootersclub.org\nEvent Website\nhttps://www.practiscore.com/lone-star-shooters-steel-challenge-5-16-25/register
URL:https://gunstuff.tv/event/lone-star-shooters-steel-challenge-5-16-26/
LOCATION:Lone Star Shooters Club (SCSA445)\, 1598 Co Rd 388\, Cleveland\, TX\, United States
GEO:30.35539;-95.117084
X-APPLE-STRUCTURED-LOCATION;VALUE=URI;X-ADDRESS=Lone Star Shooters Club (SCSA445) 1598 Co Rd 388 Cleveland TX United States;X-APPLE-RADIUS=500;X-TITLE=1598 Co Rd 388:geo:-95.117084,30.35539
END:VEVENT
BEGIN:VEVENT
DTSTART;TZID=UTC:20260516T080000
DTEND;TZID=UTC:20260516T080000
DTSTAMP:20260419T190517
CREATED:20260304T061636Z
LAST-MODIFIED:20260401T070141Z
UID:10006080-1778918400-1778918400@gunstuff.tv
SUMMARY:Bandera Steel Challenge
DESCRIPTION:Bandera Steel Challenge\nDate: 5/16/26\nStart Time: 8:00 AM\nLocation:\nBandera Steel Challenge (SCSA516)\n809 FM 1077\nBandera\, TX\nEvent Contact Information\nTim Reedy\n2102873785\nbandera.steel.match@gmail.com\nMatch Information\nOnline payment now accepted!\nIf shooting 2 guns\, put each division after your last name (I.e. Reedy CO\, Reedy RFPO)\nWe will shoot 6 official classifier stages. I will upload results to SCSA.\n* Setup @ 7:30\, Signup @ 8\, New Shooter’s meeting @ 8:40\, Start @9:00\n* Check in at Bay 3\, even if you paid online.\n* First-timers need to attend the “New Shooters’ Meeting” held in Bay 2 about 20 minutes before the match starts.\n* We will shoot 4 stages and after a quick reconfiguration\, shoot the other 2 stages.\nGear:\n* Pistols: Non-collapsing belt holster positioned on or in front of your hips. (No small of back\, or cross-draw allowed).\n* Enough magazines to hold 30 rounds\n* ~200 rounds of ammunition (It’s 150 if you don’t miss)\n* Eye and ear protection.\nPrices:\n* General Public. – $30\n* Bandera Gun Club Member -$20\n* Active Duty LEO or MIL – $20\n* 2nd Gun (2 registrations) – $10\nEvent Website\nhttps://practiscore.com/clubs/bandera_steel
URL:https://gunstuff.tv/event/bandera-steel-challenge-5/
LOCATION:Bandera Steel Challenge (SCSA516)\, Bandera\, TX\, United States
GEO:29.724328;-99.104014
END:VEVENT
BEGIN:VEVENT
DTSTART;TZID=America/New_York:20260516T080000
DTEND;TZID=America/New_York:20260516T130000
DTSTAMP:20260419T190517
CREATED:20260328T214629Z
LAST-MODIFIED:20260411T214630Z
UID:10006577-1778918400-1778936400@gunstuff.tv
SUMMARY:Work Party
DESCRIPTION:Volunteering Members receive partial refund for next year’s dues in September per Policy see web site for details.
URL:https://gunstuff.tv/event/work-party-2/
LOCATION:Ranges
END:VEVENT
BEGIN:VEVENT
DTSTART;TZID=America/Chicago:20260516T080000
DTEND;TZID=America/Chicago:20260516T150000
DTSTAMP:20260419T190517
CREATED:20260417T054700Z
LAST-MODIFIED:20260417T054817Z
UID:10008014-1778918400-1778943600@gunstuff.tv
SUMMARY:Tyler Ducks Unlimited Shoot
DESCRIPTION:This shoot will take place on one of our three sporting clay courses. The remaining two courses will be unaffected and be open to the public.
URL:https://gunstuff.tv/event/tyler-ducks-unlimited-shoot/
LOCATION:5H Shooting Sports\, 19105 Co Rd 4235\, Frankston\, TX\, United States
END:VEVENT
BEGIN:VEVENT
DTSTART;TZID=America/Los_Angeles:20260516T080000
DTEND;TZID=America/Los_Angeles:20260516T150000
DTSTAMP:20260419T190517
CREATED:20260417T194739Z
LAST-MODIFIED:20260417T194805Z
UID:10008025-1778918400-1778943600@gunstuff.tv
SUMMARY:Ladies Class
DESCRIPTION:Sign up at Practiscore.com
URL:https://gunstuff.tv/event/ladies-class-3/
LOCATION:Action Pistol Range\, 4700 Evora Road\, Concord\, CA\, 94520
CATEGORIES:Ladies Shooting Sports
GEO:42.705297;-83.4014
X-APPLE-STRUCTURED-LOCATION;VALUE=URI;X-ADDRESS=Action Pistol Range 4700 Evora Road Concord CA 94520;X-APPLE-RADIUS=500;X-TITLE=4700 Evora Road:geo:-83.4014,42.705297
END:VEVENT
BEGIN:VEVENT
DTSTART;TZID=America/New_York:20260516T080000
DTEND;TZID=America/New_York:20260516T160000
DTSTAMP:20260419T190517
CREATED:20251003T162535Z
LAST-MODIFIED:20260412T184742Z
UID:10001254-1778918400-1778947200@gunstuff.tv
SUMMARY:High Power Rifle Match
DESCRIPTION:Details here: https://www.fxrgc.org/rifle/high-power-rifle-spring-league/
URL:https://gunstuff.tv/event/high-power-rifle-match-15/
LOCATION:Benson Range
END:VEVENT
BEGIN:VEVENT
DTSTART;TZID=America/Chicago:20260516T080000
DTEND;TZID=America/Chicago:20260516T170000
DTSTAMP:20260419T190517
CREATED:20251102T201640Z
LAST-MODIFIED:20260412T211742Z
UID:10002864-1778918400-1778950800@gunstuff.tv
SUMMARY:NSCA Crawfish Boil & Shoot 2026
DESCRIPTION:
URL:https://gunstuff.tv/event/nsca-crawfish-boil-shoot-2026/
LOCATION:Austin Gun Club\, 1999 S Key Ave\, Lampasas\, TX\, United States
CATEGORIES:NSCA Registered Shoot
ATTACH;FMTTYPE=image/png:https://gunstuff.tv/wp-content/uploads/2026/03/5.16.26-Carwfish-Boil-Flyer-Header.2-58Nxex.png
GEO:31.050454;-98.174788
X-APPLE-STRUCTURED-LOCATION;VALUE=URI;X-ADDRESS=Austin Gun Club 1999 S Key Ave Lampasas TX United States;X-APPLE-RADIUS=500;X-TITLE=1999 S Key Ave:geo:-98.174788,31.050454
END:VEVENT
BEGIN:VEVENT
DTSTART;TZID=America/New_York:20260516T083000
DTEND;TZID=America/New_York:20260516T143000
DTSTAMP:20260419T190517
CREATED:20251003T031215Z
LAST-MODIFIED:20260410T070129Z
UID:10000623-1778920200-1778941800@gunstuff.tv
SUMMARY:PMRPC Rimfire Match
DESCRIPTION:For more information you may contact the match director: James Sudduth at j.sudduth@ymail.com.
URL:https://gunstuff.tv/event/pmrpc-rimfire-match-8/
LOCATION:Port Malabar Rifle & Pistol Club\, 599 Hurley Blvd SW\, Palm Bay\, FL\, United States
GEO:27.987569;-80.71018
X-APPLE-STRUCTURED-LOCATION;VALUE=URI;X-ADDRESS=Port Malabar Rifle & Pistol Club 599 Hurley Blvd SW Palm Bay FL United States;X-APPLE-RADIUS=500;X-TITLE=599 Hurley Blvd SW:geo:-80.71018,27.987569
END:VEVENT
END:VCALENDAR