BEGIN:VCALENDAR
VERSION:2.0
PRODID:-//GunStuff TV - ECPv6.15.20//NONSGML v1.0//EN
CALSCALE:GREGORIAN
METHOD:PUBLISH
X-ORIGINAL-URL:https://gunstuff.tv
X-WR-CALDESC:Events for GunStuff TV
REFRESH-INTERVAL;VALUE=DURATION:PT1H
X-Robots-Tag:noindex
X-PUBLISHED-TTL:PT1H
BEGIN:VTIMEZONE
TZID:America/New_York
BEGIN:DAYLIGHT
TZOFFSETFROM:-0500
TZOFFSETTO:-0400
TZNAME:EDT
DTSTART:20250309T070000
END:DAYLIGHT
BEGIN:STANDARD
TZOFFSETFROM:-0400
TZOFFSETTO:-0500
TZNAME:EST
DTSTART:20251102T060000
END:STANDARD
BEGIN:DAYLIGHT
TZOFFSETFROM:-0500
TZOFFSETTO:-0400
TZNAME:EDT
DTSTART:20260308T070000
END:DAYLIGHT
BEGIN:STANDARD
TZOFFSETFROM:-0400
TZOFFSETTO:-0500
TZNAME:EST
DTSTART:20261101T060000
END:STANDARD
BEGIN:DAYLIGHT
TZOFFSETFROM:-0500
TZOFFSETTO:-0400
TZNAME:EDT
DTSTART:20270314T070000
END:DAYLIGHT
BEGIN:STANDARD
TZOFFSETFROM:-0400
TZOFFSETTO:-0500
TZNAME:EST
DTSTART:20271107T060000
END:STANDARD
END:VTIMEZONE
BEGIN:VTIMEZONE
TZID:UTC
BEGIN:STANDARD
TZOFFSETFROM:+0000
TZOFFSETTO:+0000
TZNAME:UTC
DTSTART:20250101T000000
END:STANDARD
END:VTIMEZONE
BEGIN:VTIMEZONE
TZID:America/Phoenix
BEGIN:STANDARD
TZOFFSETFROM:-0700
TZOFFSETTO:-0700
TZNAME:MST
DTSTART:20250101T000000
END:STANDARD
END:VTIMEZONE
BEGIN:VEVENT
DTSTART;VALUE=DATE:20261018
DTEND;VALUE=DATE:20261019
DTSTAMP:20260422T020749
CREATED:20260308T183143Z
LAST-MODIFIED:20260412T184754Z
UID:10006217-1792281600-1792367999@gunstuff.tv
SUMMARY:BSA Troop 581 Campout
DESCRIPTION:Camping:  Friday Night through Sunday at Laurel Hill Campground \nArchery Range:  Saturday 12:00 to 4:00 PM \nFishing at Cotting Lake:  Friday Night through Sunday \nShotgun on Field 8\, and at Baumann Pavilion: Saturday\, 12 PM – 4 PM \nRifle (22 LR & Muzzleloading) firing:  Mann range 9:00 AM – 12:00 PM (non-exclusive) \nInstruction and firing to be conducted according to BSA/NRA rules. \nParticipants:  approx. 28 scouts\, and 8 adults \nEvent Director – Dave Atwell Member 1772
URL:https://gunstuff.tv/event/bsa-troop-581-campout-3/
LOCATION:Camground\, Cotting Lake\, Field 8\, Bauman Pavilion\, Mann Range
END:VEVENT
BEGIN:VEVENT
DTSTART;TZID=America/New_York:20261018T080000
DTEND;TZID=America/New_York:20261018T150000
DTSTAMP:20260422T020749
CREATED:20260111T181638Z
LAST-MODIFIED:20260412T184754Z
UID:10004397-1792310400-1792335600@gunstuff.tv
SUMMARY:Cast Bullet Benchrest
DESCRIPTION:Cast Bullet Benchrest match registered with the Cast Bullet Association (CBA). 100 & 200 yd score and military competition based on CBA rules. Any rifle and ammunition is welcome as an Unclassified Entry to familiarize themselves with the course of fire. Contact Mark Mazzocco memazzocco@verizon.net for more info. 
URL:https://gunstuff.tv/event/cast-bullet-benchrest-9/
LOCATION:Benson Range
END:VEVENT
BEGIN:VEVENT
DTSTART;TZID=UTC:20261018T090000
DTEND;TZID=UTC:20261018T090000
DTSTAMP:20260422T020749
CREATED:20260110T165512Z
LAST-MODIFIED:20260412T110205Z
UID:10004176-1792314000-1792314000@gunstuff.tv
SUMMARY:Rimfire Known Distance
DESCRIPTION:Marriottsville\, MD – Associated Gun Clubs of Baltimore (AGC)\nOctober 18\, 2026 (One Day Event)\nThis is a Rimfire Known Distance Event. It is a 22LR (Rimfire) only event where the distances will be out to 100 yards or more based on the range. Only previous Appleseed attendees should sign up.\nCenterfire is NOT allowed at this event – 22 Rimfire Only.\nRegister Now\nAddress: 11518 Marriottsville Rd\, Marriottsville\, MD 21104\nWebsite: www.associatedgunclubs.org\nPlease Read:  How to Prepare for an Event\nSafety Notice:\n–  Keep ALL firearms in your vehicle until after the safety briefing and you are instructed to bring them to the firing line.\n–  No illegal firearms are allowed.\n–  At centerfire-friendly ranges\, rifle cartridges are limited to 8mm (rifle) or .45 caliber (pistol and pistol caliber carbines).\n–  Effective 8/8/2025\, Project Appleseed has temporarily suspended the SIG-Sauer P320/M17/M18 (all variants) in our Pistol Clinics.\n–  Parents of youth attending\, please read our Message to Parents.\nSubject to state and local laws\, Instructors at your event may have discounted .22 ammo available. Reach out to the contact at the bottom of this page for availability.\nRange Fee:  None\nCamping Available:\nNo\nHotels:\nHilton Garden Inn\, 410-654-0030 5 miles away\nDirections:\nSee Google maps https://www.google.com/maps/place/11518+Marriottsville+Rd\,+Marriottsville\,+MD+21104/@39.3675233\,-76.8781277\,17z/data=!3m1!4b1!4m2!3m1!1s0x89c823048133a9ff:0x8fe7b8c2f37bebe2\nGPS: 39.367495\,-76.880318\nState Laws to be aware of:\nIt is the responsibility of attendees to know and comply with all State and Federal Firearms Laws.\nMaryland State Firearms Laws\nGuns and ammo kept locked & separate. Transfer of magazines with over 20 round capacity is illegal\, Check State Laws.\nMisc:\nBefore attending the event please download the range’s liability waiver here:\nhttps://www.joinagcrange.org/waiver\nCenterfire OK\nNO Alcohol Permitted\nFor more information contact:\nName: MD State Coordinator Email Address: MD@appleseedinfo.org\nName: Private Message to “BeSwift” on the Appleseed Forum\, or email Brian Swift Email Address: appleseedmaryland@gmail.com
URL:https://gunstuff.tv/event/rimfire-known-distance-14/
LOCATION:Associated Gun Clubs of Baltimore (AGC)\, 11518 Marriottsville Rd\, Marriottsville\, MD\, United States
GEO:39.367212;-76.87802
X-APPLE-STRUCTURED-LOCATION;VALUE=URI;X-ADDRESS=Associated Gun Clubs of Baltimore (AGC) 11518 Marriottsville Rd Marriottsville MD United States;X-APPLE-RADIUS=500;X-TITLE=11518 Marriottsville Rd:geo:-76.87802,39.367212
END:VEVENT
BEGIN:VEVENT
DTSTART;TZID=UTC:20261018T090000
DTEND;TZID=UTC:20261018T090000
DTSTAMP:20260422T020749
CREATED:20260110T171714Z
LAST-MODIFIED:20260410T113151Z
UID:10004330-1792314000-1792314000@gunstuff.tv
SUMMARY:York Practical Shooters
DESCRIPTION:York Practical Shooters\nDate : 10/18/26\nStart Time: 9:00 AM\nLocation:\nYork Practical Shooters (MID13)\n7131 Iron Stone Hill Rd\nDallastown\, PA\nEvent Contact Information\nRussell Fortney\n9999999999\nYorkUSPSA@gmail.com\nMatch Information\nRegistration opens in Practiscore on the 2nd Sunday of the month at 7:00PM.\nEvent Website\nhttps://www.facebook.com/YorkPracticalShooters
URL:https://gunstuff.tv/event/york-practical-shooters-8/
LOCATION:York Practical Shooters (MID13)\, 7131 Ironstone Hill Way\, Dallastown\, PA\, United States
GEO:39.870491;-76.677504
X-APPLE-STRUCTURED-LOCATION;VALUE=URI;X-ADDRESS=York Practical Shooters (MID13) 7131 Ironstone Hill Way Dallastown PA United States;X-APPLE-RADIUS=500;X-TITLE=7131 Ironstone Hill Way:geo:-76.677504,39.870491
END:VEVENT
BEGIN:VEVENT
DTSTART;TZID=America/New_York:20261018T090000
DTEND;TZID=America/New_York:20261018T120000
DTSTAMP:20260422T020749
CREATED:20251003T162644Z
LAST-MODIFIED:20260411T214639Z
UID:10001512-1792314000-1792324800@gunstuff.tv
SUMMARY:Weekly Trap League
DESCRIPTION:
URL:https://gunstuff.tv/event/weekly-trap-league-55/
LOCATION:Shotgun Range
END:VEVENT
BEGIN:VEVENT
DTSTART;TZID=America/New_York:20261018T090000
DTEND;TZID=America/New_York:20261018T123000
DTSTAMP:20260422T020749
CREATED:20251003T031216Z
LAST-MODIFIED:20260410T070130Z
UID:10000654-1792314000-1792326600@gunstuff.tv
SUMMARY:GRPC NRA 1800
DESCRIPTION:
URL:https://gunstuff.tv/event/grpc-nra-1800-13/
LOCATION:Gateway Rifle & Pistol Club\, 9301 Zambito Ave\, Jacksonville\, FL\, United States
GEO:30.262025;-81.814577
X-APPLE-STRUCTURED-LOCATION;VALUE=URI;X-ADDRESS=Gateway Rifle & Pistol Club 9301 Zambito Ave Jacksonville FL United States;X-APPLE-RADIUS=500;X-TITLE=9301 Zambito Ave:geo:-81.814577,30.262025
END:VEVENT
BEGIN:VEVENT
DTSTART;TZID=America/New_York:20261018T090000
DTEND;TZID=America/New_York:20261018T140000
DTSTAMP:20260422T020749
CREATED:20251003T031216Z
LAST-MODIFIED:20260410T070131Z
UID:10000655-1792314000-1792332000@gunstuff.tv
SUMMARY:Wyoming Antelope 2700
DESCRIPTION:
URL:https://gunstuff.tv/event/wyoming-antelope-2700-26/
LOCATION:Wyoming Antelope Club-Florida\, 3700 126th Ave N\, Clearwater\, FL\, United States
GEO:27.886432;-82.683263
X-APPLE-STRUCTURED-LOCATION;VALUE=URI;X-ADDRESS=Wyoming Antelope Club-Florida 3700 126th Ave N Clearwater FL United States;X-APPLE-RADIUS=500;X-TITLE=3700 126th Ave N:geo:-82.683263,27.886432
END:VEVENT
BEGIN:VEVENT
DTSTART;TZID=America/New_York:20261018T090000
DTEND;TZID=America/New_York:20261018T160000
DTSTAMP:20260422T020749
CREATED:20251109T181653Z
LAST-MODIFIED:20260412T184754Z
UID:10003038-1792314000-1792339200@gunstuff.tv
SUMMARY:Action Pistol Clinic
DESCRIPTION:Action Pistol Clinic hosted by member Adam Metcalf \nadam@openarmsinstruction.com
URL:https://gunstuff.tv/event/action-pistol-clinic-5/
LOCATION:Culver Range
END:VEVENT
BEGIN:VEVENT
DTSTART;TZID=UTC:20261018T100000
DTEND;TZID=UTC:20261018T100000
DTSTAMP:20260422T020749
CREATED:20260124T171829Z
LAST-MODIFIED:20260410T113151Z
UID:10004726-1792317600-1792317600@gunstuff.tv
SUMMARY:EWPSA Monthly USPSA Match
DESCRIPTION:EWPSA Monthly USPSA Match\nDate : 10/18/26\nStart Time: 10:00 AM\nLocation:\nEastern Wa. Practical Shooters (IE02)\n93315 N SR 225\nBenton City\, WA\nEvent Contact Information\nWarren Harper\n1\newpsa.stats@gmail.com\nMatch Information\nMatch Information\nThis is the EWPSA monthly match. Gates will be open by 9 am\, new shooter briefing at 9:30 am\, and shooters meeting at 10 am. We start shooting after the shooters meeting. The match will be $25 for non-members\, $20 for TCSA members\, juniors shoot for free\, new shooters to USPSA shoot for free\, and setup staff shoots for free. Setup for the match will begin at 9 am on Saturday before the match and targets will be put up around 8am on Sunday. Refunds will be given for cancellations minus Stripe fee. Typically 5-6 stages and around 180 rounds\, including a classifier. If you are a new shooter\, feel free to contact the Match Director (below) if you have any questions. Match Director Contact: ewpsa.stats@gmail.com\nEvent Website\nhttps://practiscore.com/search/matches?refinementList%5Bstate%5D%5B0%5D=Washington&refinementList%5Btype%5D%5B0%5D=USPSA&query=ewpsa
URL:https://gunstuff.tv/event/ewpsa-monthly-uspsa-match-12/
LOCATION:Eastern Wa. Practical Shooters (IE02)\, 71598 N State Rte 225 NW\, Benton City\, WA\, United States
GEO:46.31731;-119.493158
X-APPLE-STRUCTURED-LOCATION;VALUE=URI;X-ADDRESS=Eastern Wa. Practical Shooters (IE02) 71598 N State Rte 225 NW Benton City WA United States;X-APPLE-RADIUS=500;X-TITLE=71598 N State Rte 225 NW:geo:-119.493158,46.31731
END:VEVENT
BEGIN:VEVENT
DTSTART;TZID=America/New_York:20261018T100000
DTEND;TZID=America/New_York:20261018T150000
DTSTAMP:20260422T020749
CREATED:20260308T183142Z
LAST-MODIFIED:20260412T184754Z
UID:10006216-1792317600-1792335600@gunstuff.tv
SUMMARY:Running Deer Match
DESCRIPTION:See https://www.fxrgc.org/rifle/running-deer/ for more info
URL:https://gunstuff.tv/event/running-deer-match-7/
LOCATION:Porasky Range
END:VEVENT
BEGIN:VEVENT
DTSTART;VALUE=DATE:20261019
DTEND;VALUE=DATE:20261020
DTSTAMP:20260422T020749
CREATED:20260213T031102Z
LAST-MODIFIED:20260410T034705Z
UID:10005324-1792368000-1792454399@gunstuff.tv
SUMMARY:Club Closed
DESCRIPTION:
URL:https://gunstuff.tv/event/club-closed-72/
END:VEVENT
BEGIN:VEVENT
DTSTART;TZID=America/New_York:20261019T090000
DTEND;TZID=America/New_York:20261019T100000
DTSTAMP:20260422T020749
CREATED:20251003T162644Z
LAST-MODIFIED:20251010T162931Z
UID:10001513-1792400400-1792404000@gunstuff.tv
SUMMARY:4-H Class Indoors
DESCRIPTION:Indoor reserved for 4-H class.
URL:https://gunstuff.tv/event/4-h-class-indoors-55/
LOCATION:Indoor Range
END:VEVENT
BEGIN:VEVENT
DTSTART;TZID=America/New_York:20261019T160000
DTEND;TZID=America/New_York:20261019T180000
DTSTAMP:20260422T020749
CREATED:20251003T162644Z
LAST-MODIFIED:20251205T181711Z
UID:10001514-1792425600-1792432800@gunstuff.tv
SUMMARY:Skeet League
DESCRIPTION:Contact Frank Andrews with Questions.
URL:https://gunstuff.tv/event/skeet-league-55/
END:VEVENT
BEGIN:VEVENT
DTSTART;TZID=America/New_York:20261019T160000
DTEND;TZID=America/New_York:20261019T180000
DTSTAMP:20260422T020749
CREATED:20251212T181643Z
LAST-MODIFIED:20260411T214639Z
UID:10003556-1792425600-1792432800@gunstuff.tv
SUMMARY:Skeet League
DESCRIPTION:Contact Frank Andrews with Questions.
URL:https://gunstuff.tv/event/skeet-league-145/
LOCATION:Skeet Range
END:VEVENT
BEGIN:VEVENT
DTSTART;VALUE=DATE:20261020
DTEND;VALUE=DATE:20261021
DTSTAMP:20260422T020749
CREATED:20251003T160031Z
LAST-MODIFIED:20260412T043236Z
UID:10001057-1792454400-1792540799@gunstuff.tv
SUMMARY:100\, 200\, 300 Yard Practice Benchrest Range
DESCRIPTION:
URL:https://gunstuff.tv/event/100-200-300-yard-practice-benchrest-range-47/
END:VEVENT
BEGIN:VEVENT
DTSTART;VALUE=DATE:20261020
DTEND;VALUE=DATE:20261021
DTSTAMP:20260422T020749
CREATED:20260213T031102Z
LAST-MODIFIED:20260410T034705Z
UID:10005323-1792454400-1792540799@gunstuff.tv
SUMMARY:Club closed
DESCRIPTION:
URL:https://gunstuff.tv/event/club-closed-71/
END:VEVENT
BEGIN:VEVENT
DTSTART;TZID=America/New_York:20261020T170000
DTEND;TZID=America/New_York:20261020T200000
DTSTAMP:20260422T020749
CREATED:20260328T214635Z
LAST-MODIFIED:20260411T214639Z
UID:10006605-1792515600-1792526400@gunstuff.tv
SUMMARY:Tactical Tuesday IDPA Practice
DESCRIPTION:Shooters new to Action Shooting contact Eric Zaharee at ABSAIDPA@gmail .com\nSee (Alder Brook) PractiScore.com for sign up Cost $5
URL:https://gunstuff.tv/event/tactical-tuesday-idpa-practice-28/
LOCATION:Action Bays
END:VEVENT
BEGIN:VEVENT
DTSTART;VALUE=DATE:20261021
DTEND;VALUE=DATE:20261022
DTSTAMP:20260422T020749
CREATED:20251003T160031Z
LAST-MODIFIED:20260412T043236Z
UID:10001059-1792540800-1792627199@gunstuff.tv
SUMMARY:Centerfire and Smallbore Practice - Smallbore Range
DESCRIPTION:
URL:https://gunstuff.tv/event/centerfire-and-smallbore-practice-smallbore-range-18/
END:VEVENT
BEGIN:VEVENT
DTSTART;TZID=America/New_York:20261021T190000
DTEND;TZID=America/New_York:20261021T210000
DTSTAMP:20260422T020749
CREATED:20251005T191905Z
LAST-MODIFIED:20260414T083131Z
UID:10001751-1792609200-1792616400@gunstuff.tv
SUMMARY:Member Meeting
DESCRIPTION:
URL:https://gunstuff.tv/event/member-meeting-5/
LOCATION:523 Sizer Run Rd\, Emporium\, PA\, United States
GEO:41.51031;-78.23157
END:VEVENT
BEGIN:VEVENT
DTSTART;VALUE=DATE:20261022
DTEND;VALUE=DATE:20261023
DTSTAMP:20260422T020749
CREATED:20251003T160031Z
LAST-MODIFIED:20260123T170135Z
UID:10001058-1792627200-1792713599@gunstuff.tv
SUMMARY:High power range reserved
DESCRIPTION:
URL:https://gunstuff.tv/event/high-power-range-reserved/
END:VEVENT
BEGIN:VEVENT
DTSTART;VALUE=DATE:20261022
DTEND;VALUE=DATE:20261023
DTSTAMP:20260422T020749
CREATED:20260130T170141Z
LAST-MODIFIED:20260412T043236Z
UID:10004852-1792627200-1792713599@gunstuff.tv
SUMMARY:1000 Yard Practice 7:00am Pits
DESCRIPTION:
URL:https://gunstuff.tv/event/1000-yard-practice-700am-pits-7/
END:VEVENT
BEGIN:VEVENT
DTSTART;VALUE=DATE:20261023
DTEND;VALUE=DATE:20261024
DTSTAMP:20260422T020749
CREATED:20251003T160031Z
LAST-MODIFIED:20260412T043236Z
UID:10001061-1792713600-1792799999@gunstuff.tv
SUMMARY:High power range reserved
DESCRIPTION:
URL:https://gunstuff.tv/event/high-power-range-reserved-2/
END:VEVENT
BEGIN:VEVENT
DTSTART;TZID=UTC:20261023T090000
DTEND;TZID=UTC:20261023T090000
DTSTAMP:20260422T020749
CREATED:20251031T195554Z
LAST-MODIFIED:20260415T070237Z
UID:10002837-1792746000-1792746000@gunstuff.tv
SUMMARY:Lone Star State Steel Championship
DESCRIPTION:Lone Star State Steel Championship\nMatch Status: Approved by DNROI\nMatch Starts on Oct 23\, 2026\nMatch will end Oct 25\, 2026\nMatch Location:\nEast Texas Rifle and Pistol Club\n1045 Farm to Market Rd 2011\nLongview \, TX 75603\nManaged by:\nEast Texas Rifle and Pistol Club\nStage Count: 6\nRound Count: 150\nMatch Entry Fee: $65.00\nMatch Director: John Rainey\nRange Master: Owen McDonell\nAdditional Details\nRegister!\nRegistration not available.
URL:https://gunstuff.tv/event/lone-star-state-steel-championship/
LOCATION:East Texas Rifle and Pistol Club\, 4824 FM 2011\, Longview\, TX\, United States
GEO:32.381028;-94.746904
X-APPLE-STRUCTURED-LOCATION;VALUE=URI;X-ADDRESS=East Texas Rifle and Pistol Club 4824 FM 2011 Longview TX United States;X-APPLE-RADIUS=500;X-TITLE=4824 FM 2011:geo:-94.746904,32.381028
END:VEVENT
BEGIN:VEVENT
DTSTART;TZID=UTC:20261023T133000
DTEND;TZID=UTC:20261023T230000
DTSTAMP:20260422T020749
CREATED:20260111T213127Z
LAST-MODIFIED:20260414T084802Z
UID:10004413-1792762200-1792796400@gunstuff.tv
SUMMARY:2026 SUBStrong Business Conference
DESCRIPTION:
URL:https://gunstuff.tv/event/2026-substrong-business-conference/
LOCATION:Vectra Bank Corporate Center\, 8500 E Layton Ave\, Denver\, CO\, United States
ORGANIZER;CN="Rocky Mountain Steel Construction Association":MAILTO:info@rmsca.org
GEO:39.628898;-104.889769
X-APPLE-STRUCTURED-LOCATION;VALUE=URI;X-ADDRESS=Vectra Bank Corporate Center 8500 E Layton Ave Denver CO United States;X-APPLE-RADIUS=500;X-TITLE=8500 E Layton Ave:geo:-104.889769,39.628898
END:VEVENT
BEGIN:VEVENT
DTSTART;VALUE=DATE:20261024
DTEND;VALUE=DATE:20261025
DTSTAMP:20260422T020749
CREATED:20251003T160031Z
LAST-MODIFIED:20260412T043236Z
UID:10001060-1792800000-1792886399@gunstuff.tv
SUMMARY:High power range reserved
DESCRIPTION:
URL:https://gunstuff.tv/event/f-class-nationals/
END:VEVENT
BEGIN:VEVENT
DTSTART;TZID=UTC:20261024T073000
DTEND;TZID=UTC:20261024T073000
DTSTAMP:20260422T020749
CREATED:20260207T171723Z
LAST-MODIFIED:20260410T113151Z
UID:10005063-1792827000-1792827000@gunstuff.tv
SUMMARY:NNRPA USPSA Match
DESCRIPTION:NNRPA USPSA Match\nDate : 10/24/26\nStart Time: 7:30 AM\nLocation:\nNortheastern Nevada Rifle & Pistol (NV06)\n308 Rifle Range Rd\nElko\, NV\nEvent Contact Information\nDennis Marsh\n775-934-2185\ndenmarsh@aol.com\nEvent Website\nhttp://nnrpa.org
URL:https://gunstuff.tv/event/nnrpa-uspsa-match-11/
LOCATION:Northeastern Nevada Rifle & Pistol (NV06)\, Elko\, NV\, United States
GEO:40.905583;-115.534429
END:VEVENT
BEGIN:VEVENT
DTSTART;TZID=UTC:20261024T080000
DTEND;TZID=UTC:20261024T080000
DTSTAMP:20260422T020749
CREATED:20260128T014756Z
LAST-MODIFIED:20260401T070148Z
UID:10004816-1792828800-1792828800@gunstuff.tv
SUMMARY:Prairie Thunder SCSA568 Steel Challenge - 10-24-26
DESCRIPTION:Prairie Thunder SCSA568 Steel Challenge – 10-24-26\nDate: 10/24/26\nStart Time: 8:00 AM\nLocation:\nPrairie Thunder (SCSA568)\n21602 Elk Vale Rd\nPiedmont\, SD\nEvent Contact Information\nBruce Schmidt\n6053919117\nprairiethundergc@gmail.com\nEvent Website\nhttps://practiscore.com/prairie-thunder-scsa568-10-24-26-steel-challenge/register
URL:https://gunstuff.tv/event/prairie-thunder-scsa568-steel-challenge-10-24-26/
LOCATION:Prairie Thunder (SCSA568)\, 21700 Elk Vale Rd\, Piedmont\, SD\, United States
GEO:44.252848;-103.151343
X-APPLE-STRUCTURED-LOCATION;VALUE=URI;X-ADDRESS=Prairie Thunder (SCSA568) 21700 Elk Vale Rd Piedmont SD United States;X-APPLE-RADIUS=500;X-TITLE=21700 Elk Vale Rd:geo:-103.151343,44.252848
END:VEVENT
BEGIN:VEVENT
DTSTART;TZID=UTC:20261024T080000
DTEND;TZID=UTC:20261024T080000
DTSTAMP:20260422T020749
CREATED:20260306T113144Z
LAST-MODIFIED:20260410T113151Z
UID:10006173-1792828800-1792828800@gunstuff.tv
SUMMARY:WLPS October USPSA Practical
DESCRIPTION:WLPS October USPSA Practical\nDates : 10/24/26 – 10/25/26\nStart Time: 8:00 AM\nLocation:\nWest Liberty Practical Shooters (IA10)\n1461 121st Street\nWest Liberty\, IA\nEvent Contact Information\nIan Wicke\n319-330-9476\nikwicke@gmail.com\nMatch Information\nRegister online at Practiscore: https://practiscore.com/clubs/west-liberty-practical-shooters\nEvent Website\nhttps://www.westlibertygunclub.org/calendar
URL:https://gunstuff.tv/event/wlps-october-uspsa-practical/
LOCATION:West Liberty Practical Shooters (IA10)\, 1461 121st St\, West Liberty\, IA\, United States
GEO:41.567392;-91.283002
X-APPLE-STRUCTURED-LOCATION;VALUE=URI;X-ADDRESS=West Liberty Practical Shooters (IA10) 1461 121st St West Liberty IA United States;X-APPLE-RADIUS=500;X-TITLE=1461 121st St:geo:-91.283002,41.567392
END:VEVENT
BEGIN:VEVENT
DTSTART;TZID=UTC:20261024T090000
DTEND;TZID=UTC:20261024T090000
DTSTAMP:20260422T020749
CREATED:20260110T165506Z
LAST-MODIFIED:20260412T110206Z
UID:10004124-1792832400-1792832400@gunstuff.tv
SUMMARY:Known Distance
DESCRIPTION:Coeur d’Alene\, ID – Fernan Rod & Gun Club\nOctober 24\, 2026 – October 25\, 2026\nThis is an Advanced Known Distance event. Only previous Appleseed attendees should sign up.\nThis event will require a Centerfire rifle.\nRegister Now\nAddress: 11600 E Fernan Lake Rd\, Coeur d’Alene\, ID 83814\nWebsite: www.FRGC.org\nPlease Read:  How to Prepare for an Event\nSafety Notice:\n–  Keep ALL firearms in your vehicle until after the safety briefing and you are instructed to bring them to the firing line.\n–  No illegal firearms are allowed.\n–  At centerfire-friendly ranges\, rifle cartridges are limited to 8mm (rifle) or .45 caliber (pistol and pistol caliber carbines).\n–  Effective 8/8/2025\, Project Appleseed has temporarily suspended the SIG-Sauer P320/M17/M18 (all variants) in our Pistol Clinics.\n–  Parents of youth attending\, please read our Message to Parents.\nSubject to state and local laws\, Instructors at your event may have discounted .22 ammo available. Reach out to the contact at the bottom of this page for availability.\nRange Fee:\n$10.00 per day per person.\nCamping Available:\nCamping is NOT allowed at the range facility per U.S. Forest Service permit.  Please contact the Coeur d’Alene River Ranger District\, Fernan Office at (208) 664-2318 for undeveloped local Forest Service camping opportunities. \nOff Site:\nBeauty Bay Campground- http://www.fs.usda.gov/recarea/ipnf/recarea/?recid=6846\nPlease check the Beauty Bay website for availability. It is closed from August through May.\nWolf Lodge Campground- http://www.wolflodgecampground.com/\nHotels:\nNumerous chains and local options available from Coeur d’Alene to Post Falls\, Idaho\nDirections:\nFrom Spokane\, Post Falls\, and Coeur d’Alene – Take I-90 to Exit 15/Fernan (Not to be confused with the 15th Street Exit!) Take Exit 15 down to the light. Turn left at the light and go under the overpass. In about a block\, you will see the USFS Fernan Ranger Station on the right hand side (South). Stay to the left and take the Fernan Lake Road through the Fernan Lake Village and around the lake. This is a scenic ride around the lake and through the country past farms and fields\, for approximately 6 miles. You will see the USFS trail head and a large paved parking lot on the left (North) side of the road. The entrance to FRGC is directly across the road from the USFS trail head. Drive down the entrance road approximately 100 yards and you will see the large FRGC gate which will be open\, so just drive through and follow the road to the large parking area on the right. \nFrom all points East – Take I-90 to Exit 15/Fernan (Not to be confused with the 15th Street Exit!). Take Exit 15 down to the light. Turn right at the light and the USFS Fernan Ranger Station will be on the right hand. Follow the directions above to the FRGC range.\nSee map on range website.  Google maps (as of November 2022) shows the range address in the woods east of the entrance road and gate. See the GPS location below for the actual location of the gate.  A Google search using this GPS location will bring up the map.\nGPS: 47.712761\,-116.677039\nState Laws to be aware of:\nIt is the responsibility of attendees to know and comply with all State and Federal Firearms Laws.\nIdaho State Firearms Laws\nMisc:\nBoth centerfire and .22 rimfire welcome at this range.\nSign-in begins at 8:00 am the morning of the event.\nPlease bring your lunch for both days\, range is in a rural location\, there is no  food available at range\, and we have presentations during the lunch period you don’t want to miss. \nFor more information contact:\nName: ID State Coordinator Email Address: ID@appleseedinfo.org
URL:https://gunstuff.tv/event/known-distance-8/
LOCATION:Fernan Rod & Gun Club\, 11198 E Fernan Lake Rd\, Coeur d'Alene\, ID\, United States
GEO:47.712277;-116.678099
X-APPLE-STRUCTURED-LOCATION;VALUE=URI;X-ADDRESS=Fernan Rod & Gun Club 11198 E Fernan Lake Rd Coeur d'Alene ID United States;X-APPLE-RADIUS=500;X-TITLE=11198 E Fernan Lake Rd:geo:-116.678099,47.712277
END:VEVENT
BEGIN:VEVENT
DTSTART;TZID=UTC:20261024T090000
DTEND;TZID=UTC:20261024T090000
DTSTAMP:20260422T020749
CREATED:20260110T165507Z
LAST-MODIFIED:20260412T110205Z
UID:10004134-1792832400-1792832400@gunstuff.tv
SUMMARY:Appleseed
DESCRIPTION:Gaston\, SC – Mid Carolina Rifle Club\nOctober 24\, 2026 – October 25\, 2026\nThis is a traditional 25m Project Appleseed rifle event.\nBoth Centerfire and 22 Rimfire rifles are allowed at this event.\nRegister Now\nAddress: 3462 Fish Hatchery Rd\, Gaston\, SC\nWebsite: www.midcarolinarifleclub.com\nPlease Read:  How to Prepare for an Event\nSafety Notice:\n–  Keep ALL firearms in your vehicle until after the safety briefing and you are instructed to bring them to the firing line.\n–  No illegal firearms are allowed.\n–  At centerfire-friendly ranges\, rifle cartridges are limited to 8mm (rifle) or .45 caliber (pistol and pistol caliber carbines).\n–  Effective 8/8/2025\, Project Appleseed has temporarily suspended the SIG-Sauer P320/M17/M18 (all variants) in our Pistol Clinics.\n–  Parents of youth attending\, please read our Message to Parents.\nSubject to state and local laws\, Instructors at your event may have discounted .22 ammo available. Reach out to the contact at the bottom of this page for availability.\nRange Fee:  $10.00 per person for the weekend.\nCamping Available:\nNo Camping Available\nHotels:\nCountry Inn and Suites 2245 Airport Blvd\, Cayce\, SC 29033. 7.4 miles.\nCourtyard by Marriott. 1125 Fort Congaree Trail\, Cayce\, SC 29033. 8.2 miles.\nPlenty of hotels in the area.\nDirections:\n3462 Fish Hatchery Rd. Gaston\, SC 29053\nFrom I-26 East\nComing from Greenville-Spartanburg area or I-20 East to I-26 East Take exit 115 and take a right off the exit ramp (toward Swansea). At the traffic light at the top of the hill take a right onto Fish Hatchery Road. After about 5 miles\, you will come to a stop sign\, and a road sign that indicates Busbee Rd to the left\, and Fish Hatchery Rd to the right. Turn Right. Once you pass Forest Manor Mobile Home Park\, look for a dirt road to the left.\nFrom I-26 West\nComing from Charleston\, Orangeburg or I-95 South Take exit 115 and take a left from the exit ramp (toward Swansea). Go under the interstate and continue to the traffic light at the top of the hill. Take a right onto Fish Hatchery Road. After about 5 miles\, you will come to a stop sign\, and a road sign that indicates Busbee Rd to the left\, and Fish Hatchery Rd to the right. Turn Right. Once you pass Forest Manor Mobile Home Park\, look for a dirt road to the left.\nFrom I-77 South Coming from Charlotte or I-20 West (Exit 76) to I-77 South As you approach the I-77 and I-26 interchange\, you will see a sign for Exit 1 (Cayce). Exit here (before getting to I-26). At the end of the exit ramp\, at the traffic light\, proceed straight onto Fish Hatchery Road. After about 5 miles\, you will come to a stop sign\, and a road sign that indicates Busbee Rd to the left\, and Fish Hatchery Rd to the right. Turn Right. Once you pass Forest Manor Mobile Home Park\, look for a dirt road to the left.\nSee map on range website.\nGPS: 33.869146\,-81.129613\nState Laws to be aware of:\nIt is the responsibility of attendees to know and comply with all State and Federal Firearms Laws.\nSouth Carolina State Firearms Laws\nMisc:\nRange rules require eye and ear protection for all people. Parents of minor children please contact Shoot Boss of event prior to event to receive information that will help the child enjoy the Appleseed experience.\nNo alcohol permitted.\nFor more information contact:\nName: SC State Coordinator Email Address: SC@appleseedinfo.org\nName: conct TAZDevil or DEH on the Appleseed forum
URL:https://gunstuff.tv/event/appleseed-151/
LOCATION:Mid Carolina Rifle Club\, 3462 Fish Hatchery Rd\, Gaston\, SC\, United States
GEO:33.86914;-81.129782
X-APPLE-STRUCTURED-LOCATION;VALUE=URI;X-ADDRESS=Mid Carolina Rifle Club 3462 Fish Hatchery Rd Gaston SC United States;X-APPLE-RADIUS=500;X-TITLE=3462 Fish Hatchery Rd:geo:-81.129782,33.86914
END:VEVENT
END:VCALENDAR