BEGIN:VCALENDAR
VERSION:2.0
PRODID:-//GunStuff TV - ECPv6.15.20//NONSGML v1.0//EN
CALSCALE:GREGORIAN
METHOD:PUBLISH
X-ORIGINAL-URL:https://gunstuff.tv
X-WR-CALDESC:Events for GunStuff TV
REFRESH-INTERVAL;VALUE=DURATION:PT1H
X-Robots-Tag:noindex
X-PUBLISHED-TTL:PT1H
BEGIN:VTIMEZONE
TZID:UTC
BEGIN:STANDARD
TZOFFSETFROM:+0000
TZOFFSETTO:+0000
TZNAME:UTC
DTSTART:20250101T000000
END:STANDARD
END:VTIMEZONE
BEGIN:VTIMEZONE
TZID:America/New_York
BEGIN:DAYLIGHT
TZOFFSETFROM:-0500
TZOFFSETTO:-0400
TZNAME:EDT
DTSTART:20250309T070000
END:DAYLIGHT
BEGIN:STANDARD
TZOFFSETFROM:-0400
TZOFFSETTO:-0500
TZNAME:EST
DTSTART:20251102T060000
END:STANDARD
BEGIN:DAYLIGHT
TZOFFSETFROM:-0500
TZOFFSETTO:-0400
TZNAME:EDT
DTSTART:20260308T070000
END:DAYLIGHT
BEGIN:STANDARD
TZOFFSETFROM:-0400
TZOFFSETTO:-0500
TZNAME:EST
DTSTART:20261101T060000
END:STANDARD
BEGIN:DAYLIGHT
TZOFFSETFROM:-0500
TZOFFSETTO:-0400
TZNAME:EDT
DTSTART:20270314T070000
END:DAYLIGHT
BEGIN:STANDARD
TZOFFSETFROM:-0400
TZOFFSETTO:-0500
TZNAME:EST
DTSTART:20271107T060000
END:STANDARD
END:VTIMEZONE
BEGIN:VTIMEZONE
TZID:America/Phoenix
BEGIN:STANDARD
TZOFFSETFROM:-0700
TZOFFSETTO:-0700
TZNAME:MST
DTSTART:20250101T000000
END:STANDARD
END:VTIMEZONE
BEGIN:VTIMEZONE
TZID:America/Chicago
BEGIN:DAYLIGHT
TZOFFSETFROM:-0600
TZOFFSETTO:-0500
TZNAME:CDT
DTSTART:20250309T080000
END:DAYLIGHT
BEGIN:STANDARD
TZOFFSETFROM:-0500
TZOFFSETTO:-0600
TZNAME:CST
DTSTART:20251102T070000
END:STANDARD
BEGIN:DAYLIGHT
TZOFFSETFROM:-0600
TZOFFSETTO:-0500
TZNAME:CDT
DTSTART:20260308T080000
END:DAYLIGHT
BEGIN:STANDARD
TZOFFSETFROM:-0500
TZOFFSETTO:-0600
TZNAME:CST
DTSTART:20261101T070000
END:STANDARD
BEGIN:DAYLIGHT
TZOFFSETFROM:-0600
TZOFFSETTO:-0500
TZNAME:CDT
DTSTART:20270314T080000
END:DAYLIGHT
BEGIN:STANDARD
TZOFFSETFROM:-0500
TZOFFSETTO:-0600
TZNAME:CST
DTSTART:20271107T070000
END:STANDARD
END:VTIMEZONE
BEGIN:VEVENT
DTSTART;TZID=UTC:20260718T090000
DTEND;TZID=UTC:20260718T090000
DTSTAMP:20260419T174402
CREATED:20260315T104650Z
LAST-MODIFIED:20260412T110151Z
UID:10006330-1784365200-1784365200@gunstuff.tv
SUMMARY:Appleseed
DESCRIPTION:Duluth\, MN – Northwestern Gun Club\nJuly 18\, 2026 – July 19\, 2026\nThis is a traditional 25m Project Appleseed rifle event.\nBoth Centerfire and 22 Rimfire rifles are allowed at this event.\nRegister Now\nAddress: 6505 E Hunter Lake Rd\, Duluth\, MN 55803\nWebsite: nwgc-duluth.com/\nPlease Read:  How to Prepare for an Event\nSafety Notice:\n–  Keep ALL firearms in your vehicle until after the safety briefing and you are instructed to bring them to the firing line.\n–  No illegal firearms are allowed.\n–  At centerfire-friendly ranges\, rifle cartridges are limited to 8mm (rifle) or .45 caliber (pistol and pistol caliber carbines).\n–  Effective 8/8/2025\, Project Appleseed has temporarily suspended the SIG-Sauer P320/M17/M18 (all variants) in our Pistol Clinics.\n–  Parents of youth attending\, please read our Message to Parents.\nSubject to state and local laws\, Instructors at your event may have discounted .22 ammo available. Reach out to the contact at the bottom of this page for availability.\nRange Fee:  No range fee.\nCamping Available:  The range does have limited onsite primitive campground sites and a couple with electrical outlets.  Please contact the range contact listed below for additional information. In addition to the onsite camping\, there are a number of campgrounds and resorts in the area.\nHotels: Hotel options close (within 10 miles of the range) are limited\, but a larger selection of options are available in Duluth\, MN.\nDirections: From Downtown Duluth ~ 22.5 miles\nHead northwest on N Lake Ave toward E 2nd Street\nTurn left at W 7th Street\nTurn right toward Mesaba Ave/MN-194 W\nTurn right at Mesaba Ave/MN-194 W\nContinue onto CR-4/Rice Lake Rd\nTurn left at West Arrowhead Rd/CR-4\nTurn right at CR-4/Rice Lake Rd\nTurn left at County Rd 43/Emerson Rd\nContinue onto County Rd 48 / Fish Lake Rd\nTurn left at E Hunter Lake Rd\nTownship Rd # 5557\nGPS: 46.981721\,-92.287386\nState Laws to be aware of:\nIt is the responsibility of attendees to know and comply with all State and Federal Firearms Laws.\nMinnesota State Firearms Laws\nMisc:\nFor more information contact:\nName: MN State Coordinator Email Address: mn@appleseedinfo.org
URL:https://gunstuff.tv/event/appleseed-300/
LOCATION:Northwestern Gun Club\, 6505 E Hunter Lake Rd\, Duluth\, MN\, United States
GEO:46.981041;-92.286428
X-APPLE-STRUCTURED-LOCATION;VALUE=URI;X-ADDRESS=Northwestern Gun Club 6505 E Hunter Lake Rd Duluth MN United States;X-APPLE-RADIUS=500;X-TITLE=6505 E Hunter Lake Rd:geo:-92.286428,46.981041
END:VEVENT
BEGIN:VEVENT
DTSTART;TZID=UTC:20260718T090000
DTEND;TZID=UTC:20260718T090000
DTSTAMP:20260419T174402
CREATED:20260318T064640Z
LAST-MODIFIED:20260401T070144Z
UID:10006363-1784365200-1784365200@gunstuff.tv
SUMMARY:MTSA Steel Challenge Match July 18th
DESCRIPTION:MTSA Steel Challenge Match July 18th\nDate: 7/18/26\nStart Time: 9:00 AM\nLocation:\nMiddle Tennessee Sporting Association (SCSA371)\n175 Dry Branch Rd\nDixon Springs\, TN\nEvent Contact Information\nArt Thompson\n6154804349\najtndfan@gmail.com\nMatch Information\nShooting 6 stages of Steel Challenge. We will be shooting 2 provisional Stages\n5 To Go\nAccelerator\nShowdown\nOuter Limits\nStage TS-002\nStage TS-006\nEvent Website\nhttps://practiscore.com/clubs/middle_tennessee_sporting_association
URL:https://gunstuff.tv/event/mtsa-steel-challenge-match-july-18th/
LOCATION:Middle Tennessee Sporting Association (SCSA371)\, 175 Branch Rd\, Springville\, TN\, United States
GEO:36.379111;-88.104472
X-APPLE-STRUCTURED-LOCATION;VALUE=URI;X-ADDRESS=Middle Tennessee Sporting Association (SCSA371) 175 Branch Rd Springville TN United States;X-APPLE-RADIUS=500;X-TITLE=175 Branch Rd:geo:-88.104472,36.379111
END:VEVENT
BEGIN:VEVENT
DTSTART;TZID=UTC:20260718T090000
DTEND;TZID=UTC:20260718T090000
DTSTAMP:20260419T174402
CREATED:20260320T113150Z
LAST-MODIFIED:20260410T113142Z
UID:10006428-1784365200-1784365200@gunstuff.tv
SUMMARY:Alpha Mike Monthly Match
DESCRIPTION:Alpha Mike Monthly Match\nDate : 7/18/26\nStart Time: 9:00 AM\nLocation:\nAlpha-mike Shooters (IPSC47)\n2 Amendment Wy\nConverse\, TX\nEvent Contact Information\nNick Amescua\n210-508-8147\nalphamikeshooters@gmail.com\nMatch Information\nAlpha Mike Monthly USPSA match at Lone Star Handgun Range held on the 3rd Saturday of every month. Registration opens on the 1st of the month at 5pm.\nRegistration can be found on practiscore.com https://practiscore.com/clubs/alpha-mike-shooters-ipsc47\nEvent Website \nWelcome to Alpha Mike Shooters USPSA Club!
URL:https://gunstuff.tv/event/alpha-mike-monthly-match-9/
LOCATION:Alpha-mike Shooters (IPSC47)\, Converse\, TX\, United States
GEO:29.51801;-98.31612
END:VEVENT
BEGIN:VEVENT
DTSTART;TZID=UTC:20260718T090000
DTEND;TZID=UTC:20260718T090000
DTSTAMP:20260419T174402
CREATED:20260320T113150Z
LAST-MODIFIED:20260410T113142Z
UID:10006429-1784365200-1784365200@gunstuff.tv
SUMMARY:Intrepid Defense August USPSA Match
DESCRIPTION:Intrepid Defense August USPSA Match\nDate : 7/18/26\nStart Time: 9:00 AM\nLocation:\nIntrepid Defense Practical Shooters (MO26)\n4645 Elk Head Road\nBland\, MO\nEvent Contact Information\nMelinda Puckett\n3147619712\nmpuckett@intrepiddefenseusa.com\nMatch Information\nThis is the monthly USPSA match at Intrepid Defense. There are 7 stages\, including 1 classifier.\nMatch fee is $30 for adults\, $15 for 18 and under. Pay when you register or bring cash on match day.\nCheck in on match day between 8-8:30am at Bay 3. New shooters meeting is at 8:45am followed by the all shooters safety brief at 9am.\nIf you would like to volunteer to help with setup/teardown\, please text or call Melinda @ (314) 761-9712.\nEvent Website\nhttps://practiscore.com/clubs/intrepid_defense_practical_shooters
URL:https://gunstuff.tv/event/intrepid-defense-august-uspsa-match/
LOCATION:Intrepid Defense Practical Shooters (MO26)\, 4645 Elkhead Rd\, Bland\, MO\, United States
GEO:38.175002;-91.606187
X-APPLE-STRUCTURED-LOCATION;VALUE=URI;X-ADDRESS=Intrepid Defense Practical Shooters (MO26) 4645 Elkhead Rd Bland MO United States;X-APPLE-RADIUS=500;X-TITLE=4645 Elkhead Rd:geo:-91.606187,38.175002
END:VEVENT
BEGIN:VEVENT
DTSTART;TZID=UTC:20260718T090000
DTEND;TZID=UTC:20260718T090000
DTSTAMP:20260419T174402
CREATED:20260320T113150Z
LAST-MODIFIED:20260410T113142Z
UID:10006430-1784365200-1784365200@gunstuff.tv
SUMMARY:Intrepid Defense July USPSA Match
DESCRIPTION:Intrepid Defense July USPSA Match\nDate : 7/18/26\nStart Time: 9:00 AM\nLocation:\nIntrepid Defense Practical Shooters (MO26)\n4645 Elk Head Road\nBland\, MO\nEvent Contact Information\nMelinda Puckett\n3147619712\nmpuckett@intrepiddefenseusa.com\nMatch Information\nThis is the monthly USPSA match at Intrepid Defense. There are 7 stages\, including 1 classifier.\nMatch fee is $30 for adults\, $15 for 18 and under. Pay when you register or bring cash on match day.\nCheck in on match day between 8-8:30am at Bay 3. New shooters meeting is at 8:45am followed by the all shooters safety brief at 9am.\nIf you would like to volunteer to help with setup/teardown\, please text or call Melinda @ (314) 761-9712.\nEvent Website\nhttps://practiscore.com/clubs/intrepid_defense_practical_shooters
URL:https://gunstuff.tv/event/intrepid-defense-july-uspsa-match/
LOCATION:Intrepid Defense Practical Shooters (MO26)\, 4645 Elkhead Rd\, Bland\, MO\, United States
GEO:38.175002;-91.606187
X-APPLE-STRUCTURED-LOCATION;VALUE=URI;X-ADDRESS=Intrepid Defense Practical Shooters (MO26) 4645 Elkhead Rd Bland MO United States;X-APPLE-RADIUS=500;X-TITLE=4645 Elkhead Rd:geo:-91.606187,38.175002
END:VEVENT
BEGIN:VEVENT
DTSTART;TZID=UTC:20260718T090000
DTEND;TZID=UTC:20260718T090000
DTSTAMP:20260419T174402
CREATED:20260418T174744Z
LAST-MODIFIED:20260418T174744Z
UID:10008060-1784365200-1784365200@gunstuff.tv
SUMMARY:July Steel Match
DESCRIPTION:July Steel Match\nDate: 7/18/26\nStart Time: 9:00 AM\nLocation:\nMoss Branch Steel Shooters (SCSA584)\n419 Alexis Ln\nAnniston\, AL\nEvent Contact Information\nClint McCall\n256 591-7507\nclintemccall@gmail.com\nMatch Information\nWe will begin match set up at 8:am. Onsite registration will begin at 8:30am. Shooting will start at 9:00am. we will shoot 5 to 6 stages.\nEvent Website\nhttp://
URL:https://gunstuff.tv/event/july-steel-match/
LOCATION:Moss Branch Steel Shooters (SCSA584)\, 299 Alexis Ln\, Anniston\, AL\, United States
GEO:33.651897;-85.91955
X-APPLE-STRUCTURED-LOCATION;VALUE=URI;X-ADDRESS=Moss Branch Steel Shooters (SCSA584) 299 Alexis Ln Anniston AL United States;X-APPLE-RADIUS=500;X-TITLE=299 Alexis Ln:geo:-85.91955,33.651897
END:VEVENT
BEGIN:VEVENT
DTSTART;TZID=America/New_York:20260718T090000
DTEND;TZID=America/New_York:20260718T160000
DTSTAMP:20260419T174402
CREATED:20251012T173817Z
LAST-MODIFIED:20260412T184748Z
UID:10002117-1784365200-1784390400@gunstuff.tv
SUMMARY:IDPA/GPA Monthly Match
DESCRIPTION:https://www.fxrgc.org/pistol/idpa/ \nThese are our monthly IDPA matches.
URL:https://gunstuff.tv/event/idpa-monthly-match-7/
LOCATION:Culver Range
END:VEVENT
BEGIN:VEVENT
DTSTART;TZID=UTC:20260718T100000
DTEND;TZID=UTC:20260718T100000
DTSTAMP:20260419T174402
CREATED:20251017T181839Z
LAST-MODIFIED:20260410T113142Z
UID:10002448-1784368800-1784368800@gunstuff.tv
SUMMARY:LowCountry USPSA
DESCRIPTION:LowCountry USPSA\nDate : 7/18/26\nStart Time: 10:00 AM\nLocation:\nLow Country Uspsa (NC37)\n466 Indigo Flats E\nTabor City\, NC\nEvent Contact Information\nallen terrell\n8432311810\nlowcountrypreserveuspsa@gmail.com\nEvent Website\nhttps://practiscore.com/clubs/low-country-uspsa
URL:https://gunstuff.tv/event/lowcountry-uspsa-10/
LOCATION:Low Country Uspsa (NC37)\, 466 Indigo Flats E\, Tabor City\, NC\, United States
GEO:34.025696;-78.628674
X-APPLE-STRUCTURED-LOCATION;VALUE=URI;X-ADDRESS=Low Country Uspsa (NC37) 466 Indigo Flats E Tabor City NC United States;X-APPLE-RADIUS=500;X-TITLE=466 Indigo Flats E:geo:-78.628674,34.025696
END:VEVENT
BEGIN:VEVENT
DTSTART;TZID=UTC:20260718T100000
DTEND;TZID=UTC:20260718T100000
DTSTAMP:20260419T174402
CREATED:20260128T014754Z
LAST-MODIFIED:20260401T070144Z
UID:10004807-1784368800-1784368800@gunstuff.tv
SUMMARY:VA Steel
DESCRIPTION:VA Steel\nDate: 7/18/26\nStart Time: 10:00 AM\nLocation:\nVasteel (SCSA382)\nBrushy Mountain Club 1813 Izaak Walton Road Hurt\, VA\nHurt\, VA\nEvent Contact Information\nJudy Gallion\n434-907-4443\nvasteel21@gmail.com\nMatch Information\nThis is a 6 Stage sanctioned Steel Challenge match. Registration at clubhouse from 9:00 am until 9:30 am\, match starts at 10:00 am.\nEvent Website\nhttp://
URL:https://gunstuff.tv/event/va-steel-9/
LOCATION:Vasteel (SCSA382)\, 307 Izaak Walton Rd\, Gretna\, VA\, United States
GEO:37.005382;-79.325362
X-APPLE-STRUCTURED-LOCATION;VALUE=URI;X-ADDRESS=Vasteel (SCSA382) 307 Izaak Walton Rd Gretna VA United States;X-APPLE-RADIUS=500;X-TITLE=307 Izaak Walton Rd:geo:-79.325362,37.005382
END:VEVENT
BEGIN:VEVENT
DTSTART;TZID=UTC:20260718T100000
DTEND;TZID=UTC:20260718T100000
DTSTAMP:20260419T174402
CREATED:20260325T064640Z
LAST-MODIFIED:20260401T070145Z
UID:10006503-1784368800-1784368800@gunstuff.tv
SUMMARY:LSC Steel Challenge
DESCRIPTION:LSC Steel Challenge\nDate: 7/18/26\nStart Time: 10:00 AM\nLocation:\nLinden Sportsmen Club (SCSA551)\n14340 Hogan Rd\nLinden\, MI\nEvent Contact Information\nChris Sorgatz\n2489536150\nsorgatz@ameritech.net\nEvent Website\nhttps://practiscore.com/clubs/linden_sportsmen_club_steel_challenge
URL:https://gunstuff.tv/event/lsc-steel-challenge-4/
LOCATION:Linden Sportsmen Club (SCSA551)\, 14400 Hogan Rd\, Linden\, MI\, United States
GEO:42.815623;-83.802261
X-APPLE-STRUCTURED-LOCATION;VALUE=URI;X-ADDRESS=Linden Sportsmen Club (SCSA551) 14400 Hogan Rd Linden MI United States;X-APPLE-RADIUS=500;X-TITLE=14400 Hogan Rd:geo:-83.802261,42.815623
END:VEVENT
BEGIN:VEVENT
DTSTART;TZID=America/New_York:20260719T080000
DTEND;TZID=America/New_York:20260719T150000
DTSTAMP:20260419T174403
CREATED:20260111T181637Z
LAST-MODIFIED:20260412T184748Z
UID:10004386-1784448000-1784473200@gunstuff.tv
SUMMARY:Cast Bullet Benchrest
DESCRIPTION:Cast Bullet Benchrest match registered with the Cast Bullet Association (CBA). 100 & 200 yd score and military competition based on CBA rules. Any rifle and ammunition is welcome as an Unclassified Entry to familiarize themselves with the course of fire. Contact Mark Mazzocco memazzocco@verizon.net for more info. 
URL:https://gunstuff.tv/event/cast-bullet-benchrest-6/
LOCATION:Benson Range
END:VEVENT
BEGIN:VEVENT
DTSTART;TZID=UTC:20260719T083000
DTEND;TZID=UTC:20260719T083000
DTSTAMP:20260419T174403
CREATED:20260304T061640Z
LAST-MODIFIED:20260401T070145Z
UID:10006093-1784449800-1784449800@gunstuff.tv
SUMMARY:Las Vegas Steel @ DSRPC
DESCRIPTION:Las Vegas Steel @ DSRPC\nDate: 7/19/26\nStart Time: 8:30 AM\nLocation:\nLas Vegas Steel at DSRPC (SCSA473)\n12201 W Charleston Blvd\nLas Vegas \, NV\nEvent Contact Information\nAnthony Massucci\n7024960837\nlasvegassteel5@gmail.com\nEvent Website \nHome
URL:https://gunstuff.tv/event/las-vegas-steel-dsrpc-6/
LOCATION:Las Vegas Steel at DSRPC (SCSA473)\, 11099 W Charleston Blvd\, Las Vegas\, NV\, United States
GEO:36.158975;-115.337075
X-APPLE-STRUCTURED-LOCATION;VALUE=URI;X-ADDRESS=Las Vegas Steel at DSRPC (SCSA473) 11099 W Charleston Blvd Las Vegas NV United States;X-APPLE-RADIUS=500;X-TITLE=11099 W Charleston Blvd:geo:-115.337075,36.158975
END:VEVENT
BEGIN:VEVENT
DTSTART;TZID=UTC:20260719T090000
DTEND;TZID=UTC:20260719T090000
DTSTAMP:20260419T174403
CREATED:20260110T171711Z
LAST-MODIFIED:20260410T113142Z
UID:10004294-1784451600-1784451600@gunstuff.tv
SUMMARY:York Practical Shooters
DESCRIPTION:York Practical Shooters\nDate : 7/19/26\nStart Time: 9:00 AM\nLocation:\nYork Practical Shooters (MID13)\n7131 Iron Stone Hill Rd\nDallastown\, PA\nEvent Contact Information\nRussell Fortney\n9999999999\nYorkUSPSA@gmail.com\nMatch Information\nRegistration opens in Practiscore on the 2nd Sunday of the month at 7:00PM.\nEvent Website\nhttps://www.facebook.com/YorkPracticalShooters
URL:https://gunstuff.tv/event/york-practical-shooters-5/
LOCATION:York Practical Shooters (MID13)\, 7131 Ironstone Hill Way\, Dallastown\, PA\, United States
GEO:39.870491;-76.677504
X-APPLE-STRUCTURED-LOCATION;VALUE=URI;X-ADDRESS=York Practical Shooters (MID13) 7131 Ironstone Hill Way Dallastown PA United States;X-APPLE-RADIUS=500;X-TITLE=7131 Ironstone Hill Way:geo:-76.677504,39.870491
END:VEVENT
BEGIN:VEVENT
DTSTART;TZID=America/New_York:20260719T090000
DTEND;TZID=America/New_York:20260719T120000
DTSTAMP:20260419T174403
CREATED:20251003T162642Z
LAST-MODIFIED:20260411T214634Z
UID:10001464-1784451600-1784462400@gunstuff.tv
SUMMARY:Weekly Trap League
DESCRIPTION:
URL:https://gunstuff.tv/event/weekly-trap-league-42/
LOCATION:Shotgun Range
END:VEVENT
BEGIN:VEVENT
DTSTART;TZID=America/New_York:20260719T090000
DTEND;TZID=America/New_York:20260719T123000
DTSTAMP:20260419T174403
CREATED:20251003T031215Z
LAST-MODIFIED:20260410T070129Z
UID:10000637-1784451600-1784464200@gunstuff.tv
SUMMARY:GRPC NRA 1800
DESCRIPTION:
URL:https://gunstuff.tv/event/grpc-nra-1800-10/
LOCATION:Gateway Rifle & Pistol Club\, 9301 Zambito Ave\, Jacksonville\, FL\, United States
GEO:30.262025;-81.814577
X-APPLE-STRUCTURED-LOCATION;VALUE=URI;X-ADDRESS=Gateway Rifle & Pistol Club 9301 Zambito Ave Jacksonville FL United States;X-APPLE-RADIUS=500;X-TITLE=9301 Zambito Ave:geo:-81.814577,30.262025
END:VEVENT
BEGIN:VEVENT
DTSTART;TZID=America/New_York:20260719T090000
DTEND;TZID=America/New_York:20260719T130000
DTSTAMP:20260419T174403
CREATED:20251003T162536Z
LAST-MODIFIED:20260412T184748Z
UID:10001273-1784451600-1784466000@gunstuff.tv
SUMMARY:Bud Meyer Black Powder Silhouette
DESCRIPTION:
URL:https://gunstuff.tv/event/bud-meyer-black-powder-silhouette-4/
LOCATION:Lea Valley
END:VEVENT
BEGIN:VEVENT
DTSTART;TZID=America/New_York:20260719T090000
DTEND;TZID=America/New_York:20260719T140000
DTSTAMP:20260419T174403
CREATED:20251003T031215Z
LAST-MODIFIED:20260410T070129Z
UID:10000636-1784451600-1784469600@gunstuff.tv
SUMMARY:Wyoming Antelope 2700
DESCRIPTION:
URL:https://gunstuff.tv/event/wyoming-antelope-2700-20/
LOCATION:Wyoming Antelope Club-Florida\, 3700 126th Ave N\, Clearwater\, FL\, United States
GEO:27.886432;-82.683263
X-APPLE-STRUCTURED-LOCATION;VALUE=URI;X-ADDRESS=Wyoming Antelope Club-Florida 3700 126th Ave N Clearwater FL United States;X-APPLE-RADIUS=500;X-TITLE=3700 126th Ave N:geo:-82.683263,27.886432
END:VEVENT
BEGIN:VEVENT
DTSTART;TZID=UTC:20260719T100000
DTEND;TZID=UTC:20260719T100000
DTSTAMP:20260419T174403
CREATED:20260124T171826Z
LAST-MODIFIED:20260410T113142Z
UID:10004720-1784455200-1784455200@gunstuff.tv
SUMMARY:EWPSA Monthly USPSA Match
DESCRIPTION:EWPSA Monthly USPSA Match\nDate : 7/19/26\nStart Time: 10:00 AM\nLocation:\nEastern Wa. Practical Shooters (IE02)\n93315 N SR 225\nBenton City\, WA\nEvent Contact Information\nWarren Harper\n1\newpsa.stats@gmail.com\nMatch Information\nMatch Information\nThis is the EWPSA monthly match. Gates will be open by 9 am\, new shooter briefing at 9:30 am\, and shooters meeting at 10 am. We start shooting after the shooters meeting. The match will be $25 for non-members\, $20 for TCSA members\, juniors shoot for free\, new shooters to USPSA shoot for free\, and setup staff shoots for free. Setup for the match will begin at 9 am on Saturday before the match and targets will be put up around 8am on Sunday. Refunds will be given for cancellations minus Stripe fee. Typically 5-6 stages and around 180 rounds\, including a classifier. If you are a new shooter\, feel free to contact the Match Director (below) if you have any questions. Match Director Contact: ewpsa.stats@gmail.com\nEvent Website\nhttps://practiscore.com/search/matches?refinementList%5Bstate%5D%5B0%5D=Washington&refinementList%5Btype%5D%5B0%5D=USPSA&query=ewpsa
URL:https://gunstuff.tv/event/ewpsa-monthly-uspsa-match-9/
LOCATION:Eastern Wa. Practical Shooters (IE02)\, 71598 N State Rte 225 NW\, Benton City\, WA\, United States
GEO:46.31731;-119.493158
X-APPLE-STRUCTURED-LOCATION;VALUE=URI;X-ADDRESS=Eastern Wa. Practical Shooters (IE02) 71598 N State Rte 225 NW Benton City WA United States;X-APPLE-RADIUS=500;X-TITLE=71598 N State Rte 225 NW:geo:-119.493158,46.31731
END:VEVENT
BEGIN:VEVENT
DTSTART;TZID=America/New_York:20260719T100000
DTEND;TZID=America/New_York:20260719T150000
DTSTAMP:20260419T174403
CREATED:20260308T183138Z
LAST-MODIFIED:20260412T184748Z
UID:10006211-1784455200-1784473200@gunstuff.tv
SUMMARY:Running Deer Match
DESCRIPTION:See https://www.fxrgc.org/rifle/running-deer/ for more info
URL:https://gunstuff.tv/event/running-deer-match-4/
LOCATION:Porasky Range
END:VEVENT
BEGIN:VEVENT
DTSTART;TZID=America/New_York:20260719T130000
DTEND;TZID=America/New_York:20260719T150000
DTSTAMP:20260419T174403
CREATED:20251019T193323Z
LAST-MODIFIED:20260414T083129Z
UID:10002462-1784466000-1784473200@gunstuff.tv
SUMMARY:Open Trap Shoot - Weather Permitting
DESCRIPTION:Open shoot\, $5.00 per round.  The trap field is 2/10ths of a mile past the clubhouse. \nFor the latest information visit:https://www.facebook.com/groups/1663932967427026
URL:https://gunstuff.tv/event/open-trap-shoot-weather-permitting-13/
LOCATION:523 Sizer Run Road Emporium\, Emporium\, PA\, United States
GEO:41.500749;-78.322815
END:VEVENT
BEGIN:VEVENT
DTSTART;VALUE=DATE:20260720
DTEND;VALUE=DATE:20260721
DTSTAMP:20260419T174403
CREATED:20260213T031059Z
LAST-MODIFIED:20260410T034702Z
UID:10005271-1784505600-1784591999@gunstuff.tv
SUMMARY:Club Closed
DESCRIPTION:
URL:https://gunstuff.tv/event/club-closed-46/
LOCATION:ID
END:VEVENT
BEGIN:VEVENT
DTSTART;TZID=America/New_York:20260720T090000
DTEND;TZID=America/New_York:20260720T100000
DTSTAMP:20260419T174403
CREATED:20251003T162642Z
LAST-MODIFIED:20251010T162929Z
UID:10001465-1784538000-1784541600@gunstuff.tv
SUMMARY:4-H Class Indoors
DESCRIPTION:Indoor reserved for 4-H class.
URL:https://gunstuff.tv/event/4-h-class-indoors-42/
LOCATION:Indoor Range
END:VEVENT
BEGIN:VEVENT
DTSTART;TZID=America/New_York:20260720T160000
DTEND;TZID=America/New_York:20260720T180000
DTSTAMP:20260419T174403
CREATED:20251003T162642Z
LAST-MODIFIED:20251205T181709Z
UID:10001466-1784563200-1784570400@gunstuff.tv
SUMMARY:Skeet League
DESCRIPTION:Contact Frank Andrews with Questions.
URL:https://gunstuff.tv/event/skeet-league-42/
LOCATION:ID
END:VEVENT
BEGIN:VEVENT
DTSTART;TZID=America/New_York:20260720T160000
DTEND;TZID=America/New_York:20260720T180000
DTSTAMP:20260419T174403
CREATED:20251212T181642Z
LAST-MODIFIED:20260411T214634Z
UID:10003543-1784563200-1784570400@gunstuff.tv
SUMMARY:Skeet League
DESCRIPTION:Contact Frank Andrews with Questions.
URL:https://gunstuff.tv/event/skeet-league-132/
LOCATION:Skeet Range
END:VEVENT
BEGIN:VEVENT
DTSTART;VALUE=DATE:20260721
DTEND;VALUE=DATE:20260722
DTSTAMP:20260419T174403
CREATED:20251003T160029Z
LAST-MODIFIED:20260412T043232Z
UID:10001008-1784592000-1784678399@gunstuff.tv
SUMMARY:100\, 200\, 300 Yard Practice Benchrest Range
DESCRIPTION:
URL:https://gunstuff.tv/event/100-200-300-yard-practice-benchrest-range-34/
LOCATION:ID
END:VEVENT
BEGIN:VEVENT
DTSTART;VALUE=DATE:20260721
DTEND;VALUE=DATE:20260722
DTSTAMP:20260419T174403
CREATED:20260213T031059Z
LAST-MODIFIED:20260410T034702Z
UID:10005270-1784592000-1784678399@gunstuff.tv
SUMMARY:Club closed
DESCRIPTION:
URL:https://gunstuff.tv/event/club-closed-45/
LOCATION:ID
END:VEVENT
BEGIN:VEVENT
DTSTART;TZID=America/New_York:20260721T170000
DTEND;TZID=America/New_York:20260721T200000
DTSTAMP:20260419T174403
CREATED:20260328T214632Z
LAST-MODIFIED:20260411T214634Z
UID:10006592-1784653200-1784664000@gunstuff.tv
SUMMARY:Tactical Tuesday IDPA Practice
DESCRIPTION:Shooters new to Action Shooting contact Eric Zaharee at ABSAIDPA@gmail .com\nSee (Alder Brook) PractiScore.com for sign up Cost $5
URL:https://gunstuff.tv/event/tactical-tuesday-idpa-practice-15/
LOCATION:Action Bays
END:VEVENT
BEGIN:VEVENT
DTSTART;TZID=America/Chicago:20260721T190000
DTEND;TZID=America/Chicago:20260721T200000
DTSTAMP:20260419T174403
CREATED:20251021T211656Z
LAST-MODIFIED:20260414T221628Z
UID:10002505-1784660400-1784664000@gunstuff.tv
SUMMARY:Northwest Suburban Townhall Meeting
DESCRIPTION:Come out and join your friends at the ISRA Northwest Suburban Townhall meeting\, returning to the location at Golden Corral Buffet\, 1591 S Randall Rd\, Algonquin. Doors open at 6:00 PM with Buffet and free soft drink available for a special ISRA Meeting price. The meeting will be from 7-8 PM.\nPlease join us to enjoy great food and company and help support our gracious host\, Golden Corral Algonquin\, in our new location.\nNorthwest Suburban townhall Meeting Board\nmember@isra.org
URL:https://gunstuff.tv/event/northwest-suburban-grass-roots-meeting-10/
LOCATION:Golden Corral Restaurant – Algonquin\, 699 S Randall Rd\, Algonquin\, IL\, United States
CATEGORIES:Event Calendar
GEO:42.172548;-88.33535
X-APPLE-STRUCTURED-LOCATION;VALUE=URI;X-ADDRESS=Golden Corral Restaurant – Algonquin 699 S Randall Rd Algonquin IL United States;X-APPLE-RADIUS=500;X-TITLE=699 S Randall Rd:geo:-88.33535,42.172548
END:VEVENT
BEGIN:VEVENT
DTSTART;VALUE=DATE:20260722
DTEND;VALUE=DATE:20260723
DTSTAMP:20260419T174403
CREATED:20251005T190051Z
LAST-MODIFIED:20260412T200143Z
UID:10001682-1784678400-1784764799@gunstuff.tv
SUMMARY:Wednesday Registered Skeet
DESCRIPTION:Registered Skeet.  Contact Jerry Adams at 240-605-3220 for details. \nClick here for flyer
URL:https://gunstuff.tv/event/wednesday-registered-skeet-14/
LOCATION:ID
END:VEVENT
BEGIN:VEVENT
DTSTART;TZID=UTC:20260722T164500
DTEND;TZID=UTC:20260722T164500
DTSTAMP:20260419T174403
CREATED:20260121T014637Z
LAST-MODIFIED:20260401T070145Z
UID:10004649-1784738700-1784738700@gunstuff.tv
SUMMARY:Bass River Weds Nite Steel
DESCRIPTION:Bass River Weds Nite Steel\nDate: 7/22/26\nStart Time: 4:45 PM\nLocation:\nBass River Rod & Gun Club (SCSA467)\nBass River Rod &Gun 620 Rt. 6A\nYarmouthport\, MA\nEvent Contact Information\nTimothy J Kent\n5082372137\ntjkent@comcast.net\nEvent Website\nhttps://www.bassriverrodandgun.com/
URL:https://gunstuff.tv/event/bass-river-weds-nite-steel-13/
LOCATION:Bass River Rod & Gun Club (SCSA467)\, 79 State Rte 6 Alt\, Dennis\, MA\, United States
GEO:41.721025;-70.196653
X-APPLE-STRUCTURED-LOCATION;VALUE=URI;X-ADDRESS=Bass River Rod & Gun Club (SCSA467) 79 State Rte 6 Alt Dennis MA United States;X-APPLE-RADIUS=500;X-TITLE=79 State Rte 6 Alt:geo:-70.196653,41.721025
END:VEVENT
END:VCALENDAR