BEGIN:VCALENDAR
VERSION:2.0
PRODID:-//GunStuff TV - ECPv6.15.20//NONSGML v1.0//EN
CALSCALE:GREGORIAN
METHOD:PUBLISH
X-ORIGINAL-URL:https://gunstuff.tv
X-WR-CALDESC:Events for GunStuff TV
REFRESH-INTERVAL;VALUE=DURATION:PT1H
X-Robots-Tag:noindex
X-PUBLISHED-TTL:PT1H
BEGIN:VTIMEZONE
TZID:America/New_York
BEGIN:DAYLIGHT
TZOFFSETFROM:-0500
TZOFFSETTO:-0400
TZNAME:EDT
DTSTART:20250309T070000
END:DAYLIGHT
BEGIN:STANDARD
TZOFFSETFROM:-0400
TZOFFSETTO:-0500
TZNAME:EST
DTSTART:20251102T060000
END:STANDARD
BEGIN:DAYLIGHT
TZOFFSETFROM:-0500
TZOFFSETTO:-0400
TZNAME:EDT
DTSTART:20260308T070000
END:DAYLIGHT
BEGIN:STANDARD
TZOFFSETFROM:-0400
TZOFFSETTO:-0500
TZNAME:EST
DTSTART:20261101T060000
END:STANDARD
BEGIN:DAYLIGHT
TZOFFSETFROM:-0500
TZOFFSETTO:-0400
TZNAME:EDT
DTSTART:20270314T070000
END:DAYLIGHT
BEGIN:STANDARD
TZOFFSETFROM:-0400
TZOFFSETTO:-0500
TZNAME:EST
DTSTART:20271107T060000
END:STANDARD
END:VTIMEZONE
BEGIN:VTIMEZONE
TZID:America/Phoenix
BEGIN:STANDARD
TZOFFSETFROM:-0700
TZOFFSETTO:-0700
TZNAME:MST
DTSTART:20250101T000000
END:STANDARD
END:VTIMEZONE
BEGIN:VTIMEZONE
TZID:UTC
BEGIN:STANDARD
TZOFFSETFROM:+0000
TZOFFSETTO:+0000
TZNAME:UTC
DTSTART:20250101T000000
END:STANDARD
END:VTIMEZONE
BEGIN:VTIMEZONE
TZID:America/Los_Angeles
BEGIN:DAYLIGHT
TZOFFSETFROM:-0800
TZOFFSETTO:-0700
TZNAME:PDT
DTSTART:20250309T100000
END:DAYLIGHT
BEGIN:STANDARD
TZOFFSETFROM:-0700
TZOFFSETTO:-0800
TZNAME:PST
DTSTART:20251102T090000
END:STANDARD
BEGIN:DAYLIGHT
TZOFFSETFROM:-0800
TZOFFSETTO:-0700
TZNAME:PDT
DTSTART:20260308T100000
END:DAYLIGHT
BEGIN:STANDARD
TZOFFSETFROM:-0700
TZOFFSETTO:-0800
TZNAME:PST
DTSTART:20261101T090000
END:STANDARD
BEGIN:DAYLIGHT
TZOFFSETFROM:-0800
TZOFFSETTO:-0700
TZNAME:PDT
DTSTART:20270314T100000
END:DAYLIGHT
BEGIN:STANDARD
TZOFFSETFROM:-0700
TZOFFSETTO:-0800
TZNAME:PST
DTSTART:20271107T090000
END:STANDARD
END:VTIMEZONE
BEGIN:VTIMEZONE
TZID:America/Chicago
BEGIN:DAYLIGHT
TZOFFSETFROM:-0600
TZOFFSETTO:-0500
TZNAME:CDT
DTSTART:20250309T080000
END:DAYLIGHT
BEGIN:STANDARD
TZOFFSETFROM:-0500
TZOFFSETTO:-0600
TZNAME:CST
DTSTART:20251102T070000
END:STANDARD
BEGIN:DAYLIGHT
TZOFFSETFROM:-0600
TZOFFSETTO:-0500
TZNAME:CDT
DTSTART:20260308T080000
END:DAYLIGHT
BEGIN:STANDARD
TZOFFSETFROM:-0500
TZOFFSETTO:-0600
TZNAME:CST
DTSTART:20261101T070000
END:STANDARD
BEGIN:DAYLIGHT
TZOFFSETFROM:-0600
TZOFFSETTO:-0500
TZNAME:CDT
DTSTART:20270314T080000
END:DAYLIGHT
BEGIN:STANDARD
TZOFFSETFROM:-0500
TZOFFSETTO:-0600
TZNAME:CST
DTSTART:20271107T070000
END:STANDARD
END:VTIMEZONE
BEGIN:VEVENT
DTSTART;TZID=America/New_York:20260706T160000
DTEND;TZID=America/New_York:20260706T180000
DTSTAMP:20260419T235920
CREATED:20251003T162641Z
LAST-MODIFIED:20251205T181708Z
UID:10001460-1783353600-1783360800@gunstuff.tv
SUMMARY:Skeet League
DESCRIPTION:Contact Frank Andrews with Questions.
URL:https://gunstuff.tv/event/skeet-league-40/
LOCATION:FL
END:VEVENT
BEGIN:VEVENT
DTSTART;TZID=America/New_York:20260706T160000
DTEND;TZID=America/New_York:20260706T180000
DTSTAMP:20260419T235920
CREATED:20251212T181641Z
LAST-MODIFIED:20260411T214633Z
UID:10003541-1783353600-1783360800@gunstuff.tv
SUMMARY:Skeet League
DESCRIPTION:Contact Frank Andrews with Questions.
URL:https://gunstuff.tv/event/skeet-league-130/
LOCATION:Skeet Range
END:VEVENT
BEGIN:VEVENT
DTSTART;TZID=America/New_York:20260706T193000
DTEND;TZID=America/New_York:20260706T223000
DTSTAMP:20260419T235920
CREATED:20251012T173816Z
LAST-MODIFIED:20260412T184747Z
UID:10002112-1783366200-1783377000@gunstuff.tv
SUMMARY:Board Meeting
DESCRIPTION:Monthly Board Meeting
URL:https://gunstuff.tv/event/board-meeting-28/
LOCATION:Clubhouse
END:VEVENT
BEGIN:VEVENT
DTSTART;VALUE=DATE:20260707
DTEND;VALUE=DATE:20260708
DTSTAMP:20260419T235920
CREATED:20251003T160029Z
LAST-MODIFIED:20260412T043233Z
UID:10001001-1783382400-1783468799@gunstuff.tv
SUMMARY:100\, 200\, 300 Yard Practice Benchrest Range
DESCRIPTION:
URL:https://gunstuff.tv/event/100-200-300-yard-practice-benchrest-range-32/
LOCATION:FL
END:VEVENT
BEGIN:VEVENT
DTSTART;VALUE=DATE:20260707
DTEND;VALUE=DATE:20260708
DTSTAMP:20260419T235920
CREATED:20260213T031058Z
LAST-MODIFIED:20260410T034701Z
UID:10005264-1783382400-1783468799@gunstuff.tv
SUMMARY:Club closed
DESCRIPTION:
URL:https://gunstuff.tv/event/club-closed-42/
LOCATION:FL
END:VEVENT
BEGIN:VEVENT
DTSTART;TZID=America/New_York:20260707T090000
DTEND;TZID=America/New_York:20260707T160000
DTSTAMP:20260419T235920
CREATED:20251012T173816Z
LAST-MODIFIED:20260412T184747Z
UID:10002113-1783414800-1783440000@gunstuff.tv
SUMMARY:US Army 3rd Infantry GAFPB Quals
DESCRIPTION:Host members of the 3rd Infantry Regiment (Old Guard) for the pistol segment of their qualification for the German Army Proficiency Badge
URL:https://gunstuff.tv/event/us-army-3rd-infantry-gafpb-quals-5/
LOCATION:Walsh & Sieger Ranges
END:VEVENT
BEGIN:VEVENT
DTSTART;TZID=America/New_York:20260707T170000
DTEND;TZID=America/New_York:20260707T200000
DTSTAMP:20260419T235920
CREATED:20260328T214631Z
LAST-MODIFIED:20260411T214633Z
UID:10006590-1783443600-1783454400@gunstuff.tv
SUMMARY:Tactical Tuesday IDPA Practice
DESCRIPTION:Shooters new to Action Shooting contact Eric Zaharee at ABSAIDPA@gmail .com\nSee (Alder Brook) PractiScore.com for sign up Cost $5
URL:https://gunstuff.tv/event/tactical-tuesday-idpa-practice-13/
LOCATION:Action Bays
END:VEVENT
BEGIN:VEVENT
DTSTART;TZID=UTC:20260708T164500
DTEND;TZID=UTC:20260708T164500
DTSTAMP:20260419T235920
CREATED:20260121T014636Z
LAST-MODIFIED:20260401T070144Z
UID:10004647-1783529100-1783529100@gunstuff.tv
SUMMARY:Bass River Weds Nite Steel
DESCRIPTION:Bass River Weds Nite Steel\nDate: 7/08/26\nStart Time: 4:45 PM\nLocation:\nBass River Rod & Gun Club (SCSA467)\nBass River Rod &Gun 620 Rt. 6A\nYarmouthport\, MA\nEvent Contact Information\nTimothy J Kent\n5082372137\ntjkent@comcast.net\nEvent Website\nhttps://www.bassriverrodandgun.com/
URL:https://gunstuff.tv/event/bass-river-weds-nite-steel-11/
LOCATION:Bass River Rod & Gun Club (SCSA467)\, 79 State Rte 6 Alt\, Dennis\, MA\, United States
GEO:41.721025;-70.196653
X-APPLE-STRUCTURED-LOCATION;VALUE=URI;X-ADDRESS=Bass River Rod & Gun Club (SCSA467) 79 State Rte 6 Alt Dennis MA United States;X-APPLE-RADIUS=500;X-TITLE=79 State Rte 6 Alt:geo:-70.196653,41.721025
END:VEVENT
BEGIN:VEVENT
DTSTART;TZID=America/Los_Angeles:20260708T170000
DTEND;TZID=America/Los_Angeles:20260708T220000
DTSTAMP:20260419T235920
CREATED:20260308T221638Z
LAST-MODIFIED:20260405T223147Z
UID:10006222-1783530000-1783548000@gunstuff.tv
SUMMARY:MOORE N MOORE - NIGHT SHOOT & BBQ
DESCRIPTION:For more information\, contact Moore N Moore at https://www.moorenmoore.com/night-shooting/
URL:https://gunstuff.tv/event/moore-n-moore-night-shoot-bbq-38/
LOCATION:Moore N Moore Sporting Clays\, 12653 Little Tujunga Canyon Rd\, Sylmar\, CA\, United States
CATEGORIES:Moore N Moore
ATTACH;FMTTYPE=image/png:https://gunstuff.tv/wp-content/uploads/2025/10/image-pjjZEf.png
ORGANIZER;CN="Moore N Moore Sporting Clays":MAILTO:info@moorenmoore.com
GEO:34.282317;-118.371281
X-APPLE-STRUCTURED-LOCATION;VALUE=URI;X-ADDRESS=Moore N Moore Sporting Clays 12653 Little Tujunga Canyon Rd Sylmar CA United States;X-APPLE-RADIUS=500;X-TITLE=12653 Little Tujunga Canyon Rd:geo:-118.371281,34.282317
END:VEVENT
BEGIN:VEVENT
DTSTART;VALUE=DATE:20260709
DTEND;VALUE=DATE:20260710
DTSTAMP:20260419T235920
CREATED:20251003T160029Z
LAST-MODIFIED:20260412T043233Z
UID:10001002-1783555200-1783641599@gunstuff.tv
SUMMARY:600 Yard Practice 6:30am Pits
DESCRIPTION:
URL:https://gunstuff.tv/event/600-yard-practice-630am-pits-9/
LOCATION:FL
END:VEVENT
BEGIN:VEVENT
DTSTART;TZID=UTC:20260709T090000
DTEND;TZID=UTC:20260709T090000
DTSTAMP:20260419T235920
CREATED:20260315T104648Z
LAST-MODIFIED:20260412T110149Z
UID:10006329-1783587600-1783587600@gunstuff.tv
SUMMARY:Libertyseed
DESCRIPTION:Weare\, NH – Three Strikes of the Match / Weare Public Library\nJuly 09\, 2026\nAddress: 10 Paige Memorial Lane\, Weare\, NH\nThis event is a Libertyseed. It is a speaking engagement and no firearms instruction takes place. This event is free to the public and no registration is required.\nProject Appleseed invites you to experience a LibertySeed event where our volunteers will tell the story of the birth of our Nation. These events are free to the public.\nThe 19th of April\, 1775\, a day that forever changed the course of our Nation. Why is this such an important day and who was involved in the birth of our Nation?\nIt will not be the story you think you know\, or the story you heard in school. The volunteers at the RWVA are passionate about American Heritage. We love to tell people the Story of the Three Strikes\, about ‘The Day the Shot was Heard Around the World.’ The volunteers are willing to tell the story to groups around the Nation.\nhttps://www.wearepubliclibrary.com/events-1\nContact info: NH@appleseedinfo.org
URL:https://gunstuff.tv/event/libertyseed-9/
LOCATION:Three Strikes of the Match / Weare Public Library\, 10 Memorial St\, Tilton\, NH\, United States
GEO:43.44034;-71.590922
X-APPLE-STRUCTURED-LOCATION;VALUE=URI;X-ADDRESS=Three Strikes of the Match / Weare Public Library 10 Memorial St Tilton NH United States;X-APPLE-RADIUS=500;X-TITLE=10 Memorial St:geo:-71.590922,43.44034
END:VEVENT
BEGIN:VEVENT
DTSTART;TZID=America/Los_Angeles:20260709T130000
DTEND;TZID=America/Los_Angeles:20260709T180000
DTSTAMP:20260419T235920
CREATED:20260315T221630Z
LAST-MODIFIED:20260405T223148Z
UID:10006336-1783602000-1783620000@gunstuff.tv
SUMMARY:RIFLE SIDE RANGE CLOSED
DESCRIPTION:NOT OPEN TO THE PUBLIC AFTER 1:00 P. M.
URL:https://gunstuff.tv/event/rifle-side-range-closed-14/
LOCATION:California
END:VEVENT
BEGIN:VEVENT
DTSTART;TZID=America/New_York:20260709T180000
DTEND;TZID=America/New_York:20260709T200000
DTSTAMP:20260419T235920
CREATED:20260404T214732Z
LAST-MODIFIED:20260411T214633Z
UID:10006758-1783620000-1783627200@gunstuff.tv
SUMMARY:USCCA-Use of Force Training Series-Legal Standards
DESCRIPTION:Indoor Range Closed Registration required Free class\, Lecture Only – Legal standards\, decision making\, and responsibilities. Contact Marcie Zaharee for Info zahareemarcie@gmail.com
URL:https://gunstuff.tv/event/uscca-use-of-force-training-series-legal-standards/
LOCATION:Classroom
END:VEVENT
BEGIN:VEVENT
DTSTART;TZID=America/Chicago:20260709T190000
DTEND;TZID=America/Chicago:20260709T200000
DTSTAMP:20260419T235920
CREATED:20251014T211425Z
LAST-MODIFIED:20260414T221628Z
UID:10002194-1783623600-1783627200@gunstuff.tv
SUMMARY:South Suburban Cook County Townhall Meeting
DESCRIPTION:Come out and join your friends at the ISRA South Suburban Cook County Townhall meeting from 7 pm-8 pm. As always\, we will discuss current events.\nOur host Papa Joe’s Restaurant will be serving a buffet-style dinner with unlimited soft drinks starting at 6:15 pm.\nThe cost of the buffet is $17.\nCome join us and enjoy great food and company and help support our gracious host\, Papa Joe’s Restaurant.
URL:https://gunstuff.tv/event/south-suburban-cook-county-grass-roots-meeting-10/
LOCATION:Papa Joe’s Restaurant – Orland Park\, 14459 la Grange Rd\, Orland Park\, IL\, United States
CATEGORIES:Event Calendar
GEO:41.627517;-87.853783
X-APPLE-STRUCTURED-LOCATION;VALUE=URI;X-ADDRESS=Papa Joe’s Restaurant – Orland Park 14459 la Grange Rd Orland Park IL United States;X-APPLE-RADIUS=500;X-TITLE=14459 la Grange Rd:geo:-87.853783,41.627517
END:VEVENT
BEGIN:VEVENT
DTSTART;TZID=America/New_York:20260709T190000
DTEND;TZID=America/New_York:20260709T220000
DTSTAMP:20260419T235920
CREATED:20260412T184747Z
LAST-MODIFIED:20260412T184747Z
UID:10007465-1783623600-1783634400@gunstuff.tv
SUMMARY:Doerflein Skeet League
DESCRIPTION:Doerflein Skeet League
URL:https://gunstuff.tv/event/doerflein-skeet-league-30/
LOCATION:Shotgun Fields
END:VEVENT
BEGIN:VEVENT
DTSTART;VALUE=DATE:20260710
DTEND;VALUE=DATE:20260711
DTSTAMP:20260419T235920
CREATED:20251003T160029Z
LAST-MODIFIED:20260412T043233Z
UID:10001003-1783641600-1783727999@gunstuff.tv
SUMMARY:Across the Course Practice 6:30am Pits
DESCRIPTION:
URL:https://gunstuff.tv/event/across-the-course-practice-630am-pits-11/
LOCATION:FL
END:VEVENT
BEGIN:VEVENT
DTSTART;TZID=UTC:20260710T080000
DTEND;TZID=UTC:20260710T080000
DTSTAMP:20260419T235920
CREATED:20260207T171718Z
LAST-MODIFIED:20260410T113141Z
UID:10005050-1783670400-1783670400@gunstuff.tv
SUMMARY:Selway Armory Area 1 Steel Challenge Championship
DESCRIPTION:Selway Armory Area 1 Steel Challenge Championship\nDates : 7/10/26 – 7/12/26\nStart Time: 8:00 AM\nLocation:\nBig Sky Practical Shooting Club (NR02)\n1142 Deer Creek Road\nEast Missoula\, MT\nEvent Contact Information\nSean Boushie\n406-370-6927\nflintlocknfur@hotmail.com\nMatch Information\nhttps://practiscore.com/bspsc-2026-selway-armory-area-1-steel-challenge-championship/register\nhttps://www.facebook.com/groups/1043507943424902\nEvent Website\nhttps://bspsc.org/index.php
URL:https://gunstuff.tv/event/selway-armory-area-1-steel-challenge-championship/
LOCATION:Big Sky Practical Shooting Club (NR02)\, 1142 Deer Creek Rd\, Missoula\, MT\, United States
GEO:46.862716;-113.891053
X-APPLE-STRUCTURED-LOCATION;VALUE=URI;X-ADDRESS=Big Sky Practical Shooting Club (NR02) 1142 Deer Creek Rd Missoula MT United States;X-APPLE-RADIUS=500;X-TITLE=1142 Deer Creek Rd:geo:-113.891053,46.862716
END:VEVENT
BEGIN:VEVENT
DTSTART;TZID=UTC:20260710T080000
DTEND;TZID=UTC:20260710T080000
DTSTAMP:20260419T235920
CREATED:20260304T061639Z
LAST-MODIFIED:20260401T070144Z
UID:10006089-1783670400-1783670400@gunstuff.tv
SUMMARY:BSPSC Selway Armory Area 1 Steel Challenge Championship
DESCRIPTION:BSPSC Selway Armory Area 1 Steel Challenge Championship\nDates: 7/10/26 – 7/12/26\nStart Time: 8:00 AM\nLocation:\nBig Sky Practical Shooting Club Inc (SCSA021)\n1142 Deer Creek Road\nEast Missoula\, MT\nEvent Contact Information\nSean Boushie\n406-370-6927\nflintlocknfur@hotmail.com\nMatch Information\nhttps://practiscore.com/bspsc-2026-selway-armory-area-1-steel-challenge-championship/register\nhttps://www.facebook.com/groups/1043507943424902\nEvent Website\nhttps://bspsc.org/
URL:https://gunstuff.tv/event/bspsc-selway-armory-area-1-steel-challenge-championship/
LOCATION:Big Sky Practical Shooting Club Inc (SCSA021)\, 1142 Deer Creek Rd\, Missoula\, MT\, United States
GEO:46.862716;-113.891053
X-APPLE-STRUCTURED-LOCATION;VALUE=URI;X-ADDRESS=Big Sky Practical Shooting Club Inc (SCSA021) 1142 Deer Creek Rd Missoula MT United States;X-APPLE-RADIUS=500;X-TITLE=1142 Deer Creek Rd:geo:-113.891053,46.862716
END:VEVENT
BEGIN:VEVENT
DTSTART;TZID=UTC:20260710T090000
DTEND;TZID=UTC:20260710T090000
DTSTAMP:20260419T235920
CREATED:20251031T195553Z
LAST-MODIFIED:20260415T070236Z
UID:10002828-1783674000-1783674000@gunstuff.tv
SUMMARY:BSPSC 2026 Selway Armory Area 1 Steel Challenge Championship
DESCRIPTION:BSPSC 2026 Selway Armory Area 1 Steel Challenge Championship\nMatch Status: Approved by DNROI\nMatch Starts on Jul 10\, 2026\nMatch will end Jul 12\, 2026\nMatch Location:\nBig Sky Practical Shooting Club Inc\n1142 Deer Creek Road\nEast Missoula\, MT 59802\nManaged by:\nBig Sky Practical Shooting Club Inc\nStage Count: 8\nRound Count: 195\nMatch Entry Fee: $75.00\nMatch Director: Scott Bair\nRange Master: Jodi Humann\nAdditional Details\nRegister!\nhttps://practiscore.com/bspsc-2026-selway-armory-area-1-steel-challenge-championship/register
URL:https://gunstuff.tv/event/bspsc-2026-selway-armory-area-1-steel-challenge-championship/
LOCATION:Big Sky Practical Shooting Club Inc\, 1142 Deer Creek Rd\, Missoula\, MT\, United States
GEO:46.862716;-113.891053
X-APPLE-STRUCTURED-LOCATION;VALUE=URI;X-ADDRESS=Big Sky Practical Shooting Club Inc 1142 Deer Creek Rd Missoula MT United States;X-APPLE-RADIUS=500;X-TITLE=1142 Deer Creek Rd:geo:-113.891053,46.862716
END:VEVENT
BEGIN:VEVENT
DTSTART;VALUE=DATE:20260711
DTEND;VALUE=DATE:20260712
DTSTAMP:20260419T235920
CREATED:20260213T031058Z
LAST-MODIFIED:20260410T034702Z
UID:10005265-1783728000-1783814399@gunstuff.tv
SUMMARY:Women On Target
DESCRIPTION:cost is $45 Preregistration on NRA.org under Women’s Events (choose Blythe\, GA for location)
URL:https://gunstuff.tv/event/women-on-target-3/
LOCATION:FL
END:VEVENT
BEGIN:VEVENT
DTSTART;VALUE=DATE:20260711
DTEND;VALUE=DATE:20260712
DTSTAMP:20260419T235920
CREATED:20260220T031634Z
LAST-MODIFIED:20260410T034702Z
UID:10005675-1783728000-1783814399@gunstuff.tv
SUMMARY:classroom closed
DESCRIPTION:
URL:https://gunstuff.tv/event/classroom-closed-6/
LOCATION:FL
END:VEVENT
BEGIN:VEVENT
DTSTART;VALUE=DATE:20260711
DTEND;VALUE=DATE:20260713
DTSTAMP:20260419T235920
CREATED:20251005T190051Z
LAST-MODIFIED:20260412T200143Z
UID:10001679-1783728000-1783900799@gunstuff.tv
SUMMARY:Comal County
DESCRIPTION:Comal County ClayBusters fundraiser \nFor club information contact Amber Schwarz at aschwarz@nssa-nsca.com.
URL:https://gunstuff.tv/event/comal-county/
LOCATION:National Shooting Complex\, 5931 Roft Rd\, San Antonio\, TX\, United States
GEO:29.492881;-98.741985
X-APPLE-STRUCTURED-LOCATION;VALUE=URI;X-ADDRESS=National Shooting Complex 5931 Roft Rd San Antonio TX United States;X-APPLE-RADIUS=500;X-TITLE=5931 Roft Rd:geo:-98.741985,29.492881
END:VEVENT
BEGIN:VEVENT
DTSTART;TZID=America/New_York:20260711T003000
DTEND;TZID=America/New_York:20260711T023000
DTSTAMP:20260419T235920
CREATED:20260220T031633Z
LAST-MODIFIED:20260410T034702Z
UID:10005674-1783729800-1783737000@gunstuff.tv
SUMMARY:pistol closed 5:00pm
DESCRIPTION:
URL:https://gunstuff.tv/event/pistol-closed-500pm-2/
LOCATION:FL
END:VEVENT
BEGIN:VEVENT
DTSTART;TZID=UTC:20260711T080000
DTEND;TZID=UTC:20260711T080000
DTSTAMP:20260419T235920
CREATED:20251031T195459Z
LAST-MODIFIED:20260401T070144Z
UID:10002793-1783756800-1783756800@gunstuff.tv
SUMMARY:Hansen Steel
DESCRIPTION:Hansen Steel\nDate: 7/11/26\nStart Time: 8:00 AM\nLocation:\nFort Myers Practical Shooters (SCSA254)\n27700 Zemel Road\nPunta Gorda\, FL\nEvent Contact Information\nSteve Naso\n2398490190\nstevenaso1@gmail.com\nMatch Information\nClassifier every second saturday.\nEvent Website\nhttp://
URL:https://gunstuff.tv/event/hansen-steel-9/
LOCATION:Fort Myers Practical Shooters (SCSA254)\, 25398 Zemel Rd\, Punta Gorda\, FL\, United States
GEO:26.799811;-82.032777
X-APPLE-STRUCTURED-LOCATION;VALUE=URI;X-ADDRESS=Fort Myers Practical Shooters (SCSA254) 25398 Zemel Rd Punta Gorda FL United States;X-APPLE-RADIUS=500;X-TITLE=25398 Zemel Rd:geo:-82.032777,26.799811
END:VEVENT
BEGIN:VEVENT
DTSTART;TZID=UTC:20260711T080000
DTEND;TZID=UTC:20260711T080000
DTSTAMP:20260419T235920
CREATED:20260227T113145Z
LAST-MODIFIED:20260410T113141Z
UID:10005847-1783756800-1783756800@gunstuff.tv
SUMMARY:SEIPS USPSA July 11 2026
DESCRIPTION:SEIPS USPSA July 11 2026\nDate : 7/11/26\nStart Time: 8:00 AM\nLocation:\nS.e. Idaho Practical Shooters (ID02)\n1999 N 65th West\nIdaho Falls\, ID\nEvent Contact Information\nKevin Elliott\n(559) 310-9945\nkevinbelliott@mac.com\nMatch Information\nMonthly SEIPS Regular Season Match. Setup time is 8:00am. Mandatory shooters meeting at 9:30am. Registration opens in Practiscore.org two weeks prior to match. Online payment required. $20 non-SEIPS members. $15 SEIPS members. Juniors $5 (under age 18 on day of match). Expect 5-6 stages including a USPSA Classifier. October match is typically an All-Classifier match.\nEvent Website\nhttp://seips.org
URL:https://gunstuff.tv/event/seips-uspsa-july-11-2026/
LOCATION:S.e. Idaho Practical Shooters (ID02)\, 1998 N 65th W\, Idaho Falls\, ID\, United States
GEO:43.51329;-112.162612
X-APPLE-STRUCTURED-LOCATION;VALUE=URI;X-ADDRESS=S.e. Idaho Practical Shooters (ID02) 1998 N 65th W Idaho Falls ID United States;X-APPLE-RADIUS=500;X-TITLE=1998 N 65th W:geo:-112.162612,43.51329
END:VEVENT
BEGIN:VEVENT
DTSTART;TZID=UTC:20260711T090000
DTEND;TZID=UTC:20260711T090000
DTSTAMP:20260419T235920
CREATED:20251017T181839Z
LAST-MODIFIED:20260410T113141Z
UID:10002447-1783760400-1783760400@gunstuff.tv
SUMMARY:ERPS USPSA Match at Element Training Complex 07-11-2026
DESCRIPTION:ERPS USPSA Match at Element Training Complex 07-11-2026\nDate : 7/11/26\nStart Time: 9:00 AM\nLocation:\nERPS (FL39)\n4418 Cooper Lane\nHolt\, FL\nEvent Contact Information\nDonnie Chapman\n6185581229\nchappytactical@gmail.com\nMatch Information\nLevel 1 USPSA Match hosted by ERPS at Element Training Complex in Holt\, FL\nFollow us @erpsuspsa\nEvent Website\nhttps://practiscore.com/erps-uspsa-match-at-element-training-complex-07-11-2026/register
URL:https://gunstuff.tv/event/erps-uspsa-match-at-element-training-complex-07-11-2026/
LOCATION:ERPS (FL39)\, 4418 Cooper Ln\, Holt\, FL\, United States
GEO:30.699045;-86.776651
X-APPLE-STRUCTURED-LOCATION;VALUE=URI;X-ADDRESS=ERPS (FL39) 4418 Cooper Ln Holt FL United States;X-APPLE-RADIUS=500;X-TITLE=4418 Cooper Ln:geo:-86.776651,30.699045
END:VEVENT
BEGIN:VEVENT
DTSTART;TZID=UTC:20260711T090000
DTEND;TZID=UTC:20260711T090000
DTSTAMP:20260419T235920
CREATED:20260107T013349Z
LAST-MODIFIED:20260401T070144Z
UID:10003837-1783760400-1783760400@gunstuff.tv
SUMMARY:ISRA SCSA Steel Challenge
DESCRIPTION:ISRA SCSA Steel Challenge\nDate: 7/11/26\nStart Time: 9:00 AM\nLocation:\nIllinois State Rifle Association Range (SCSA470)\n1589N 7000 West Rd\nBonfield\, IL\nEvent Contact Information\nJeff Davis\n708-476-3257\n3gngfn@gmail.com\nEvent Website\nhttps://practiscore.com/clubs/isra_range
URL:https://gunstuff.tv/event/isra-scsa-steel-challenge-5/
LOCATION:Illinois State Rifle Association Range (SCSA470)\, 1589 N 7000W Rd\, Bonfield\, IL\, United States
GEO:41.141026;-88.010679
X-APPLE-STRUCTURED-LOCATION;VALUE=URI;X-ADDRESS=Illinois State Rifle Association Range (SCSA470) 1589 N 7000W Rd Bonfield IL United States;X-APPLE-RADIUS=500;X-TITLE=1589 N 7000W Rd:geo:-88.010679,41.141026
END:VEVENT
BEGIN:VEVENT
DTSTART;TZID=UTC:20260711T090000
DTEND;TZID=UTC:20260711T090000
DTSTAMP:20260419T235920
CREATED:20260107T013349Z
LAST-MODIFIED:20260401T070144Z
UID:10003838-1783760400-1783760400@gunstuff.tv
SUMMARY:CRPC Steel Challenge July 2026
DESCRIPTION:CRPC Steel Challenge July 2026\nDate: 7/11/26\nStart Time: 9:00 AM\nLocation:\nCoast Rifle And Pistol Club (SCSA185)\n16706 Highway 67\nBiloxi\, MS\nEvent Contact Information\nAustin curry\n228-596-0452\ncrpc.steelchallenge@gmail.com\nMatch Information\nCoast Rifle and Pistol Club will host 5 stages of Steel Challenge.\nMatch Day Schedule:\nPlease check in the morning of the match before 8:30.\nIf there are changes in the schedule\, an email will be sent out and Practiscore will be updated.\nNew shooter meeting will be held at 8:45.\nMatch briefing and match Start at 9:00\nFees:\nCRPC Member – 1st Gun – $10\nNon-Member 1st Gun – $15\nAll second guns $5\nAll Juniors shoot up to 2 guns free\nClub Website\nhttps://crpcms.com/Steel_Challenge\nEvent Website\nhttps://practiscore.com/crpc-steel-challenge-july-2026/register
URL:https://gunstuff.tv/event/crpc-steel-challenge-july-2026/
LOCATION:Coast Rifle And Pistol Club (SCSA185)\, 16706 Highway 67\, Biloxi\, MS
END:VEVENT
BEGIN:VEVENT
DTSTART;TZID=UTC:20260711T090000
DTEND;TZID=UTC:20260711T090000
DTSTAMP:20260419T235920
CREATED:20260110T165504Z
LAST-MODIFIED:20260412T110150Z
UID:10004090-1783760400-1783760400@gunstuff.tv
SUMMARY:Pistol Clinic
DESCRIPTION:Charlottesville\, VA – Rivanna Rifle & Pistol Club\nJuly 11\, 2026 – July 12\, 2026\nThis is a Pistol Clinic. The Pistol Clinic teaches the fundamentals of pistol/handgun safety\, accuracy\, and many other topics.\nYou must be at least 18 years of age to attend a pistol event in the State of Virginia.\nBoth 22LR and centerfire pistol cartridges are allowed at this event.\nRegister Now\nAddress: 1570 Old Lynchburg Rd\, Charlottesville\, VA 22903\nWebsite: www.rrpc.org\nPlease Read:  How to Prepare for an Event\nSafety Notice:\n–  Keep ALL firearms in your vehicle until after the safety briefing and you are instructed to bring them to the firing line.\n–  No illegal firearms are allowed.\n–  At centerfire-friendly ranges\, rifle cartridges are limited to 8mm (rifle) or .45 caliber (pistol and pistol caliber carbines).\n–  Effective 8/8/2025\, Project Appleseed has temporarily suspended the SIG-Sauer P320/M17/M18 (all variants) in our Pistol Clinics.\n–  Parents of youth attending\, please read our Message to Parents.\nSubject to state and local laws\, Instructors at your event may have discounted .22 ammo available. Reach out to the contact at the bottom of this page for availability.\nRange Fee:  None\nCamping Available:\nNo camping on site.  KOA Charlottesville is less than 10 minutes away\, offering a variety of camping experiences (from primitive all the way to full service (50A/sewer/water) hookups.\nHotels:\nSeveral hotels in the area\, less than 10 minutes from Charlottesville\, supporting budget-minded and no-so-budget-minded individuals.\nDirections:\nMake your best way to Interstate 64\, Take the Charlottesville\, 5th Street exit 120.  Upon exit follow signs for Rt. 631 South (Old Lynchburg Road).  Follow the road South\, (away from Charlottesville) approximately 4 miles (carefully following the 45MPH limit)\, roughly 1/4 mile after crossing the narrow bridge\, take the first driveway on the right. Bear right at the fork to the rifle/pistol ranges. \nSee map to range. (Google Maps location is accurate)\nGPS: 37.969971\,-78.549699\nState Laws to be aware of:\nIt is the responsibility of attendees to know and comply with all State and Federal Firearms Laws.\nVirginia State Firearms Laws\nMisc:\nThis is a limited venue\, only 20 shooters will have space on the line. Pre-registration is strongly encouraged.  Walk-ons may not be possible.\nThis is a 25 meter only Appleseed. While Centerfire is welcome bring the .22s and save $$$ on ammo.\nNo alcohol permitted.\nFor more information contact:\nName: VA State Coordinator Email Address: VA@appleseedinfo.org\nName: Private Message to “BrotherPilot” or “The Wolfhound” on the Appleseed Forum\nName: Jay Mundy Phone: 540-855-4651
URL:https://gunstuff.tv/event/pistol-clinic-25/
LOCATION:Rivanna Rifle & Pistol Club\, 1570 Old Lynchburg Rd\, Charlottesville\, VA\, United States
GEO:37.968233;-78.549906
X-APPLE-STRUCTURED-LOCATION;VALUE=URI;X-ADDRESS=Rivanna Rifle & Pistol Club 1570 Old Lynchburg Rd Charlottesville VA United States;X-APPLE-RADIUS=500;X-TITLE=1570 Old Lynchburg Rd:geo:-78.549906,37.968233
END:VEVENT
BEGIN:VEVENT
DTSTART;TZID=UTC:20260711T090000
DTEND;TZID=UTC:20260711T090000
DTSTAMP:20260419T235920
CREATED:20260110T165504Z
LAST-MODIFIED:20260412T110150Z
UID:10004091-1783760400-1783760400@gunstuff.tv
SUMMARY:Appleseed
DESCRIPTION:Proctor\, VT – Proctor Fish and Game Club\nJuly 11\, 2026 – July 12\, 2026\nThis is a traditional 25m Project Appleseed rifle event.\nCenterfire is NOT allowed at this event – 22 Rimfire Only.\nRegister Now\nAddress: 2337 VT Route 3\, Proctor\, VT 05765\nPlease Read:  How to Prepare for an Event\nSafety Notice:\n–  Keep ALL firearms in your vehicle until after the safety briefing and you are instructed to bring them to the firing line.\n–  No illegal firearms are allowed.\n–  At centerfire-friendly ranges\, rifle cartridges are limited to 8mm (rifle) or .45 caliber (pistol and pistol caliber carbines).\n–  Effective 8/8/2025\, Project Appleseed has temporarily suspended the SIG-Sauer P320/M17/M18 (all variants) in our Pistol Clinics.\n–  Parents of youth attending\, please read our Message to Parents.\nSubject to state and local laws\, Instructors at your event may have discounted .22 ammo available. Reach out to the contact at the bottom of this page for availability.\nRange Fee:  There is no range fee.\nCamping Available:\nYes\, Primitive. Cost is free. Space is limited please contact proctorfishngame@yahoo.com to reserve space. There will be portolets on site. Several local campgrounds also.\nHotels:\nYes\, numerous\, check Rutland\, VT and Brandon\, VT listings\nDirections:\nGPS coordinates N 43.40.451  W 73.01.358\n1.5 miles north of Proctor Village on the east side of VT. Rt. 3\n2.5 miles south of the VT. Rt.3 & US Rt.7 jct. (Pittsford)\n6.5 miles north of the VT Rt.3 & Bus. Rt.4 jct (Center Rutland)\nGPS: 43.674110\,-73.024993\nState Laws to be aware of:\nIt is the responsibility of attendees to know and comply with all State and Federal Firearms Laws.\nVermont State Firearms Laws\nEffective July 1\, 2019 rifle magazines over 10 round capacity and pistol mags over 15 rounds are prohibited in Vermont.\n(Disclaimer: we attempt to tell you the most important ones\, mag size etc. but you are required to check for yourself) Loaded rifles and shotguns are not allowed in vehicles.\nRange Rules: No loaded firearms on the range unless on the firing line and load command has been given. No shooting before 9:00am or after dusk. Numerous other rules\, TBA in the Safety Briefing.\nMisc:\n25 meter only event.  .22 Rimfire only at this range.\nLimited number of loaner rifles may be available; please contact the shoot boss.\nFor more information contact:\nName: VT State Coordinator Email Address: VT@appleseedinfo.org
URL:https://gunstuff.tv/event/appleseed-120/
LOCATION:Proctor Fish and Game Club\, 199 State Rte 3\, Proctor\, VT\, United States
GEO:43.663996;-73.025139
X-APPLE-STRUCTURED-LOCATION;VALUE=URI;X-ADDRESS=Proctor Fish and Game Club 199 State Rte 3 Proctor VT United States;X-APPLE-RADIUS=500;X-TITLE=199 State Rte 3:geo:-73.025139,43.663996
END:VEVENT
END:VCALENDAR