BEGIN:VCALENDAR
VERSION:2.0
PRODID:-//GunStuff TV - ECPv6.15.20//NONSGML v1.0//EN
CALSCALE:GREGORIAN
METHOD:PUBLISH
X-WR-CALNAME:GunStuff TV
X-ORIGINAL-URL:https://gunstuff.tv
X-WR-CALDESC:Events for GunStuff TV
REFRESH-INTERVAL;VALUE=DURATION:PT1H
X-Robots-Tag:noindex
X-PUBLISHED-TTL:PT1H
BEGIN:VTIMEZONE
TZID:America/New_York
BEGIN:DAYLIGHT
TZOFFSETFROM:-0500
TZOFFSETTO:-0400
TZNAME:EDT
DTSTART:20250309T070000
END:DAYLIGHT
BEGIN:STANDARD
TZOFFSETFROM:-0400
TZOFFSETTO:-0500
TZNAME:EST
DTSTART:20251102T060000
END:STANDARD
BEGIN:DAYLIGHT
TZOFFSETFROM:-0500
TZOFFSETTO:-0400
TZNAME:EDT
DTSTART:20260308T070000
END:DAYLIGHT
BEGIN:STANDARD
TZOFFSETFROM:-0400
TZOFFSETTO:-0500
TZNAME:EST
DTSTART:20261101T060000
END:STANDARD
BEGIN:DAYLIGHT
TZOFFSETFROM:-0500
TZOFFSETTO:-0400
TZNAME:EDT
DTSTART:20270314T070000
END:DAYLIGHT
BEGIN:STANDARD
TZOFFSETFROM:-0400
TZOFFSETTO:-0500
TZNAME:EST
DTSTART:20271107T060000
END:STANDARD
END:VTIMEZONE
BEGIN:VTIMEZONE
TZID:UTC
BEGIN:STANDARD
TZOFFSETFROM:+0000
TZOFFSETTO:+0000
TZNAME:UTC
DTSTART:20250101T000000
END:STANDARD
END:VTIMEZONE
BEGIN:VTIMEZONE
TZID:America/Phoenix
BEGIN:STANDARD
TZOFFSETFROM:-0700
TZOFFSETTO:-0700
TZNAME:MST
DTSTART:20250101T000000
END:STANDARD
END:VTIMEZONE
BEGIN:VTIMEZONE
TZID:America/Halifax
BEGIN:DAYLIGHT
TZOFFSETFROM:-0400
TZOFFSETTO:-0300
TZNAME:ADT
DTSTART:20250309T060000
END:DAYLIGHT
BEGIN:STANDARD
TZOFFSETFROM:-0300
TZOFFSETTO:-0400
TZNAME:AST
DTSTART:20251102T050000
END:STANDARD
BEGIN:DAYLIGHT
TZOFFSETFROM:-0400
TZOFFSETTO:-0300
TZNAME:ADT
DTSTART:20260308T060000
END:DAYLIGHT
BEGIN:STANDARD
TZOFFSETFROM:-0300
TZOFFSETTO:-0400
TZNAME:AST
DTSTART:20261101T050000
END:STANDARD
BEGIN:DAYLIGHT
TZOFFSETFROM:-0400
TZOFFSETTO:-0300
TZNAME:ADT
DTSTART:20270314T060000
END:DAYLIGHT
BEGIN:STANDARD
TZOFFSETFROM:-0300
TZOFFSETTO:-0400
TZNAME:AST
DTSTART:20271107T050000
END:STANDARD
END:VTIMEZONE
BEGIN:VTIMEZONE
TZID:America/Chicago
BEGIN:DAYLIGHT
TZOFFSETFROM:-0600
TZOFFSETTO:-0500
TZNAME:CDT
DTSTART:20250309T080000
END:DAYLIGHT
BEGIN:STANDARD
TZOFFSETFROM:-0500
TZOFFSETTO:-0600
TZNAME:CST
DTSTART:20251102T070000
END:STANDARD
BEGIN:DAYLIGHT
TZOFFSETFROM:-0600
TZOFFSETTO:-0500
TZNAME:CDT
DTSTART:20260308T080000
END:DAYLIGHT
BEGIN:STANDARD
TZOFFSETFROM:-0500
TZOFFSETTO:-0600
TZNAME:CST
DTSTART:20261101T070000
END:STANDARD
BEGIN:DAYLIGHT
TZOFFSETFROM:-0600
TZOFFSETTO:-0500
TZNAME:CDT
DTSTART:20270314T080000
END:DAYLIGHT
BEGIN:STANDARD
TZOFFSETFROM:-0500
TZOFFSETTO:-0600
TZNAME:CST
DTSTART:20271107T070000
END:STANDARD
END:VTIMEZONE
BEGIN:VEVENT
DTSTART;TZID=America/New_York:20261004T090000
DTEND;TZID=America/New_York:20261004T120000
DTSTAMP:20260422T035313
CREATED:20251003T162643Z
LAST-MODIFIED:20260411T214638Z
UID:10001506-1791104400-1791115200@gunstuff.tv
SUMMARY:Weekly Trap League
DESCRIPTION:
URL:https://gunstuff.tv/event/weekly-trap-league-53/
LOCATION:Shotgun Range
END:VEVENT
BEGIN:VEVENT
DTSTART;TZID=America/New_York:20261004T090000
DTEND;TZID=America/New_York:20261004T163000
DTSTAMP:20260422T035313
CREATED:20260208T183211Z
LAST-MODIFIED:20260412T184753Z
UID:10005112-1791104400-1791131400@gunstuff.tv
SUMMARY:High Power Silhouette
DESCRIPTION:Contact Roger Estes @ rce497@comcast.net \nThis is a High Power Silhouette match per month from March thru November\, 2026\, These will be high power rifle silhouette matches fired on the Lea Valley Range with a total of 40 rounds for record. Records will be kept and sent to the NRA for classification purposes. For the matches practice will begin at 9a.m. and matches will begin at 10.Rules will follow the NRA High Power Rifle Silhouette Rules. Briefly\, rifles for Highpower silhouette have to be at least a minimum center-fire caliber of 6mm\, no maximum. Ammo cannot be belted magnum by Club Rules for ammo.Clothes can be commensurate with the weather but cannot be made specifically silhouette competition\, with the exception that leather vest specifically for rifle silhouette can be used.The match firing will be on relays\, each relay\, consisting of 4 shooting competitors and spotters . Spotters are not mandatory for these matches. Scoring can be done by a spotter or by the competitor's person. The relay is called to the line\, the command of ready is given which is 15 seconds to get prepared to fire the 5 shots in 2 1/2 minutes\, then a short rest\, then 5 more rounds in 2 1/2 minutes. Following these shots\, competitors will show their scores to the stat officer so the scores are recorded. Relays will continue till all animals are fired at. Scores are counted by the knock down of animals off the range rail\, to a maximum of 40 animals. Once the relays are complete\, scores will be counted up and the winner gets cash for the award\, total of 25 for aggregate match winner. $20 for Class winner. Each 3 competitors will get a n award of cash. A plaque award can be substituted for the cash. There is a separate category in which AR-15 rifles are allowed. AR's don't follow the silhouette rules\, mostly because of the shape of the rifle and caliber which is .223. They are allowed in a separate category in this match to get more competitors to shoot these matches\, just generating interest in this sport. They have no classification in the match\, just for fun. The matches are fired on the first Sunday of the month.
URL:https://gunstuff.tv/event/high-power-silhouette-8/
LOCATION:Lea Valley Range
END:VEVENT
BEGIN:VEVENT
DTSTART;TZID=UTC:20261004T094500
DTEND;TZID=UTC:20261004T094500
DTSTAMP:20260422T035313
CREATED:20260117T171710Z
LAST-MODIFIED:20260410T113148Z
UID:10004581-1791107100-1791107100@gunstuff.tv
SUMMARY:Bass River October Match
DESCRIPTION:Bass River October Match\nDate : 10/04/26\nStart Time: 9:45 AM\nLocation:\nBass River Rod & Gun Club (NE12)\nBass River Rod &Gun 620 Rt. 6A\nYarmouthport\, MA\nEvent Contact Information\nTimothy J Kent\n5082372137\ntjkent@comcast.net\nEvent Website\nhttps://www.bassriverrodandgun.com/
URL:https://gunstuff.tv/event/bass-river-october-match/
LOCATION:Bass River Rod & Gun Club (NE12)\, 79 State Rte 6 Alt\, Dennis\, MA\, United States
GEO:41.721025;-70.196653
X-APPLE-STRUCTURED-LOCATION;VALUE=URI;X-ADDRESS=Bass River Rod & Gun Club (NE12) 79 State Rte 6 Alt Dennis MA United States;X-APPLE-RADIUS=500;X-TITLE=79 State Rte 6 Alt:geo:-70.196653,41.721025
END:VEVENT
BEGIN:VEVENT
DTSTART;TZID=UTC:20261004T100000
DTEND;TZID=UTC:20261004T100000
DTSTAMP:20260422T035313
CREATED:20260227T113150Z
LAST-MODIFIED:20260410T113148Z
UID:10005859-1791108000-1791108000@gunstuff.tv
SUMMARY:Ripon USPSA-hosefest ( high round count stages)
DESCRIPTION:Ripon USPSA-hosefest ( high round count stages)\nDate : 10/04/26\nStart Time: 10:00 AM\nLocation:\nRipon Gun Club (WI18)\nN9089 Koro rd\nRipon\, WI\nEvent Contact Information\nBill Hatfield\n920-538-4178\nBhatfield1@charter.net
URL:https://gunstuff.tv/event/ripon-uspsa-hosefest-high-round-count-stages/
LOCATION:Ripon Gun Club (WI18)\, 1699 Koro Rd\, Berlin\, WI\, United States
GEO:43.953345;-88.865982
X-APPLE-STRUCTURED-LOCATION;VALUE=URI;X-ADDRESS=Ripon Gun Club (WI18) 1699 Koro Rd Berlin WI United States;X-APPLE-RADIUS=500;X-TITLE=1699 Koro Rd:geo:-88.865982,43.953345
END:VEVENT
BEGIN:VEVENT
DTSTART;TZID=America/New_York:20261004T130000
DTEND;TZID=America/New_York:20261004T150000
DTSTAMP:20260422T035313
CREATED:20251019T193324Z
LAST-MODIFIED:20260414T083131Z
UID:10002473-1791118800-1791126000@gunstuff.tv
SUMMARY:Open Trap Shoot - Weather Permitting
DESCRIPTION:Open shoot\, $5.00 per round.  The trap field is 2/10ths of a mile past the clubhouse. \nFor the latest information visit:https://www.facebook.com/groups/1663932967427026
URL:https://gunstuff.tv/event/open-trap-shoot-weather-permitting-24/
LOCATION:523 Sizer Run Road Emporium\, Emporium\, PA\, United States
GEO:41.500749;-78.322815
END:VEVENT
BEGIN:VEVENT
DTSTART;VALUE=DATE:20261005
DTEND;VALUE=DATE:20261006
DTSTAMP:20260422T035313
CREATED:20260213T031102Z
LAST-MODIFIED:20260410T034705Z
UID:10005315-1791158400-1791244799@gunstuff.tv
SUMMARY:Club Closed
DESCRIPTION:
URL:https://gunstuff.tv/event/club-closed-67/
END:VEVENT
BEGIN:VEVENT
DTSTART;TZID=America/New_York:20261005T080000
DTEND;TZID=America/New_York:20261006T163000
DTSTAMP:20260422T035313
CREATED:20260404T214737Z
LAST-MODIFIED:20260411T214638Z
UID:10006776-1791187200-1791304200@gunstuff.tv
SUMMARY:Rifles Only- 5-Day Rifle Course
DESCRIPTION:POC Mike Mayo Daily Schedule\nM-T Classroom 830- 10 Square Range 10-2 Long Range 2-430 pm
URL:https://gunstuff.tv/event/rifles-only-5-day-rifle-course-2/
LOCATION:Classroom and Ranges
END:VEVENT
BEGIN:VEVENT
DTSTART;TZID=America/New_York:20261005T090000
DTEND;TZID=America/New_York:20261005T100000
DTSTAMP:20260422T035313
CREATED:20251003T162643Z
LAST-MODIFIED:20251010T162931Z
UID:10001507-1791190800-1791194400@gunstuff.tv
SUMMARY:4-H Class Indoors
DESCRIPTION:Indoor reserved for 4-H class.
URL:https://gunstuff.tv/event/4-h-class-indoors-53/
LOCATION:Indoor Range
END:VEVENT
BEGIN:VEVENT
DTSTART;TZID=America/New_York:20261005T160000
DTEND;TZID=America/New_York:20261005T180000
DTSTAMP:20260422T035313
CREATED:20251003T162643Z
LAST-MODIFIED:20251205T181710Z
UID:10001508-1791216000-1791223200@gunstuff.tv
SUMMARY:Skeet League
DESCRIPTION:Contact Frank Andrews with Questions.
URL:https://gunstuff.tv/event/skeet-league-53/
END:VEVENT
BEGIN:VEVENT
DTSTART;TZID=America/New_York:20261005T160000
DTEND;TZID=America/New_York:20261005T180000
DTSTAMP:20260422T035313
CREATED:20251212T181643Z
LAST-MODIFIED:20260411T214638Z
UID:10003554-1791216000-1791223200@gunstuff.tv
SUMMARY:Skeet League
DESCRIPTION:Contact Frank Andrews with Questions.
URL:https://gunstuff.tv/event/skeet-league-143/
LOCATION:Skeet Range
END:VEVENT
BEGIN:VEVENT
DTSTART;TZID=America/New_York:20261005T193000
DTEND;TZID=America/New_York:20261005T223000
DTSTAMP:20260422T035313
CREATED:20251012T173818Z
LAST-MODIFIED:20260412T184753Z
UID:10002130-1791228600-1791239400@gunstuff.tv
SUMMARY:Board Meeting
DESCRIPTION:Monthly Board Meeting
URL:https://gunstuff.tv/event/board-meeting-31/
LOCATION:Clubhouse
END:VEVENT
BEGIN:VEVENT
DTSTART;VALUE=DATE:20261006
DTEND;VALUE=DATE:20261007
DTSTAMP:20260422T035313
CREATED:20251003T160031Z
LAST-MODIFIED:20260412T043235Z
UID:10001051-1791244800-1791331199@gunstuff.tv
SUMMARY:100\, 200\, 300 Yard Practice Benchrest Range
DESCRIPTION:
URL:https://gunstuff.tv/event/100-200-300-yard-practice-benchrest-range-45/
END:VEVENT
BEGIN:VEVENT
DTSTART;VALUE=DATE:20261006
DTEND;VALUE=DATE:20261007
DTSTAMP:20260422T035313
CREATED:20260213T031102Z
LAST-MODIFIED:20260410T034705Z
UID:10005316-1791244800-1791331199@gunstuff.tv
SUMMARY:Club closed
DESCRIPTION:
URL:https://gunstuff.tv/event/club-closed-68/
END:VEVENT
BEGIN:VEVENT
DTSTART;TZID=America/Halifax:20261006T080000
DTEND;TZID=America/Halifax:20261006T170000
DTSTAMP:20260422T035313
CREATED:20260308T013228Z
LAST-MODIFIED:20260407T014708Z
UID:10006192-1791273600-1791306000@gunstuff.tv
SUMMARY:Closed/Fermer
DESCRIPTION:Bathurst Police Force/Force Policière de Bathurst\n 
URL:https://gunstuff.tv/event/closed-fermer-13/
END:VEVENT
BEGIN:VEVENT
DTSTART;TZID=America/New_York:20261006T170000
DTEND;TZID=America/New_York:20261006T200000
DTSTAMP:20260422T035313
CREATED:20260328T214635Z
LAST-MODIFIED:20260411T214638Z
UID:10006603-1791306000-1791316800@gunstuff.tv
SUMMARY:Tactical Tuesday IDPA Practice
DESCRIPTION:Shooters new to Action Shooting contact Eric Zaharee at ABSAIDPA@gmail .com\nSee (Alder Brook) PractiScore.com for sign up Cost $5
URL:https://gunstuff.tv/event/tactical-tuesday-idpa-practice-26/
LOCATION:Action Bays
END:VEVENT
BEGIN:VEVENT
DTSTART;VALUE=DATE:20261007
DTEND;VALUE=DATE:20261008
DTSTAMP:20260422T035313
CREATED:20251003T160031Z
LAST-MODIFIED:20260412T043235Z
UID:10001053-1791331200-1791417599@gunstuff.tv
SUMMARY:Centerfire and Smallbore Practice - Smallbore Range
DESCRIPTION:
URL:https://gunstuff.tv/event/centerfire-and-smallbore-practice-smallbore-range-16/
END:VEVENT
BEGIN:VEVENT
DTSTART;TZID=America/Halifax:20261007T080000
DTEND;TZID=America/Halifax:20261007T170000
DTSTAMP:20260422T035313
CREATED:20260308T013228Z
LAST-MODIFIED:20260407T014708Z
UID:10006193-1791360000-1791392400@gunstuff.tv
SUMMARY:Closed/Fermer
DESCRIPTION:Bathurst Police Force/Force Policière de Bathurst
URL:https://gunstuff.tv/event/closed-fermer-14/
END:VEVENT
BEGIN:VEVENT
DTSTART;TZID=America/New_York:20261007T080000
DTEND;TZID=America/New_York:20261009T163000
DTSTAMP:20260422T035313
CREATED:20260404T214737Z
LAST-MODIFIED:20260411T214638Z
UID:10006777-1791360000-1791563400@gunstuff.tv
SUMMARY:Rifles Only 5-Day Rifle Course part 2
DESCRIPTION:POC Mike Mayo Daily Schedule\nW-Fri Classroom 830-10 am Long Range 10 am to 430 pm
URL:https://gunstuff.tv/event/rifles-only-5-day-rifle-course-part-2-2/
LOCATION:Classroom and Long Range
END:VEVENT
BEGIN:VEVENT
DTSTART;TZID=America/Chicago:20261007T183000
DTEND;TZID=America/Chicago:20261007T193000
DTSTAMP:20260422T035313
CREATED:20260421T221659Z
LAST-MODIFIED:20260421T221742Z
UID:10008601-1791397800-1791401400@gunstuff.tv
SUMMARY:Madison County Townhall Meeting
DESCRIPTION:Come out and join your friends at the ISRA Madison County Townhall meeting starting at 6:30 pm. As always\, we will discuss current events.\nCome join us and enjoy great company at our gracious host\, Piasa Armory.
URL:https://gunstuff.tv/event/madison-county-townhall-meeting-2/
LOCATION:Piasa Armory\, East Alton\, IL\, United States
CATEGORIES:Event Calendar
GEO:38.876483;-90.109493
END:VEVENT
BEGIN:VEVENT
DTSTART;VALUE=DATE:20261008
DTEND;VALUE=DATE:20261009
DTSTAMP:20260422T035314
CREATED:20251003T160031Z
LAST-MODIFIED:20260412T043235Z
UID:10001052-1791417600-1791503999@gunstuff.tv
SUMMARY:1000 Yard Practice 7:00am Pits
DESCRIPTION:
URL:https://gunstuff.tv/event/1000-yard-practice-700am-pits-6/
END:VEVENT
BEGIN:VEVENT
DTSTART;TZID=America/Halifax:20261008T080000
DTEND;TZID=America/Halifax:20261008T170000
DTSTAMP:20260422T035314
CREATED:20260308T013228Z
LAST-MODIFIED:20260407T014708Z
UID:10006194-1791446400-1791478800@gunstuff.tv
SUMMARY:Closed/Fermer
DESCRIPTION:Bathurst Police Force/Force Policière de Bathurst
URL:https://gunstuff.tv/event/closed-fermer-15/
END:VEVENT
BEGIN:VEVENT
DTSTART;TZID=UTC:20261008T143000
DTEND;TZID=UTC:20261008T143000
DTSTAMP:20260422T035314
CREATED:20260110T171714Z
LAST-MODIFIED:20260410T113148Z
UID:10004322-1791469800-1791469800@gunstuff.tv
SUMMARY:SCWPSA Monthly Match
DESCRIPTION:SCWPSA Monthly Match\nDate : 10/08/26\nStart Time: 2:30 PM\nLocation:\nSouth Central Wisconsin Practical Shooters Assoc (WI31)\n2830 County Rd DR\nMonroe\, WI\nEvent Contact Information\nBob Slusarek\n630-669-0663\nscwpsamatch@pm.me\nMatch Information\nIndoor match typically 2-3 stages including 1 or 2 classifiers
URL:https://gunstuff.tv/event/scwpsa-monthly-match-9/
LOCATION:South Central Wisconsin Practical Shooters Assoc (WI31)\, 2830 County Road Dr\, Monroe\, WI\, United States
GEO:42.617903;-89.602405
X-APPLE-STRUCTURED-LOCATION;VALUE=URI;X-ADDRESS=South Central Wisconsin Practical Shooters Assoc (WI31) 2830 County Road Dr Monroe WI United States;X-APPLE-RADIUS=500;X-TITLE=2830 County Road Dr:geo:-89.602405,42.617903
END:VEVENT
BEGIN:VEVENT
DTSTART;VALUE=DATE:20261009
DTEND;VALUE=DATE:20261019
DTSTAMP:20260422T035314
CREATED:20251003T160031Z
LAST-MODIFIED:20260412T043235Z
UID:10001055-1791504000-1792367999@gunstuff.tv
SUMMARY:CMP Western Games
DESCRIPTION:
URL:https://gunstuff.tv/event/cmp-western-games-2/
END:VEVENT
BEGIN:VEVENT
DTSTART;TZID=UTC:20261009T080000
DTEND;TZID=UTC:20261009T080000
DTSTAMP:20260422T035314
CREATED:20260110T171714Z
LAST-MODIFIED:20260410T113149Z
UID:10004323-1791532800-1791532800@gunstuff.tv
SUMMARY:2026 Carolina Classic
DESCRIPTION:2026 Carolina Classic\nDates : 10/09/26 – 10/11/26\nStart Time: 8:00 AM\nLocation:\nNorth Carolina Section (NC02)\n650 Majolica Road\nSalisbury\, NC\nEvent Contact Information\nallen terrell\n8432311810\ninfo@ncsection.org\nMatch Information\nNorth Carolina Sectional Level 2 match. 10 stages\nEvent Website \nHome
URL:https://gunstuff.tv/event/2026-carolina-classic/
LOCATION:North Carolina Section (NC02)\, 650 Majolica Rd\, Salisbury\, NC\, United States
GEO:35.691232;-80.534231
X-APPLE-STRUCTURED-LOCATION;VALUE=URI;X-ADDRESS=North Carolina Section (NC02) 650 Majolica Rd Salisbury NC United States;X-APPLE-RADIUS=500;X-TITLE=650 Majolica Rd:geo:-80.534231,35.691232
END:VEVENT
BEGIN:VEVENT
DTSTART;TZID=America/Chicago:20261009T080000
DTEND;TZID=America/Chicago:20261009T170000
DTSTAMP:20260422T035314
CREATED:20251102T201641Z
LAST-MODIFIED:20260412T211743Z
UID:10002871-1791532800-1791565200@gunstuff.tv
SUMMARY:Private Sporting Clays Event
DESCRIPTION:Clays course will be closed for a private event.
URL:https://gunstuff.tv/event/private-sporting-clays-event-5/
LOCATION:Austin Gun Club\, 1999 S Key Ave\, Lampasas\, TX\, United States
CATEGORIES:Private Event
ATTACH;FMTTYPE=image/png:https://gunstuff.tv/wp-content/uploads/2025/11/Private-Event-Notice-EGtBqz.png
GEO:31.050454;-98.174788
X-APPLE-STRUCTURED-LOCATION;VALUE=URI;X-ADDRESS=Austin Gun Club 1999 S Key Ave Lampasas TX United States;X-APPLE-RADIUS=500;X-TITLE=1999 S Key Ave:geo:-98.174788,31.050454
END:VEVENT
BEGIN:VEVENT
DTSTART;TZID=America/Halifax:20261009T080000
DTEND;TZID=America/Halifax:20261009T170000
DTSTAMP:20260422T035314
CREATED:20260308T013228Z
LAST-MODIFIED:20260407T014708Z
UID:10006195-1791532800-1791565200@gunstuff.tv
SUMMARY:Closed/Fermer
DESCRIPTION:Bathurst Police Force/Force Policière de Bathurst
URL:https://gunstuff.tv/event/closed-fermer-16/
END:VEVENT
BEGIN:VEVENT
DTSTART;TZID=UTC:20261009T090000
DTEND;TZID=UTC:20261009T090000
DTSTAMP:20260422T035314
CREATED:20251031T195554Z
LAST-MODIFIED:20251107T201634Z
UID:10002836-1791536400-1791536400@gunstuff.tv
SUMMARY:Arizona State Steel Challenge Championship
DESCRIPTION:Arizona State Steel Challenge Championship\nMatch Status: Approved by DNROI\nMatch Starts on Oct 09\, 2026\nMatch will end Oct 11\, 2026\nMatch Location:\nPrescott Action Steel Shooters\n9090 S Forest Service Rd 71\nKirkland\, AZ 86332\nManaged by:\nPrescott Action Steel Shooters\nStage Count: 8\nRound Count: 195\nMatch Entry Fee: $100.00\nMatch Director: Scott Morse\nRange Master: Brent Callen\nAdditional Details\nRegister!\nhttp://Coming
URL:https://gunstuff.tv/event/arizona-state-steel-challenge-championship/
LOCATION:Prescott Action Steel Shooters\, 10000 Forest Service 85 Rd\, Prescott\, AZ\, United States
GEO:34.742564;-112.679769
X-APPLE-STRUCTURED-LOCATION;VALUE=URI;X-ADDRESS=Prescott Action Steel Shooters 10000 Forest Service 85 Rd Prescott AZ United States;X-APPLE-RADIUS=500;X-TITLE=10000 Forest Service 85 Rd:geo:-112.679769,34.742564
END:VEVENT
BEGIN:VEVENT
DTSTART;TZID=UTC:20261009T090000
DTEND;TZID=UTC:20261009T090000
DTSTAMP:20260422T035314
CREATED:20260222T103215Z
LAST-MODIFIED:20260412T110203Z
UID:10005747-1791536400-1791536400@gunstuff.tv
SUMMARY:Appleseed
DESCRIPTION:Sturgis\, MI – St. Joseph County Conservation & Sportsman Club\, Inc.\nOctober 09\, 2026 – October 10\, 2026\nThis is a traditional 25m Project Appleseed rifle event.\nBoth Centerfire and 22 Rimfire rifles are allowed at this event.\nRegister Now\nAddress: 23640 Featherstone Rd\, Sturgis\, MI 49091\nWebsite: www.conservationclub.us\nPlease Read:  How to Prepare for an Event\nSafety Notice:\n–  Keep ALL firearms in your vehicle until after the safety briefing and you are instructed to bring them to the firing line.\n–  No illegal firearms are allowed.\n–  At centerfire-friendly ranges\, rifle cartridges are limited to 8mm (rifle) or .45 caliber (pistol and pistol caliber carbines).\n–  Effective 8/8/2025\, Project Appleseed has temporarily suspended the SIG-Sauer P320/M17/M18 (all variants) in our Pistol Clinics.\n–  Parents of youth attending\, please read our Message to Parents.\nSubject to state and local laws\, Instructors at your event may have discounted .22 ammo available. Reach out to the contact at the bottom of this page for availability.\nRange Fee:  None\nCamping Available:\nnone on-site\nClosest – 8.25 miles – Green Valley Campgrounds  25499 Fawn River Rd. Sturgis\, MI  49091\nHotels:\nHampton Inn\, Best Werstern\, Holiday Inn\, Super 8 – all 9.5 miles away in Sturgis\nDirections:\nFrom the west (Kalamazoo/US 131):\n1. US-131 S to Exit 31    \n2. Turn left onto US-131 Business/N Main St Continue to follow N Main St -3.3 mi\n3. N Main St turns slightly left and becomes M-86 E – 4.8 mi\n4. Slight left onto Centreville-Constantine Rd/W Main St.  Continue to follow W Main St – 1.5 mi\n5. Turn right onto Shimmel Rd – 4.5 mi\n6. Turn left onto Featherstone Rd.  Club will be on the left – 0.6 mi\nFrom the south (I-80/90)\n1. I-80 /I-90 to Exit 121\n2. Turn left onto IN-9 N – Entering Michigan – 0.3 mi\n3. Continue onto M-66 N/S Centerville Rd – 1.5 mi\n4. Turn left onto Fawn River Rd – 4.0 mi\n5. Turn right onto Shimmel Rd – 5.0 mi\n6. Turn right onto Featherstone Rd – club will be on the left in 0.6 mi\nFrom the east (I-69/Coldwater)\n1. I-69  to Exit 13 for US-12/Interstate 69 Bus toward Quincy/Coldwater    \n2. Turn west onto US-12 W/E Chicago St – 3.6 mi\n3. Turn right onto M-86 W/Colon Rd – following M-86W – 14.9 mi\n4. Turn left onto S Blackstone Ave – 0.2 mi\n5. Continue onto W M 86/South St – Continue to follow W M 86 – 4.4 mi\n6. Slight left onto M-66 S/M-86 W – Continue to follow M-66 S – 6.5 mi\n7. Turn right onto Featherstone Rd.  Club will be on the right in 4.1 mi\nGPS:\nGPS: 41.853636\,-85.494341\nState Laws to be aware of:\nIt is the responsibility of attendees to know and comply with all State and Federal Firearms Laws.\nMichigan State Firearms Laws\nMI has concealed carry\, check for reciprocity.  MI state law requires rifles to be unloaded and cased\, ammunition separate. Check State Laws for other pertinent ordinances\nMisc:\nBoth centerfire and .22 rimfire allowed at this range.\nBring a lunch\, snacks and pleanty of drinking water.  Potable water available on-site. \nMcDondalds\, Subway in Centreville\, 4 miles away\, many other restaurants/fast food in Sturgis\, though we strongly recommend bringing lunch each day so you don’t miss anything!\nFor more information contact:\nName: MI State Coordinator Email Address: MI@appleseedinfo.org\nName: Private Message to “ITB” on the Appleseed Forum
URL:https://gunstuff.tv/event/appleseed-276/
LOCATION:St. Joseph County Conservation & Sportsman Club\, 21943 Featherstone Rd\, Sturgis\, MI\, United States
GEO:41.853276;-85.526623
X-APPLE-STRUCTURED-LOCATION;VALUE=URI;X-ADDRESS=St. Joseph County Conservation & Sportsman Club 21943 Featherstone Rd Sturgis MI United States;X-APPLE-RADIUS=500;X-TITLE=21943 Featherstone Rd:geo:-85.526623,41.853276
END:VEVENT
BEGIN:VEVENT
DTSTART;TZID=UTC:20261009T090000
DTEND;TZID=UTC:20261009T090000
DTSTAMP:20260422T035314
CREATED:20260412T110203Z
LAST-MODIFIED:20260412T110203Z
UID:10007444-1791536400-1791536400@gunstuff.tv
SUMMARY:LadySeed
DESCRIPTION:Ramseur\, NC – RWVA Home Range\nOctober 09\, 2026 – October 10\, 2026\nThis is a LadySeed. This is an Appleseed for Ladies Only. Do NOT sign up if you are male.\nBoth Centerfire and 22 Rimfire rifles are allowed at this event.\nRegister Now\nAddress: Willie Wright Rd & Royal Ridge Rd\, Ramseur\, NC 27316\nWebsite: www.appleseedinfo.org\nPlease Read:  How to Prepare for an Event\nSafety Notice:\n–  Keep ALL firearms in your vehicle until after the safety briefing and you are instructed to bring them to the firing line.\n–  No illegal firearms are allowed.\n–  At centerfire-friendly ranges\, rifle cartridges are limited to 8mm (rifle) or .45 caliber (pistol and pistol caliber carbines).\n–  Effective 8/8/2025\, Project Appleseed has temporarily suspended the SIG-Sauer P320/M17/M18 (all variants) in our Pistol Clinics.\n–  Parents of youth attending\, please read our Message to Parents.\nSubject to state and local laws\, Instructors at your event may have discounted .22 ammo available. Reach out to the contact at the bottom of this page for availability.\nRange Fee:  Range fee included in ticket price.\nCamping Available:\nPrimitive campsites (no camper hookups) for Saturday night may be reserved with prior coordination. An outdoor hot shower is available on site but there is no potable water. A few electrical outlets are available to charge a cellphone. The range gate is normally locked: prior coordination  must be made with the event Shoot Boss to coordinate range gate opening if needed for camping before the start of the event.\nHotels:\nThere are no motels in Ramseur but restaurants and cafes are open during the week.\nSiler City is about 15 minutes east of the range. Limited motels and food choices are available.\nDirections:\nThe range is at the corner of Willie Wright Rd & Royal Ridge Rd.\nFrom Ramseur\, North Carolina – go South on NC Route 22\, about 2 miles\, then left on Old Siler City Rd. Go about 2 miles to a Stop sign. Proceed straight from Stop sign (Parks crossroads). Immediately turn right onto Willie Wright Rd. Go about one mile to the range entrance on the left at the intersection of Willie Wright Rd. and Royal Ridge Rd.\nSee map to range.\nGPS: 35.686451\,-79.597054\nState Laws to be aware of:\nIt is the responsibility of attendees to know and comply with all State and Federal Firearms Laws.\nNorth Carolina State Firearms Laws\nMisc:\n1.  Unless you receive an email from the Shoot Boss stating otherwise\, please arrive for your class by 8:30.  Instruction will begin promptly at 9am.\n2.  The Ramseur range is Project Appleseed’s home range.  It has a concrete firing line and overhead cover.  For rifle events\, strongly recommend a shooting mat and possibly additional padding for elbows.\n3.  Food is not available at or near the range.  Bring lunch each day\, plenty of water\, and snacks.\n4.  Upon arrival\, please leave all firearms (concealed or open) in the car until after the safety briefing.\n5.  Walk-ons are accepted on a first-come\, first-served basis.  There is limited space available.  If you register in advance\, you’ll be be sure of your place on the firing line!\n6.  Centerfire rifles are welcome\, but bring your .22 if you want to save on ammo costs.\n7.  Alcohol is NOT permitted on the range at any time.\nFor more information contact:\nName: NC State Coordinator Email Address: NC@appleseedinfo.org
URL:https://gunstuff.tv/event/ladyseed-7/
LOCATION:RWVA Home Range\, Ramseur\, NC\, United States
GEO:35.686568;-79.597387
END:VEVENT
BEGIN:VEVENT
DTSTART;TZID=America/New_York:20261009T120000
DTEND;TZID=America/New_York:20261009T200000
DTSTAMP:20260422T035314
CREATED:20251012T173818Z
LAST-MODIFIED:20260412T184753Z
UID:10002131-1791547200-1791576000@gunstuff.tv
SUMMARY:IDPA/GPA Match Setup
DESCRIPTION:Culver Range closed for monthly IDPA Match setup. Contact idpa@fxrgc.org for more info.
URL:https://gunstuff.tv/event/idpa-match-setup-10/
LOCATION:Culver Range
END:VEVENT
END:VCALENDAR