BEGIN:VCALENDAR
VERSION:2.0
PRODID:-//GunStuff TV - ECPv6.15.20//NONSGML v1.0//EN
CALSCALE:GREGORIAN
METHOD:PUBLISH
X-WR-CALNAME:GunStuff TV
X-ORIGINAL-URL:https://gunstuff.tv
X-WR-CALDESC:Events for GunStuff TV
REFRESH-INTERVAL;VALUE=DURATION:PT1H
X-Robots-Tag:noindex
X-PUBLISHED-TTL:PT1H
BEGIN:VTIMEZONE
TZID:America/New_York
BEGIN:DAYLIGHT
TZOFFSETFROM:-0500
TZOFFSETTO:-0400
TZNAME:EDT
DTSTART:20250309T070000
END:DAYLIGHT
BEGIN:STANDARD
TZOFFSETFROM:-0400
TZOFFSETTO:-0500
TZNAME:EST
DTSTART:20251102T060000
END:STANDARD
BEGIN:DAYLIGHT
TZOFFSETFROM:-0500
TZOFFSETTO:-0400
TZNAME:EDT
DTSTART:20260308T070000
END:DAYLIGHT
BEGIN:STANDARD
TZOFFSETFROM:-0400
TZOFFSETTO:-0500
TZNAME:EST
DTSTART:20261101T060000
END:STANDARD
BEGIN:DAYLIGHT
TZOFFSETFROM:-0500
TZOFFSETTO:-0400
TZNAME:EDT
DTSTART:20270314T070000
END:DAYLIGHT
BEGIN:STANDARD
TZOFFSETFROM:-0400
TZOFFSETTO:-0500
TZNAME:EST
DTSTART:20271107T060000
END:STANDARD
END:VTIMEZONE
BEGIN:VTIMEZONE
TZID:UTC
BEGIN:STANDARD
TZOFFSETFROM:+0000
TZOFFSETTO:+0000
TZNAME:UTC
DTSTART:20250101T000000
END:STANDARD
END:VTIMEZONE
BEGIN:VTIMEZONE
TZID:America/Phoenix
BEGIN:STANDARD
TZOFFSETFROM:-0700
TZOFFSETTO:-0700
TZNAME:MST
DTSTART:20250101T000000
END:STANDARD
END:VTIMEZONE
BEGIN:VTIMEZONE
TZID:America/Chicago
BEGIN:DAYLIGHT
TZOFFSETFROM:-0600
TZOFFSETTO:-0500
TZNAME:CDT
DTSTART:20250309T080000
END:DAYLIGHT
BEGIN:STANDARD
TZOFFSETFROM:-0500
TZOFFSETTO:-0600
TZNAME:CST
DTSTART:20251102T070000
END:STANDARD
BEGIN:DAYLIGHT
TZOFFSETFROM:-0600
TZOFFSETTO:-0500
TZNAME:CDT
DTSTART:20260308T080000
END:DAYLIGHT
BEGIN:STANDARD
TZOFFSETFROM:-0500
TZOFFSETTO:-0600
TZNAME:CST
DTSTART:20261101T070000
END:STANDARD
BEGIN:DAYLIGHT
TZOFFSETFROM:-0600
TZOFFSETTO:-0500
TZNAME:CDT
DTSTART:20270314T080000
END:DAYLIGHT
BEGIN:STANDARD
TZOFFSETFROM:-0500
TZOFFSETTO:-0600
TZNAME:CST
DTSTART:20271107T070000
END:STANDARD
END:VTIMEZONE
BEGIN:VTIMEZONE
TZID:America/Los_Angeles
BEGIN:DAYLIGHT
TZOFFSETFROM:-0800
TZOFFSETTO:-0700
TZNAME:PDT
DTSTART:20250309T100000
END:DAYLIGHT
BEGIN:STANDARD
TZOFFSETFROM:-0700
TZOFFSETTO:-0800
TZNAME:PST
DTSTART:20251102T090000
END:STANDARD
BEGIN:DAYLIGHT
TZOFFSETFROM:-0800
TZOFFSETTO:-0700
TZNAME:PDT
DTSTART:20260308T100000
END:DAYLIGHT
BEGIN:STANDARD
TZOFFSETFROM:-0700
TZOFFSETTO:-0800
TZNAME:PST
DTSTART:20261101T090000
END:STANDARD
BEGIN:DAYLIGHT
TZOFFSETFROM:-0800
TZOFFSETTO:-0700
TZNAME:PDT
DTSTART:20270314T100000
END:DAYLIGHT
BEGIN:STANDARD
TZOFFSETFROM:-0700
TZOFFSETTO:-0800
TZNAME:PST
DTSTART:20271107T090000
END:STANDARD
END:VTIMEZONE
BEGIN:VEVENT
DTSTART;TZID=America/New_York:20260628T090000
DTEND;TZID=America/New_York:20260628T120000
DTSTAMP:20260419T180539
CREATED:20251003T162641Z
LAST-MODIFIED:20260411T214632Z
UID:10001455-1782637200-1782648000@gunstuff.tv
SUMMARY:Weekly Trap League
DESCRIPTION:
URL:https://gunstuff.tv/event/weekly-trap-league-39/
LOCATION:Shotgun Range
END:VEVENT
BEGIN:VEVENT
DTSTART;TZID=America/New_York:20260628T090000
DTEND;TZID=America/New_York:20260628T120000
DTSTAMP:20260419T180539
CREATED:20260404T214732Z
LAST-MODIFIED:20260411T214632Z
UID:10006755-1782637200-1782648000@gunstuff.tv
SUMMARY:22 LR Marksmanship Challenge (AKA) Aspirin Shoot
DESCRIPTION:Range Closed to non-competitors using larger caliber firearms
URL:https://gunstuff.tv/event/22-lr-marksmanship-challenge-aka-aspirin-shoot-3/
LOCATION:Square Range
END:VEVENT
BEGIN:VEVENT
DTSTART;TZID=America/New_York:20260628T090000
DTEND;TZID=America/New_York:20260628T140000
DTSTAMP:20260419T180539
CREATED:20251003T031215Z
LAST-MODIFIED:20260410T070129Z
UID:10000632-1782637200-1782655200@gunstuff.tv
SUMMARY:Wyoming Antelope NRA 2700
DESCRIPTION:
URL:https://gunstuff.tv/event/wyoming-antelope-nra-2700-9/
LOCATION:Wyoming Antelope Club-Florida\, 3700 126th Ave N\, Clearwater\, FL\, United States
GEO:27.886432;-82.683263
X-APPLE-STRUCTURED-LOCATION;VALUE=URI;X-ADDRESS=Wyoming Antelope Club-Florida 3700 126th Ave N Clearwater FL United States;X-APPLE-RADIUS=500;X-TITLE=3700 126th Ave N:geo:-82.683263,27.886432
END:VEVENT
BEGIN:VEVENT
DTSTART;TZID=UTC:20260628T100000
DTEND;TZID=UTC:20260628T100000
DTSTAMP:20260419T180539
CREATED:20260121T014636Z
LAST-MODIFIED:20260401T070144Z
UID:10004645-1782640800-1782640800@gunstuff.tv
SUMMARY:PGC Steel Challenge
DESCRIPTION:PGC Steel Challenge\nDate: 6/28/26\nStart Time: 10:00 AM\nLocation:\nPalmetto Gun Club (SCSA077)\n951 Summers Dr\nRidgeville\, SC\nEvent Contact Information\nThomas Happel\n843-270-9250\nthedeltais@hotmail.com\nMatch Information\nMonthly 6-stage club match at Palmetto Gun Club.\nEvent Website\nhttps://www.palmettogunclub.org/
URL:https://gunstuff.tv/event/pgc-steel-challenge-8/
LOCATION:Palmetto Gun Club (SCSA077)\, 951 Summers Dr\, Ridgeville\, SC\, United States
GEO:32.923478;-80.292014
X-APPLE-STRUCTURED-LOCATION;VALUE=URI;X-ADDRESS=Palmetto Gun Club (SCSA077) 951 Summers Dr Ridgeville SC United States;X-APPLE-RADIUS=500;X-TITLE=951 Summers Dr:geo:-80.292014,32.923478
END:VEVENT
BEGIN:VEVENT
DTSTART;TZID=America/New_York:20260628T100000
DTEND;TZID=America/New_York:20260628T120000
DTSTAMP:20260419T180539
CREATED:20251003T162641Z
LAST-MODIFIED:20251107T180147Z
UID:10001454-1782640800-1782648000@gunstuff.tv
SUMMARY:22 Marksmanship Challenge (Aspirin Shoot)
DESCRIPTION:Aspirin @ 50 yrds\nTums @ 100 yrds\nSteel @ 150 & 200 yrds\nCenterfire prohibited during event.
URL:https://gunstuff.tv/event/22-marksmanship-challenge-aspirin-shoot-9/
LOCATION:Square Range
END:VEVENT
BEGIN:VEVENT
DTSTART;TZID=UTC:20260628T114500
DTEND;TZID=UTC:20260628T114500
DTSTAMP:20260419T180539
CREATED:20260107T013349Z
LAST-MODIFIED:20260401T070144Z
UID:10003836-1782647100-1782647100@gunstuff.tv
SUMMARY:Shadow Hawk Defense Steel Challenge
DESCRIPTION:Shadow Hawk Defense Steel Challenge\nDate: 6/28/26\nStart Time: 11:45 AM\nLocation:\nShadow Hawk Defense (SCSA271)\n436 Apple Harvest Drive\nHedgesville\, WV\nEvent Contact Information\nLynn Kasic\n3046166582\ninfo@shadowhawkdefense.com\nMatch Information\nSame match on Saturday and Sunday. The squad you select determines the day and time that you shoot. All eight stages. Approximately *200* rounds. $30\, Second gun 1/2 price. Pay at the door.\nEvent Website\nhttp://www.ShadowHawkDefense.com
URL:https://gunstuff.tv/event/shadow-hawk-defense-steel-challenge-10/
LOCATION:Shadow Hawk Defense (SCSA271)\, 399 Apple Harvest Dr\, Hedgesville\, WV\, United States
GEO:39.389611;-78.197586
X-APPLE-STRUCTURED-LOCATION;VALUE=URI;X-ADDRESS=Shadow Hawk Defense (SCSA271) 399 Apple Harvest Dr Hedgesville WV United States;X-APPLE-RADIUS=500;X-TITLE=399 Apple Harvest Dr:geo:-78.197586,39.389611
END:VEVENT
BEGIN:VEVENT
DTSTART;TZID=America/New_York:20260628T123000
DTEND;TZID=America/New_York:20260628T143000
DTSTAMP:20260419T180539
CREATED:20260404T214732Z
LAST-MODIFIED:20260411T214632Z
UID:10006756-1782649800-1782657000@gunstuff.tv
SUMMARY:New Member Orientation
DESCRIPTION:Reservation required contact Eric Zaharee at absaidpa@gmail.com to attend
URL:https://gunstuff.tv/event/new-member-orientation-16/
LOCATION:Classroom and Ranges
END:VEVENT
BEGIN:VEVENT
DTSTART;TZID=America/New_York:20260628T130000
DTEND;TZID=America/New_York:20260628T150000
DTSTAMP:20260419T180539
CREATED:20251019T193323Z
LAST-MODIFIED:20260414T083129Z
UID:10002459-1782651600-1782658800@gunstuff.tv
SUMMARY:Open Trap Shoot - Weather Permitting
DESCRIPTION:Open shoot\, $5.00 per round.  The trap field is 2/10ths of a mile past the clubhouse. \nFor the latest information visit:https://www.facebook.com/groups/1663932967427026
URL:https://gunstuff.tv/event/open-trap-shoot-weather-permitting-10/
LOCATION:523 Sizer Run Road Emporium\, Emporium\, PA\, United States
GEO:41.500749;-78.322815
END:VEVENT
BEGIN:VEVENT
DTSTART;TZID=UTC:20260628T140000
DTEND;TZID=UTC:20260628T140000
DTSTAMP:20260419T180539
CREATED:20260311T063138Z
LAST-MODIFIED:20260401T070144Z
UID:10006269-1782655200-1782655200@gunstuff.tv
SUMMARY:BVSA 2026 STEEL CHALLENGE - June 28
DESCRIPTION:BVSA 2026 STEEL CHALLENGE – June 28\nDate: 6/28/26\nStart Time: 2:00 PM\nLocation:\nBuffalo Valley Sportsmen’s Association (SCSA389)\n950 Sportsmens Club Rd\nMifflinburg\, PA\nEvent Contact Information\nLuke Walter\n5709391444\nlbw2@pct.edu\nEvent Website\nhttp://bvsportsman.org
URL:https://gunstuff.tv/event/bvsa-2026-steel-challenge-june-28/
LOCATION:Buffalo Valley Sportsmen’s Association (SCSA389)\, 1300 Sportsmens Club Rd\, Mifflinburg\, PA\, United States
GEO:40.947311;-77.103732
X-APPLE-STRUCTURED-LOCATION;VALUE=URI;X-ADDRESS=Buffalo Valley Sportsmen’s Association (SCSA389) 1300 Sportsmens Club Rd Mifflinburg PA United States;X-APPLE-RADIUS=500;X-TITLE=1300 Sportsmens Club Rd:geo:-77.103732,40.947311
END:VEVENT
BEGIN:VEVENT
DTSTART;VALUE=DATE:20260629
DTEND;VALUE=DATE:20260630
DTSTAMP:20260419T180539
CREATED:20260213T031058Z
LAST-MODIFIED:20260410T034701Z
UID:10005257-1782691200-1782777599@gunstuff.tv
SUMMARY:Club Closed
DESCRIPTION:
URL:https://gunstuff.tv/event/club-closed-39/
LOCATION:ID
END:VEVENT
BEGIN:VEVENT
DTSTART;TZID=America/New_York:20260629T080000
DTEND;TZID=America/New_York:20260630T163000
DTSTAMP:20260419T180539
CREATED:20260404T214732Z
LAST-MODIFIED:20260411T214633Z
UID:10006757-1782720000-1782837000@gunstuff.tv
SUMMARY:Rifles Only - Rifle Clinic
DESCRIPTION:Mike Mayo POC\nDaily Schedule 8:30 am to 4:30 pm
URL:https://gunstuff.tv/event/rifles-only-rifle-clinic/
LOCATION:Long Range
END:VEVENT
BEGIN:VEVENT
DTSTART;TZID=America/New_York:20260629T090000
DTEND;TZID=America/New_York:20260629T100000
DTSTAMP:20260419T180539
CREATED:20251003T162641Z
LAST-MODIFIED:20251010T162929Z
UID:10001456-1782723600-1782727200@gunstuff.tv
SUMMARY:4-H Class Indoors
DESCRIPTION:Indoor reserved for 4-H class.
URL:https://gunstuff.tv/event/4-h-class-indoors-39/
LOCATION:Indoor Range
END:VEVENT
BEGIN:VEVENT
DTSTART;TZID=America/New_York:20260629T160000
DTEND;TZID=America/New_York:20260629T180000
DTSTAMP:20260419T180539
CREATED:20251003T162641Z
LAST-MODIFIED:20251205T181708Z
UID:10001457-1782748800-1782756000@gunstuff.tv
SUMMARY:Skeet League
DESCRIPTION:Contact Frank Andrews with Questions.
URL:https://gunstuff.tv/event/skeet-league-39/
LOCATION:ID
END:VEVENT
BEGIN:VEVENT
DTSTART;TZID=America/New_York:20260629T160000
DTEND;TZID=America/New_York:20260629T180000
DTSTAMP:20260419T180539
CREATED:20251212T181641Z
LAST-MODIFIED:20260411T214633Z
UID:10003540-1782748800-1782756000@gunstuff.tv
SUMMARY:Skeet League
DESCRIPTION:Contact Frank Andrews with Questions.
URL:https://gunstuff.tv/event/skeet-league-129/
LOCATION:Skeet Range
END:VEVENT
BEGIN:VEVENT
DTSTART;VALUE=DATE:20260630
DTEND;VALUE=DATE:20260701
DTSTAMP:20260419T180539
CREATED:20251003T160029Z
LAST-MODIFIED:20260412T043233Z
UID:10000997-1782777600-1782863999@gunstuff.tv
SUMMARY:100\, 200\, 300 Yard Practice Benchrest Range
DESCRIPTION:
URL:https://gunstuff.tv/event/100-200-300-yard-practice-benchrest-range-31/
LOCATION:ID
END:VEVENT
BEGIN:VEVENT
DTSTART;VALUE=DATE:20260630
DTEND;VALUE=DATE:20260701
DTSTAMP:20260419T180539
CREATED:20260213T031058Z
LAST-MODIFIED:20260410T034701Z
UID:10005258-1782777600-1782863999@gunstuff.tv
SUMMARY:Club closed
DESCRIPTION:
URL:https://gunstuff.tv/event/club-closed-40/
LOCATION:ID
END:VEVENT
BEGIN:VEVENT
DTSTART;VALUE=DATE:20260630
DTEND;VALUE=DATE:20260706
DTSTAMP:20260419T180539
CREATED:20251005T190051Z
LAST-MODIFIED:20260412T200143Z
UID:10001678-1782777600-1783295999@gunstuff.tv
SUMMARY:TTA State Trap Tournament
DESCRIPTION:
URL:https://gunstuff.tv/event/tta-state-trap-tournament/
LOCATION:ID
END:VEVENT
BEGIN:VEVENT
DTSTART;TZID=America/New_York:20260630T170000
DTEND;TZID=America/New_York:20260630T200000
DTSTAMP:20260419T180539
CREATED:20260328T214631Z
LAST-MODIFIED:20260411T214633Z
UID:10006589-1782838800-1782849600@gunstuff.tv
SUMMARY:Tactical Tuesday IDPA Practice
DESCRIPTION:Shooters new to Action Shooting contact Eric Zaharee at ABSAIDPA@gmail .com\nSee (Alder Brook) PractiScore.com for sign up Cost $5
URL:https://gunstuff.tv/event/tactical-tuesday-idpa-practice-12/
LOCATION:Action Bays
END:VEVENT
BEGIN:VEVENT
DTSTART;TZID=UTC:20260630T173000
DTEND;TZID=UTC:20260630T173000
DTSTAMP:20260419T180539
CREATED:20260418T174743Z
LAST-MODIFIED:20260418T174743Z
UID:10008059-1782840600-1782840600@gunstuff.tv
SUMMARY:Boise Steel Challenge
DESCRIPTION:Boise Steel Challenge\nDate: 6/30/26\nStart Time: 5:30 PM\nLocation:\nBoise Steel Challenge (SCSA581)\n2420 E Kuna Mora rd\nKuna\, ID\nEvent Contact Information\nPaul\n208-919-5336\nboisesteelchallenge@gmail.com\nMatch Information\nHeld at Black’s Creek Shooting Range\nEvent Website \nBoise Steel Challenge
URL:https://gunstuff.tv/event/boise-steel-challenge-13/
LOCATION:Boise Steel Challenge (SCSA581)\, 2420 E Kuna Mora Rd\, Kuna\, ID\, United States
GEO:43.459228;-116.383121
X-APPLE-STRUCTURED-LOCATION;VALUE=URI;X-ADDRESS=Boise Steel Challenge (SCSA581) 2420 E Kuna Mora Rd Kuna ID United States;X-APPLE-RADIUS=500;X-TITLE=2420 E Kuna Mora Rd:geo:-116.383121,43.459228
END:VEVENT
BEGIN:VEVENT
DTSTART;VALUE=DATE:20260701
DTEND;VALUE=DATE:20260702
DTSTAMP:20260419T180539
CREATED:20251005T190051Z
LAST-MODIFIED:20260412T200143Z
UID:10001677-1782864000-1782950399@gunstuff.tv
SUMMARY:Wednesday Registered Skeet
DESCRIPTION:Registered Skeet.  Contact Jerry Adams at 240-605-3220 for details. \nClick here for flyer
URL:https://gunstuff.tv/event/wednesday-registered-skeet-13/
LOCATION:ID
END:VEVENT
BEGIN:VEVENT
DTSTART;TZID=UTC:20260701T164500
DTEND;TZID=UTC:20260701T164500
DTSTAMP:20260419T180539
CREATED:20260121T014636Z
LAST-MODIFIED:20260401T070144Z
UID:10004646-1782924300-1782924300@gunstuff.tv
SUMMARY:Bass River Weds Nite Steel
DESCRIPTION:Bass River Weds Nite Steel\nDate: 7/01/26\nStart Time: 4:45 PM\nLocation:\nBass River Rod & Gun Club (SCSA467)\nBass River Rod &Gun 620 Rt. 6A\nYarmouthport\, MA\nEvent Contact Information\nTimothy J Kent\n5082372137\ntjkent@comcast.net\nEvent Website\nhttps://www.bassriverrodandgun.com/
URL:https://gunstuff.tv/event/bass-river-weds-nite-steel-10/
LOCATION:Bass River Rod & Gun Club (SCSA467)\, 79 State Rte 6 Alt\, Dennis\, MA\, United States
GEO:41.721025;-70.196653
X-APPLE-STRUCTURED-LOCATION;VALUE=URI;X-ADDRESS=Bass River Rod & Gun Club (SCSA467) 79 State Rte 6 Alt Dennis MA United States;X-APPLE-RADIUS=500;X-TITLE=79 State Rte 6 Alt:geo:-70.196653,41.721025
END:VEVENT
BEGIN:VEVENT
DTSTART;TZID=America/Los_Angeles:20260701T170000
DTEND;TZID=America/Los_Angeles:20260701T220000
DTSTAMP:20260419T180539
CREATED:20260308T221638Z
LAST-MODIFIED:20260405T223147Z
UID:10006220-1782925200-1782943200@gunstuff.tv
SUMMARY:MOORE N MOORE - NIGHT SHOOT & BBQ
DESCRIPTION:For more information\, contact Moore N Moore at https://www.moorenmoore.com/night-shooting/
URL:https://gunstuff.tv/event/moore-n-moore-night-shoot-bbq-37/
LOCATION:Moore N Moore Sporting Clays\, 12653 Little Tujunga Canyon Rd\, Sylmar\, CA\, United States
CATEGORIES:Moore N Moore
ATTACH;FMTTYPE=image/png:https://gunstuff.tv/wp-content/uploads/2025/10/image-pjjZEf.png
ORGANIZER;CN="Moore N Moore Sporting Clays":MAILTO:info@moorenmoore.com
GEO:34.282317;-118.371281
X-APPLE-STRUCTURED-LOCATION;VALUE=URI;X-ADDRESS=Moore N Moore Sporting Clays 12653 Little Tujunga Canyon Rd Sylmar CA United States;X-APPLE-RADIUS=500;X-TITLE=12653 Little Tujunga Canyon Rd:geo:-118.371281,34.282317
END:VEVENT
BEGIN:VEVENT
DTSTART;TZID=America/Chicago:20260701T183000
DTEND;TZID=America/Chicago:20260701T193000
DTSTAMP:20260419T180539
CREATED:20251125T214720Z
LAST-MODIFIED:20260414T221628Z
UID:10003231-1782930600-1782934200@gunstuff.tv
SUMMARY:Madison County Townhall Meeting
DESCRIPTION:Come out and join your friends at the ISRA Madison County Townhall meeting starting at 6:30 pm. As always\, we will discuss current events.\nCome join us and enjoy great company at our gracious host\, Piasa Armory.
URL:https://gunstuff.tv/event/madison-county-grassroots-meeting-7/
LOCATION:Piasa Armory\, East Alton\, IL\, United States
CATEGORIES:Event Calendar
GEO:38.876483;-90.109493
END:VEVENT
BEGIN:VEVENT
DTSTART;TZID=America/New_York:20260702T190000
DTEND;TZID=America/New_York:20260702T220000
DTSTAMP:20260419T180539
CREATED:20260412T184746Z
LAST-MODIFIED:20260412T184746Z
UID:10007464-1783018800-1783029600@gunstuff.tv
SUMMARY:Doerflein Skeet League
DESCRIPTION:Doerflein Skeet League
URL:https://gunstuff.tv/event/doerflein-skeet-league-29/
LOCATION:Shotgun Fields
END:VEVENT
BEGIN:VEVENT
DTSTART;VALUE=DATE:20260703
DTEND;VALUE=DATE:20260704
DTSTAMP:20260419T180539
CREATED:20251003T160029Z
LAST-MODIFIED:20260412T043233Z
UID:10000998-1783036800-1783123199@gunstuff.tv
SUMMARY:Across the Course Practice 6:30am Pits
DESCRIPTION:
URL:https://gunstuff.tv/event/across-the-course-practice-630am-pits-10/
LOCATION:ID
END:VEVENT
BEGIN:VEVENT
DTSTART;VALUE=DATE:20260703
DTEND;VALUE=DATE:20260704
DTSTAMP:20260419T180539
CREATED:20260213T031058Z
LAST-MODIFIED:20260410T034701Z
UID:10005260-1783036800-1783123199@gunstuff.tv
SUMMARY:Competition Bays Closed for steel challenge set up
DESCRIPTION:
URL:https://gunstuff.tv/event/competition-bays-closed-for-steel-challenge-set-up-5/
LOCATION:ID
END:VEVENT
BEGIN:VEVENT
DTSTART;VALUE=DATE:20260703
DTEND;VALUE=DATE:20260704
DTSTAMP:20260419T180539
CREATED:20260213T031058Z
LAST-MODIFIED:20260410T034701Z
UID:10005262-1783036800-1783123199@gunstuff.tv
SUMMARY:Rifle range closed for steel challenge setup & shoot.
DESCRIPTION:
URL:https://gunstuff.tv/event/rifle-range-closed-for-steel-challenge-setup-shoot-7/
LOCATION:ID
END:VEVENT
BEGIN:VEVENT
DTSTART;TZID=America/Chicago:20260703T080000
DTEND;TZID=America/Chicago:20260703T170000
DTSTAMP:20260419T180539
CREATED:20251102T201640Z
LAST-MODIFIED:20260412T211742Z
UID:10002866-1783065600-1783098000@gunstuff.tv
SUMMARY:NSCA Clays Bursting in the Air 2026
DESCRIPTION:Stay tuned…Yes\, this will be part of the Hill Country Freedom Blast!!!
URL:https://gunstuff.tv/event/nsca-clays-bursting-in-the-air-2026/
LOCATION:Austin Gun Club\, 1999 S Key Ave\, Lampasas\, TX\, United States
CATEGORIES:NSCA Registered Shoot
ATTACH;FMTTYPE=image/png:https://gunstuff.tv/wp-content/uploads/2025/11/2026-NSCA-Events-850-3RANT6.png
GEO:31.050454;-98.174788
X-APPLE-STRUCTURED-LOCATION;VALUE=URI;X-ADDRESS=Austin Gun Club 1999 S Key Ave Lampasas TX United States;X-APPLE-RADIUS=500;X-TITLE=1999 S Key Ave:geo:-98.174788,31.050454
END:VEVENT
BEGIN:VEVENT
DTSTART;TZID=America/Chicago:20260703T080000
DTEND;TZID=America/Chicago:20260705T170000
DTSTAMP:20260419T180539
CREATED:20251102T201640Z
LAST-MODIFIED:20260412T211742Z
UID:10002867-1783065600-1783270800@gunstuff.tv
SUMMARY:Hill Country Freedom Blast! 2026
DESCRIPTION:Stay tuned as we finalize plans for the 2026 Hill Country Freedom Blast with Austin Gun Club\, Copperhead Creek Shooting Club & Capital City Clays!
URL:https://gunstuff.tv/event/hill-country-freedom-blast-2026/
LOCATION:Austin Gun Club\, 1999 S Key Ave\, Lampasas\, TX\, United States
CATEGORIES:NSCA Registered Shoot
ATTACH;FMTTYPE=image/png:https://gunstuff.tv/wp-content/uploads/2025/11/2026-NSCA-Events-850-3RANT6.png
GEO:31.050454;-98.174788
X-APPLE-STRUCTURED-LOCATION;VALUE=URI;X-ADDRESS=Austin Gun Club 1999 S Key Ave Lampasas TX United States;X-APPLE-RADIUS=500;X-TITLE=1999 S Key Ave:geo:-98.174788,31.050454
END:VEVENT
BEGIN:VEVENT
DTSTART;VALUE=DATE:20260704
DTEND;VALUE=DATE:20260705
DTSTAMP:20260419T180539
CREATED:20251003T160029Z
LAST-MODIFIED:20260412T043233Z
UID:10001000-1783123200-1783209599@gunstuff.tv
SUMMARY:1000 Yard Heat Stroke 6:30am Pits
DESCRIPTION:
URL:https://gunstuff.tv/event/1000-yard-heat-stroke-630am-pits/
LOCATION:ID
END:VEVENT
END:VCALENDAR