BEGIN:VCALENDAR
VERSION:2.0
PRODID:-//GunStuff TV - ECPv6.15.20//NONSGML v1.0//EN
CALSCALE:GREGORIAN
METHOD:PUBLISH
X-WR-CALNAME:GunStuff TV
X-ORIGINAL-URL:https://gunstuff.tv
X-WR-CALDESC:Events for GunStuff TV
REFRESH-INTERVAL;VALUE=DURATION:PT1H
X-Robots-Tag:noindex
X-PUBLISHED-TTL:PT1H
BEGIN:VTIMEZONE
TZID:UTC
BEGIN:STANDARD
TZOFFSETFROM:+0000
TZOFFSETTO:+0000
TZNAME:UTC
DTSTART:20250101T000000
END:STANDARD
END:VTIMEZONE
BEGIN:VTIMEZONE
TZID:America/New_York
BEGIN:DAYLIGHT
TZOFFSETFROM:-0500
TZOFFSETTO:-0400
TZNAME:EDT
DTSTART:20250309T070000
END:DAYLIGHT
BEGIN:STANDARD
TZOFFSETFROM:-0400
TZOFFSETTO:-0500
TZNAME:EST
DTSTART:20251102T060000
END:STANDARD
BEGIN:DAYLIGHT
TZOFFSETFROM:-0500
TZOFFSETTO:-0400
TZNAME:EDT
DTSTART:20260308T070000
END:DAYLIGHT
BEGIN:STANDARD
TZOFFSETFROM:-0400
TZOFFSETTO:-0500
TZNAME:EST
DTSTART:20261101T060000
END:STANDARD
BEGIN:DAYLIGHT
TZOFFSETFROM:-0500
TZOFFSETTO:-0400
TZNAME:EDT
DTSTART:20270314T070000
END:DAYLIGHT
BEGIN:STANDARD
TZOFFSETFROM:-0400
TZOFFSETTO:-0500
TZNAME:EST
DTSTART:20271107T060000
END:STANDARD
END:VTIMEZONE
BEGIN:VTIMEZONE
TZID:America/Phoenix
BEGIN:STANDARD
TZOFFSETFROM:-0700
TZOFFSETTO:-0700
TZNAME:MST
DTSTART:20250101T000000
END:STANDARD
END:VTIMEZONE
BEGIN:VTIMEZONE
TZID:America/Chicago
BEGIN:DAYLIGHT
TZOFFSETFROM:-0600
TZOFFSETTO:-0500
TZNAME:CDT
DTSTART:20250309T080000
END:DAYLIGHT
BEGIN:STANDARD
TZOFFSETFROM:-0500
TZOFFSETTO:-0600
TZNAME:CST
DTSTART:20251102T070000
END:STANDARD
BEGIN:DAYLIGHT
TZOFFSETFROM:-0600
TZOFFSETTO:-0500
TZNAME:CDT
DTSTART:20260308T080000
END:DAYLIGHT
BEGIN:STANDARD
TZOFFSETFROM:-0500
TZOFFSETTO:-0600
TZNAME:CST
DTSTART:20261101T070000
END:STANDARD
BEGIN:DAYLIGHT
TZOFFSETFROM:-0600
TZOFFSETTO:-0500
TZNAME:CDT
DTSTART:20270314T080000
END:DAYLIGHT
BEGIN:STANDARD
TZOFFSETFROM:-0500
TZOFFSETTO:-0600
TZNAME:CST
DTSTART:20271107T070000
END:STANDARD
END:VTIMEZONE
BEGIN:VTIMEZONE
TZID:America/Los_Angeles
BEGIN:DAYLIGHT
TZOFFSETFROM:-0800
TZOFFSETTO:-0700
TZNAME:PDT
DTSTART:20250309T100000
END:DAYLIGHT
BEGIN:STANDARD
TZOFFSETFROM:-0700
TZOFFSETTO:-0800
TZNAME:PST
DTSTART:20251102T090000
END:STANDARD
BEGIN:DAYLIGHT
TZOFFSETFROM:-0800
TZOFFSETTO:-0700
TZNAME:PDT
DTSTART:20260308T100000
END:DAYLIGHT
BEGIN:STANDARD
TZOFFSETFROM:-0700
TZOFFSETTO:-0800
TZNAME:PST
DTSTART:20261101T090000
END:STANDARD
BEGIN:DAYLIGHT
TZOFFSETFROM:-0800
TZOFFSETTO:-0700
TZNAME:PDT
DTSTART:20270314T100000
END:DAYLIGHT
BEGIN:STANDARD
TZOFFSETFROM:-0700
TZOFFSETTO:-0800
TZNAME:PST
DTSTART:20271107T090000
END:STANDARD
END:VTIMEZONE
BEGIN:VEVENT
DTSTART;TZID=UTC:20260607T090000
DTEND;TZID=UTC:20260607T090000
DTSTAMP:20260419T164012
CREATED:20260110T171710Z
LAST-MODIFIED:20260410T113138Z
UID:10004274-1780822800-1780822800@gunstuff.tv
SUMMARY:LPC Monthly USPSA
DESCRIPTION:LPC Monthly USPSA\nDate : 6/07/26\nStart Time: 9:00 AM\nLocation:\nLewiston Pistol Club (IPSC31)\n1240 Lenville Rd\nGenesee\, ID\nEvent Contact Information\nErik Peterson\n208-301-8067\nlewistonpistolclub@gmail.com\nMatch Information\nLocation: J5P6+GR Lenville\, Idaho 83832 The Lewiston Pistol Club holds USPSA Pistol matches the first Sunday of each month. Setup/registration starts at 9 AM\, new shooter orientation is at 9:30 AM\, please arrive by 9:30 AM\, match starts at 10 AM. We will plan to shoot five stages\, one of which will be a USPSA Classifier stage. The cost is $15 for LPC members and $20 for non-members. First time match attendees shoot for free. For more info\, please see http://www.lewistonpistol.org/Action.php. Bring at minimum 200-250 rounds of ammo\, but more is always better in case you miss! Eye and ear protection is required for all competitors and guests. We run a “cold range” on match days. Be sure to have all firearms unloaded and bagged when you come up to registration. This includes carry pistols. NEW SHOOTERS: Please read info at http://www.lewistonpistol.org/NewShooterInstructions.php before heading to the range. Side matches after the USPSA match are: Jan\, Apr\, Jul\, Oct – Pistol Caliber Rifle Feb\, May\, Aug\, Nov – Rifle Mar\, Jun\, Sept\, Dec – Shotgun Due to the fire hazard\, metal piercing\, incendiary\, and/or tracer ammunition\, steel jacketed and steel core bullets are prohibited at the Bernie Petersen Memorial Range. Thank You\, Lewiston Pistol Club.\nEvent Website\nhttp://lewistonpistolclub.org
URL:https://gunstuff.tv/event/lpc-monthly-uspsa-7/
LOCATION:Lewiston Pistol Club (IPSC31)\, 3400 Lenville Rd\, Moscow\, ID\, United States
GEO:46.722361;-116.959118
X-APPLE-STRUCTURED-LOCATION;VALUE=URI;X-ADDRESS=Lewiston Pistol Club (IPSC31) 3400 Lenville Rd Moscow ID United States;X-APPLE-RADIUS=500;X-TITLE=3400 Lenville Rd:geo:-116.959118,46.722361
END:VEVENT
BEGIN:VEVENT
DTSTART;TZID=UTC:20260607T090000
DTEND;TZID=UTC:20260607T090000
DTSTAMP:20260419T164012
CREATED:20260207T171716Z
LAST-MODIFIED:20260410T113138Z
UID:10005047-1780822800-1780822800@gunstuff.tv
SUMMARY:BSPSC June Single Stack Match
DESCRIPTION:BSPSC June Single Stack Match\nDate : 6/07/26\nStart Time: 9:00 AM\nLocation:\nBig Sky Practical Shooting Club (NR02)\n1142 Deer Creek Road\nEast Missoula\, MT\nEvent Contact Information\nSean Boushie\n406-370-6927\nflintlocknfur@hotmail.com\nMatch Information\nWhile we all know that Single Stack is the greatest class\, and the only one that really matters…. Even lesser\, much weaker guns will be allowed\, and I guess welcomed. But its a good excuse to dust off that 1911 and bring it out!!\nhttps://practiscore.com/bspsc-2026-june-uspsa-single-stack/register\nEvent Website\nhttps://bspsc.org/index.php
URL:https://gunstuff.tv/event/bspsc-june-single-stack-match/
LOCATION:Big Sky Practical Shooting Club (NR02)\, 1142 Deer Creek Rd\, Missoula\, MT\, United States
GEO:46.862716;-113.891053
X-APPLE-STRUCTURED-LOCATION;VALUE=URI;X-ADDRESS=Big Sky Practical Shooting Club (NR02) 1142 Deer Creek Rd Missoula MT United States;X-APPLE-RADIUS=500;X-TITLE=1142 Deer Creek Rd:geo:-113.891053,46.862716
END:VEVENT
BEGIN:VEVENT
DTSTART;TZID=America/New_York:20260607T090000
DTEND;TZID=America/New_York:20260607T120000
DTSTAMP:20260419T164013
CREATED:20251003T162641Z
LAST-MODIFIED:20260411T214631Z
UID:10001443-1780822800-1780833600@gunstuff.tv
SUMMARY:Weekly Trap League
DESCRIPTION:
URL:https://gunstuff.tv/event/weekly-trap-league-36/
LOCATION:Shotgun Range
END:VEVENT
BEGIN:VEVENT
DTSTART;TZID=America/New_York:20260607T090000
DTEND;TZID=America/New_York:20260607T163000
DTSTAMP:20260419T164013
CREATED:20260208T183205Z
LAST-MODIFIED:20260412T184744Z
UID:10005103-1780822800-1780849800@gunstuff.tv
SUMMARY:High Power Silhouette
DESCRIPTION:Contact Roger Estes @ rce497@comcast.net \nThis is a High Power Silhouette match per month from March thru November\, 2026\, These will be high power rifle silhouette matches fired on the Lea Valley Range with a total of 40 rounds for record. Records will be kept and sent to the NRA for classification purposes. For the matches practice will begin at 9a.m. and matches will begin at 10.Rules will follow the NRA High Power Rifle Silhouette Rules. Briefly\, rifles for Highpower silhouette have to be at least a minimum center-fire caliber of 6mm\, no maximum. Ammo cannot be belted magnum by Club Rules for ammo.Clothes can be commensurate with the weather but cannot be made specifically silhouette competition\, with the exception that leather vest specifically for rifle silhouette can be used.The match firing will be on relays\, each relay\, consisting of 4 shooting competitors and spotters . Spotters are not mandatory for these matches. Scoring can be done by a spotter or by the competitor's person. The relay is called to the line\, the command of ready is given which is 15 seconds to get prepared to fire the 5 shots in 2 1/2 minutes\, then a short rest\, then 5 more rounds in 2 1/2 minutes. Following these shots\, competitors will show their scores to the stat officer so the scores are recorded. Relays will continue till all animals are fired at. Scores are counted by the knock down of animals off the range rail\, to a maximum of 40 animals. Once the relays are complete\, scores will be counted up and the winner gets cash for the award\, total of 25 for aggregate match winner. $20 for Class winner. Each 3 competitors will get a n award of cash. A plaque award can be substituted for the cash. There is a separate category in which AR-15 rifles are allowed. AR's don't follow the silhouette rules\, mostly because of the shape of the rifle and caliber which is .223. They are allowed in a separate category in this match to get more competitors to shoot these matches\, just generating interest in this sport. They have no classification in the match\, just for fun. The matches are fired on the first Sunday of the month.
URL:https://gunstuff.tv/event/high-power-silhouette-4/
LOCATION:Lea Valley Range
END:VEVENT
BEGIN:VEVENT
DTSTART;TZID=UTC:20260607T094500
DTEND;TZID=UTC:20260607T094500
DTSTAMP:20260419T164013
CREATED:20260117T171706Z
LAST-MODIFIED:20260410T113138Z
UID:10004573-1780825500-1780825500@gunstuff.tv
SUMMARY:Bass River June Match
DESCRIPTION:Bass River June Match\nDate : 6/07/26\nStart Time: 9:45 AM\nLocation:\nBass River Rod & Gun Club (NE12)\nBass River Rod &Gun 620 Rt. 6A\nYarmouthport\, MA\nEvent Contact Information\nTimothy J Kent\n5082372137\ntjkent@comcast.net\nEvent Website\nhttps://www.bassriverrodandgun.com/
URL:https://gunstuff.tv/event/bass-river-june-match/
LOCATION:Bass River Rod & Gun Club (NE12)\, 79 State Rte 6 Alt\, Dennis\, MA\, United States
GEO:41.721025;-70.196653
X-APPLE-STRUCTURED-LOCATION;VALUE=URI;X-ADDRESS=Bass River Rod & Gun Club (NE12) 79 State Rte 6 Alt Dennis MA United States;X-APPLE-RADIUS=500;X-TITLE=79 State Rte 6 Alt:geo:-70.196653,41.721025
END:VEVENT
BEGIN:VEVENT
DTSTART;TZID=UTC:20260607T100000
DTEND;TZID=UTC:20260607T100000
DTSTAMP:20260419T164013
CREATED:20260227T113143Z
LAST-MODIFIED:20260410T113138Z
UID:10005842-1780826400-1780826400@gunstuff.tv
SUMMARY:Ripon USPSA
DESCRIPTION:Ripon USPSA\nDate : 6/07/26\nStart Time: 10:00 AM\nLocation:\nRipon Gun Club (WI18)\nN9089 Koro rd\nRipon\, WI\nEvent Contact Information\nBill Hatfield\n920-538-4178\nBhatfield1@charter.net
URL:https://gunstuff.tv/event/ripon-uspsa-2/
LOCATION:Ripon Gun Club (WI18)\, 1699 Koro Rd\, Berlin\, WI\, United States
GEO:43.953345;-88.865982
X-APPLE-STRUCTURED-LOCATION;VALUE=URI;X-ADDRESS=Ripon Gun Club (WI18) 1699 Koro Rd Berlin WI United States;X-APPLE-RADIUS=500;X-TITLE=1699 Koro Rd:geo:-88.865982,43.953345
END:VEVENT
BEGIN:VEVENT
DTSTART;TZID=America/New_York:20260607T120000
DTEND;TZID=America/New_York:20260607T140000
DTSTAMP:20260419T164013
CREATED:20260111T181636Z
LAST-MODIFIED:20260412T184744Z
UID:10004382-1780833600-1780840800@gunstuff.tv
SUMMARY:Red Badge Qualifications – No Walk-Ons
DESCRIPTION:There will be no walk-ons allowed. You MUST schedule with Ted Bradford at safety@fxrgc.org and have previously filled out a red badge application online (members only section) in order to participate.
URL:https://gunstuff.tv/event/red-badge-qualifications-no-walk-ons-3/
LOCATION:Porasky Range
END:VEVENT
BEGIN:VEVENT
DTSTART;TZID=America/New_York:20260607T130000
DTEND;TZID=America/New_York:20260607T150000
DTSTAMP:20260419T164013
CREATED:20251019T193323Z
LAST-MODIFIED:20260111T210132Z
UID:10002456-1780837200-1780844400@gunstuff.tv
SUMMARY:Open Trap Shoot - Weather Permitting
DESCRIPTION:Open shoot\, $5.00 per round.  \nThe trap field is 2/10ths of a mile past the clubhouse.
URL:https://gunstuff.tv/event/open-trap-shoot-weather-permitting-7/
LOCATION:523 Sizer Run Road Emporium\, Emporium\, PA\, United States
GEO:41.500749;-78.322815
END:VEVENT
BEGIN:VEVENT
DTSTART;VALUE=DATE:20260608
DTEND;VALUE=DATE:20260609
DTSTAMP:20260419T164013
CREATED:20260213T031057Z
LAST-MODIFIED:20260410T034700Z
UID:10005246-1780876800-1780963199@gunstuff.tv
SUMMARY:Club Closed
DESCRIPTION:
URL:https://gunstuff.tv/event/club-closed-33/
LOCATION:ID
END:VEVENT
BEGIN:VEVENT
DTSTART;TZID=America/New_York:20260608T090000
DTEND;TZID=America/New_York:20260608T100000
DTSTAMP:20260419T164013
CREATED:20251003T162641Z
LAST-MODIFIED:20251010T162929Z
UID:10001444-1780909200-1780912800@gunstuff.tv
SUMMARY:4-H Class Indoors
DESCRIPTION:Indoor reserved for 4-H class.
URL:https://gunstuff.tv/event/4-h-class-indoors-36/
LOCATION:Indoor Range
END:VEVENT
BEGIN:VEVENT
DTSTART;TZID=America/New_York:20260608T160000
DTEND;TZID=America/New_York:20260608T180000
DTSTAMP:20260419T164013
CREATED:20251003T162641Z
LAST-MODIFIED:20251205T181708Z
UID:10001445-1780934400-1780941600@gunstuff.tv
SUMMARY:Skeet League
DESCRIPTION:Contact Frank Andrews with Questions.
URL:https://gunstuff.tv/event/skeet-league-36/
LOCATION:ID
END:VEVENT
BEGIN:VEVENT
DTSTART;TZID=America/New_York:20260608T160000
DTEND;TZID=America/New_York:20260608T180000
DTSTAMP:20260419T164013
CREATED:20251212T181641Z
LAST-MODIFIED:20260411T214631Z
UID:10003537-1780934400-1780941600@gunstuff.tv
SUMMARY:Skeet League
DESCRIPTION:Contact Frank Andrews with Questions.
URL:https://gunstuff.tv/event/skeet-league-126/
LOCATION:Skeet Range
END:VEVENT
BEGIN:VEVENT
DTSTART;VALUE=DATE:20260609
DTEND;VALUE=DATE:20260610
DTSTAMP:20260419T164013
CREATED:20251003T160029Z
LAST-MODIFIED:20260412T043231Z
UID:10000984-1780963200-1781049599@gunstuff.tv
SUMMARY:100\, 200\, 300 Yard Practice Benchrest Range
DESCRIPTION:
URL:https://gunstuff.tv/event/100-200-300-yard-practice-benchrest-range-28/
LOCATION:ID
END:VEVENT
BEGIN:VEVENT
DTSTART;VALUE=DATE:20260609
DTEND;VALUE=DATE:20260610
DTSTAMP:20260419T164013
CREATED:20260213T031057Z
LAST-MODIFIED:20260410T034700Z
UID:10005247-1780963200-1781049599@gunstuff.tv
SUMMARY:Club closed
DESCRIPTION:
URL:https://gunstuff.tv/event/club-closed-34/
LOCATION:ID
END:VEVENT
BEGIN:VEVENT
DTSTART;TZID=America/New_York:20260609T090000
DTEND;TZID=America/New_York:20260609T130000
DTSTAMP:20260419T164013
CREATED:20251012T173816Z
LAST-MODIFIED:20260412T184744Z
UID:10002107-1780995600-1781010000@gunstuff.tv
SUMMARY:GAFC
DESCRIPTION:Event Director David Evans
URL:https://gunstuff.tv/event/gafc-5/
LOCATION:Walsh & Sieger Ranges
END:VEVENT
BEGIN:VEVENT
DTSTART;TZID=America/New_York:20260609T170000
DTEND;TZID=America/New_York:20260609T200000
DTSTAMP:20260419T164013
CREATED:20260328T214630Z
LAST-MODIFIED:20260411T214631Z
UID:10006585-1781024400-1781035200@gunstuff.tv
SUMMARY:Tactical Tuesday IDPA Practice
DESCRIPTION:Shooters new to Action Shooting contact Eric Zaharee at ABSAIDPA@gmail .com\nSee (Alder Brook) PractiScore.com for sign up Cost $5
URL:https://gunstuff.tv/event/tactical-tuesday-idpa-practice-9/
LOCATION:Action Bays
END:VEVENT
BEGIN:VEVENT
DTSTART;TZID=UTC:20260609T173000
DTEND;TZID=UTC:20260609T173000
DTSTAMP:20260419T164013
CREATED:20260418T174740Z
LAST-MODIFIED:20260418T174740Z
UID:10008053-1781026200-1781026200@gunstuff.tv
SUMMARY:Boise Steel Challenge
DESCRIPTION:Boise Steel Challenge\nDate: 6/09/26\nStart Time: 5:30 PM\nLocation:\nBoise Steel Challenge (SCSA581)\n2420 E Kuna Mora rd\nKuna\, ID\nEvent Contact Information\nPaul\n208-919-5336\nboisesteelchallenge@gmail.com\nMatch Information\nHeld at Black’s Creek Shooting Range\nEvent Website \nBoise Steel Challenge
URL:https://gunstuff.tv/event/boise-steel-challenge-10/
LOCATION:Boise Steel Challenge (SCSA581)\, 2420 E Kuna Mora Rd\, Kuna\, ID\, United States
GEO:43.459228;-116.383121
X-APPLE-STRUCTURED-LOCATION;VALUE=URI;X-ADDRESS=Boise Steel Challenge (SCSA581) 2420 E Kuna Mora Rd Kuna ID United States;X-APPLE-RADIUS=500;X-TITLE=2420 E Kuna Mora Rd:geo:-116.383121,43.459228
END:VEVENT
BEGIN:VEVENT
DTSTART;TZID=America/New_York:20260609T180000
DTEND;TZID=America/New_York:20260609T203000
DTSTAMP:20260419T164014
CREATED:20251003T162405Z
LAST-MODIFIED:20260410T200129Z
UID:10001125-1781028000-1781037000@gunstuff.tv
SUMMARY:MRPC Member Meeting
DESCRIPTION:
URL:https://gunstuff.tv/event/mrpc-member-meeting-5/
LOCATION:Perry’s Restaurant\, 1210 Annapolis Rd\, Odenton\, MD\, United States
GEO:39.083488;-76.692407
X-APPLE-STRUCTURED-LOCATION;VALUE=URI;X-ADDRESS=Perry’s Restaurant 1210 Annapolis Rd Odenton MD United States;X-APPLE-RADIUS=500;X-TITLE=1210 Annapolis Rd:geo:-76.692407,39.083488
END:VEVENT
BEGIN:VEVENT
DTSTART;VALUE=DATE:20260610
DTEND;VALUE=DATE:20260615
DTSTAMP:20260419T164014
CREATED:20251005T190050Z
LAST-MODIFIED:20260412T200130Z
UID:10001672-1781049600-1781481599@gunstuff.tv
SUMMARY:SCTP State Championships
DESCRIPTION:See event flyer
URL:https://gunstuff.tv/event/sctp-state-championships/
LOCATION:ID
END:VEVENT
BEGIN:VEVENT
DTSTART;TZID=UTC:20260610T164500
DTEND;TZID=UTC:20260610T164500
DTSTAMP:20260419T164014
CREATED:20260121T014636Z
LAST-MODIFIED:20260401T070142Z
UID:10004641-1781109900-1781109900@gunstuff.tv
SUMMARY:Bass River Weds Nite Steel
DESCRIPTION:Bass River Weds Nite Steel\nDate: 6/10/26\nStart Time: 4:45 PM\nLocation:\nBass River Rod & Gun Club (SCSA467)\nBass River Rod &Gun 620 Rt. 6A\nYarmouthport\, MA\nEvent Contact Information\nTimothy J Kent\n5082372137\ntjkent@comcast.net\nEvent Website\nhttps://www.bassriverrodandgun.com/
URL:https://gunstuff.tv/event/bass-river-weds-nite-steel-7/
LOCATION:Bass River Rod & Gun Club (SCSA467)\, 79 State Rte 6 Alt\, Dennis\, MA\, United States
GEO:41.721025;-70.196653
X-APPLE-STRUCTURED-LOCATION;VALUE=URI;X-ADDRESS=Bass River Rod & Gun Club (SCSA467) 79 State Rte 6 Alt Dennis MA United States;X-APPLE-RADIUS=500;X-TITLE=79 State Rte 6 Alt:geo:-70.196653,41.721025
END:VEVENT
BEGIN:VEVENT
DTSTART;TZID=America/Los_Angeles:20260610T170000
DTEND;TZID=America/Los_Angeles:20260610T220000
DTSTAMP:20260419T164014
CREATED:20260208T221717Z
LAST-MODIFIED:20260405T223147Z
UID:10005116-1781110800-1781128800@gunstuff.tv
SUMMARY:MOORE N MOORE - NIGHT SHOOT & BBQ
DESCRIPTION:For more information\, contact Moore N Moore at https://www.moorenmoore.com/night-shooting/
URL:https://gunstuff.tv/event/moore-n-moore-night-shoot-bbq-34/
LOCATION:Moore N Moore Sporting Clays\, 12653 Little Tujunga Canyon Rd\, Sylmar\, CA\, United States
CATEGORIES:Moore N Moore
ATTACH;FMTTYPE=image/png:https://gunstuff.tv/wp-content/uploads/2025/10/image-pjjZEf.png
ORGANIZER;CN="Moore N Moore Sporting Clays":MAILTO:info@moorenmoore.com
GEO:34.282317;-118.371281
X-APPLE-STRUCTURED-LOCATION;VALUE=URI;X-ADDRESS=Moore N Moore Sporting Clays 12653 Little Tujunga Canyon Rd Sylmar CA United States;X-APPLE-RADIUS=500;X-TITLE=12653 Little Tujunga Canyon Rd:geo:-118.371281,34.282317
END:VEVENT
BEGIN:VEVENT
DTSTART;VALUE=DATE:20260611
DTEND;VALUE=DATE:20260612
DTSTAMP:20260419T164014
CREATED:20251003T160029Z
LAST-MODIFIED:20260412T043231Z
UID:10000986-1781136000-1781222399@gunstuff.tv
SUMMARY:1000 Yard Practice 6:30am Pits
DESCRIPTION:
URL:https://gunstuff.tv/event/1000-yard-practice-630am-pits-5/
LOCATION:ID
END:VEVENT
BEGIN:VEVENT
DTSTART;TZID=America/Los_Angeles:20260611T130000
DTEND;TZID=America/Los_Angeles:20260611T180000
DTSTAMP:20260419T164014
CREATED:20260215T221628Z
LAST-MODIFIED:20260405T223147Z
UID:10005621-1781182800-1781200800@gunstuff.tv
SUMMARY:RIFLE SIDE RANGE CLOSED
DESCRIPTION:NOT OPEN TO THE PUBLIC AFTER 1:00 P. M.
URL:https://gunstuff.tv/event/rifle-side-range-closed-12/
LOCATION:California
END:VEVENT
BEGIN:VEVENT
DTSTART;TZID=America/New_York:20260611T180000
DTEND;TZID=America/New_York:20260611T200000
DTSTAMP:20260419T164014
CREATED:20260404T214731Z
LAST-MODIFIED:20260411T214632Z
UID:10006754-1781200800-1781208000@gunstuff.tv
SUMMARY:USCCA-Use of Force Training Series-Permitless Carry in NH
DESCRIPTION:Indoor Range Closed – Registration required Free class\, Lecture Only – What it means\, legal boundaries\, common misconceptions. Contact Marcie Zaharee for Info zahareemarcie@gmail.com
URL:https://gunstuff.tv/event/uscca-use-of-force-training-series-permitless-carry-in-nh/
LOCATION:Classroom
END:VEVENT
BEGIN:VEVENT
DTSTART;TZID=America/Chicago:20260611T190000
DTEND;TZID=America/Chicago:20260611T200000
DTSTAMP:20260419T164014
CREATED:20251014T211425Z
LAST-MODIFIED:20260414T221641Z
UID:10002191-1781204400-1781208000@gunstuff.tv
SUMMARY:South Suburban Cook County Townhall Meeting
DESCRIPTION:Come out and join your friends at the ISRA South Suburban Cook County Townhall meeting from 7 pm-8 pm. As always\, we will discuss current events.\nOur host Papa Joe’s Restaurant will be serving a buffet-style dinner with unlimited soft drinks starting at 6:15 pm.\nThe cost of the buffet is $17.\nCome join us and enjoy great food and company and help support our gracious host\, Papa Joe’s Restaurant.
URL:https://gunstuff.tv/event/south-suburban-cook-county-grass-roots-meeting-9/
LOCATION:Papa Joe’s Restaurant – Orland Park\, 14459 la Grange Rd\, Orland Park\, IL\, United States
CATEGORIES:Event Calendar
GEO:41.627517;-87.853783
X-APPLE-STRUCTURED-LOCATION;VALUE=URI;X-ADDRESS=Papa Joe’s Restaurant – Orland Park 14459 la Grange Rd Orland Park IL United States;X-APPLE-RADIUS=500;X-TITLE=14459 la Grange Rd:geo:-87.853783,41.627517
END:VEVENT
BEGIN:VEVENT
DTSTART;TZID=America/New_York:20260611T190000
DTEND;TZID=America/New_York:20260611T220000
DTSTAMP:20260419T164014
CREATED:20260412T184745Z
LAST-MODIFIED:20260412T184745Z
UID:10007461-1781204400-1781215200@gunstuff.tv
SUMMARY:Doerflein Skeet League
DESCRIPTION:Doerflein Skeet League
URL:https://gunstuff.tv/event/doerflein-skeet-league-26/
LOCATION:Shotgun Fields
END:VEVENT
BEGIN:VEVENT
DTSTART;VALUE=DATE:20260612
DTEND;VALUE=DATE:20260613
DTSTAMP:20260419T164014
CREATED:20251003T160029Z
LAST-MODIFIED:20260412T043231Z
UID:10000985-1781222400-1781308799@gunstuff.tv
SUMMARY:Across the Course Practice 6:30am Pits
DESCRIPTION:
URL:https://gunstuff.tv/event/across-the-course-practice-630am-pits-7/
LOCATION:ID
END:VEVENT
BEGIN:VEVENT
DTSTART;VALUE=DATE:20260612
DTEND;VALUE=DATE:20260613
DTSTAMP:20260419T164014
CREATED:20251003T162535Z
LAST-MODIFIED:20260412T184744Z
UID:10001262-1781222400-1781308799@gunstuff.tv
SUMMARY:7th Mo-Joe Open & Club Championships
DESCRIPTION:Mo-Joe Open & Club Championship Registered Skeet 5-gun
URL:https://gunstuff.tv/event/7th-mo-joe-open-club-championships-2/
LOCATION:Fields 1-8
END:VEVENT
BEGIN:VEVENT
DTSTART;TZID=UTC:20260612T080000
DTEND;TZID=UTC:20260612T080000
DTSTAMP:20260419T164014
CREATED:20260121T014636Z
LAST-MODIFIED:20260401T070143Z
UID:10004642-1781251200-1781251200@gunstuff.tv
SUMMARY:Alaska Steel Challenge Open 2026
DESCRIPTION:Alaska Steel Challenge Open 2026\nDate: 6/12/26\nStart Time: 8:00 AM\nLocation:\nDiamond Spear Training Complex (SCSA577)\n1331 Badger Road\nNorth Pole\, AK\nEvent Contact Information\nRyan Yurong\n907-888-7900\nRyan@diamondspearllc.com\nMatch Information\nMatch starts: June 12\, 2026 @ 1:00 PM · Match ends: June 14\, 2026 @ 6:00 PM\nLocation:\n1381 Bradway Rd\nNorth Pole\, Alaska 99705\nJoin us at our brand-new outdoor range in North Pole\, Alaska for a Level 1 Steel Challenge Match! We’re aiming to fill the range with shooters from near and far for this exciting three-day event\, featuring all eight official Steel Challenge stages. Even though this is a Level One match\, we aim to include all the elements of an upper-level major match\, including a prize table\, awards ceremony\, food trucks\, match jerseys for sale\, and staff shirts.\nEvent Schedule:\nWe will shoot a total of 4 sessions\, Friday afternoon (June 12) staff and competitors\, Saturday morning and afternoon and Sunday morning. You may register and shoot up to 2 guns/divisions per session. Please be sure to select the same squad when registering in more than one division.\nFollowing the posting of final match results\, we will host an awards ceremony along with a sponsor table. Shooters and spectators can also enjoy a variety of food trucks on-site throughout the weekend.\nMatch Fees:\nRegistration prior to March 31:\n$25.00 match entry\n$20.00 for each additional division\nRegistration beginning April 1:\n$35.00 match entry\n$30.00 for each additional division\nOur range is family-friendly and offers camper and tent sites for those looking for the full Alaskan experience. Campsites must be reserved by April 5 and are located approximately 10 minutes from the range. Please note that campsites do not include water or electrical hookups; however\, the nearby lake is fully stocked for legal fishing.\nFor those traveling in who prefer not to camp during their Alaskan stay\, we’re excited to share that we’ve secured lodging at Hotel North Pole\, located approximately 15 minutes from the range. This hotel is well known for selling out quickly during the summer season.\nMatch registration includes exclusive discounted room rates\, and if you’d like assistance with booking\, please don’t hesitate to reach out to our match staff—we’re happy to help!\nEvent Website\nhttps://practiscore.com/alaska-steel-invitational-lvl2/register
URL:https://gunstuff.tv/event/alaska-steel-challenge-open-2026/
LOCATION:Diamond Spear Training Complex (SCSA577)\, 1331 Badger Rd\, North Pole\, AK\, United States
GEO:64.834868;-147.509923
X-APPLE-STRUCTURED-LOCATION;VALUE=URI;X-ADDRESS=Diamond Spear Training Complex (SCSA577) 1331 Badger Rd North Pole AK United States;X-APPLE-RADIUS=500;X-TITLE=1331 Badger Rd:geo:-147.509923,64.834868
END:VEVENT
BEGIN:VEVENT
DTSTART;TZID=UTC:20260612T090000
DTEND;TZID=UTC:20260612T090000
DTSTAMP:20260419T164014
CREATED:20251031T195553Z
LAST-MODIFIED:20260415T070236Z
UID:10002827-1781254800-1781254800@gunstuff.tv
SUMMARY:2026 Area 5 Steel Challenge Championship
DESCRIPTION:2026 Area 5 Steel Challenge Championship\nMatch Status: Approved by DNROI\nMatch Starts on Jun 12\, 2026\nMatch will end Jun 14\, 2026\nMatch Location:\nRiley Conservation Club\n6301 East Gross Road\nTerre Haute\, IN 47802\nManaged by:\nRiley Conservation Club\nStage Count: 8\nRound Count: 195\nMatch Entry Fee: $75.00\nMatch Director: Jan Wright\nRange Master: Steve Wright\nAdditional Details\n$75 first gun\n$50 each additional\n4 gun package of $200\nAdditional guns with 4 gun package $25\nyouth entry $50 first gun $40 each additional. youth must be accompanied by an adult\nno refunds after may 8th. all refunds will be charged a $10 service fee\nPayback would be\n$250 for Steel Master (1 Rimfire Pistol\, 1 Centerfire Optics Pistol\, 1 Centerfire Iron Pistol)\n$200 for Rifle Master (1 Rimfire Rifle and 1 PCC)\n$200 Rimfire Master( rfpi\,rfpo\,rfri\,rfro)\n$100 Centerfire Pistol\nWe will recognize high SENIOR and SUPER SENIOR LADY per division\nOther awards based on appendix A2 of the rule book\nThe match reserves the right to balance squads.\nIF YOU PLAN TO SHOOT MORE THAN ONE GUN/DIVISION IN THE EVENT YOU MUST CREATE A SEPARATE ENTRY FOR EACH GUN/DIVISION\nOnce you’ve registered all of your entries we will set the match fee for payment.\nOnce payment is made you can squad.\nYou may shoot a maximum of two guns per session. We will be using 1/2 day sessions.\nFriday afternoon\nSaturday morning\nSaturday afternoon\nSunday morning\nIf you have questions or problems completing your registration contact Steve at uspsaindiana@gmail.com for assistance.\nRegister!\nhttps://practiscore.com/2026-area-5-steel-challenge-championship/register
URL:https://gunstuff.tv/event/2026-area-5-steel-challenge-championship/
LOCATION:Riley Conservation Club\, 6301 E Gross Rd\, Terre Haute\, IN\, United States
GEO:39.390237;-87.320884
X-APPLE-STRUCTURED-LOCATION;VALUE=URI;X-ADDRESS=Riley Conservation Club 6301 E Gross Rd Terre Haute IN United States;X-APPLE-RADIUS=500;X-TITLE=6301 E Gross Rd:geo:-87.320884,39.390237
END:VEVENT
END:VCALENDAR