BEGIN:VCALENDAR
VERSION:2.0
PRODID:-//GunStuff TV - ECPv6.15.20//NONSGML v1.0//EN
CALSCALE:GREGORIAN
METHOD:PUBLISH
X-WR-CALNAME:GunStuff TV
X-ORIGINAL-URL:https://gunstuff.tv
X-WR-CALDESC:Events for GunStuff TV
REFRESH-INTERVAL;VALUE=DURATION:PT1H
X-Robots-Tag:noindex
X-PUBLISHED-TTL:PT1H
BEGIN:VTIMEZONE
TZID:America/New_York
BEGIN:DAYLIGHT
TZOFFSETFROM:-0500
TZOFFSETTO:-0400
TZNAME:EDT
DTSTART:20250309T070000
END:DAYLIGHT
BEGIN:STANDARD
TZOFFSETFROM:-0400
TZOFFSETTO:-0500
TZNAME:EST
DTSTART:20251102T060000
END:STANDARD
BEGIN:DAYLIGHT
TZOFFSETFROM:-0500
TZOFFSETTO:-0400
TZNAME:EDT
DTSTART:20260308T070000
END:DAYLIGHT
BEGIN:STANDARD
TZOFFSETFROM:-0400
TZOFFSETTO:-0500
TZNAME:EST
DTSTART:20261101T060000
END:STANDARD
BEGIN:DAYLIGHT
TZOFFSETFROM:-0500
TZOFFSETTO:-0400
TZNAME:EDT
DTSTART:20270314T070000
END:DAYLIGHT
BEGIN:STANDARD
TZOFFSETFROM:-0400
TZOFFSETTO:-0500
TZNAME:EST
DTSTART:20271107T060000
END:STANDARD
END:VTIMEZONE
BEGIN:VTIMEZONE
TZID:America/Chicago
BEGIN:DAYLIGHT
TZOFFSETFROM:-0600
TZOFFSETTO:-0500
TZNAME:CDT
DTSTART:20250309T080000
END:DAYLIGHT
BEGIN:STANDARD
TZOFFSETFROM:-0500
TZOFFSETTO:-0600
TZNAME:CST
DTSTART:20251102T070000
END:STANDARD
BEGIN:DAYLIGHT
TZOFFSETFROM:-0600
TZOFFSETTO:-0500
TZNAME:CDT
DTSTART:20260308T080000
END:DAYLIGHT
BEGIN:STANDARD
TZOFFSETFROM:-0500
TZOFFSETTO:-0600
TZNAME:CST
DTSTART:20261101T070000
END:STANDARD
BEGIN:DAYLIGHT
TZOFFSETFROM:-0600
TZOFFSETTO:-0500
TZNAME:CDT
DTSTART:20270314T080000
END:DAYLIGHT
BEGIN:STANDARD
TZOFFSETFROM:-0500
TZOFFSETTO:-0600
TZNAME:CST
DTSTART:20271107T070000
END:STANDARD
END:VTIMEZONE
BEGIN:VTIMEZONE
TZID:UTC
BEGIN:STANDARD
TZOFFSETFROM:+0000
TZOFFSETTO:+0000
TZNAME:UTC
DTSTART:20250101T000000
END:STANDARD
END:VTIMEZONE
BEGIN:VTIMEZONE
TZID:America/Los_Angeles
BEGIN:DAYLIGHT
TZOFFSETFROM:-0800
TZOFFSETTO:-0700
TZNAME:PDT
DTSTART:20250309T100000
END:DAYLIGHT
BEGIN:STANDARD
TZOFFSETFROM:-0700
TZOFFSETTO:-0800
TZNAME:PST
DTSTART:20251102T090000
END:STANDARD
BEGIN:DAYLIGHT
TZOFFSETFROM:-0800
TZOFFSETTO:-0700
TZNAME:PDT
DTSTART:20260308T100000
END:DAYLIGHT
BEGIN:STANDARD
TZOFFSETFROM:-0700
TZOFFSETTO:-0800
TZNAME:PST
DTSTART:20261101T090000
END:STANDARD
BEGIN:DAYLIGHT
TZOFFSETFROM:-0800
TZOFFSETTO:-0700
TZNAME:PDT
DTSTART:20270314T100000
END:DAYLIGHT
BEGIN:STANDARD
TZOFFSETFROM:-0700
TZOFFSETTO:-0800
TZNAME:PST
DTSTART:20271107T090000
END:STANDARD
END:VTIMEZONE
BEGIN:VTIMEZONE
TZID:America/Phoenix
BEGIN:STANDARD
TZOFFSETFROM:-0700
TZOFFSETTO:-0700
TZNAME:MST
DTSTART:20250101T000000
END:STANDARD
END:VTIMEZONE
BEGIN:VEVENT
DTSTART;TZID=America/New_York:20260808T080000
DTEND;TZID=America/New_York:20260808T170000
DTSTAMP:20260420T131855
CREATED:20251109T181651Z
LAST-MODIFIED:20260412T184749Z
UID:10003033-1786176000-1786208400@gunstuff.tv
SUMMARY:Green Ops Tactical Basic Pistol Fundamentals Class
DESCRIPTION:see https://www.green-ops.com/schedule-registration-virginia for class registration info \nDual use with IDPA Match
URL:https://gunstuff.tv/event/green-ops-tactical-basic-pistol-fundamentals-class/
LOCATION:Culver Range
END:VEVENT
BEGIN:VEVENT
DTSTART;TZID=America/Chicago:20260808T080000
DTEND;TZID=America/Chicago:20260808T170000
DTSTAMP:20260420T131855
CREATED:20251102T201640Z
LAST-MODIFIED:20260412T211742Z
UID:10002869-1786176000-1786208400@gunstuff.tv
SUMMARY:NSCA Beat the Heat 2026
DESCRIPTION:Stay tuned….
URL:https://gunstuff.tv/event/nsca-beat-the-heat-2026/
LOCATION:Austin Gun Club\, 1999 S Key Ave\, Lampasas\, TX\, United States
CATEGORIES:NSCA Registered Shoot
ATTACH;FMTTYPE=image/png:https://gunstuff.tv/wp-content/uploads/2025/11/2026-NSCA-Events-850-3RANT6.png
GEO:31.050454;-98.174788
X-APPLE-STRUCTURED-LOCATION;VALUE=URI;X-ADDRESS=Austin Gun Club 1999 S Key Ave Lampasas TX United States;X-APPLE-RADIUS=500;X-TITLE=1999 S Key Ave:geo:-98.174788,31.050454
END:VEVENT
BEGIN:VEVENT
DTSTART;TZID=UTC:20260808T080000
DTEND;TZID=UTC:20260808T080000
DTSTAMP:20260420T131855
CREATED:20251031T195459Z
LAST-MODIFIED:20260401T070145Z
UID:10002795-1786176000-1786176000@gunstuff.tv
SUMMARY:Hansen Steel
DESCRIPTION:Hansen Steel\nDate: 8/08/26\nStart Time: 8:00 AM\nLocation:\nFort Myers Practical Shooters (SCSA254)\n27700 Zemel Road\nPunta Gorda\, FL\nEvent Contact Information\nSteve Naso\n2398490190\nstevenaso1@gmail.com\nMatch Information\nClassifier every second saturday.\nEvent Website\nhttp://
URL:https://gunstuff.tv/event/hansen-steel-10/
LOCATION:Fort Myers Practical Shooters (SCSA254)\, 25398 Zemel Rd\, Punta Gorda\, FL\, United States
GEO:26.799811;-82.032777
X-APPLE-STRUCTURED-LOCATION;VALUE=URI;X-ADDRESS=Fort Myers Practical Shooters (SCSA254) 25398 Zemel Rd Punta Gorda FL United States;X-APPLE-RADIUS=500;X-TITLE=25398 Zemel Rd:geo:-82.032777,26.799811
END:VEVENT
BEGIN:VEVENT
DTSTART;VALUE=DATE:20260808
DTEND;VALUE=DATE:20260809
DTSTAMP:20260420T131855
CREATED:20260208T183209Z
LAST-MODIFIED:20260412T184749Z
UID:10005107-1786147200-1786233599@gunstuff.tv
SUMMARY:NSSA Registered Skeet Zone 2 Shoot
DESCRIPTION:
URL:https://gunstuff.tv/event/nssa-registered-skeet-zone-2-shoot-2/
LOCATION:Shotgun Fields
END:VEVENT
BEGIN:VEVENT
DTSTART;TZID=America/New_York:20260807T120000
DTEND;TZID=America/New_York:20260807T200000
DTSTAMP:20260420T131855
CREATED:20251012T173817Z
LAST-MODIFIED:20260412T184749Z
UID:10002120-1786104000-1786132800@gunstuff.tv
SUMMARY:IDPA/GPA Match Setup
DESCRIPTION:Culver Range closed for monthly IDPA Match setup. Contact idpa@fxrgc.org for more info.
URL:https://gunstuff.tv/event/idpa-match-setup-8/
LOCATION:Culver Range
END:VEVENT
BEGIN:VEVENT
DTSTART;TZID=UTC:20260807T090000
DTEND;TZID=UTC:20260807T090000
DTSTAMP:20260420T131855
CREATED:20260228T173138Z
LAST-MODIFIED:20260415T070236Z
UID:10005887-1786093200-1786093200@gunstuff.tv
SUMMARY:2026 Kentucky Steel Challenge State Championship
DESCRIPTION:2026 Kentucky Steel Challenge State Championship\nMatch Status: Approved by DNROI\nMatch Starts on Aug 07\, 2026\nMatch will end Aug 08\, 2026\nMatch Location:\nBlue Grass Sportsmen’s League\n2500 Handy’s Bend Road\nWilmore\, KY 40390-8029\nManaged by:\nBlue Grass Sportsmen’s League\nStage Count: 8\nRound Count: 195\nMatch Entry Fee: $60.00\nMatch Director: Julie Hartley\nRange Master: Tom Mansfield\nAdditional Details\nRegister!\nRegistration not available.
URL:https://gunstuff.tv/event/2026-kentucky-steel-challenge-state-championship-2/
LOCATION:Blue Grass Sportsmen’s League\, 2500 Handys Bend Rd\, Wilmore\, KY\, United States
GEO:37.800312;-84.662336
X-APPLE-STRUCTURED-LOCATION;VALUE=URI;X-ADDRESS=Blue Grass Sportsmen’s League 2500 Handys Bend Rd Wilmore KY United States;X-APPLE-RADIUS=500;X-TITLE=2500 Handys Bend Rd:geo:-84.662336,37.800312
END:VEVENT
BEGIN:VEVENT
DTSTART;TZID=UTC:20260807T090000
DTEND;TZID=UTC:20260807T090000
DTSTAMP:20260420T131855
CREATED:20260121T013217Z
LAST-MODIFIED:20260228T173138Z
UID:10004625-1786093200-1786093200@gunstuff.tv
SUMMARY:2026 Kentucky Steel Challenge State Championship
DESCRIPTION:2026 Kentucky Steel Challenge State Championship\nMatch Status: Approved by DNROI\nMatch Starts on Aug 07\, 2026\nMatch will end Aug 08\, 2026\nMatch Location:\nBlue Grass Sportsmen’s League\n2500 Handy’s Bend Road\nWilmore\, KY 40390-8029\nManaged by:\nBlue Grass Sportsmen’s League\nStage Count: 8\nRound Count: 195\nMatch Entry Fee: $60.00\nMatch Director: Julie Hartley\nRange Master: Tom Mansfield\nAdditional Details\nRegister!\nRegistration not available.
URL:https://gunstuff.tv/event/2026-kentucky-steel-challenge-state-championship/
LOCATION:Blue Grass Sportsmen’s League\, 2500 Handys Bend Rd\, Wilmore\, KY\, United States
GEO:37.800312;-84.662336
X-APPLE-STRUCTURED-LOCATION;VALUE=URI;X-ADDRESS=Blue Grass Sportsmen’s League 2500 Handys Bend Rd Wilmore KY United States;X-APPLE-RADIUS=500;X-TITLE=2500 Handys Bend Rd:geo:-84.662336,37.800312
END:VEVENT
BEGIN:VEVENT
DTSTART;VALUE=DATE:20260807
DTEND;VALUE=DATE:20260810
DTSTAMP:20260420T131855
CREATED:20251005T190051Z
LAST-MODIFIED:20260412T200143Z
UID:10001684-1786060800-1786319999@gunstuff.tv
SUMMARY:Zone 6 Skeet
DESCRIPTION:
URL:https://gunstuff.tv/event/zone-6-skeet/
LOCATION:PA
END:VEVENT
BEGIN:VEVENT
DTSTART;VALUE=DATE:20260807
DTEND;VALUE=DATE:20260808
DTSTAMP:20260420T131855
CREATED:20260213T031059Z
LAST-MODIFIED:20260410T034703Z
UID:10005278-1786060800-1786147199@gunstuff.tv
SUMMARY:Rifle range closed for steel challenge setup & shoot.
DESCRIPTION:
URL:https://gunstuff.tv/event/rifle-range-closed-for-steel-challenge-setup-shoot-8/
LOCATION:PA
END:VEVENT
BEGIN:VEVENT
DTSTART;VALUE=DATE:20260807
DTEND;VALUE=DATE:20260808
DTSTAMP:20260420T131855
CREATED:20260213T031059Z
LAST-MODIFIED:20260410T034703Z
UID:10005279-1786060800-1786147199@gunstuff.tv
SUMMARY:Competition Bays Closed for steel challenge set up
DESCRIPTION:
URL:https://gunstuff.tv/event/competition-bays-closed-for-steel-challenge-set-up-6/
LOCATION:PA
END:VEVENT
BEGIN:VEVENT
DTSTART;VALUE=DATE:20260807
DTEND;VALUE=DATE:20260808
DTSTAMP:20260420T131855
CREATED:20260208T183209Z
LAST-MODIFIED:20260412T184749Z
UID:10005106-1786060800-1786147199@gunstuff.tv
SUMMARY:NSSA Registered Skeet Zone 2 Shoot
DESCRIPTION:
URL:https://gunstuff.tv/event/nssa-registered-skeet-zone-2-shoot/
LOCATION:Shotgun Fields
END:VEVENT
BEGIN:VEVENT
DTSTART;VALUE=DATE:20260807
DTEND;VALUE=DATE:20260808
DTSTAMP:20260420T131855
CREATED:20251005T190547Z
LAST-MODIFIED:20260412T203314Z
UID:10001723-1786060800-1786147199@gunstuff.tv
SUMMARY:Rodeo Boots n Shoots
DESCRIPTION:SA Stock Show & Rodeo Charity Sporting Clays event benefiting youth with scholarshipsFor event information\, contact Jeanne Ploch at jchamptex@aol.com\, 210-219-1019.For club information\, contact Royce Graff at rgraff@nssa-nsca.com 
URL:https://gunstuff.tv/event/rodeo-boots-n-shoots/
LOCATION:National Shooting Complex\, 5931 Roft Rd\, San Antonio\, TX\, United States
GEO:29.492881;-98.741985
X-APPLE-STRUCTURED-LOCATION;VALUE=URI;X-ADDRESS=National Shooting Complex 5931 Roft Rd San Antonio TX United States;X-APPLE-RADIUS=500;X-TITLE=5931 Roft Rd:geo:-98.741985,29.492881
END:VEVENT
BEGIN:VEVENT
DTSTART;TZID=America/Los_Angeles:20260806T130000
DTEND;TZID=America/Los_Angeles:20260806T180000
DTSTAMP:20260420T131855
CREATED:20260420T144653Z
LAST-MODIFIED:20260420T144654Z
UID:10008074-1786021200-1786039200@gunstuff.tv
SUMMARY:RIFLE SIDE RANGE CLOSED
DESCRIPTION:NOT OPEN TO THE PUBLIC AFTER 1:00 P. M.
URL:https://gunstuff.tv/event/rifle-side-range-closed-16/
LOCATION:California
END:VEVENT
BEGIN:VEVENT
DTSTART;VALUE=DATE:20260806
DTEND;VALUE=DATE:20260807
DTSTAMP:20260420T131855
CREATED:20251003T160030Z
LAST-MODIFIED:20260412T043233Z
UID:10001015-1785974400-1786060799@gunstuff.tv
SUMMARY:600 Yard Practice 6:30am Pits
DESCRIPTION:
URL:https://gunstuff.tv/event/600-yard-practice-630am-pits-13/
LOCATION:PA
END:VEVENT
BEGIN:VEVENT
DTSTART;TZID=America/Chicago:20260805T183000
DTEND;TZID=America/Chicago:20260805T193000
DTSTAMP:20260420T131855
CREATED:20251230T220244Z
LAST-MODIFIED:20260414T221654Z
UID:10003685-1785954600-1785958200@gunstuff.tv
SUMMARY:Madison County Townhall Meeting
DESCRIPTION:Come out and join your friends at the ISRA Madison County Townhall meeting starting at 6:30 pm. As always\, we will discuss current events.\nCome join us and enjoy great company at our gracious host\, Piasa Armory.
URL:https://gunstuff.tv/event/madison-county-grassroots-meeting-8/
LOCATION:Piasa Armory\, East Alton\, IL\, United States
CATEGORIES:Event Calendar
GEO:38.876483;-90.109493
END:VEVENT
BEGIN:VEVENT
DTSTART;TZID=America/Los_Angeles:20260805T170000
DTEND;TZID=America/Los_Angeles:20260805T220000
DTSTAMP:20260420T131855
CREATED:20260420T144653Z
LAST-MODIFIED:20260420T144654Z
UID:10008073-1785949200-1785967200@gunstuff.tv
SUMMARY:MOORE N MOORE - NIGHT SHOOT & BBQ
DESCRIPTION:For more information\, contact Moore N Moore at https://www.moorenmoore.com/night-shooting/
URL:https://gunstuff.tv/event/moore-n-moore-night-shoot-bbq-42/
LOCATION:Moore N Moore Sporting Clays\, 12653 Little Tujunga Canyon Rd\, Sylmar\, CA\, United States
CATEGORIES:Moore N Moore
ATTACH;FMTTYPE=image/png:https://gunstuff.tv/wp-content/uploads/2025/10/image-pjjZEf.png
ORGANIZER;CN="Moore N Moore Sporting Clays":MAILTO:info@moorenmoore.com
GEO:34.282317;-118.371281
X-APPLE-STRUCTURED-LOCATION;VALUE=URI;X-ADDRESS=Moore N Moore Sporting Clays 12653 Little Tujunga Canyon Rd Sylmar CA United States;X-APPLE-RADIUS=500;X-TITLE=12653 Little Tujunga Canyon Rd:geo:-118.371281,34.282317
END:VEVENT
BEGIN:VEVENT
DTSTART;TZID=UTC:20260805T164500
DTEND;TZID=UTC:20260805T164500
DTSTAMP:20260420T131855
CREATED:20260121T014637Z
LAST-MODIFIED:20260401T070145Z
UID:10004652-1785948300-1785948300@gunstuff.tv
SUMMARY:Bass River Weds Nite Steel
DESCRIPTION:Bass River Weds Nite Steel\nDate: 8/05/26\nStart Time: 4:45 PM\nLocation:\nBass River Rod & Gun Club (SCSA467)\nBass River Rod &Gun 620 Rt. 6A\nYarmouthport\, MA\nEvent Contact Information\nTimothy J Kent\n5082372137\ntjkent@comcast.net\nEvent Website\nhttps://www.bassriverrodandgun.com/
URL:https://gunstuff.tv/event/bass-river-weds-nite-steel-15/
LOCATION:Bass River Rod & Gun Club (SCSA467)\, 79 State Rte 6 Alt\, Dennis\, MA\, United States
GEO:41.721025;-70.196653
X-APPLE-STRUCTURED-LOCATION;VALUE=URI;X-ADDRESS=Bass River Rod & Gun Club (SCSA467) 79 State Rte 6 Alt Dennis MA United States;X-APPLE-RADIUS=500;X-TITLE=79 State Rte 6 Alt:geo:-70.196653,41.721025
END:VEVENT
BEGIN:VEVENT
DTSTART;VALUE=DATE:20260805
DTEND;VALUE=DATE:20260806
DTSTAMP:20260420T131855
CREATED:20251005T190051Z
LAST-MODIFIED:20260412T200143Z
UID:10001683-1785888000-1785974399@gunstuff.tv
SUMMARY:Wednesday Registered Skeet
DESCRIPTION:Registered Skeet.  Contact Jerry Adams at 240-605-3220 for details. \nClick here for flyer
URL:https://gunstuff.tv/event/wednesday-registered-skeet-15/
LOCATION:PA
END:VEVENT
BEGIN:VEVENT
DTSTART;TZID=America/New_York:20260804T170000
DTEND;TZID=America/New_York:20260804T200000
DTSTAMP:20260420T131855
CREATED:20260328T214632Z
LAST-MODIFIED:20260411T214635Z
UID:10006594-1785862800-1785873600@gunstuff.tv
SUMMARY:Tactical Tuesday IDPA Practice
DESCRIPTION:Shooters new to Action Shooting contact Eric Zaharee at ABSAIDPA@gmail .com\nSee (Alder Brook) PractiScore.com for sign up Cost $5
URL:https://gunstuff.tv/event/tactical-tuesday-idpa-practice-17/
LOCATION:Action Bays
END:VEVENT
BEGIN:VEVENT
DTSTART;TZID=America/New_York:20260804T090000
DTEND;TZID=America/New_York:20260804T160000
DTSTAMP:20260420T131855
CREATED:20251012T173817Z
LAST-MODIFIED:20260412T184749Z
UID:10002119-1785834000-1785859200@gunstuff.tv
SUMMARY:US Army 3rd Infantry GAFPB Quals
DESCRIPTION:Host members of the 3rd Infantry Regiment (Old Guard) for the pistol segment of their qualification for the German Army Proficiency Badge
URL:https://gunstuff.tv/event/us-army-3rd-infantry-gafpb-quals-6/
LOCATION:Walsh & Sieger Ranges
END:VEVENT
BEGIN:VEVENT
DTSTART;VALUE=DATE:20260804
DTEND;VALUE=DATE:20260805
DTSTAMP:20260420T131855
CREATED:20260213T031059Z
LAST-MODIFIED:20260410T034702Z
UID:10005277-1785801600-1785887999@gunstuff.tv
SUMMARY:Club closed
DESCRIPTION:
URL:https://gunstuff.tv/event/club-closed-50/
LOCATION:PA
END:VEVENT
BEGIN:VEVENT
DTSTART;VALUE=DATE:20260804
DTEND;VALUE=DATE:20260805
DTSTAMP:20260420T131855
CREATED:20251003T160030Z
LAST-MODIFIED:20260412T043233Z
UID:10001014-1785801600-1785887999@gunstuff.tv
SUMMARY:100\, 200\, 300 Yard Practice Benchrest Range
DESCRIPTION:
URL:https://gunstuff.tv/event/100-200-300-yard-practice-benchrest-range-36/
LOCATION:PA
END:VEVENT
BEGIN:VEVENT
DTSTART;TZID=America/New_York:20260803T193000
DTEND;TZID=America/New_York:20260803T223000
DTSTAMP:20260420T131855
CREATED:20251012T173817Z
LAST-MODIFIED:20260412T184749Z
UID:10002118-1785785400-1785796200@gunstuff.tv
SUMMARY:Board Meeting
DESCRIPTION:Monthly Board Meeting
URL:https://gunstuff.tv/event/board-meeting-29/
LOCATION:Clubhouse
END:VEVENT
BEGIN:VEVENT
DTSTART;TZID=America/New_York:20260803T160000
DTEND;TZID=America/New_York:20260803T180000
DTSTAMP:20260420T131855
CREATED:20251212T181642Z
LAST-MODIFIED:20260411T214635Z
UID:10003545-1785772800-1785780000@gunstuff.tv
SUMMARY:Skeet League
DESCRIPTION:Contact Frank Andrews with Questions.
URL:https://gunstuff.tv/event/skeet-league-134/
LOCATION:Skeet Range
END:VEVENT
BEGIN:VEVENT
DTSTART;TZID=America/New_York:20260803T160000
DTEND;TZID=America/New_York:20260803T180000
DTSTAMP:20260420T131855
CREATED:20251003T162642Z
LAST-MODIFIED:20251205T181709Z
UID:10001475-1785772800-1785780000@gunstuff.tv
SUMMARY:Skeet League
DESCRIPTION:Contact Frank Andrews with Questions.
URL:https://gunstuff.tv/event/skeet-league-44/
LOCATION:PA
END:VEVENT
BEGIN:VEVENT
DTSTART;TZID=America/New_York:20260803T090000
DTEND;TZID=America/New_York:20260803T100000
DTSTAMP:20260420T131855
CREATED:20251003T162642Z
LAST-MODIFIED:20251010T162930Z
UID:10001474-1785747600-1785751200@gunstuff.tv
SUMMARY:4-H Class Indoors
DESCRIPTION:Indoor reserved for 4-H class.
URL:https://gunstuff.tv/event/4-h-class-indoors-44/
LOCATION:Indoor Range
END:VEVENT
BEGIN:VEVENT
DTSTART;VALUE=DATE:20260803
DTEND;VALUE=DATE:20260804
DTSTAMP:20260420T131855
CREATED:20260213T031059Z
LAST-MODIFIED:20260410T034702Z
UID:10005276-1785715200-1785801599@gunstuff.tv
SUMMARY:Club Closed
DESCRIPTION:
URL:https://gunstuff.tv/event/club-closed-49/
LOCATION:PA
END:VEVENT
BEGIN:VEVENT
DTSTART;TZID=America/New_York:20260802T130000
DTEND;TZID=America/New_York:20260802T150000
DTSTAMP:20260420T131855
CREATED:20251019T193323Z
LAST-MODIFIED:20260414T083130Z
UID:10002464-1785675600-1785682800@gunstuff.tv
SUMMARY:Open Trap Shoot - Weather Permitting
DESCRIPTION:Open shoot\, $5.00 per round.  The trap field is 2/10ths of a mile past the clubhouse. \nFor the latest information visit:https://www.facebook.com/groups/1663932967427026
URL:https://gunstuff.tv/event/open-trap-shoot-weather-permitting-15/
LOCATION:523 Sizer Run Road Emporium\, Emporium\, PA\, United States
GEO:41.500749;-78.322815
END:VEVENT
BEGIN:VEVENT
DTSTART;TZID=America/New_York:20260802T123000
DTEND;TZID=America/New_York:20260802T143000
DTSTAMP:20260420T131855
CREATED:20260404T214734Z
LAST-MODIFIED:20260411T214635Z
UID:10006764-1785673800-1785681000@gunstuff.tv
SUMMARY:New Member Orientation
DESCRIPTION:Reservation required contact Eric Zaharee at absaidpa@gmail.com to attend
URL:https://gunstuff.tv/event/new-member-orientation-17/
LOCATION:Classroom and Ranges
END:VEVENT
BEGIN:VEVENT
DTSTART;TZID=UTC:20260802T100000
DTEND;TZID=UTC:20260802T100000
DTSTAMP:20260420T131855
CREATED:20260227T113147Z
LAST-MODIFIED:20260410T113143Z
UID:10005850-1785664800-1785664800@gunstuff.tv
SUMMARY:Ripon USPSA
DESCRIPTION:Ripon USPSA\nDate : 8/02/26\nStart Time: 10:00 AM\nLocation:\nRipon Gun Club (WI18)\nN9089 Koro rd\nRipon\, WI\nEvent Contact Information\nBill Hatfield\n920-538-4178\nBhatfield1@charter.net
URL:https://gunstuff.tv/event/ripon-uspsa-4/
LOCATION:Ripon Gun Club (WI18)\, 1699 Koro Rd\, Berlin\, WI\, United States
GEO:43.953345;-88.865982
X-APPLE-STRUCTURED-LOCATION;VALUE=URI;X-ADDRESS=Ripon Gun Club (WI18) 1699 Koro Rd Berlin WI United States;X-APPLE-RADIUS=500;X-TITLE=1699 Koro Rd:geo:-88.865982,43.953345
END:VEVENT
END:VCALENDAR