BEGIN:VCALENDAR
VERSION:2.0
PRODID:-//GunStuff TV - ECPv6.15.20//NONSGML v1.0//EN
CALSCALE:GREGORIAN
METHOD:PUBLISH
X-ORIGINAL-URL:https://gunstuff.tv
X-WR-CALDESC:Events for GunStuff TV
REFRESH-INTERVAL;VALUE=DURATION:PT1H
X-Robots-Tag:noindex
X-PUBLISHED-TTL:PT1H
BEGIN:VTIMEZONE
TZID:America/New_York
BEGIN:DAYLIGHT
TZOFFSETFROM:-0500
TZOFFSETTO:-0400
TZNAME:EDT
DTSTART:20260308T070000
END:DAYLIGHT
BEGIN:STANDARD
TZOFFSETFROM:-0400
TZOFFSETTO:-0500
TZNAME:EST
DTSTART:20261101T060000
END:STANDARD
BEGIN:DAYLIGHT
TZOFFSETFROM:-0500
TZOFFSETTO:-0400
TZNAME:EDT
DTSTART:20270314T070000
END:DAYLIGHT
BEGIN:STANDARD
TZOFFSETFROM:-0400
TZOFFSETTO:-0500
TZNAME:EST
DTSTART:20271107T060000
END:STANDARD
BEGIN:DAYLIGHT
TZOFFSETFROM:-0500
TZOFFSETTO:-0400
TZNAME:EDT
DTSTART:20280312T070000
END:DAYLIGHT
BEGIN:STANDARD
TZOFFSETFROM:-0400
TZOFFSETTO:-0500
TZNAME:EST
DTSTART:20281105T060000
END:STANDARD
END:VTIMEZONE
BEGIN:VTIMEZONE
TZID:UTC
BEGIN:STANDARD
TZOFFSETFROM:+0000
TZOFFSETTO:+0000
TZNAME:UTC
DTSTART:20260101T000000
END:STANDARD
END:VTIMEZONE
BEGIN:VEVENT
DTSTART;VALUE=DATE:20271116
DTEND;VALUE=DATE:20271117
DTSTAMP:20260424T051951
CREATED:20260213T031118Z
LAST-MODIFIED:20260417T034751Z
UID:10005517-1826323200-1826409599@gunstuff.tv
SUMMARY:Club closed
DESCRIPTION:
URL:https://gunstuff.tv/event/club-closed-183/
LOCATION:PA
END:VEVENT
BEGIN:VEVENT
DTSTART;VALUE=DATE:20271119
DTEND;VALUE=DATE:20271120
DTSTAMP:20260424T051951
CREATED:20260213T031118Z
LAST-MODIFIED:20260417T034752Z
UID:10005520-1826582400-1826668799@gunstuff.tv
SUMMARY:Competition Bays closed for USPSA set up
DESCRIPTION:
URL:https://gunstuff.tv/event/competition-bays-closed-for-uspsa-set-up-22/
LOCATION:PA
END:VEVENT
BEGIN:VEVENT
DTSTART;VALUE=DATE:20271120
DTEND;VALUE=DATE:20271121
DTSTAMP:20260424T051951
CREATED:20260213T031118Z
LAST-MODIFIED:20260417T034751Z
UID:10005519-1826668800-1826755199@gunstuff.tv
SUMMARY:USPSA Pistol Match
DESCRIPTION:USPSA (United States Practical ShootingAssociation) Pistol Match: Practical Shooting measures the shooter’s ability toshoot rapidly and accurately through obstacle-laden courses. The shooter moves\,negotiates\, runs\, covers\, and speed reloads through the stage as fast as theirskill will allow.  If this fast paced shooting sounds like fun\, come outand give it a try. Show up with an unloaded centerfire pistol in .38\, 9mm\, .40\,or .45 in an enclosed case and ask a match official where the safe area is soyou can holster your gun safely.  Also bring a rigid holster\, magazines\,and mag pouches capable of holding at least 32 rounds.  Overall matchround counts are usually between 100 and 150 rounds.  Specific divisionrequirements can be found at http://uspsa.org.  Starts at 9:30 AM and costwill be $20 ($15 for Pinetucky members\, active duty military\, police\, andfire). You can sign up at practiscore.com
URL:https://gunstuff.tv/event/uspsa-pistol-match-22/
LOCATION:Pinetucky Gun Club\, 2096 Greenland Rd\, Blythe\, GA\, United States
GEO:33.344103;-82.138722
X-APPLE-STRUCTURED-LOCATION;VALUE=URI;X-ADDRESS=Pinetucky Gun Club 2096 Greenland Rd Blythe GA United States;X-APPLE-RADIUS=500;X-TITLE=2096 Greenland Rd:geo:-82.138722,33.344103
END:VEVENT
BEGIN:VEVENT
DTSTART;TZID=America/New_York:20271120T083000
DTEND;TZID=America/New_York:20271120T143000
DTSTAMP:20260424T051951
CREATED:20251121T060157Z
LAST-MODIFIED:20260417T071752Z
UID:10003188-1826699400-1826721000@gunstuff.tv
SUMMARY:PMRPC Rimfire Match
DESCRIPTION:For more information you may contact the match director: James Sudduth at j.sudduth@ymail.com.
URL:https://gunstuff.tv/event/pmrpc-rimfire-match-26/
LOCATION:Port Malabar Rifle & Pistol Club\, 599 Hurley Blvd SW\, Palm Bay\, FL\, United States
GEO:27.987569;-80.71018
X-APPLE-STRUCTURED-LOCATION;VALUE=URI;X-ADDRESS=Port Malabar Rifle & Pistol Club 599 Hurley Blvd SW Palm Bay FL United States;X-APPLE-RADIUS=500;X-TITLE=599 Hurley Blvd SW:geo:-80.71018,27.987569
END:VEVENT
BEGIN:VEVENT
DTSTART;TZID=America/New_York:20271121T090000
DTEND;TZID=America/New_York:20271121T120000
DTSTAMP:20260424T051951
CREATED:20251121T181703Z
LAST-MODIFIED:20260418T214744Z
UID:10003194-1826787600-1826798400@gunstuff.tv
SUMMARY:Weekly Trap League
DESCRIPTION:
URL:https://gunstuff.tv/event/weekly-trap-league-112/
LOCATION:Shotgun Range
END:VEVENT
BEGIN:VEVENT
DTSTART;TZID=America/New_York:20271121T090000
DTEND;TZID=America/New_York:20271121T123000
DTSTAMP:20260424T051951
CREATED:20251121T060157Z
LAST-MODIFIED:20260417T071752Z
UID:10003190-1826787600-1826800200@gunstuff.tv
SUMMARY:GRPC NRA 1800
DESCRIPTION:
URL:https://gunstuff.tv/event/grpc-nra-1800-26/
LOCATION:Gateway Rifle & Pistol Club\, 9301 Zambito Ave\, Jacksonville\, FL\, United States
GEO:30.262025;-81.814577
X-APPLE-STRUCTURED-LOCATION;VALUE=URI;X-ADDRESS=Gateway Rifle & Pistol Club 9301 Zambito Ave Jacksonville FL United States;X-APPLE-RADIUS=500;X-TITLE=9301 Zambito Ave:geo:-81.814577,30.262025
END:VEVENT
BEGIN:VEVENT
DTSTART;TZID=America/New_York:20271121T090000
DTEND;TZID=America/New_York:20271121T140000
DTSTAMP:20260424T051951
CREATED:20251121T060157Z
LAST-MODIFIED:20260417T071752Z
UID:10003189-1826787600-1826805600@gunstuff.tv
SUMMARY:Wyoming Antelope 2700
DESCRIPTION:
URL:https://gunstuff.tv/event/wyoming-antelope-2700-52/
LOCATION:Wyoming Antelope Club-Florida\, 3700 126th Ave N\, Clearwater\, FL\, United States
GEO:27.886432;-82.683263
X-APPLE-STRUCTURED-LOCATION;VALUE=URI;X-ADDRESS=Wyoming Antelope Club-Florida 3700 126th Ave N Clearwater FL United States;X-APPLE-RADIUS=500;X-TITLE=3700 126th Ave N:geo:-82.683263,27.886432
END:VEVENT
BEGIN:VEVENT
DTSTART;VALUE=DATE:20271122
DTEND;VALUE=DATE:20271123
DTSTAMP:20260424T051951
CREATED:20260213T031118Z
LAST-MODIFIED:20260417T034752Z
UID:10005522-1826841600-1826927999@gunstuff.tv
SUMMARY:Club Closed
DESCRIPTION:
URL:https://gunstuff.tv/event/club-closed-186/
LOCATION:PA
END:VEVENT
BEGIN:VEVENT
DTSTART;TZID=America/New_York:20271122T160000
DTEND;TZID=America/New_York:20271122T180000
DTSTAMP:20260424T051951
CREATED:20251128T181647Z
LAST-MODIFIED:20251205T181717Z
UID:10003279-1826899200-1826906400@gunstuff.tv
SUMMARY:Skeet League
DESCRIPTION:Contact Frank Andrews with Questions.
URL:https://gunstuff.tv/event/skeet-league-112/
LOCATION:PA
END:VEVENT
BEGIN:VEVENT
DTSTART;VALUE=DATE:20271123
DTEND;VALUE=DATE:20271124
DTSTAMP:20260424T051951
CREATED:20260213T031118Z
LAST-MODIFIED:20260417T034752Z
UID:10005521-1826928000-1827014399@gunstuff.tv
SUMMARY:Club closed
DESCRIPTION:
URL:https://gunstuff.tv/event/club-closed-185/
LOCATION:PA
END:VEVENT
BEGIN:VEVENT
DTSTART;TZID=America/New_York:20271125T180000
DTEND;TZID=America/New_York:20271125T183000
DTSTAMP:20260424T051951
CREATED:20251128T181647Z
LAST-MODIFIED:20260418T214744Z
UID:10003281-1827165600-1827167400@gunstuff.tv
SUMMARY:Member Session
DESCRIPTION:Hear committee reports\, ask questions\, make requests of the board.
URL:https://gunstuff.tv/event/member-session-26/
LOCATION:Indoor Range
END:VEVENT
BEGIN:VEVENT
DTSTART;TZID=America/New_York:20271125T183000
DTEND;TZID=America/New_York:20271125T203000
DTSTAMP:20260424T051951
CREATED:20251128T181647Z
LAST-MODIFIED:20260418T214744Z
UID:10003280-1827167400-1827174600@gunstuff.tv
SUMMARY:Board Meeting
DESCRIPTION:All members welcome.
URL:https://gunstuff.tv/event/board-meeting-41/
LOCATION:Indoor Range
END:VEVENT
BEGIN:VEVENT
DTSTART;TZID=America/New_York:20271128T090000
DTEND;TZID=America/New_York:20271128T120000
DTSTAMP:20260424T051951
CREATED:20251128T181647Z
LAST-MODIFIED:20260418T214744Z
UID:10003282-1827392400-1827403200@gunstuff.tv
SUMMARY:Weekly Trap League
DESCRIPTION:
URL:https://gunstuff.tv/event/weekly-trap-league-113/
LOCATION:Shotgun Range
END:VEVENT
BEGIN:VEVENT
DTSTART;TZID=America/New_York:20271128T090000
DTEND;TZID=America/New_York:20271128T140000
DTSTAMP:20260424T051951
CREATED:20251128T060152Z
LAST-MODIFIED:20260417T071752Z
UID:10003254-1827392400-1827410400@gunstuff.tv
SUMMARY:Wyoming Antelope NRA 2700
DESCRIPTION:
URL:https://gunstuff.tv/event/wyoming-antelope-nra-2700-26/
LOCATION:Wyoming Antelope Club-Florida\, 3700 126th Ave N\, Clearwater\, FL\, United States
GEO:27.886432;-82.683263
X-APPLE-STRUCTURED-LOCATION;VALUE=URI;X-ADDRESS=Wyoming Antelope Club-Florida 3700 126th Ave N Clearwater FL United States;X-APPLE-RADIUS=500;X-TITLE=3700 126th Ave N:geo:-82.683263,27.886432
END:VEVENT
BEGIN:VEVENT
DTSTART;VALUE=DATE:20271129
DTEND;VALUE=DATE:20271130
DTSTAMP:20260424T051951
CREATED:20260213T031118Z
LAST-MODIFIED:20260417T034752Z
UID:10005523-1827446400-1827532799@gunstuff.tv
SUMMARY:Club Closed
DESCRIPTION:
URL:https://gunstuff.tv/event/club-closed-187/
LOCATION:PA
END:VEVENT
BEGIN:VEVENT
DTSTART;TZID=America/New_York:20271129T160000
DTEND;TZID=America/New_York:20271129T180000
DTSTAMP:20260424T051951
CREATED:20251205T181718Z
LAST-MODIFIED:20251205T181718Z
UID:10003421-1827504000-1827511200@gunstuff.tv
SUMMARY:Skeet League
DESCRIPTION:Contact Frank Andrews with Questions.
URL:https://gunstuff.tv/event/skeet-league-113/
LOCATION:PA
END:VEVENT
BEGIN:VEVENT
DTSTART;VALUE=DATE:20271130
DTEND;VALUE=DATE:20271201
DTSTAMP:20260424T051951
CREATED:20260213T031118Z
LAST-MODIFIED:20260417T034752Z
UID:10005524-1827532800-1827619199@gunstuff.tv
SUMMARY:Club closed
DESCRIPTION:
URL:https://gunstuff.tv/event/club-closed-188/
LOCATION:PA
END:VEVENT
BEGIN:VEVENT
DTSTART;VALUE=DATE:20271203
DTEND;VALUE=DATE:20271204
DTSTAMP:20260424T051951
CREATED:20260213T031118Z
LAST-MODIFIED:20260417T034752Z
UID:10005527-1827792000-1827878399@gunstuff.tv
SUMMARY:Competition Bays Closed for steel challenge set up
DESCRIPTION:
URL:https://gunstuff.tv/event/competition-bays-closed-for-steel-challenge-set-up-22/
LOCATION:PA
END:VEVENT
BEGIN:VEVENT
DTSTART;VALUE=DATE:20271203
DTEND;VALUE=DATE:20271204
DTSTAMP:20260424T051951
CREATED:20260213T031118Z
LAST-MODIFIED:20260417T034752Z
UID:10005528-1827792000-1827878399@gunstuff.tv
SUMMARY:Rifle range closed for steel challenge setup & shoot.
DESCRIPTION:
URL:https://gunstuff.tv/event/rifle-range-closed-for-steel-challenge-setup-shoot-24/
LOCATION:PA
END:VEVENT
BEGIN:VEVENT
DTSTART;VALUE=DATE:20271204
DTEND;VALUE=DATE:20271205
DTSTAMP:20260424T051951
CREATED:20260213T031118Z
LAST-MODIFIED:20260417T034752Z
UID:10005525-1827878400-1827964799@gunstuff.tv
SUMMARY:Steel Challenge
DESCRIPTION: Steel Shoot. Steel shooting offers a port of entry to the shooting sports that is far less intimidating than practical  shooting . Steel provides an excellent starting place for young or beginning shooters. Steel offers the most diversified shooting sport out there making it appealing to youth and seniors\, novice and experts. Any practical handgun \,including 22 rimfires (both handgun and rifle). Sign up starts at9AM\, Cost for monthly club level matches are $15 for Pinetucky Club Members and $20 for Non-member. A second firearm can be registered for an additional $10.Standard Pinetucky safety rules Apply. You can sign up at practiscore.com.  Please note our steel challenge is now six stages which requires a minimum round count of 150 rounds of ammunition.  Please plan accordingly.
URL:https://gunstuff.tv/event/steel-challenge-21/
LOCATION:PA
END:VEVENT
BEGIN:VEVENT
DTSTART;VALUE=DATE:20271204
DTEND;VALUE=DATE:20271205
DTSTAMP:20260424T051951
CREATED:20260213T031118Z
LAST-MODIFIED:20260417T034752Z
UID:10005526-1827878400-1827964799@gunstuff.tv
SUMMARY:Rifle Range Closed Today
DESCRIPTION:
URL:https://gunstuff.tv/event/rifle-range-closed-today-21/
LOCATION:PA
END:VEVENT
BEGIN:VEVENT
DTSTART;TZID=America/New_York:20271204T083000
DTEND;TZID=America/New_York:20271204T140000
DTSTAMP:20260424T051951
CREATED:20251205T060149Z
LAST-MODIFIED:20260417T071753Z
UID:10003409-1827909000-1827928800@gunstuff.tv
SUMMARY:PMRPC GSMM Match
DESCRIPTION:For more information you may contact the match director: James Sudduth at j.sudduth@ymail.com.
URL:https://gunstuff.tv/event/pmrpc-gsmm-match-27/
LOCATION:Port Malabar Rifle & Pistol Club\, 599 Hurley Blvd SW\, Palm Bay\, FL\, United States
GEO:27.987569;-80.71018
X-APPLE-STRUCTURED-LOCATION;VALUE=URI;X-ADDRESS=Port Malabar Rifle & Pistol Club 599 Hurley Blvd SW Palm Bay FL United States;X-APPLE-RADIUS=500;X-TITLE=599 Hurley Blvd SW:geo:-80.71018,27.987569
END:VEVENT
BEGIN:VEVENT
DTSTART;TZID=UTC:20271205T083000
DTEND;TZID=UTC:20271205T083000
DTSTAMP:20260424T051951
CREATED:20260107T013352Z
LAST-MODIFIED:20260418T174754Z
UID:10003862-1827995400-1827995400@gunstuff.tv
SUMMARY:EDSS Level I Steel Challenge
DESCRIPTION:EDSS Level I Steel Challenge\nDate: 12/05/27\nStart Time: 8:30 AM\nLocation:\nEl Dorado Steel Shooters (SCSA522)\n5941 Union Mine Rd\nEl Dorado\, CA\nEvent Contact Information\nAmer Sahtout\n9162964076\nedss.public@gmail.com\nMatch Information\nEDSS Level I Club Match. Sign-ups available on Practiscore.com. 5941 Union Mine Rd.\, El Dorado Ca 95623\nEvent Website \nHome
URL:https://gunstuff.tv/event/edss-level-i-steel-challenge-25/
LOCATION:El Dorado Steel Shooters (SCSA522)\, 5941 Union Mine Rd\, El Dorado\, CA\, United States
GEO:38.652465;-120.833266
X-APPLE-STRUCTURED-LOCATION;VALUE=URI;X-ADDRESS=El Dorado Steel Shooters (SCSA522) 5941 Union Mine Rd El Dorado CA United States;X-APPLE-RADIUS=500;X-TITLE=5941 Union Mine Rd:geo:-120.833266,38.652465
END:VEVENT
BEGIN:VEVENT
DTSTART;TZID=America/New_York:20271205T090000
DTEND;TZID=America/New_York:20271205T120000
DTSTAMP:20260424T051951
CREATED:20251205T181718Z
LAST-MODIFIED:20260418T214745Z
UID:10003422-1827997200-1828008000@gunstuff.tv
SUMMARY:Weekly Trap League
DESCRIPTION:
URL:https://gunstuff.tv/event/weekly-trap-league-114/
LOCATION:Shotgun Range
END:VEVENT
BEGIN:VEVENT
DTSTART;VALUE=DATE:20271206
DTEND;VALUE=DATE:20271207
DTSTAMP:20260424T051951
CREATED:20260213T031119Z
LAST-MODIFIED:20260417T034752Z
UID:10005530-1828051200-1828137599@gunstuff.tv
SUMMARY:Club Closed
DESCRIPTION:
URL:https://gunstuff.tv/event/club-closed-190/
LOCATION:PA
END:VEVENT
BEGIN:VEVENT
DTSTART;VALUE=DATE:20271207
DTEND;VALUE=DATE:20271208
DTSTAMP:20260424T051951
CREATED:20260213T031118Z
LAST-MODIFIED:20260417T034752Z
UID:10005529-1828137600-1828223999@gunstuff.tv
SUMMARY:Club closed
DESCRIPTION:
URL:https://gunstuff.tv/event/club-closed-189/
LOCATION:PA
END:VEVENT
BEGIN:VEVENT
DTSTART;TZID=America/New_York:20271212T090000
DTEND;TZID=America/New_York:20271212T120000
DTSTAMP:20260424T051951
CREATED:20251212T181648Z
LAST-MODIFIED:20260418T214745Z
UID:10003562-1828602000-1828612800@gunstuff.tv
SUMMARY:Weekly Trap League
DESCRIPTION:
URL:https://gunstuff.tv/event/weekly-trap-league-115/
LOCATION:Shotgun Range
END:VEVENT
BEGIN:VEVENT
DTSTART;TZID=America/New_York:20271212T090000
DTEND;TZID=America/New_York:20271212T140000
DTSTAMP:20260424T051951
CREATED:20251212T060150Z
LAST-MODIFIED:20260417T071753Z
UID:10003508-1828602000-1828620000@gunstuff.tv
SUMMARY:Wyoming Antelope 2700
DESCRIPTION:
URL:https://gunstuff.tv/event/wyoming-antelope-2700-53/
LOCATION:Wyoming Antelope Club-Florida\, 3700 126th Ave N\, Clearwater\, FL\, United States
GEO:27.886432;-82.683263
X-APPLE-STRUCTURED-LOCATION;VALUE=URI;X-ADDRESS=Wyoming Antelope Club-Florida 3700 126th Ave N Clearwater FL United States;X-APPLE-RADIUS=500;X-TITLE=3700 126th Ave N:geo:-82.683263,27.886432
END:VEVENT
BEGIN:VEVENT
DTSTART;VALUE=DATE:20271213
DTEND;VALUE=DATE:20271214
DTSTAMP:20260424T051951
CREATED:20260213T031119Z
LAST-MODIFIED:20260417T034752Z
UID:10005531-1828656000-1828742399@gunstuff.tv
SUMMARY:Club Closed
DESCRIPTION:
URL:https://gunstuff.tv/event/club-closed-191/
LOCATION:PA
END:VEVENT
BEGIN:VEVENT
DTSTART;VALUE=DATE:20271214
DTEND;VALUE=DATE:20271215
DTSTAMP:20260424T051951
CREATED:20260213T031119Z
LAST-MODIFIED:20260417T034752Z
UID:10005532-1828742400-1828828799@gunstuff.tv
SUMMARY:Club closed
DESCRIPTION:
URL:https://gunstuff.tv/event/club-closed-192/
LOCATION:PA
END:VEVENT
END:VCALENDAR