BEGIN:VCALENDAR
VERSION:2.0
PRODID:-//GunStuff TV - ECPv6.15.20//NONSGML v1.0//EN
CALSCALE:GREGORIAN
METHOD:PUBLISH
X-ORIGINAL-URL:https://gunstuff.tv
X-WR-CALDESC:Events for GunStuff TV
REFRESH-INTERVAL;VALUE=DURATION:PT1H
X-Robots-Tag:noindex
X-PUBLISHED-TTL:PT1H
BEGIN:VTIMEZONE
TZID:America/New_York
BEGIN:DAYLIGHT
TZOFFSETFROM:-0500
TZOFFSETTO:-0400
TZNAME:EDT
DTSTART:20250309T070000
END:DAYLIGHT
BEGIN:STANDARD
TZOFFSETFROM:-0400
TZOFFSETTO:-0500
TZNAME:EST
DTSTART:20251102T060000
END:STANDARD
BEGIN:DAYLIGHT
TZOFFSETFROM:-0500
TZOFFSETTO:-0400
TZNAME:EDT
DTSTART:20260308T070000
END:DAYLIGHT
BEGIN:STANDARD
TZOFFSETFROM:-0400
TZOFFSETTO:-0500
TZNAME:EST
DTSTART:20261101T060000
END:STANDARD
BEGIN:DAYLIGHT
TZOFFSETFROM:-0500
TZOFFSETTO:-0400
TZNAME:EDT
DTSTART:20270314T070000
END:DAYLIGHT
BEGIN:STANDARD
TZOFFSETFROM:-0400
TZOFFSETTO:-0500
TZNAME:EST
DTSTART:20271107T060000
END:STANDARD
END:VTIMEZONE
BEGIN:VTIMEZONE
TZID:UTC
BEGIN:STANDARD
TZOFFSETFROM:+0000
TZOFFSETTO:+0000
TZNAME:UTC
DTSTART:20250101T000000
END:STANDARD
END:VTIMEZONE
BEGIN:VTIMEZONE
TZID:America/Chicago
BEGIN:DAYLIGHT
TZOFFSETFROM:-0600
TZOFFSETTO:-0500
TZNAME:CDT
DTSTART:20250309T080000
END:DAYLIGHT
BEGIN:STANDARD
TZOFFSETFROM:-0500
TZOFFSETTO:-0600
TZNAME:CST
DTSTART:20251102T070000
END:STANDARD
BEGIN:DAYLIGHT
TZOFFSETFROM:-0600
TZOFFSETTO:-0500
TZNAME:CDT
DTSTART:20260308T080000
END:DAYLIGHT
BEGIN:STANDARD
TZOFFSETFROM:-0500
TZOFFSETTO:-0600
TZNAME:CST
DTSTART:20261101T070000
END:STANDARD
BEGIN:DAYLIGHT
TZOFFSETFROM:-0600
TZOFFSETTO:-0500
TZNAME:CDT
DTSTART:20270314T080000
END:DAYLIGHT
BEGIN:STANDARD
TZOFFSETFROM:-0500
TZOFFSETTO:-0600
TZNAME:CST
DTSTART:20271107T070000
END:STANDARD
END:VTIMEZONE
BEGIN:VTIMEZONE
TZID:America/Phoenix
BEGIN:STANDARD
TZOFFSETFROM:-0700
TZOFFSETTO:-0700
TZNAME:MST
DTSTART:20250101T000000
END:STANDARD
END:VTIMEZONE
BEGIN:VEVENT
DTSTART;TZID=America/New_York:20260926T090000
DTEND;TZID=America/New_York:20260926T130000
DTSTAMP:20260422T041629
CREATED:20251003T162536Z
LAST-MODIFIED:20260412T184752Z
UID:10001284-1790413200-1790427600@gunstuff.tv
SUMMARY:Ram Bash
DESCRIPTION:See https://www.fxrgc.org/rifle/ram-bash/ for more info
URL:https://gunstuff.tv/event/ram-bash-12/
LOCATION:Lea Valley
END:VEVENT
BEGIN:VEVENT
DTSTART;TZID=UTC:20260926T094500
DTEND;TZID=UTC:20260926T094500
DTSTAMP:20260422T041629
CREATED:20260128T014756Z
LAST-MODIFIED:20260401T070147Z
UID:10004813-1790415900-1790415900@gunstuff.tv
SUMMARY:Shadow Hawk Defense Steel Challenge
DESCRIPTION:Shadow Hawk Defense Steel Challenge\nDate: 9/26/26\nStart Time: 9:45 AM\nLocation:\nShadow Hawk Defense (SCSA271)\n436 Apple Harvest Drive\nHedgesville\, WV\nEvent Contact Information\nLynn Kasic\n3046166582\ninfo@shadowhawkdefense.com\nMatch Information\nSame match on Saturday and Sunday. The squad you select determines the day and time that you shoot. All eight stages. Approximately *200* rounds. $30\, Second gun 1/2 price. Pay at the door.\nEvent Website\nhttp://www.ShadowHawkDefense.com
URL:https://gunstuff.tv/event/shadow-hawk-defense-steel-challenge-17/
LOCATION:Shadow Hawk Defense (SCSA271)\, 399 Apple Harvest Dr\, Hedgesville\, WV\, United States
GEO:39.389611;-78.197586
X-APPLE-STRUCTURED-LOCATION;VALUE=URI;X-ADDRESS=Shadow Hawk Defense (SCSA271) 399 Apple Harvest Dr Hedgesville WV United States;X-APPLE-RADIUS=500;X-TITLE=399 Apple Harvest Dr:geo:-78.197586,39.389611
END:VEVENT
BEGIN:VEVENT
DTSTART;TZID=UTC:20260926T100000
DTEND;TZID=UTC:20260926T100000
DTSTAMP:20260422T041629
CREATED:20260107T013350Z
LAST-MODIFIED:20260401T070147Z
UID:10003850-1790416800-1790416800@gunstuff.tv
SUMMARY:Low Country Steel Challenge
DESCRIPTION:Low Country Steel Challenge\nDate: 9/26/26\nStart Time: 10:00 AM\nLocation:\nLow Country SCSA (SCSA430)\n466 Indigo Flats E\nTabor City\, NC\nEvent Contact Information\nAllen Terrell\n843-231-1810\nlowcountrypreserveuspsa@gmail.org\nEvent Website\nhttps://practiscore.com/clubs/low-country-uspsa
URL:https://gunstuff.tv/event/low-country-steel-challenge-11/
LOCATION:Low Country SCSA (SCSA430)\, 466 Indigo Flats E\, Tabor City\, NC\, United States
GEO:34.025696;-78.628674
X-APPLE-STRUCTURED-LOCATION;VALUE=URI;X-ADDRESS=Low Country SCSA (SCSA430) 466 Indigo Flats E Tabor City NC United States;X-APPLE-RADIUS=500;X-TITLE=466 Indigo Flats E:geo:-78.628674,34.025696
END:VEVENT
BEGIN:VEVENT
DTSTART;TZID=UTC:20260926T100000
DTEND;TZID=UTC:20260926T100000
DTSTAMP:20260422T041629
CREATED:20260110T171713Z
LAST-MODIFIED:20260410T113148Z
UID:10004319-1790416800-1790416800@gunstuff.tv
SUMMARY:Kettlefoot USPSA Level 1 Match
DESCRIPTION:Kettlefoot USPSA Level 1 Match\nDate : 9/26/26\nStart Time: 10:00 AM\nLocation:\nKettlefoot Gun Club (TN24)\n21101 Kettlefoot Ln\nBristol\, VA\nEvent Contact Information\nAaron Sams\n4238638185\nKettlefootActionPistol@gmail.com\nEvent Website\nhttps://linktr.ee/Kettlefoot
URL:https://gunstuff.tv/event/kettlefoot-uspsa-level-1-match-9/
LOCATION:Kettlefoot Gun Club (TN24)\, 21101 Kettlefoot Ln\, Bristol\, VA\, United States
GEO:36.641477;-82.267603
X-APPLE-STRUCTURED-LOCATION;VALUE=URI;X-ADDRESS=Kettlefoot Gun Club (TN24) 21101 Kettlefoot Ln Bristol VA United States;X-APPLE-RADIUS=500;X-TITLE=21101 Kettlefoot Ln:geo:-82.267603,36.641477
END:VEVENT
BEGIN:VEVENT
DTSTART;TZID=UTC:20260926T100000
DTEND;TZID=UTC:20260926T100000
DTSTAMP:20260422T041629
CREATED:20260110T171713Z
LAST-MODIFIED:20260410T113148Z
UID:10004320-1790416800-1790416800@gunstuff.tv
SUMMARY:SCPS ECO19 2026-09-26 Section Qualifier
DESCRIPTION:SCPS ECO19 2026-09-26 Section Qualifier\nDate : 9/26/26\nStart Time: 10:00 AM\nLocation:\nSoCo Practical Shooters (SCPS) (ECO19)\n450 S Franceville Coal Mine Rd\nColorado Springs\, CO\nEvent Contact Information\nGermaine Adams\n719.439.6993\nsocopracticalshooters@gmail.com\nEvent Website\nhttps://practiscore.com/clubs/soco_practical_shooters
URL:https://gunstuff.tv/event/scps-eco19-2026-09-26-section-qualifier/
LOCATION:SoCo Practical Shooters (SCPS) (ECO19)\, 450 S Franceville Coal Mine Rd\, Colorado Springs\, CO\, United States
GEO:38.82531;-104.590706
X-APPLE-STRUCTURED-LOCATION;VALUE=URI;X-ADDRESS=SoCo Practical Shooters (SCPS) (ECO19) 450 S Franceville Coal Mine Rd Colorado Springs CO United States;X-APPLE-RADIUS=500;X-TITLE=450 S Franceville Coal Mine Rd:geo:-104.590706,38.82531
END:VEVENT
BEGIN:VEVENT
DTSTART;TZID=America/New_York:20260926T080000
DTEND;TZID=America/New_York:20260926T123000
DTSTAMP:20260422T041629
CREATED:20251003T162405Z
LAST-MODIFIED:20260410T200154Z
UID:10001130-1790409600-1790425800@gunstuff.tv
SUMMARY:MRPC @ AGC Steel Challenge
DESCRIPTION:Steel Silhouette Targets
URL:https://gunstuff.tv/event/mrpc-agc-defensive-shooting-8/
LOCATION:AGC Shooting Bays 4\,5\,6
END:VEVENT
BEGIN:VEVENT
DTSTART;TZID=America/Chicago:20260926T173000
DTEND;TZID=America/Chicago:20260926T183000
DTSTAMP:20260422T041629
CREATED:20260421T221659Z
LAST-MODIFIED:20260421T221742Z
UID:10008600-1790443800-1790447400@gunstuff.tv
SUMMARY:Livingston County Townhall Meeting
DESCRIPTION:Come out and join your friends at the ISRA Livingston County Townhall meeting at South Post Guns\, 104 E Livingston Rd. in Streator!\nThis new meeting is held the 4th Saturday of every month.\nSocial Hour is from 4:30pm – 5:30pm;\nThe Meeting is from 5:30pm – 6:30pm.
URL:https://gunstuff.tv/event/livingston-county-townhall-meeting-2/
LOCATION:South Post Guns\, 101 Livingston St\, Streator\, IL\, United States
CATEGORIES:Event Calendar
GEO:41.116351;-88.835489
X-APPLE-STRUCTURED-LOCATION;VALUE=URI;X-ADDRESS=South Post Guns 101 Livingston St Streator IL United States;X-APPLE-RADIUS=500;X-TITLE=101 Livingston St:geo:-88.835489,41.116351
END:VEVENT
BEGIN:VEVENT
DTSTART;VALUE=DATE:20260927
DTEND;VALUE=DATE:20260928
DTSTAMP:20260422T041629
CREATED:20251003T160030Z
LAST-MODIFIED:20260412T043235Z
UID:10001044-1790467200-1790553599@gunstuff.tv
SUMMARY:600 Yard Practice 6:30am Pits
DESCRIPTION:
URL:https://gunstuff.tv/event/600-yard-practice-630am-pits-20/
LOCATION:WI
END:VEVENT
BEGIN:VEVENT
DTSTART;TZID=America/New_York:20260927T090000
DTEND;TZID=America/New_York:20260927T120000
DTSTAMP:20260422T041629
CREATED:20251003T162643Z
LAST-MODIFIED:20260411T214638Z
UID:10001502-1790499600-1790510400@gunstuff.tv
SUMMARY:Weekly Trap League
DESCRIPTION:
URL:https://gunstuff.tv/event/weekly-trap-league-52/
LOCATION:Shotgun Range
END:VEVENT
BEGIN:VEVENT
DTSTART;TZID=America/New_York:20260927T090000
DTEND;TZID=America/New_York:20260927T120000
DTSTAMP:20260422T041629
CREATED:20260404T214737Z
LAST-MODIFIED:20260411T214638Z
UID:10006774-1790499600-1790510400@gunstuff.tv
SUMMARY:22 LR Marksmanship Challenge (AKA) Aspirin Shoot
DESCRIPTION:Range Closed to non-competitors using larger caliber firearms
URL:https://gunstuff.tv/event/22-lr-marksmanship-challenge-aka-aspirin-shoot-5/
LOCATION:Square Range
END:VEVENT
BEGIN:VEVENT
DTSTART;TZID=America/New_York:20260927T090000
DTEND;TZID=America/New_York:20260927T130000
DTSTAMP:20260422T041629
CREATED:20251003T162536Z
LAST-MODIFIED:20260412T184752Z
UID:10001285-1790499600-1790514000@gunstuff.tv
SUMMARY:Bud Meyer Black Powder Silhouette
DESCRIPTION:
URL:https://gunstuff.tv/event/bud-meyer-black-powder-silhouette-6/
LOCATION:Lea Valley
END:VEVENT
BEGIN:VEVENT
DTSTART;TZID=America/New_York:20260927T090000
DTEND;TZID=America/New_York:20260927T140000
DTSTAMP:20260422T041629
CREATED:20251003T031216Z
LAST-MODIFIED:20260410T070130Z
UID:10000650-1790499600-1790517600@gunstuff.tv
SUMMARY:Wyoming Antelope NRA 2700
DESCRIPTION:
URL:https://gunstuff.tv/event/wyoming-antelope-nra-2700-12/
LOCATION:Wyoming Antelope Club-Florida\, 3700 126th Ave N\, Clearwater\, FL\, United States
GEO:27.886432;-82.683263
X-APPLE-STRUCTURED-LOCATION;VALUE=URI;X-ADDRESS=Wyoming Antelope Club-Florida 3700 126th Ave N Clearwater FL United States;X-APPLE-RADIUS=500;X-TITLE=3700 126th Ave N:geo:-82.683263,27.886432
END:VEVENT
BEGIN:VEVENT
DTSTART;TZID=UTC:20260927T100000
DTEND;TZID=UTC:20260927T100000
DTSTAMP:20260422T041629
CREATED:20260121T014638Z
LAST-MODIFIED:20260401T070147Z
UID:10004661-1790503200-1790503200@gunstuff.tv
SUMMARY:PGC Steel Challenge
DESCRIPTION:PGC Steel Challenge\nDate: 9/27/26\nStart Time: 10:00 AM\nLocation:\nPalmetto Gun Club (SCSA077)\n951 Summers Dr\nRidgeville\, SC\nEvent Contact Information\nThomas Happel\n843-270-9250\nthedeltais@hotmail.com\nMatch Information\nMonthly 6-stage club match at Palmetto Gun Club.\nEvent Website\nhttps://www.palmettogunclub.org/
URL:https://gunstuff.tv/event/pgc-steel-challenge-11/
LOCATION:Palmetto Gun Club (SCSA077)\, 951 Summers Dr\, Ridgeville\, SC\, United States
GEO:32.923478;-80.292014
X-APPLE-STRUCTURED-LOCATION;VALUE=URI;X-ADDRESS=Palmetto Gun Club (SCSA077) 951 Summers Dr Ridgeville SC United States;X-APPLE-RADIUS=500;X-TITLE=951 Summers Dr:geo:-80.292014,32.923478
END:VEVENT
BEGIN:VEVENT
DTSTART;TZID=America/New_York:20260927T100000
DTEND;TZID=America/New_York:20260927T120000
DTSTAMP:20260422T041629
CREATED:20251003T162643Z
LAST-MODIFIED:20251107T180149Z
UID:10001503-1790503200-1790510400@gunstuff.tv
SUMMARY:22 Marksmanship Challenge (Aspirin Shoot)
DESCRIPTION:Aspirin @ 50 yrds\nTums @ 100 yrds\nSteel @ 150 & 200 yrds\nCenterfire prohibited during event.
URL:https://gunstuff.tv/event/22-marksmanship-challenge-aspirin-shoot-12/
LOCATION:Square Range
END:VEVENT
BEGIN:VEVENT
DTSTART;TZID=UTC:20260927T114500
DTEND;TZID=UTC:20260927T114500
DTSTAMP:20260422T041629
CREATED:20260128T014756Z
LAST-MODIFIED:20260401T070147Z
UID:10004814-1790509500-1790509500@gunstuff.tv
SUMMARY:Shadow Hawk Defense Steel Challenge
DESCRIPTION:Shadow Hawk Defense Steel Challenge\nDate: 9/27/26\nStart Time: 11:45 AM\nLocation:\nShadow Hawk Defense (SCSA271)\n436 Apple Harvest Drive\nHedgesville\, WV\nEvent Contact Information\nLynn Kasic\n304-616-6582\ninfo@shadowhawkdefense.com\nMatch Information\nSame match on Saturday and Sunday. The squad you select determines the day and time that you shoot. All eight stages. Approximately *200* rounds. $30\, Second gun 1/2 price. Pay at the door.\nEvent Website\nhttps://shadowhawkdefense.com/
URL:https://gunstuff.tv/event/shadow-hawk-defense-steel-challenge-18/
LOCATION:Shadow Hawk Defense (SCSA271)\, 399 Apple Harvest Dr\, Hedgesville\, WV\, United States
GEO:39.389611;-78.197586
X-APPLE-STRUCTURED-LOCATION;VALUE=URI;X-ADDRESS=Shadow Hawk Defense (SCSA271) 399 Apple Harvest Dr Hedgesville WV United States;X-APPLE-RADIUS=500;X-TITLE=399 Apple Harvest Dr:geo:-78.197586,39.389611
END:VEVENT
BEGIN:VEVENT
DTSTART;TZID=America/New_York:20260927T123000
DTEND;TZID=America/New_York:20260927T143000
DTSTAMP:20260422T041629
CREATED:20260404T214737Z
LAST-MODIFIED:20260411T214638Z
UID:10006775-1790512200-1790519400@gunstuff.tv
SUMMARY:New Member Orientation
DESCRIPTION:Reservation required contact Eric Zaharee at absaidpa@gmail.com to attend
URL:https://gunstuff.tv/event/new-member-orientation-19/
LOCATION:Classroom and Ranges
END:VEVENT
BEGIN:VEVENT
DTSTART;TZID=America/New_York:20260927T130000
DTEND;TZID=America/New_York:20260927T150000
DTSTAMP:20260422T041629
CREATED:20251019T193324Z
LAST-MODIFIED:20260414T083131Z
UID:10002472-1790514000-1790521200@gunstuff.tv
SUMMARY:Open Trap Shoot - Weather Permitting
DESCRIPTION:Open shoot\, $5.00 per round.  The trap field is 2/10ths of a mile past the clubhouse. \nFor the latest information visit:https://www.facebook.com/groups/1663932967427026
URL:https://gunstuff.tv/event/open-trap-shoot-weather-permitting-23/
LOCATION:523 Sizer Run Road Emporium\, Emporium\, PA\, United States
GEO:41.500749;-78.322815
END:VEVENT
BEGIN:VEVENT
DTSTART;TZID=UTC:20260927T140000
DTEND;TZID=UTC:20260927T140000
DTSTAMP:20260422T041629
CREATED:20260311T063143Z
LAST-MODIFIED:20260401T070147Z
UID:10006272-1790517600-1790517600@gunstuff.tv
SUMMARY:BVSA 2026 STEEL CHALLENGE - September 27
DESCRIPTION:BVSA 2026 STEEL CHALLENGE – September 27\nDate: 9/27/26\nStart Time: 2:00 PM\nLocation:\nBuffalo Valley Sportsmen’s Association (SCSA389)\n950 Sportsmens Club Rd\nMifflinburg\, PA\nEvent Contact Information\nLuke Walter\n5709391444\nlbw2@pct.edu\nEvent Website\nhttp://bvsportsman.org
URL:https://gunstuff.tv/event/bvsa-2026-steel-challenge-september-27/
LOCATION:Buffalo Valley Sportsmen’s Association (SCSA389)\, 1300 Sportsmens Club Rd\, Mifflinburg\, PA\, United States
GEO:40.947311;-77.103732
X-APPLE-STRUCTURED-LOCATION;VALUE=URI;X-ADDRESS=Buffalo Valley Sportsmen’s Association (SCSA389) 1300 Sportsmens Club Rd Mifflinburg PA United States;X-APPLE-RADIUS=500;X-TITLE=1300 Sportsmens Club Rd:geo:-77.103732,40.947311
END:VEVENT
BEGIN:VEVENT
DTSTART;VALUE=DATE:20260928
DTEND;VALUE=DATE:20260929
DTSTAMP:20260422T041629
CREATED:20260213T031101Z
LAST-MODIFIED:20260410T034705Z
UID:10005309-1790553600-1790639999@gunstuff.tv
SUMMARY:Club Closed
DESCRIPTION:
URL:https://gunstuff.tv/event/club-closed-65/
LOCATION:WI
END:VEVENT
BEGIN:VEVENT
DTSTART;TZID=America/New_York:20260928T090000
DTEND;TZID=America/New_York:20260928T100000
DTSTAMP:20260422T041629
CREATED:20251003T162643Z
LAST-MODIFIED:20251010T162931Z
UID:10001504-1790586000-1790589600@gunstuff.tv
SUMMARY:4-H Class Indoors
DESCRIPTION:Indoor reserved for 4-H class.
URL:https://gunstuff.tv/event/4-h-class-indoors-52/
LOCATION:Indoor Range
END:VEVENT
BEGIN:VEVENT
DTSTART;TZID=America/New_York:20260928T160000
DTEND;TZID=America/New_York:20260928T180000
DTSTAMP:20260422T041629
CREATED:20251003T162643Z
LAST-MODIFIED:20251205T181710Z
UID:10001505-1790611200-1790618400@gunstuff.tv
SUMMARY:Skeet League
DESCRIPTION:Contact Frank Andrews with Questions.
URL:https://gunstuff.tv/event/skeet-league-52/
LOCATION:WI
END:VEVENT
BEGIN:VEVENT
DTSTART;TZID=America/New_York:20260928T160000
DTEND;TZID=America/New_York:20260928T180000
DTSTAMP:20260422T041629
CREATED:20251212T181643Z
LAST-MODIFIED:20260411T214638Z
UID:10003553-1790611200-1790618400@gunstuff.tv
SUMMARY:Skeet League
DESCRIPTION:Contact Frank Andrews with Questions.
URL:https://gunstuff.tv/event/skeet-league-142/
LOCATION:Skeet Range
END:VEVENT
BEGIN:VEVENT
DTSTART;VALUE=DATE:20260929
DTEND;VALUE=DATE:20260930
DTSTAMP:20260422T041629
CREATED:20251003T160031Z
LAST-MODIFIED:20260412T043235Z
UID:10001046-1790640000-1790726399@gunstuff.tv
SUMMARY:100\, 200\, 300 Yard Practice Benchrest Range
DESCRIPTION:
URL:https://gunstuff.tv/event/100-200-300-yard-practice-benchrest-range-44/
LOCATION:WI
END:VEVENT
BEGIN:VEVENT
DTSTART;VALUE=DATE:20260929
DTEND;VALUE=DATE:20260930
DTSTAMP:20260422T041629
CREATED:20260213T031101Z
LAST-MODIFIED:20260410T034705Z
UID:10005310-1790640000-1790726399@gunstuff.tv
SUMMARY:Club closed
DESCRIPTION:
URL:https://gunstuff.tv/event/club-closed-66/
LOCATION:WI
END:VEVENT
BEGIN:VEVENT
DTSTART;TZID=America/New_York:20260929T170000
DTEND;TZID=America/New_York:20260929T200000
DTSTAMP:20260422T041629
CREATED:20260328T214635Z
LAST-MODIFIED:20260411T214638Z
UID:10006602-1790701200-1790712000@gunstuff.tv
SUMMARY:Tactical Tuesday IDPA Practice
DESCRIPTION:Shooters new to Action Shooting contact Eric Zaharee at ABSAIDPA@gmail .com\nSee (Alder Brook) PractiScore.com for sign up Cost $5
URL:https://gunstuff.tv/event/tactical-tuesday-idpa-practice-25/
LOCATION:Action Bays
END:VEVENT
BEGIN:VEVENT
DTSTART;VALUE=DATE:20261001
DTEND;VALUE=DATE:20261002
DTSTAMP:20260422T041629
CREATED:20251003T160031Z
LAST-MODIFIED:20260412T043235Z
UID:10001048-1790812800-1790899199@gunstuff.tv
SUMMARY:600 Yard Practice 7:00am Pits
DESCRIPTION:
URL:https://gunstuff.tv/event/600-yard-practice-700am-pits-6/
LOCATION:WI
END:VEVENT
BEGIN:VEVENT
DTSTART;VALUE=DATE:20261002
DTEND;VALUE=DATE:20261003
DTSTAMP:20260422T041629
CREATED:20251003T160031Z
LAST-MODIFIED:20260412T043235Z
UID:10001047-1790899200-1790985599@gunstuff.tv
SUMMARY:Across the Course Practice 7:00am Pits
DESCRIPTION:
URL:https://gunstuff.tv/event/across-the-course-practice-700am-pits-8/
LOCATION:WI
END:VEVENT
BEGIN:VEVENT
DTSTART;VALUE=DATE:20261002
DTEND;VALUE=DATE:20261003
DTSTAMP:20260422T041629
CREATED:20260213T031101Z
LAST-MODIFIED:20260410T034705Z
UID:10005312-1790899200-1790985599@gunstuff.tv
SUMMARY:Competition Bays Closed for steel challenge set up
DESCRIPTION:
URL:https://gunstuff.tv/event/competition-bays-closed-for-steel-challenge-set-up-8/
LOCATION:WI
END:VEVENT
BEGIN:VEVENT
DTSTART;VALUE=DATE:20261002
DTEND;VALUE=DATE:20261003
DTSTAMP:20260422T041629
CREATED:20260213T031102Z
LAST-MODIFIED:20260410T034705Z
UID:10005314-1790899200-1790985599@gunstuff.tv
SUMMARY:Rifle range closed for steel challenge setup & shoot.
DESCRIPTION:
URL:https://gunstuff.tv/event/rifle-range-closed-for-steel-challenge-setup-shoot-10/
LOCATION:WI
END:VEVENT
BEGIN:VEVENT
DTSTART;TZID=America/Chicago:20261002T080000
DTEND;TZID=America/Chicago:20261004T170000
DTSTAMP:20260422T041629
CREATED:20251102T201641Z
LAST-MODIFIED:20260412T211742Z
UID:10002870-1790928000-1791133200@gunstuff.tv
SUMMARY:White-Winged Open 2026
DESCRIPTION:Stay tuned…
URL:https://gunstuff.tv/event/white-winged-open-2026/
LOCATION:Austin Gun Club\, 1999 S Key Ave\, Lampasas\, TX\, United States
CATEGORIES:USHA Helice
ATTACH;FMTTYPE=image/png:https://gunstuff.tv/wp-content/uploads/2025/11/2026-Helice-Events-850-xdDcVe.png
GEO:31.050454;-98.174788
X-APPLE-STRUCTURED-LOCATION;VALUE=URI;X-ADDRESS=Austin Gun Club 1999 S Key Ave Lampasas TX United States;X-APPLE-RADIUS=500;X-TITLE=1999 S Key Ave:geo:-98.174788,31.050454
END:VEVENT
END:VCALENDAR