BEGIN:VCALENDAR
VERSION:2.0
PRODID:-//GunStuff TV - ECPv6.15.20//NONSGML v1.0//EN
CALSCALE:GREGORIAN
METHOD:PUBLISH
X-WR-CALNAME:GunStuff TV
X-ORIGINAL-URL:https://gunstuff.tv
X-WR-CALDESC:Events for GunStuff TV
REFRESH-INTERVAL;VALUE=DURATION:PT1H
X-Robots-Tag:noindex
X-PUBLISHED-TTL:PT1H
BEGIN:VTIMEZONE
TZID:UTC
BEGIN:STANDARD
TZOFFSETFROM:+0000
TZOFFSETTO:+0000
TZNAME:UTC
DTSTART:20250101T000000
END:STANDARD
END:VTIMEZONE
BEGIN:VTIMEZONE
TZID:America/New_York
BEGIN:DAYLIGHT
TZOFFSETFROM:-0500
TZOFFSETTO:-0400
TZNAME:EDT
DTSTART:20250309T070000
END:DAYLIGHT
BEGIN:STANDARD
TZOFFSETFROM:-0400
TZOFFSETTO:-0500
TZNAME:EST
DTSTART:20251102T060000
END:STANDARD
BEGIN:DAYLIGHT
TZOFFSETFROM:-0500
TZOFFSETTO:-0400
TZNAME:EDT
DTSTART:20260308T070000
END:DAYLIGHT
BEGIN:STANDARD
TZOFFSETFROM:-0400
TZOFFSETTO:-0500
TZNAME:EST
DTSTART:20261101T060000
END:STANDARD
BEGIN:DAYLIGHT
TZOFFSETFROM:-0500
TZOFFSETTO:-0400
TZNAME:EDT
DTSTART:20270314T070000
END:DAYLIGHT
BEGIN:STANDARD
TZOFFSETFROM:-0400
TZOFFSETTO:-0500
TZNAME:EST
DTSTART:20271107T060000
END:STANDARD
END:VTIMEZONE
BEGIN:VTIMEZONE
TZID:America/Phoenix
BEGIN:STANDARD
TZOFFSETFROM:-0700
TZOFFSETTO:-0700
TZNAME:MST
DTSTART:20250101T000000
END:STANDARD
END:VTIMEZONE
BEGIN:VEVENT
DTSTART;TZID=UTC:20260530T090000
DTEND;TZID=UTC:20260530T090000
DTSTAMP:20260419T180416
CREATED:20260306T113134Z
LAST-MODIFIED:20260410T113137Z
UID:10006163-1780131600-1780131600@gunstuff.tv
SUMMARY:SGC 2026_05_30 USPSA Salisbury Gun Club
DESCRIPTION:SGC 2026_05_30 USPSA Salisbury Gun Club\nDate : 5/30/26\nStart Time: 9:00 AM\nLocation:\nSalisbury Gun Club (VA44)\n32240 Dagsboro Rd\nParsonsburg\, MD\nEvent Contact Information\nPhil Cathell\n4107269019\nsgcsecretary1938@gmail.com\nEvent Website\nhttps://practiscore.com/sgc-2026-05-30-uspsa-salisbury-gun-club/register
URL:https://gunstuff.tv/event/sgc-2026_05_30-uspsa-salisbury-gun-club/
LOCATION:Salisbury Gun Club (VA44)\, 31998 Dagsboro Rd\, Parsonsburg\, MD\, United States
GEO:38.414282;-75.502177
X-APPLE-STRUCTURED-LOCATION;VALUE=URI;X-ADDRESS=Salisbury Gun Club (VA44) 31998 Dagsboro Rd Parsonsburg MD United States;X-APPLE-RADIUS=500;X-TITLE=31998 Dagsboro Rd:geo:-75.502177,38.414282
END:VEVENT
BEGIN:VEVENT
DTSTART;TZID=UTC:20260530T090000
DTEND;TZID=UTC:20260530T090000
DTSTAMP:20260419T180416
CREATED:20260308T104655Z
LAST-MODIFIED:20260412T110144Z
UID:10006200-1780131600-1780131600@gunstuff.tv
SUMMARY:Pistol Clinic
DESCRIPTION:Hernando\, FL – Hernando Sportsman’s Club\nMay 30\, 2026 – May 31\, 2026\nThis is a Pistol Clinic. The Pistol Clinic teaches the fundamentals of pistol/handgun safety\, accuracy\, and many other topics.\nYou must be at least 18 years of age to attend a pistol event in the State of Florida.\nBoth 22LR and centerfire pistol cartridges are allowed at this event.\nRegister Now\nAddress: 16121 Commercial Way\, Brooksville\, FL 34605\nWebsite: www.hernandosportsmansclub.com\nPlease Read:  How to Prepare for an Event\nSafety Notice:\n–  Keep ALL firearms in your vehicle until after the safety briefing and you are instructed to bring them to the firing line.\n–  No illegal firearms are allowed.\n–  At centerfire-friendly ranges\, rifle cartridges are limited to 8mm (rifle) or .45 caliber (pistol and pistol caliber carbines).\n–  Effective 8/8/2025\, Project Appleseed has temporarily suspended the SIG-Sauer P320/M17/M18 (all variants) in our Pistol Clinics.\n–  Parents of youth attending\, please read our Message to Parents.\nSubject to state and local laws\, Instructors at your event may have discounted .22 ammo available. Reach out to the contact at the bottom of this page for availability.\nRange Fee:  $15 per shooter per day. Children 12 and under $7 per shooter per day. Sorry\, no discount for club members for special events.\nCamping Available:\nNot at the range. However\, the Chassahowitzka River Campground and Recreation Area has camping available. 352-382-2200. located 4 miles north of the range.\nHotels:\nChassahowitzka Hotel\, Chassahowitzka 1-877-807-7783\nQuality Inn\, Weeki Watchee 352-596-2007\nComfort Inn\, Weeki Watchee 352-956-4000\nHoliday Inn Express\, Spring Hill 817-410-6681\nDirections:\nLocated on Hwy 19\, 9 1/2 miles north of SR 50\, Hernando County – look for the ‘Chassahowitzka Wildlife Management Area’ sign.\nGPS: 28.714310\,-82.572548\nState Laws to be aware of:\nIt is the responsibility of attendees to know and comply with all State and Federal Firearms Laws.\nFlorida State Firearms Laws\nMisc:\nPlease arrive for check in at 8AM sharp. We have a lot of ground to cover and cannot afford a late start!\nFood is available at the range and there is potable water. There are also several restaurants located within 5-10 miles of the range both and north and south\, but too far for lunch . Nearest commercial airport is Tampa\, FL approx. distance 60 miles. Brooksville is the nearest town approx. distance 20 miles. Centerfire OK up to .32 – no tracer / no AP Most of the course is fired at 25M\, so .22 rimfire is fine\, however\, for thems who bring a center fire rifle and can shoot within 8MOA\, there may be KD at 200m on Sunday PM. NO Alcohol Permitted\nFor more information contact:\nName: FL State Coordinator Email Address: FL@appleseedinfo.org\nName: Ken Gerace (BaldEagle) Email Address: appleseedeventinfo@gmail.com\nName: Henry Sutter (stoneknives) Email Address: henrysutter@gmail.com
URL:https://gunstuff.tv/event/pistol-clinic-64/
LOCATION:Hernando Sportsman’s Club\, 16099 Commercial Way\, Brooksville\, FL\, United States
GEO:28.658237;-82.552257
X-APPLE-STRUCTURED-LOCATION;VALUE=URI;X-ADDRESS=Hernando Sportsman’s Club 16099 Commercial Way Brooksville FL United States;X-APPLE-RADIUS=500;X-TITLE=16099 Commercial Way:geo:-82.552257,28.658237
END:VEVENT
BEGIN:VEVENT
DTSTART;TZID=UTC:20260530T090000
DTEND;TZID=UTC:20260530T090000
DTSTAMP:20260419T180416
CREATED:20260308T104656Z
LAST-MODIFIED:20260412T110144Z
UID:10006201-1780131600-1780131600@gunstuff.tv
SUMMARY:Appleseed
DESCRIPTION:Greenville\, NC – Pitt County Wildlife Club\nMay 30\, 2026 – May 31\, 2026\nThis is a traditional 25m Project Appleseed rifle event.\nBoth Centerfire and 22 Rimfire rifles are allowed at this event.\nRegister Now\nAddress: 3029 NC 222\, Greenville\, NC 27834\nWebsite: www.pittcountywildlifeclub.org\nPlease Read:  How to Prepare for an Event\nSafety Notice:\n–  Keep ALL firearms in your vehicle until after the safety briefing and you are instructed to bring them to the firing line.\n–  No illegal firearms are allowed.\n–  At centerfire-friendly ranges\, rifle cartridges are limited to 8mm (rifle) or .45 caliber (pistol and pistol caliber carbines).\n–  Effective 8/8/2025\, Project Appleseed has temporarily suspended the SIG-Sauer P320/M17/M18 (all variants) in our Pistol Clinics.\n–  Parents of youth attending\, please read our Message to Parents.\nSubject to state and local laws\, Instructors at your event may have discounted .22 ammo available. Reach out to the contact at the bottom of this page for availability.\nRange Fee:  $15 per event. Range members\, Military (active and guard)\, LEO\, Youth under 18 are exempt.\nCamping Available:\nHotels:\nLots of hotels nearby to include:\nCandlewood Suites – 10 minutes away\nMicrotel Inn & Suites – 10 minutes away\nResidence Inn by Marriot – 10 minutes away\nDirections:\nMap available here.\nFrom Raleigh & West:\n264E Exit 264 to Washington Exit Hwy 43N.\nRight on NC121 – range is on the right.\nFrom North:\nEast on US 64. Exit south on Hwy 33.\nRight on NC121 in Belvoir. Cross the river.\nRange is on the left.\nFrom South I-95:\nTake 64E exit on 264E.\nExit to 264 to Washington. Exit Hwy 43N. Right on NC 121.\nRange is on the right.\nGPS: 35.724853\,-77.522218\nState Laws to be aware of:\nIt is the responsibility of attendees to know and comply with all State and Federal Firearms Laws.\nNorth Carolina State Firearms Laws\nMisc:\nFor more information contact:\nName: NC State Coordinator Email Address: NC@appleseedinfo.org
URL:https://gunstuff.tv/event/appleseed-292/
LOCATION:Pitt County Wildlife Club\, 3029 State Hwy 222\, Greenville\, NC\, United States
GEO:35.693348;-77.498038
X-APPLE-STRUCTURED-LOCATION;VALUE=URI;X-ADDRESS=Pitt County Wildlife Club 3029 State Hwy 222 Greenville NC United States;X-APPLE-RADIUS=500;X-TITLE=3029 State Hwy 222:geo:-77.498038,35.693348
END:VEVENT
BEGIN:VEVENT
DTSTART;TZID=UTC:20260530T090000
DTEND;TZID=UTC:20260530T090000
DTSTAMP:20260419T180416
CREATED:20260308T104656Z
LAST-MODIFIED:20260412T110145Z
UID:10006202-1780131600-1780131600@gunstuff.tv
SUMMARY:Appleseed
DESCRIPTION:Coshocton\, OH – Coshocton Gun Club\nMay 30\, 2026 – May 31\, 2026\nThis is a traditional 25m Project Appleseed rifle event.\nBoth Centerfire and 22 Rimfire rifles are allowed at this event.\nRegister Now\nAddress: 18358 State Route 83\, Coshocton\, OH 43812\nWebsite: facebook.com/pages/Coshocton-Gun-Club/452875721492347\nPlease Read:  How to Prepare for an Event\nSafety Notice:\n–  Keep ALL firearms in your vehicle until after the safety briefing and you are instructed to bring them to the firing line.\n–  No illegal firearms are allowed.\n–  At centerfire-friendly ranges\, rifle cartridges are limited to 8mm (rifle) or .45 caliber (pistol and pistol caliber carbines).\n–  Effective 8/8/2025\, Project Appleseed has temporarily suspended the SIG-Sauer P320/M17/M18 (all variants) in our Pistol Clinics.\n–  Parents of youth attending\, please read our Message to Parents.\nSubject to state and local laws\, Instructors at your event may have discounted .22 ammo available. Reach out to the contact at the bottom of this page for availability.\nRange Fee:  None\nCamping Available:\nPrimitive camping available on site\nHotels:\nCoshocton Village Inn & Suites/N. Water St.\, Coshocton\, OH\, 43812/N40.27446/W81.87085\nFast food and grocery–Turn right off CGC range road onto OH-83N Go 2.6miles\, turn right onto CR 271/South 2nd Street\, Go 2 miles\nDirections:\nFrom Coshocton\nSouth on OH-16/OH-83 \nContine on South 83 by turning left at light\nAt bottom of the hill\, turn left onto the range road by the CGC sign\nNearest cross street North of range road is TR 277\nNearest cross street South of range road is TR 146\nSee map to range\nGPS: 40.219811\,-81.836820\nState Laws to be aware of:\nIt is the responsibility of attendees to know and comply with all State and Federal Firearms Laws.\nOhio State Firearms Laws\nMisc:\nBoth centerfire and rimfire permitted at this range.\nFor more information contact:\nName: OH State Coordinator Email Address: OH@appleseedinfo.org
URL:https://gunstuff.tv/event/appleseed-293/
LOCATION:Coshocton Gun Club\, 18358 State Rte 83\, Coshocton\, OH\, United States
GEO:40.219824;-81.834616
X-APPLE-STRUCTURED-LOCATION;VALUE=URI;X-ADDRESS=Coshocton Gun Club 18358 State Rte 83 Coshocton OH United States;X-APPLE-RADIUS=500;X-TITLE=18358 State Rte 83:geo:-81.834616,40.219824
END:VEVENT
BEGIN:VEVENT
DTSTART;TZID=America/New_York:20260530T090000
DTEND;TZID=America/New_York:20260530T130000
DTSTAMP:20260419T180416
CREATED:20251003T162535Z
LAST-MODIFIED:20260412T184743Z
UID:10001258-1780131600-1780146000@gunstuff.tv
SUMMARY:Rim Ram
DESCRIPTION:.22LR rim fire match
URL:https://gunstuff.tv/event/rim-ram-2/
LOCATION:Lea Valley
END:VEVENT
BEGIN:VEVENT
DTSTART;TZID=UTC:20260530T100000
DTEND;TZID=UTC:20260530T100000
DTSTAMP:20260419T180416
CREATED:20260110T171710Z
LAST-MODIFIED:20260410T113137Z
UID:10004272-1780135200-1780135200@gunstuff.tv
SUMMARY:Low Country USPSA Classifier Match
DESCRIPTION:Low Country USPSA Classifier Match\nDate : 5/30/26\nStart Time: 10:00 AM\nLocation:\nLow Country Uspsa (NC37)\n466 Indigo Flats E\nTabor City\, NC\nEvent Contact Information\nAllen Terrell\n843-231-1810\nlowcountrypreserveuspsa@gmail.com\nMatch Information\n7 stage classifier only match
URL:https://gunstuff.tv/event/low-country-uspsa-classifier-match/
LOCATION:Low Country Uspsa (NC37)\, 466 Indigo Flats E\, Tabor City\, NC\, United States
GEO:34.025696;-78.628674
X-APPLE-STRUCTURED-LOCATION;VALUE=URI;X-ADDRESS=Low Country Uspsa (NC37) 466 Indigo Flats E Tabor City NC United States;X-APPLE-RADIUS=500;X-TITLE=466 Indigo Flats E:geo:-78.628674,34.025696
END:VEVENT
BEGIN:VEVENT
DTSTART;TZID=UTC:20260530T100000
DTEND;TZID=UTC:20260530T100000
DTSTAMP:20260419T180416
CREATED:20260418T174740Z
LAST-MODIFIED:20260418T174740Z
UID:10008049-1780135200-1780135200@gunstuff.tv
SUMMARY:Saturday Steel Challenge
DESCRIPTION:Saturday Steel Challenge\nDate: 5/30/26\nStart Time: 10:00 AM\nLocation:\nOakland County Sportsman’s Club (SCSA431)\n4770 Waterford Rd\nClarkston\, MI\nEvent Contact Information\nMike Stailey\n586.354.6306\nmstailey7137@gmail.com\nEvent Website \nHome
URL:https://gunstuff.tv/event/saturday-steel-challenge-3/
LOCATION:Oakland County Sportsman’s Club (SCSA431)\, 4770 Waterford Rd\, Clarkston\, MI\, United States
GEO:42.705297;-83.4014
X-APPLE-STRUCTURED-LOCATION;VALUE=URI;X-ADDRESS=Oakland County Sportsman’s Club (SCSA431) 4770 Waterford Rd Clarkston MI United States;X-APPLE-RADIUS=500;X-TITLE=4770 Waterford Rd:geo:-83.4014,42.705297
END:VEVENT
BEGIN:VEVENT
DTSTART;TZID=America/New_York:20260530T160000
DTEND;TZID=America/New_York:20260530T220000
DTSTAMP:20260419T180416
CREATED:20251012T173815Z
LAST-MODIFIED:20260412T184743Z
UID:10002102-1780156800-1780178400@gunstuff.tv
SUMMARY:Retirement Party (private)
DESCRIPTION:Contact Lee Panella\, lrp332@yahoo.com
URL:https://gunstuff.tv/event/retirement-party-private/
LOCATION:Clubhouse & Fields 6 & 7
END:VEVENT
BEGIN:VEVENT
DTSTART;VALUE=DATE:20260531
DTEND;VALUE=DATE:20260601
DTSTAMP:20260419T180416
CREATED:20251228T204644Z
LAST-MODIFIED:20260414T083128Z
UID:10003677-1780185600-1780271999@gunstuff.tv
SUMMARY:Cameron County Clay Crushers Fundraising Trap Shoot
DESCRIPTION:Trap Shoot Fundraiser.  All proceeds benefit the CCCC.  \nDetails (when available) – https://www.facebook.com/profile.php?id=61566336863879
URL:https://gunstuff.tv/event/cameron-county-clay-crushers-fundraising-trap-shoot/
LOCATION:523 Sizer Run Road Emporium\, Emporium\, PA\, United States
GEO:41.500749;-78.322815
END:VEVENT
BEGIN:VEVENT
DTSTART;TZID=UTC:20260531T010000
DTEND;TZID=UTC:20260531T010000
DTSTAMP:20260419T180416
CREATED:20260207T171716Z
LAST-MODIFIED:20260410T113137Z
UID:10005046-1780189200-1780189200@gunstuff.tv
SUMMARY:BSPSC May 31 Steel Challenge
DESCRIPTION:BSPSC May 31 Steel Challenge\nDate : 5/31/26\nStart Time: 1:00 AM\nLocation:\nBig Sky Practical Shooting Club (NR02)\n1142 Deer Creek Road\nEast Missoula\, MT\nEvent Contact Information\nSean Boushie\n406-370-6927\nflintlocknfur@hotmail.com\nMatch Information\nhttps://practiscore.com/bspsc-2026-may-steel-challenge/register\nEvent Website\nhttps://bspsc.org/index.php
URL:https://gunstuff.tv/event/bspsc-may-31-steel-challenge/
LOCATION:Big Sky Practical Shooting Club (NR02)\, 1142 Deer Creek Rd\, Missoula\, MT\, United States
GEO:46.862716;-113.891053
X-APPLE-STRUCTURED-LOCATION;VALUE=URI;X-ADDRESS=Big Sky Practical Shooting Club (NR02) 1142 Deer Creek Rd Missoula MT United States;X-APPLE-RADIUS=500;X-TITLE=1142 Deer Creek Rd:geo:-113.891053,46.862716
END:VEVENT
BEGIN:VEVENT
DTSTART;TZID=America/New_York:20260531T080000
DTEND;TZID=America/New_York:20260531T183000
DTSTAMP:20260419T180416
CREATED:20251012T173815Z
LAST-MODIFIED:20260412T184744Z
UID:10002103-1780214400-1780252200@gunstuff.tv
SUMMARY:Virginia Precision Pistol State Championship
DESCRIPTION:For info & position requests\, contact bullseye@fxrgc.org
URL:https://gunstuff.tv/event/virginia-precision-pistol-state-championship-2/
LOCATION:Walsh Range
END:VEVENT
BEGIN:VEVENT
DTSTART;TZID=UTC:20260531T090000
DTEND;TZID=UTC:20260531T090000
DTSTAMP:20260419T180416
CREATED:20260304T061637Z
LAST-MODIFIED:20260401T070142Z
UID:10006083-1780218000-1780218000@gunstuff.tv
SUMMARY:BSPSC May 31 Steel Challenge
DESCRIPTION:BSPSC May 31 Steel Challenge\nDate: 5/31/26\nStart Time: 9:00 AM\nLocation:\nBig Sky Practical Shooting Club Inc (SCSA021)\n1142 Deer Creek Road\nEast Missoula\, MT\nEvent Contact Information\nSean Bousie\nSean Boushie\nflintlocknfur@hotmail.com\nMatch Information\nhttps://practiscore.com/bspsc-2026-may-steel-challenge/register\nEvent Website\nhttps://bspsc.org/
URL:https://gunstuff.tv/event/bspsc-may-31-steel-challenge-2/
LOCATION:Big Sky Practical Shooting Club Inc (SCSA021)\, 1142 Deer Creek Rd\, Missoula\, MT\, United States
GEO:46.862716;-113.891053
X-APPLE-STRUCTURED-LOCATION;VALUE=URI;X-ADDRESS=Big Sky Practical Shooting Club Inc (SCSA021) 1142 Deer Creek Rd Missoula MT United States;X-APPLE-RADIUS=500;X-TITLE=1142 Deer Creek Rd:geo:-113.891053,46.862716
END:VEVENT
BEGIN:VEVENT
DTSTART;TZID=America/New_York:20260531T090000
DTEND;TZID=America/New_York:20260531T120000
DTSTAMP:20260419T180416
CREATED:20251003T162641Z
LAST-MODIFIED:20260411T214631Z
UID:10001439-1780218000-1780228800@gunstuff.tv
SUMMARY:Weekly Trap League
DESCRIPTION:
URL:https://gunstuff.tv/event/weekly-trap-league-35/
LOCATION:Shotgun Range
END:VEVENT
BEGIN:VEVENT
DTSTART;TZID=America/New_York:20260531T090000
DTEND;TZID=America/New_York:20260531T120000
DTSTAMP:20260419T180416
CREATED:20260404T214728Z
LAST-MODIFIED:20260411T214631Z
UID:10006750-1780218000-1780228800@gunstuff.tv
SUMMARY:22 LR Marksmanship Challenge (AKA) Aspirin Shoot
DESCRIPTION:Range Closed to non-competitors using larger caliber firearms
URL:https://gunstuff.tv/event/22-lr-marksmanship-challenge-aka-aspirin-shoot-2/
LOCATION:Square Range
END:VEVENT
BEGIN:VEVENT
DTSTART;TZID=America/New_York:20260531T090000
DTEND;TZID=America/New_York:20260531T130000
DTSTAMP:20260419T180416
CREATED:20251003T162535Z
LAST-MODIFIED:20260412T184743Z
UID:10001259-1780218000-1780232400@gunstuff.tv
SUMMARY:Bud Meyer Black Powder Silhouette
DESCRIPTION:
URL:https://gunstuff.tv/event/bud-meyer-black-powder-silhouette-2/
LOCATION:Lea Valley
END:VEVENT
BEGIN:VEVENT
DTSTART;TZID=America/New_York:20260531T100000
DTEND;TZID=America/New_York:20260531T120000
DTSTAMP:20260419T180416
CREATED:20251003T162641Z
LAST-MODIFIED:20251107T180146Z
UID:10001440-1780221600-1780228800@gunstuff.tv
SUMMARY:22 Marksmanship Challenge (Aspirin Shoot)
DESCRIPTION:Aspirin @ 50 yrds\nTums @ 100 yrds\nSteel @ 150 & 200 yrds\nCenterfire prohibited during event.
URL:https://gunstuff.tv/event/22-marksmanship-challenge-aspirin-shoot-8/
LOCATION:Square Range
END:VEVENT
BEGIN:VEVENT
DTSTART;TZID=UTC:20260531T120000
DTEND;TZID=UTC:20260531T120000
DTSTAMP:20260419T180416
CREATED:20260418T174740Z
LAST-MODIFIED:20260418T174740Z
UID:10008050-1780228800-1780228800@gunstuff.tv
SUMMARY:Sunday Steel Challenge
DESCRIPTION:Sunday Steel Challenge\nDate: 5/31/26\nStart Time: 12:00 PM\nLocation:\nOakland County Sportsman’s Club (SCSA431)\n4770 Waterford Rd\nClarkston\, MI\nEvent Contact Information\nMike Stailey\n586.354.6306\nmstailey7137@gmail.com\nEvent Website \nHome
URL:https://gunstuff.tv/event/sunday-steel-challenge-3/
LOCATION:Oakland County Sportsman’s Club (SCSA431)\, 4770 Waterford Rd\, Clarkston\, MI\, United States
GEO:42.705297;-83.4014
X-APPLE-STRUCTURED-LOCATION;VALUE=URI;X-ADDRESS=Oakland County Sportsman’s Club (SCSA431) 4770 Waterford Rd Clarkston MI United States;X-APPLE-RADIUS=500;X-TITLE=4770 Waterford Rd:geo:-83.4014,42.705297
END:VEVENT
BEGIN:VEVENT
DTSTART;TZID=America/New_York:20260531T123000
DTEND;TZID=America/New_York:20260531T143000
DTSTAMP:20260419T180416
CREATED:20260404T214729Z
LAST-MODIFIED:20260411T214631Z
UID:10006751-1780230600-1780237800@gunstuff.tv
SUMMARY:New Member Orientation
DESCRIPTION:Reservation required contact Eric Zaharee at absaidpa@gmail.com to attend
URL:https://gunstuff.tv/event/new-member-orientation-15/
LOCATION:Classroom and Ranges
END:VEVENT
BEGIN:VEVENT
DTSTART;TZID=America/New_York:20260531T130000
DTEND;TZID=America/New_York:20260531T150000
DTSTAMP:20260419T180416
CREATED:20251019T193323Z
LAST-MODIFIED:20260111T210132Z
UID:10002455-1780232400-1780239600@gunstuff.tv
SUMMARY:Open Trap Shoot - Weather Permitting
DESCRIPTION:Open shoot\, $5.00 per round.  \nThe trap field is 2/10ths of a mile past the clubhouse.
URL:https://gunstuff.tv/event/open-trap-shoot-weather-permitting-6/
LOCATION:523 Sizer Run Road Emporium\, Emporium\, PA\, United States
GEO:41.500749;-78.322815
END:VEVENT
BEGIN:VEVENT
DTSTART;TZID=UTC:20260531T140000
DTEND;TZID=UTC:20260531T140000
DTSTAMP:20260419T180416
CREATED:20260311T063136Z
LAST-MODIFIED:20260401T070142Z
UID:10006268-1780236000-1780236000@gunstuff.tv
SUMMARY:BVSA 2026 STEEL CHALLENGE - May 31
DESCRIPTION:BVSA 2026 STEEL CHALLENGE – May 31\nDate: 5/31/26\nStart Time: 2:00 PM\nLocation:\nBuffalo Valley Sportsmen’s Association (SCSA389)\n950 Sportsmens Club Rd\nMifflinburg\, PA\nEvent Contact Information\nLuke Walter\n5709391444\nlbw2@pct.edu\nEvent Website\nhttp://bvsportsman.org
URL:https://gunstuff.tv/event/bvsa-2026-steel-challenge-may-31/
LOCATION:Buffalo Valley Sportsmen’s Association (SCSA389)\, 1300 Sportsmens Club Rd\, Mifflinburg\, PA\, United States
GEO:40.947311;-77.103732
X-APPLE-STRUCTURED-LOCATION;VALUE=URI;X-ADDRESS=Buffalo Valley Sportsmen’s Association (SCSA389) 1300 Sportsmens Club Rd Mifflinburg PA United States;X-APPLE-RADIUS=500;X-TITLE=1300 Sportsmens Club Rd:geo:-77.103732,40.947311
END:VEVENT
BEGIN:VEVENT
DTSTART;VALUE=DATE:20260601
DTEND;VALUE=DATE:20260602
DTSTAMP:20260419T180416
CREATED:20260213T031057Z
LAST-MODIFIED:20260410T034700Z
UID:10005241-1780272000-1780358399@gunstuff.tv
SUMMARY:Club Closed
DESCRIPTION:
URL:https://gunstuff.tv/event/club-closed-32/
LOCATION:ID
END:VEVENT
BEGIN:VEVENT
DTSTART;TZID=America/New_York:20260601T090000
DTEND;TZID=America/New_York:20260601T100000
DTSTAMP:20260419T180416
CREATED:20251003T162641Z
LAST-MODIFIED:20251010T162928Z
UID:10001441-1780304400-1780308000@gunstuff.tv
SUMMARY:4-H Class Indoors
DESCRIPTION:Indoor reserved for 4-H class.
URL:https://gunstuff.tv/event/4-h-class-indoors-35/
LOCATION:Indoor Range
END:VEVENT
BEGIN:VEVENT
DTSTART;TZID=America/New_York:20260601T160000
DTEND;TZID=America/New_York:20260601T180000
DTSTAMP:20260419T180416
CREATED:20251003T162641Z
LAST-MODIFIED:20251205T181708Z
UID:10001442-1780329600-1780336800@gunstuff.tv
SUMMARY:Skeet League
DESCRIPTION:Contact Frank Andrews with Questions.
URL:https://gunstuff.tv/event/skeet-league-35/
LOCATION:ID
END:VEVENT
BEGIN:VEVENT
DTSTART;TZID=America/New_York:20260601T160000
DTEND;TZID=America/New_York:20260601T180000
DTSTAMP:20260419T180416
CREATED:20251212T181641Z
LAST-MODIFIED:20260411T214631Z
UID:10003536-1780329600-1780336800@gunstuff.tv
SUMMARY:Skeet League
DESCRIPTION:Contact Frank Andrews with Questions.
URL:https://gunstuff.tv/event/skeet-league-125/
LOCATION:Skeet Range
END:VEVENT
BEGIN:VEVENT
DTSTART;TZID=America/New_York:20260601T193000
DTEND;TZID=America/New_York:20260601T223000
DTSTAMP:20260419T180416
CREATED:20251012T173815Z
LAST-MODIFIED:20260412T184744Z
UID:10002104-1780342200-1780353000@gunstuff.tv
SUMMARY:Board Meeting
DESCRIPTION:Monthly Board Meeting
URL:https://gunstuff.tv/event/board-meeting-27/
LOCATION:Clubhouse
END:VEVENT
BEGIN:VEVENT
DTSTART;VALUE=DATE:20260602
DTEND;VALUE=DATE:20260603
DTSTAMP:20260419T180416
CREATED:20251003T160029Z
LAST-MODIFIED:20260412T043230Z
UID:10000979-1780358400-1780444799@gunstuff.tv
SUMMARY:100\, 200\, 300 Yard Practice Benchrest Range
DESCRIPTION:
URL:https://gunstuff.tv/event/100-200-300-yard-practice-benchrest-range-27/
LOCATION:ID
END:VEVENT
BEGIN:VEVENT
DTSTART;VALUE=DATE:20260602
DTEND;VALUE=DATE:20260603
DTSTAMP:20260419T180416
CREATED:20260213T031057Z
LAST-MODIFIED:20260410T034700Z
UID:10005240-1780358400-1780444799@gunstuff.tv
SUMMARY:Club closed
DESCRIPTION:
URL:https://gunstuff.tv/event/club-closed-31/
LOCATION:ID
END:VEVENT
BEGIN:VEVENT
DTSTART;TZID=America/New_York:20260602T090000
DTEND;TZID=America/New_York:20260602T160000
DTSTAMP:20260419T180416
CREATED:20251012T173815Z
LAST-MODIFIED:20260412T184744Z
UID:10002105-1780390800-1780416000@gunstuff.tv
SUMMARY:US Army 3rd Infantry GAFPB Quals
DESCRIPTION:Host members of the 3rd Infantry Regiment (Old Guard) for the pistol segment of their qualification for the German Army Proficiency Badge
URL:https://gunstuff.tv/event/us-army-3rd-infantry-gafpb-quals-4/
LOCATION:Walsh & Sieger Ranges
END:VEVENT
BEGIN:VEVENT
DTSTART;TZID=America/New_York:20260602T170000
DTEND;TZID=America/New_York:20260602T200000
DTSTAMP:20260419T180416
CREATED:20260328T214630Z
LAST-MODIFIED:20260411T214631Z
UID:10006584-1780419600-1780430400@gunstuff.tv
SUMMARY:Tactical Tuesday IDPA Practice
DESCRIPTION:Shooters new to Action Shooting contact Eric Zaharee at ABSAIDPA@gmail .com\nSee (Alder Brook) PractiScore.com for sign up Cost $5
URL:https://gunstuff.tv/event/tactical-tuesday-idpa-practice-8/
LOCATION:Action Bays
END:VEVENT
BEGIN:VEVENT
DTSTART;TZID=UTC:20260602T173000
DTEND;TZID=UTC:20260602T173000
DTSTAMP:20260419T180416
CREATED:20260418T174740Z
LAST-MODIFIED:20260418T174740Z
UID:10008051-1780421400-1780421400@gunstuff.tv
SUMMARY:Boise Steel Challenge
DESCRIPTION:Boise Steel Challenge\nDate: 6/02/26\nStart Time: 5:30 PM\nLocation:\nBoise Steel Challenge (SCSA581)\n2420 E Kuna Mora rd\nKuna\, ID\nEvent Contact Information\nPaul\n208-919-5336\nboisesteelchallenge@gmail.com\nMatch Information\nHeld at Black’s Creek Shooting Range\nEvent Website \nBoise Steel Challenge
URL:https://gunstuff.tv/event/boise-steel-challenge-9/
LOCATION:Boise Steel Challenge (SCSA581)\, 2420 E Kuna Mora Rd\, Kuna\, ID\, United States
GEO:43.459228;-116.383121
X-APPLE-STRUCTURED-LOCATION;VALUE=URI;X-ADDRESS=Boise Steel Challenge (SCSA581) 2420 E Kuna Mora Rd Kuna ID United States;X-APPLE-RADIUS=500;X-TITLE=2420 E Kuna Mora Rd:geo:-116.383121,43.459228
END:VEVENT
END:VCALENDAR