BEGIN:VCALENDAR
VERSION:2.0
PRODID:-//GunStuff TV - ECPv6.15.20//NONSGML v1.0//EN
CALSCALE:GREGORIAN
METHOD:PUBLISH
X-WR-CALNAME:GunStuff TV
X-ORIGINAL-URL:https://gunstuff.tv
X-WR-CALDESC:Events for GunStuff TV
REFRESH-INTERVAL;VALUE=DURATION:PT1H
X-Robots-Tag:noindex
X-PUBLISHED-TTL:PT1H
BEGIN:VTIMEZONE
TZID:America/New_York
BEGIN:DAYLIGHT
TZOFFSETFROM:-0500
TZOFFSETTO:-0400
TZNAME:EDT
DTSTART:20250309T070000
END:DAYLIGHT
BEGIN:STANDARD
TZOFFSETFROM:-0400
TZOFFSETTO:-0500
TZNAME:EST
DTSTART:20251102T060000
END:STANDARD
BEGIN:DAYLIGHT
TZOFFSETFROM:-0500
TZOFFSETTO:-0400
TZNAME:EDT
DTSTART:20260308T070000
END:DAYLIGHT
BEGIN:STANDARD
TZOFFSETFROM:-0400
TZOFFSETTO:-0500
TZNAME:EST
DTSTART:20261101T060000
END:STANDARD
BEGIN:DAYLIGHT
TZOFFSETFROM:-0500
TZOFFSETTO:-0400
TZNAME:EDT
DTSTART:20270314T070000
END:DAYLIGHT
BEGIN:STANDARD
TZOFFSETFROM:-0400
TZOFFSETTO:-0500
TZNAME:EST
DTSTART:20271107T060000
END:STANDARD
END:VTIMEZONE
BEGIN:VTIMEZONE
TZID:UTC
BEGIN:STANDARD
TZOFFSETFROM:+0000
TZOFFSETTO:+0000
TZNAME:UTC
DTSTART:20250101T000000
END:STANDARD
END:VTIMEZONE
BEGIN:VTIMEZONE
TZID:America/Chicago
BEGIN:DAYLIGHT
TZOFFSETFROM:-0600
TZOFFSETTO:-0500
TZNAME:CDT
DTSTART:20250309T080000
END:DAYLIGHT
BEGIN:STANDARD
TZOFFSETFROM:-0500
TZOFFSETTO:-0600
TZNAME:CST
DTSTART:20251102T070000
END:STANDARD
BEGIN:DAYLIGHT
TZOFFSETFROM:-0600
TZOFFSETTO:-0500
TZNAME:CDT
DTSTART:20260308T080000
END:DAYLIGHT
BEGIN:STANDARD
TZOFFSETFROM:-0500
TZOFFSETTO:-0600
TZNAME:CST
DTSTART:20261101T070000
END:STANDARD
BEGIN:DAYLIGHT
TZOFFSETFROM:-0600
TZOFFSETTO:-0500
TZNAME:CDT
DTSTART:20270314T080000
END:DAYLIGHT
BEGIN:STANDARD
TZOFFSETFROM:-0500
TZOFFSETTO:-0600
TZNAME:CST
DTSTART:20271107T070000
END:STANDARD
END:VTIMEZONE
BEGIN:VTIMEZONE
TZID:America/Phoenix
BEGIN:STANDARD
TZOFFSETFROM:-0700
TZOFFSETTO:-0700
TZNAME:MST
DTSTART:20250101T000000
END:STANDARD
END:VTIMEZONE
BEGIN:VTIMEZONE
TZID:Europe/Berlin
BEGIN:DAYLIGHT
TZOFFSETFROM:+0100
TZOFFSETTO:+0200
TZNAME:CEST
DTSTART:20250330T010000
END:DAYLIGHT
BEGIN:STANDARD
TZOFFSETFROM:+0200
TZOFFSETTO:+0100
TZNAME:CET
DTSTART:20251026T010000
END:STANDARD
BEGIN:DAYLIGHT
TZOFFSETFROM:+0100
TZOFFSETTO:+0200
TZNAME:CEST
DTSTART:20260329T010000
END:DAYLIGHT
BEGIN:STANDARD
TZOFFSETFROM:+0200
TZOFFSETTO:+0100
TZNAME:CET
DTSTART:20261025T010000
END:STANDARD
BEGIN:DAYLIGHT
TZOFFSETFROM:+0100
TZOFFSETTO:+0200
TZNAME:CEST
DTSTART:20270328T010000
END:DAYLIGHT
BEGIN:STANDARD
TZOFFSETFROM:+0200
TZOFFSETTO:+0100
TZNAME:CET
DTSTART:20271031T010000
END:STANDARD
END:VTIMEZONE
BEGIN:VTIMEZONE
TZID:America/Los_Angeles
BEGIN:DAYLIGHT
TZOFFSETFROM:-0800
TZOFFSETTO:-0700
TZNAME:PDT
DTSTART:20250309T100000
END:DAYLIGHT
BEGIN:STANDARD
TZOFFSETFROM:-0700
TZOFFSETTO:-0800
TZNAME:PST
DTSTART:20251102T090000
END:STANDARD
BEGIN:DAYLIGHT
TZOFFSETFROM:-0800
TZOFFSETTO:-0700
TZNAME:PDT
DTSTART:20260308T100000
END:DAYLIGHT
BEGIN:STANDARD
TZOFFSETFROM:-0700
TZOFFSETTO:-0800
TZNAME:PST
DTSTART:20261101T090000
END:STANDARD
BEGIN:DAYLIGHT
TZOFFSETFROM:-0800
TZOFFSETTO:-0700
TZNAME:PDT
DTSTART:20270314T100000
END:DAYLIGHT
BEGIN:STANDARD
TZOFFSETFROM:-0700
TZOFFSETTO:-0800
TZNAME:PST
DTSTART:20271107T090000
END:STANDARD
END:VTIMEZONE
BEGIN:VEVENT
DTSTART;TZID=America/New_York:20260815T080000
DTEND;TZID=America/New_York:20260815T123000
DTSTAMP:20260420T192715
CREATED:20260404T214734Z
LAST-MODIFIED:20260411T214635Z
UID:10006766-1786780800-1786797000@gunstuff.tv
SUMMARY:Work Party
DESCRIPTION:Volunteering Members receive partial refund for next year’s dues in September per Policy see web site for details.
URL:https://gunstuff.tv/event/work-party-5/
LOCATION:Ranges
END:VEVENT
BEGIN:VEVENT
DTSTART;TZID=UTC:20260815T080000
DTEND;TZID=UTC:20260815T080000
DTSTAMP:20260420T192715
CREATED:20260304T061641Z
LAST-MODIFIED:20260401T070146Z
UID:10006097-1786780800-1786780800@gunstuff.tv
SUMMARY:Bandera Steel Challenge
DESCRIPTION:Bandera Steel Challenge\nDate: 8/15/26\nStart Time: 8:00 AM\nLocation:\nBandera Steel Challenge (SCSA516)\n809 FM 1077\nBandera\, TX\nEvent Contact Information\nTim Reedy\n2102873785\nbandera.steel.match@gmail.com\nMatch Information\nOnline payment now accepted!\nIf shooting 2 guns\, put each division after your last name (I.e. Reedy CO\, Reedy RFPO)\nWe will shoot 6 official classifier stages. I will upload results to SCSA.\n* Setup @ 7:30\, Signup @ 8\, New Shooter’s meeting @ 8:40\, Start @9:00\n* Check in at Bay 3\, even if you paid online.\n* First-timers need to attend the “New Shooters’ Meeting” held in Bay 2 about 20 minutes before the match starts.\n* We will shoot 4 stages and after a quick reconfiguration\, shoot the other 2 stages.\nGear:\n* Pistols: Non-collapsing belt holster positioned on or in front of your hips. (No small of back\, or cross-draw allowed).\n* Enough magazines to hold 30 rounds\n* ~200 rounds of ammunition (It’s 150 if you don’t miss)\n* Eye and ear protection.\nPrices:\n* General Public. – $30\n* Bandera Gun Club Member -$20\n* Active Duty LEO or MIL – $20\n* 2nd Gun (2 registrations) – $10\nEvent Website\nhttps://practiscore.com/clubs/bandera_steel
URL:https://gunstuff.tv/event/bandera-steel-challenge-8/
LOCATION:Bandera Steel Challenge (SCSA516)\, Bandera\, TX\, United States
GEO:29.724328;-99.104014
END:VEVENT
BEGIN:VEVENT
DTSTART;TZID=UTC:20260815T080000
DTEND;TZID=UTC:20260815T080000
DTSTAMP:20260420T192716
CREATED:20260124T171827Z
LAST-MODIFIED:20260410T113144Z
UID:10004721-1786780800-1786780800@gunstuff.tv
SUMMARY:Prairie Thunder GP17 USPSA - 8-15-26
DESCRIPTION:Prairie Thunder GP17 USPSA – 8-15-26\nDate : 8/15/26\nStart Time: 8:00 AM\nLocation:\nPrairie Thunder (GP17)\n21602 Elk Vale Rd\nPiedmont\, SD\nEvent Contact Information\nBruce Schmidt\n6053919117\nprairiethundergc@gmail.com\nEvent Website\nhttps://practiscore.com/prairie-thunder-gp17-08-15-26-uspsa/register
URL:https://gunstuff.tv/event/prairie-thunder-gp17-uspsa-8-15-26/
LOCATION:Prairie Thunder (GP17)\, 21700 Elk Vale Rd\, Piedmont\, SD\, United States
GEO:44.252848;-103.151343
X-APPLE-STRUCTURED-LOCATION;VALUE=URI;X-ADDRESS=Prairie Thunder (GP17) 21700 Elk Vale Rd Piedmont SD United States;X-APPLE-RADIUS=500;X-TITLE=21700 Elk Vale Rd:geo:-103.151343,44.252848
END:VEVENT
BEGIN:VEVENT
DTSTART;VALUE=DATE:20260815
DTEND;VALUE=DATE:20260816
DTSTAMP:20260420T192716
CREATED:20260412T184750Z
LAST-MODIFIED:20260412T184750Z
UID:10007469-1786752000-1786838399@gunstuff.tv
SUMMARY:Air Pistol match
DESCRIPTION:
URL:https://gunstuff.tv/event/air-pistol-match/
LOCATION:Clubhouse
END:VEVENT
BEGIN:VEVENT
DTSTART;VALUE=DATE:20260815
DTEND;VALUE=DATE:20260816
DTSTAMP:20260420T192716
CREATED:20260213T031100Z
LAST-MODIFIED:20260410T034703Z
UID:10005283-1786752000-1786838399@gunstuff.tv
SUMMARY:RICHMOND COUNTY CITIZENS CLASS(8-3 classroom and pistol range closed)
DESCRIPTION:
URL:https://gunstuff.tv/event/richmond-county-citizens-class8-3-classroom-and-pistol-range-closed/
LOCATION:AL
END:VEVENT
BEGIN:VEVENT
DTSTART;VALUE=DATE:20260815
DTEND;VALUE=DATE:20260816
DTSTAMP:20260420T192716
CREATED:20260213T031059Z
LAST-MODIFIED:20260410T034703Z
UID:10005282-1786752000-1786838399@gunstuff.tv
SUMMARY:USPSA Pistol Match
DESCRIPTION:USPSA (United States Practical ShootingAssociation) Pistol Match: Practical Shooting measures the shooter’s ability toshoot rapidly and accurately through obstacle-laden courses. The shooter moves\,negotiates\, runs\, covers\, and speed reloads through the stage as fast as theirskill will allow.  If this fast paced shooting sounds like fun\, come outand give it a try. Show up with an unloaded centerfire pistol in .38\, 9mm\, .40\,or .45 in an enclosed case and ask a match official where the safe area is soyou can holster your gun safely.  Also bring a rigid holster\, magazines\,and mag pouches capable of holding at least 32 rounds.  Overall matchround counts are usually between 100 and 150 rounds.  Specific divisionrequirements can be found at http://uspsa.org.  Starts at 9:30 AM and costwill be $20 ($15 for Pinetucky members\, active duty military\, police\, andfire). You can sign up at practiscore.com
URL:https://gunstuff.tv/event/uspsa-pistol-match-7/
LOCATION:Pinetucky Gun Club\, 2096 Greenland Rd\, Blythe\, GA\, United States
GEO:33.344103;-82.138722
X-APPLE-STRUCTURED-LOCATION;VALUE=URI;X-ADDRESS=Pinetucky Gun Club 2096 Greenland Rd Blythe GA United States;X-APPLE-RADIUS=500;X-TITLE=2096 Greenland Rd:geo:-82.138722,33.344103
END:VEVENT
BEGIN:VEVENT
DTSTART;VALUE=DATE:20260815
DTEND;VALUE=DATE:20260816
DTSTAMP:20260420T192716
CREATED:20251005T190547Z
LAST-MODIFIED:20260412T203314Z
UID:10001724-1786752000-1786838399@gunstuff.tv
SUMMARY:Crushing Clays for Rylee Noble
DESCRIPTION:Sporting Clays Fundraiser benefiting Rylee Noble & Raising Awareness of MPS. For more info contact Jody Johnson at 210-413-2141 or Teisa Binder at 281-830-5625. \nSee event flyer
URL:https://gunstuff.tv/event/crushing-clays-for-rylee-noble/
LOCATION:AL
END:VEVENT
BEGIN:VEVENT
DTSTART;VALUE=DATE:20260815
DTEND;VALUE=DATE:20260816
DTSTAMP:20260420T192716
CREATED:20251003T160030Z
LAST-MODIFIED:20260412T043233Z
UID:10001020-1786752000-1786838399@gunstuff.tv
SUMMARY:1000 Yard Practice 6:30am Pits
DESCRIPTION:
URL:https://gunstuff.tv/event/1000-yard-practice-630am-pits-15/
LOCATION:AL
END:VEVENT
BEGIN:VEVENT
DTSTART;TZID=UTC:20260814T090000
DTEND;TZID=UTC:20260814T090000
DTSTAMP:20260420T192716
CREATED:20251031T195554Z
LAST-MODIFIED:20260415T070236Z
UID:10002831-1786698000-1786698000@gunstuff.tv
SUMMARY:2026 Alaska State Steel Challenge Championship
DESCRIPTION:2026 Alaska State Steel Challenge Championship\nMatch Status: Approved by DNROI\nMatch Starts on Aug 14\, 2026\nMatch will end Aug 16\, 2026\nMatch Location:\nSnowshoe Gun Club\n40450 Shotgun Dr.\nKenai\, AK 99611\nManaged by:\nSnowshoe Gun Club\nStage Count: 8\nRound Count: 195\nMatch Entry Fee: $35.00\nMatch Director: Jeremy Boutwell\nRange Master: Kevin Feller\nAdditional Details\nRegister!\nhttps://practiscore.com/2026-alaska-state-steel-challenge/register
URL:https://gunstuff.tv/event/2026-alaska-state-steel-challenge-championship/
LOCATION:Snowshoe Gun Club\, 2298 Shotgun Dr\, Big Lake\, AK\, United States
GEO:61.559478;-149.797394
X-APPLE-STRUCTURED-LOCATION;VALUE=URI;X-ADDRESS=Snowshoe Gun Club 2298 Shotgun Dr Big Lake AK United States;X-APPLE-RADIUS=500;X-TITLE=2298 Shotgun Dr:geo:-149.797394,61.559478
END:VEVENT
BEGIN:VEVENT
DTSTART;TZID=UTC:20260814T090000
DTEND;TZID=UTC:20260814T090000
DTSTAMP:20260420T192717
CREATED:20251031T195554Z
LAST-MODIFIED:20260415T070236Z
UID:10002832-1786698000-1786698000@gunstuff.tv
SUMMARY:VA State Steel Championship
DESCRIPTION:VA State Steel Championship\nMatch Status: Approved by DNROI\nMatch Starts on Aug 14\, 2026\nMatch will end Aug 16\, 2026\nMatch Location:\nVasteel\nBrushy Mountain Club 1813 Izaak Walton Road Hurt\, VA\nHurt\, VA 24563\nManaged by:\nVasteel\nStage Count: 6\nRound Count: 300\nMatch Entry Fee: $50.00\nMatch Director: Judy Gallion\nRange Master: Zack Jones\nAdditional Details\nTo be added\nRegister!\nhttps://practiscore.com/virginia-state-steel-challenge-championship-2026/registerhttp://To be addedhttps://practiscore.com/virginia-state-steel-challenge-championship-2026/register
URL:https://gunstuff.tv/event/va-state-steel-championship/
LOCATION:Vasteel\, 174 Izaak Walton Rd\, Hurt\, VA\, United States
GEO:37.005382;-79.325362
X-APPLE-STRUCTURED-LOCATION;VALUE=URI;X-ADDRESS=Vasteel 174 Izaak Walton Rd Hurt VA United States;X-APPLE-RADIUS=500;X-TITLE=174 Izaak Walton Rd:geo:-79.325362,37.005382
END:VEVENT
BEGIN:VEVENT
DTSTART;TZID=UTC:20260814T080000
DTEND;TZID=UTC:20260814T080000
DTSTAMP:20260420T192717
CREATED:20260128T014755Z
LAST-MODIFIED:20260401T070146Z
UID:10004809-1786694400-1786694400@gunstuff.tv
SUMMARY:Virginia State Steel Challenge Championship
DESCRIPTION:Virginia State Steel Challenge Championship\nDates: 8/14/26 – 8/16/26\nStart Time: 8:00 AM\nLocation:\nVasteel (SCSA382)\nBrushy Mountain Club 1813 Izaak Walton Road Hurt\, VA\nHurt\, VA\nEvent Contact Information\nJudy Gallion\n434-907-4443\nvasteel21@gmail.com\nMatch Information\nThis will be a Tier 2 State match with 6 stages\, no outer limits or speed option\nEvent Website\nhttps://practiscore.com/virginia-state-steel-challenge-championship-2026/register
URL:https://gunstuff.tv/event/virginia-state-steel-challenge-championship/
LOCATION:Vasteel (SCSA382)\, 307 Izaak Walton Rd\, Gretna\, VA\, United States
GEO:37.005382;-79.325362
X-APPLE-STRUCTURED-LOCATION;VALUE=URI;X-ADDRESS=Vasteel (SCSA382) 307 Izaak Walton Rd Gretna VA United States;X-APPLE-RADIUS=500;X-TITLE=307 Izaak Walton Rd:geo:-79.325362,37.005382
END:VEVENT
BEGIN:VEVENT
DTSTART;TZID=Europe/Berlin:20260814T000000
DTEND;TZID=Europe/Berlin:20260816T235900
DTSTAMP:20260420T192717
CREATED:20251106T204552Z
LAST-MODIFIED:20260411T174700Z
UID:10002940-1786665600-1786924740@gunstuff.tv
SUMMARY:2026 German PCC
DESCRIPTION:https://ipscmatch.de/m/2026_German_PCC
URL:https://gunstuff.tv/event/2026-german-pcc/
LOCATION:Philippsburg
ORGANIZER;CN="Bund Deutscher Sportsch%C3%BCtzen 1975 e.V.%2C Birkenring 5%2C 16356 Ahrensfelde%2C Email%3A info@bdsnet.de":MAILTO:sportdirektor@bdsnet.de
END:VEVENT
BEGIN:VEVENT
DTSTART;TZID=UTC:20260813T210000
DTEND;TZID=UTC:20260813T230000
DTSTAMP:20260420T192718
CREATED:20260111T213127Z
LAST-MODIFIED:20260414T084802Z
UID:10004410-1786654800-1786662000@gunstuff.tv
SUMMARY:RMSCA Board of Directors Meeting
DESCRIPTION:
URL:https://gunstuff.tv/event/rmsca-board-of-directors-meeting-4/
LOCATION:AL
ORGANIZER;CN="Rocky Mountain Steel Construction Association":MAILTO:info@rmsca.org
END:VEVENT
BEGIN:VEVENT
DTSTART;TZID=America/Chicago:20260813T190000
DTEND;TZID=America/Chicago:20260813T200000
DTSTAMP:20260420T192718
CREATED:20251028T213155Z
LAST-MODIFIED:20260414T221654Z
UID:10002628-1786647600-1786651200@gunstuff.tv
SUMMARY:South Suburban Cook County Townhall Meeting
DESCRIPTION:Come out and join your friends at the ISRA South Suburban Cook County Townhall meeting from 7 pm-8 pm. As always\, we will discuss current events.\nOur host Papa Joe’s Restaurant will be serving a buffet-style dinner with unlimited soft drinks starting at 6:15 pm.\nThe cost of the buffet is $17.\nCome join us and enjoy great food and company and help support our gracious host\, Papa Joe’s Restaurant.
URL:https://gunstuff.tv/event/south-suburban-cook-county-grass-roots-meeting-11/
LOCATION:Papa Joe’s Restaurant – Orland Park\, 14459 la Grange Rd\, Orland Park\, IL\, United States
CATEGORIES:Event Calendar
GEO:41.627517;-87.853783
X-APPLE-STRUCTURED-LOCATION;VALUE=URI;X-ADDRESS=Papa Joe’s Restaurant – Orland Park 14459 la Grange Rd Orland Park IL United States;X-APPLE-RADIUS=500;X-TITLE=14459 la Grange Rd:geo:-87.853783,41.627517
END:VEVENT
BEGIN:VEVENT
DTSTART;TZID=UTC:20260813T090000
DTEND;TZID=UTC:20260813T090000
DTSTAMP:20260420T192718
CREATED:20260228T173138Z
LAST-MODIFIED:20260415T070236Z
UID:10005888-1786611600-1786611600@gunstuff.tv
SUMMARY:Area 2 Steel Challenge Championship 2026 Presented by Otero Practical Shooting Association
DESCRIPTION:Area 2 Steel Challenge Championship 2026 Presented by Otero Practical Shooting Association\nMatch Status: Approved by DNROI\nMatch Starts on Aug 13\, 2026\nMatch will end Aug 16\, 2026\nMatch Location:\nOtero Practical Shooting Assn\n19 Rockcliff Rd\nLa Luz\, NM 88310\nManaged by:\nOtero Practical Shooting Assn\nStage Count: 8\nRound Count: 195\nMatch Entry Fee: $75.00\nMatch Director: Tom Chesterman\nRange Master: Mark Johnson\nAdditional Details\nWe will be shooting all 8 steel challenge classifier stages for a total of 195 rounds. There will be two flights per day.\nWe are in the desert Southwest so plan for dry heat. We will have shade for the shooting boxes and there will be some shade for waiting competitors. We will be able to provide more information regarding food and other sundries as soon as they become available through email to match participants.\nRegister!\nhttps://practiscore.com/login
URL:https://gunstuff.tv/event/area-2-steel-challenge-championship-2026-presented-by-otero-practical-shooting-association/
LOCATION:Otero Practical Shooting Assn\, 1601 la Luz Pl\, Alamogordo\, NM\, United States
GEO:32.909104;-105.955495
X-APPLE-STRUCTURED-LOCATION;VALUE=URI;X-ADDRESS=Otero Practical Shooting Assn 1601 la Luz Pl Alamogordo NM United States;X-APPLE-RADIUS=500;X-TITLE=1601 la Luz Pl:geo:-105.955495,32.909104
END:VEVENT
BEGIN:VEVENT
DTSTART;VALUE=DATE:20260813
DTEND;VALUE=DATE:20260814
DTSTAMP:20260420T192718
CREATED:20260404T214734Z
LAST-MODIFIED:20260411T214635Z
UID:10006765-1786579200-1786665599@gunstuff.tv
SUMMARY:USCCA-Use of Force Training Series-The Aftermath
DESCRIPTION:Indoor Range Closed\, Registration required Free class\, Lecture Only – The Aftermath\, what to expect after a defensive incident and how to navigate next steps. Contact Marcie Zaharee for Info zahareemarcie@gmail.com
URL:https://gunstuff.tv/event/uscca-use-of-force-training-series-the-aftermath/
LOCATION:Classroom
END:VEVENT
BEGIN:VEVENT
DTSTART;VALUE=DATE:20260813
DTEND;VALUE=DATE:20260814
DTSTAMP:20260420T192718
CREATED:20251003T160030Z
LAST-MODIFIED:20260412T043233Z
UID:10001018-1786579200-1786665599@gunstuff.tv
SUMMARY:1000 Yard Practice 6:30am Pits
DESCRIPTION:
URL:https://gunstuff.tv/event/1000-yard-practice-630am-pits-13/
LOCATION:AL
END:VEVENT
BEGIN:VEVENT
DTSTART;TZID=America/Los_Angeles:20260812T170000
DTEND;TZID=America/Los_Angeles:20260812T220000
DTSTAMP:20260420T192718
CREATED:20260420T144653Z
LAST-MODIFIED:20260420T144654Z
UID:10008075-1786554000-1786572000@gunstuff.tv
SUMMARY:MOORE N MOORE - NIGHT SHOOT & BBQ
DESCRIPTION:For more information\, contact Moore N Moore at https://www.moorenmoore.com/night-shooting/
URL:https://gunstuff.tv/event/moore-n-moore-night-shoot-bbq-43/
LOCATION:Moore N Moore Sporting Clays\, 12653 Little Tujunga Canyon Rd\, Sylmar\, CA\, United States
CATEGORIES:Moore N Moore
ATTACH;FMTTYPE=image/png:https://gunstuff.tv/wp-content/uploads/2025/10/image-pjjZEf.png
ORGANIZER;CN="Moore N Moore Sporting Clays":MAILTO:info@moorenmoore.com
GEO:34.282317;-118.371281
X-APPLE-STRUCTURED-LOCATION;VALUE=URI;X-ADDRESS=Moore N Moore Sporting Clays 12653 Little Tujunga Canyon Rd Sylmar CA United States;X-APPLE-RADIUS=500;X-TITLE=12653 Little Tujunga Canyon Rd:geo:-118.371281,34.282317
END:VEVENT
BEGIN:VEVENT
DTSTART;TZID=UTC:20260812T164500
DTEND;TZID=UTC:20260812T164500
DTSTAMP:20260420T192718
CREATED:20260121T014637Z
LAST-MODIFIED:20260401T070146Z
UID:10004653-1786553100-1786553100@gunstuff.tv
SUMMARY:Bass River Weds Nite Steel
DESCRIPTION:Bass River Weds Nite Steel\nDate: 8/12/26\nStart Time: 4:45 PM\nLocation:\nBass River Rod & Gun Club (SCSA467)\nBass River Rod &Gun 620 Rt. 6A\nYarmouthport\, MA\nEvent Contact Information\nTimothy J Kent\n5082372137\ntjkent@comcast.net\nEvent Website\nhttps://www.bassriverrodandgun.com/
URL:https://gunstuff.tv/event/bass-river-weds-nite-steel-16/
LOCATION:Bass River Rod & Gun Club (SCSA467)\, 79 State Rte 6 Alt\, Dennis\, MA\, United States
GEO:41.721025;-70.196653
X-APPLE-STRUCTURED-LOCATION;VALUE=URI;X-ADDRESS=Bass River Rod & Gun Club (SCSA467) 79 State Rte 6 Alt Dennis MA United States;X-APPLE-RADIUS=500;X-TITLE=79 State Rte 6 Alt:geo:-70.196653,41.721025
END:VEVENT
BEGIN:VEVENT
DTSTART;TZID=America/New_York:20260811T180000
DTEND;TZID=America/New_York:20260811T203000
DTSTAMP:20260420T192718
CREATED:20251003T162405Z
LAST-MODIFIED:20260410T200142Z
UID:10001128-1786471200-1786480200@gunstuff.tv
SUMMARY:MRPC Member Meeting
DESCRIPTION:
URL:https://gunstuff.tv/event/mrpc-member-meeting-6/
LOCATION:Perry’s Restaurant\, 1210 Annapolis Rd\, Odenton\, MD\, United States
GEO:39.083488;-76.692407
X-APPLE-STRUCTURED-LOCATION;VALUE=URI;X-ADDRESS=Perry’s Restaurant 1210 Annapolis Rd Odenton MD United States;X-APPLE-RADIUS=500;X-TITLE=1210 Annapolis Rd:geo:-76.692407,39.083488
END:VEVENT
BEGIN:VEVENT
DTSTART;TZID=America/New_York:20260811T170000
DTEND;TZID=America/New_York:20260811T200000
DTSTAMP:20260420T192718
CREATED:20260328T214633Z
LAST-MODIFIED:20260411T214635Z
UID:10006595-1786467600-1786478400@gunstuff.tv
SUMMARY:Tactical Tuesday IDPA Practice
DESCRIPTION:Shooters new to Action Shooting contact Eric Zaharee at ABSAIDPA@gmail .com\nSee (Alder Brook) PractiScore.com for sign up Cost $5
URL:https://gunstuff.tv/event/tactical-tuesday-idpa-practice-18/
LOCATION:Action Bays
END:VEVENT
BEGIN:VEVENT
DTSTART;VALUE=DATE:20260811
DTEND;VALUE=DATE:20260812
DTSTAMP:20260420T192718
CREATED:20260213T031059Z
LAST-MODIFIED:20260410T034703Z
UID:10005280-1786406400-1786492799@gunstuff.tv
SUMMARY:Club closed
DESCRIPTION:
URL:https://gunstuff.tv/event/club-closed-51/
LOCATION:AL
END:VEVENT
BEGIN:VEVENT
DTSTART;VALUE=DATE:20260811
DTEND;VALUE=DATE:20260812
DTSTAMP:20260420T192718
CREATED:20251003T160030Z
LAST-MODIFIED:20260412T043233Z
UID:10001017-1786406400-1786492799@gunstuff.tv
SUMMARY:100\, 200\, 300 Yard Practice Benchrest Range
DESCRIPTION:
URL:https://gunstuff.tv/event/100-200-300-yard-practice-benchrest-range-37/
LOCATION:AL
END:VEVENT
BEGIN:VEVENT
DTSTART;TZID=America/New_York:20260810T160000
DTEND;TZID=America/New_York:20260810T180000
DTSTAMP:20260420T192718
CREATED:20251212T181642Z
LAST-MODIFIED:20260411T214635Z
UID:10003546-1786377600-1786384800@gunstuff.tv
SUMMARY:Skeet League
DESCRIPTION:Contact Frank Andrews with Questions.
URL:https://gunstuff.tv/event/skeet-league-135/
LOCATION:Skeet Range
END:VEVENT
BEGIN:VEVENT
DTSTART;TZID=America/New_York:20260810T160000
DTEND;TZID=America/New_York:20260810T180000
DTSTAMP:20260420T192718
CREATED:20251003T162642Z
LAST-MODIFIED:20251205T181709Z
UID:10001478-1786377600-1786384800@gunstuff.tv
SUMMARY:Skeet League
DESCRIPTION:Contact Frank Andrews with Questions.
URL:https://gunstuff.tv/event/skeet-league-45/
LOCATION:AL
END:VEVENT
BEGIN:VEVENT
DTSTART;TZID=America/New_York:20260810T090000
DTEND;TZID=America/New_York:20260810T100000
DTSTAMP:20260420T192718
CREATED:20251003T162642Z
LAST-MODIFIED:20251010T162930Z
UID:10001477-1786352400-1786356000@gunstuff.tv
SUMMARY:4-H Class Indoors
DESCRIPTION:Indoor reserved for 4-H class.
URL:https://gunstuff.tv/event/4-h-class-indoors-45/
LOCATION:Indoor Range
END:VEVENT
BEGIN:VEVENT
DTSTART;VALUE=DATE:20260810
DTEND;VALUE=DATE:20260811
DTSTAMP:20260420T192718
CREATED:20260213T031059Z
LAST-MODIFIED:20260410T034703Z
UID:10005281-1786320000-1786406399@gunstuff.tv
SUMMARY:Club Closed
DESCRIPTION:
URL:https://gunstuff.tv/event/club-closed-52/
LOCATION:AL
END:VEVENT
BEGIN:VEVENT
DTSTART;TZID=America/New_York:20260809T130000
DTEND;TZID=America/New_York:20260809T150000
DTSTAMP:20260420T192718
CREATED:20251019T193323Z
LAST-MODIFIED:20260414T083130Z
UID:10002465-1786280400-1786287600@gunstuff.tv
SUMMARY:Open Trap Shoot - Weather Permitting
DESCRIPTION:Open shoot\, $5.00 per round.  The trap field is 2/10ths of a mile past the clubhouse. \nFor the latest information visit:https://www.facebook.com/groups/1663932967427026
URL:https://gunstuff.tv/event/open-trap-shoot-weather-permitting-16/
LOCATION:523 Sizer Run Road Emporium\, Emporium\, PA\, United States
GEO:41.500749;-78.322815
END:VEVENT
BEGIN:VEVENT
DTSTART;TZID=America/New_York:20260809T090000
DTEND;TZID=America/New_York:20260809T163000
DTSTAMP:20260420T192718
CREATED:20260111T181637Z
LAST-MODIFIED:20260412T184749Z
UID:10004387-1786266000-1786293000@gunstuff.tv
SUMMARY:Smallbore Silhouette
DESCRIPTION:Smallbore Silhouettes is a series of 60 shots standing unsupported at steel animal silhouettes using a 22 caliber rimfire rifle. Targets are chickens at 40m\, pigs at 60m\, turkeys at 77m rams at 100m\, and all targets are 5 mils so they are all the same angular dimensions at their respective ranges. Participants may compete in Standard Rifle (competition style rifles) and/or Hunting Rifle (typical 22 caliber rifle). Most hunting rifles qualify as standard rifles too. \nContact Chris Moss mossthom22@gmail.com
URL:https://gunstuff.tv/event/smallbore-silhouette-7/
LOCATION:Lea Valley Range
END:VEVENT
BEGIN:VEVENT
DTSTART;TZID=America/New_York:20260809T090000
DTEND;TZID=America/New_York:20260809T140000
DTSTAMP:20260420T192718
CREATED:20251003T031215Z
LAST-MODIFIED:20260410T070129Z
UID:10000640-1786266000-1786284000@gunstuff.tv
SUMMARY:Wyoming Antelope 2700
DESCRIPTION:
URL:https://gunstuff.tv/event/wyoming-antelope-2700-21/
LOCATION:Wyoming Antelope Club-Florida\, 3700 126th Ave N\, Clearwater\, FL\, United States
GEO:27.886432;-82.683263
X-APPLE-STRUCTURED-LOCATION;VALUE=URI;X-ADDRESS=Wyoming Antelope Club-Florida 3700 126th Ave N Clearwater FL United States;X-APPLE-RADIUS=500;X-TITLE=3700 126th Ave N:geo:-82.683263,27.886432
END:VEVENT
END:VCALENDAR