BEGIN:VCALENDAR
VERSION:2.0
PRODID:-//GunStuff TV - ECPv6.15.20//NONSGML v1.0//EN
CALSCALE:GREGORIAN
METHOD:PUBLISH
X-WR-CALNAME:GunStuff TV
X-ORIGINAL-URL:https://gunstuff.tv
X-WR-CALDESC:Events for GunStuff TV
REFRESH-INTERVAL;VALUE=DURATION:PT1H
X-Robots-Tag:noindex
X-PUBLISHED-TTL:PT1H
BEGIN:VTIMEZONE
TZID:UTC
BEGIN:STANDARD
TZOFFSETFROM:+0000
TZOFFSETTO:+0000
TZNAME:UTC
DTSTART:20250101T000000
END:STANDARD
END:VTIMEZONE
BEGIN:VTIMEZONE
TZID:America/New_York
BEGIN:DAYLIGHT
TZOFFSETFROM:-0500
TZOFFSETTO:-0400
TZNAME:EDT
DTSTART:20250309T070000
END:DAYLIGHT
BEGIN:STANDARD
TZOFFSETFROM:-0400
TZOFFSETTO:-0500
TZNAME:EST
DTSTART:20251102T060000
END:STANDARD
BEGIN:DAYLIGHT
TZOFFSETFROM:-0500
TZOFFSETTO:-0400
TZNAME:EDT
DTSTART:20260308T070000
END:DAYLIGHT
BEGIN:STANDARD
TZOFFSETFROM:-0400
TZOFFSETTO:-0500
TZNAME:EST
DTSTART:20261101T060000
END:STANDARD
BEGIN:DAYLIGHT
TZOFFSETFROM:-0500
TZOFFSETTO:-0400
TZNAME:EDT
DTSTART:20270314T070000
END:DAYLIGHT
BEGIN:STANDARD
TZOFFSETFROM:-0400
TZOFFSETTO:-0500
TZNAME:EST
DTSTART:20271107T060000
END:STANDARD
END:VTIMEZONE
BEGIN:VTIMEZONE
TZID:America/Los_Angeles
BEGIN:DAYLIGHT
TZOFFSETFROM:-0800
TZOFFSETTO:-0700
TZNAME:PDT
DTSTART:20250309T100000
END:DAYLIGHT
BEGIN:STANDARD
TZOFFSETFROM:-0700
TZOFFSETTO:-0800
TZNAME:PST
DTSTART:20251102T090000
END:STANDARD
BEGIN:DAYLIGHT
TZOFFSETFROM:-0800
TZOFFSETTO:-0700
TZNAME:PDT
DTSTART:20260308T100000
END:DAYLIGHT
BEGIN:STANDARD
TZOFFSETFROM:-0700
TZOFFSETTO:-0800
TZNAME:PST
DTSTART:20261101T090000
END:STANDARD
BEGIN:DAYLIGHT
TZOFFSETFROM:-0800
TZOFFSETTO:-0700
TZNAME:PDT
DTSTART:20270314T100000
END:DAYLIGHT
BEGIN:STANDARD
TZOFFSETFROM:-0700
TZOFFSETTO:-0800
TZNAME:PST
DTSTART:20271107T090000
END:STANDARD
END:VTIMEZONE
BEGIN:VTIMEZONE
TZID:America/Chicago
BEGIN:DAYLIGHT
TZOFFSETFROM:-0600
TZOFFSETTO:-0500
TZNAME:CDT
DTSTART:20250309T080000
END:DAYLIGHT
BEGIN:STANDARD
TZOFFSETFROM:-0500
TZOFFSETTO:-0600
TZNAME:CST
DTSTART:20251102T070000
END:STANDARD
BEGIN:DAYLIGHT
TZOFFSETFROM:-0600
TZOFFSETTO:-0500
TZNAME:CDT
DTSTART:20260308T080000
END:DAYLIGHT
BEGIN:STANDARD
TZOFFSETFROM:-0500
TZOFFSETTO:-0600
TZNAME:CST
DTSTART:20261101T070000
END:STANDARD
BEGIN:DAYLIGHT
TZOFFSETFROM:-0600
TZOFFSETTO:-0500
TZNAME:CDT
DTSTART:20270314T080000
END:DAYLIGHT
BEGIN:STANDARD
TZOFFSETFROM:-0500
TZOFFSETTO:-0600
TZNAME:CST
DTSTART:20271107T070000
END:STANDARD
END:VTIMEZONE
BEGIN:VTIMEZONE
TZID:UTC
BEGIN:STANDARD
TZOFFSETFROM:+0000
TZOFFSETTO:+0000
TZNAME:UTC
DTSTART:20250101T000000
END:STANDARD
END:VTIMEZONE
BEGIN:VTIMEZONE
TZID:America/Denver
BEGIN:DAYLIGHT
TZOFFSETFROM:-0700
TZOFFSETTO:-0600
TZNAME:MDT
DTSTART:20250309T090000
END:DAYLIGHT
BEGIN:STANDARD
TZOFFSETFROM:-0600
TZOFFSETTO:-0700
TZNAME:MST
DTSTART:20251102T080000
END:STANDARD
BEGIN:DAYLIGHT
TZOFFSETFROM:-0700
TZOFFSETTO:-0600
TZNAME:MDT
DTSTART:20260308T090000
END:DAYLIGHT
BEGIN:STANDARD
TZOFFSETFROM:-0600
TZOFFSETTO:-0700
TZNAME:MST
DTSTART:20261101T080000
END:STANDARD
BEGIN:DAYLIGHT
TZOFFSETFROM:-0700
TZOFFSETTO:-0600
TZNAME:MDT
DTSTART:20270314T090000
END:DAYLIGHT
BEGIN:STANDARD
TZOFFSETFROM:-0600
TZOFFSETTO:-0700
TZNAME:MST
DTSTART:20271107T080000
END:STANDARD
END:VTIMEZONE
BEGIN:VTIMEZONE
TZID:America/Indiana/Indianapolis
BEGIN:DAYLIGHT
TZOFFSETFROM:-0500
TZOFFSETTO:-0400
TZNAME:EDT
DTSTART:20250309T070000
END:DAYLIGHT
BEGIN:STANDARD
TZOFFSETFROM:-0400
TZOFFSETTO:-0500
TZNAME:EST
DTSTART:20251102T060000
END:STANDARD
BEGIN:DAYLIGHT
TZOFFSETFROM:-0500
TZOFFSETTO:-0400
TZNAME:EDT
DTSTART:20260308T070000
END:DAYLIGHT
BEGIN:STANDARD
TZOFFSETFROM:-0400
TZOFFSETTO:-0500
TZNAME:EST
DTSTART:20261101T060000
END:STANDARD
BEGIN:DAYLIGHT
TZOFFSETFROM:-0500
TZOFFSETTO:-0400
TZNAME:EDT
DTSTART:20270314T070000
END:DAYLIGHT
BEGIN:STANDARD
TZOFFSETFROM:-0400
TZOFFSETTO:-0500
TZNAME:EST
DTSTART:20271107T060000
END:STANDARD
END:VTIMEZONE
BEGIN:VTIMEZONE
TZID:America/Phoenix
BEGIN:STANDARD
TZOFFSETFROM:-0700
TZOFFSETTO:-0700
TZNAME:MST
DTSTART:20250101T000000
END:STANDARD
END:VTIMEZONE
BEGIN:VEVENT
DTSTART;TZID=UTC:20260426T130000
DTEND;TZID=UTC:20260426T130000
DTSTAMP:20260419T145211
CREATED:20260227T113141Z
LAST-MODIFIED:20260410T113134Z
UID:10005835-1777208400-1777208400@gunstuff.tv
SUMMARY:Benton Gun Club April 2026
DESCRIPTION:Benton Gun Club April 2026\nDate : 4/26/26\nStart Time: 1:00 PM\nLocation:\nBenton Gun Club (AR13)\n5522 Mt Olive Cutoff Rd\nBauxite\, AR\nEvent Contact Information\nDavid W See\n5012494272\nbgcuspsa3@gmail.com
URL:https://gunstuff.tv/event/benton-gun-club-april-2026/
LOCATION:Benton Gun Club (AR13)\, 5522 Mt Olive Cutoff Rd\, Bauxite\, AR
END:VEVENT
BEGIN:VEVENT
DTSTART;TZID=America/New_York:20260426T130000
DTEND;TZID=America/New_York:20260426T150000
DTSTAMP:20260419T145211
CREATED:20251019T193322Z
LAST-MODIFIED:20260414T083128Z
UID:10002450-1777208400-1777215600@gunstuff.tv
SUMMARY:Open Trap Shoot - Weather Permitting
DESCRIPTION:Open shoot\, $5.00 per round.  The trap field is 2/10ths of a mile past the clubhouse. \nFor the latest information visit:https://www.facebook.com/groups/1663932967427026
URL:https://gunstuff.tv/event/open-trap-shoot-weather-permitting/
LOCATION:523 Sizer Run Road Emporium\, Emporium\, PA\, United States
GEO:41.500749;-78.322815
END:VEVENT
BEGIN:VEVENT
DTSTART;TZID=America/Los_Angeles:20260426T130000
DTEND;TZID=America/Los_Angeles:20260426T150000
DTSTAMP:20260419T145211
CREATED:20260327T193145Z
LAST-MODIFIED:20260410T194636Z
UID:10006561-1777208400-1777215600@gunstuff.tv
SUMMARY:Musketeer Trap
DESCRIPTION:Shotgun for Youth Trap 1-3pm\nLoaner Shotguns are available- please sign in at the clubhouse prior to coming out to the fields. \n“California Musketeers” is a youth shooting program recognized by the Civilian Marksmanship Program (CMP) and the National Rifle Association (NRA). The program is funded and operated by the Diablo Rod & Gun Club (DR&G). \n“California Musketeer’s” shotgun program is open to all youth between the ages of ten (10) and twenty (20) years of age\, but children and grandchildren of club members receive shot shell furnished by the club. Please see the sign up sheet\, which is for the youth shotgun component. \n                                        \nFor further information\, contact Lee Halverson at speedelee@gmail.com or telephone (408) 375-6166. \nWe have one downloadable form for the Shotgun section: \nMUSKETEERS SIGNUP SHEET (Shotgun)
URL:https://gunstuff.tv/event/musketeer-trap-3/
LOCATION:USI Clubhouse\, 4700 Evora Rd.\, Concord\, CA\, 94521
CATEGORIES:Musketeers
ATTACH;FMTTYPE=image/jpeg:https://gunstuff.tv/wp-content/uploads/2025/10/a2d52f_001d23512f9f4f099ae4b1cc038b999e_mv2-9EURTi.jpg
ORGANIZER;CN="Lee Halverson%2C Jr.":MAILTO:speedelee@gmail.com
END:VEVENT
BEGIN:VEVENT
DTSTART;TZID=America/Chicago:20260426T130000
DTEND;TZID=America/Chicago:20260426T170000
DTSTAMP:20260419T145211
CREATED:20260331T004642Z
LAST-MODIFIED:20260414T004818Z
UID:10006651-1777208400-1777222800@gunstuff.tv
SUMMARY:Steel Plate Match
DESCRIPTION:@ 			\n			\n							 \n\nWe typically shoot 3 stages for a match. Each stage is shot five (5) times with the four (4) best scores on the stage being counted. The steel plates will be from 10 to 25 yards away and maybe shot in any order as long as the designated stop plate is hit last. Makeup shots on missed plates are allowed. \nClasses: \n\nRim fire Iron sights\nRim fire Optic\nRim fire Rifle\nCenterfire (no optics)\nOpen (optics allowed)\nPCC (Pistol Caliber Carbine)\n\nAll firearms must be in pistol or 22 rim fire calibers only. The use of Sig Sauer P320 and M18 pistols are expressly forbidden. No rifle calibers or shotguns are allowed. Green River Gun Club runs a COLD range. No loaded firearms are allowed unless instructed by a safety officer. \nNew Shooters Meeting 1:15. \nMatch starts at 1:30. \nSteel Plate Match – Green River Gun Club \n\n				Match Fee\n	\n\n\nDwayne Belcher\, Elizabeth & James Law\n \n270-535-1923 \n \n\n\n\n\n\n\n						\n							Add to calendar						 \n\n\n\n									\n										Google Calendar									\n								\n\n									\n										iCalendar									\n								\n\n									\n										Outlook 365									\n								\n\n									\n										Outlook Live
URL:https://gunstuff.tv/event/steel-plate-match-2/
END:VEVENT
BEGIN:VEVENT
DTSTART;TZID=UTC:20260426T140000
DTEND;TZID=UTC:20260426T140000
DTSTAMP:20260419T145211
CREATED:20260311T063134Z
LAST-MODIFIED:20260401T070141Z
UID:10006267-1777212000-1777212000@gunstuff.tv
SUMMARY:BVSA 2026 STEEL CHALLENGE - April 26
DESCRIPTION:BVSA 2026 STEEL CHALLENGE – April 26\nDate: 4/26/26\nStart Time: 2:00 PM\nLocation:\nBuffalo Valley Sportsmen’s Association (SCSA389)\n950 Sportsmens Club Rd\nMifflinburg\, PA\nEvent Contact Information\nLuke Walter\n5709391444\nlbw2@pct.edu\nEvent Website\nhttp://bvsportsman.org
URL:https://gunstuff.tv/event/bvsa-2026-steel-challenge-april-26/
LOCATION:Buffalo Valley Sportsmen’s Association (SCSA389)\, 1300 Sportsmens Club Rd\, Mifflinburg\, PA\, United States
GEO:40.947311;-77.103732
X-APPLE-STRUCTURED-LOCATION;VALUE=URI;X-ADDRESS=Buffalo Valley Sportsmen’s Association (SCSA389) 1300 Sportsmens Club Rd Mifflinburg PA United States;X-APPLE-RADIUS=500;X-TITLE=1300 Sportsmens Club Rd:geo:-77.103732,40.947311
END:VEVENT
BEGIN:VEVENT
DTSTART;TZID=America/Chicago:20260426T140000
DTEND;TZID=America/Chicago:20260426T160000
DTSTAMP:20260419T145211
CREATED:20260414T024728Z
LAST-MODIFIED:20260414T024728Z
UID:10007478-1777212000-1777219200@gunstuff.tv
SUMMARY:How to Identify a Public Threat
DESCRIPTION:Recognize the signs of a potential threat & create a plan to protect your family! \n\nJoin us for this free workshop where you will learn how to identify the signs of a potential threat\, simple solutions to prevent an attack\, and how to implement the steps necessary to prepare your family and community. \n\nWhat You Will Learn: \n\nWhat we’ve learned about mass shootings (and how to prepare)\nDiscuss solutions to prevent an attack in your community\nLearn how to “read” the signs of a potential threat like an expert\nDiscuss practical next steps to take in your training to ensure you are protected\nPlus: LIVE Q+A with USCCA-Certified Instructors\n\nWhat to Bring: \nQuestions you have and materials to take notes \nREGISTER NOW
URL:https://gunstuff.tv/event/how-to-identify-a-public-threat/
LOCATION:Shooting Center\, 2900 Shotts Street\, Fort Worth\, TX\, 76107
CATEGORIES:Shooting Center,Shooting Center Training
ORGANIZER;CN="Defender Outdoors Shooting Center Training":MAILTO:info@defenderoutdoors.com
END:VEVENT
BEGIN:VEVENT
DTSTART;TZID=UTC:20260426T140000
DTEND;TZID=UTC:20260426T180000
DTSTAMP:20260419T145211
CREATED:20260331T003151Z
LAST-MODIFIED:20260414T003233Z
UID:10006645-1777212000-1777226400@gunstuff.tv
SUMMARY:Indoor Range closed 2-6:00pm
DESCRIPTION:Juniors will meet today \nAll new members must schedule\, please call John at 516-250-7373
URL:https://gunstuff.tv/event/indoor-range-closed-2-600pm-9/
END:VEVENT
BEGIN:VEVENT
DTSTART;TZID=America/Los_Angeles:20260426T150000
DTEND;TZID=America/Los_Angeles:20260426T170000
DTSTAMP:20260419T145211
CREATED:20260327T193145Z
LAST-MODIFIED:20260410T194637Z
UID:10006562-1777215600-1777222800@gunstuff.tv
SUMMARY:Musketeer Skeet
DESCRIPTION:Shotgun for Youth Skeet 3-5pm\nLoaner Shotguns are available- please sign in at the clubhouse prior to coming out to the fields. \n“California Musketeers” is a youth shooting program recognized by the Civilian Marksmanship Program (CMP) and the National Rifle Association (NRA). The program is funded and operated by the Diablo Rod & Gun Club (DR&G). \n“California Musketeer’s” shotgun program is open to all youth between the ages of ten (10) and twenty (20) years of age\, but children and grandchildren of club members receive shot shell furnished by the club. Please see the sign up sheet\, which is for the youth shotgun component. \nFor further information\, contact Lee Halverson at speedelee@gmail.com or telephone (408) 375-6166. \nWe have one downloadable form for the Shotgun section: \nMUSKETEERS SIGNUP SHEET (Shotgun)
URL:https://gunstuff.tv/event/musketeer-skeet-3/
LOCATION:USI Clubhouse\, 4700 Evora Rd.\, Concord\, CA\, 94521
CATEGORIES:Musketeers
ATTACH;FMTTYPE=image/jpeg:https://gunstuff.tv/wp-content/uploads/2025/10/a2d52f_001d23512f9f4f099ae4b1cc038b999e_mv2-9EURTi.jpg
ORGANIZER;CN="Lee Halverson%2C Jr.":MAILTO:speedelee@gmail.com
END:VEVENT
BEGIN:VEVENT
DTSTART;VALUE=DATE:20260427
DTEND;VALUE=DATE:20260428
DTSTAMP:20260419T145211
CREATED:20260213T031056Z
LAST-MODIFIED:20260410T034658Z
UID:10005219-1777248000-1777334399@gunstuff.tv
SUMMARY:Club Closed
DESCRIPTION:
URL:https://gunstuff.tv/event/club-closed-21/
END:VEVENT
BEGIN:VEVENT
DTSTART;VALUE=DATE:20260427
DTEND;VALUE=DATE:20260428
DTSTAMP:20260419T145211
CREATED:20260405T214645Z
LAST-MODIFIED:20260414T083129Z
UID:10006788-1777248000-1777334399@gunstuff.tv
SUMMARY:Pistol Range Closed 3-7pm
DESCRIPTION:
URL:https://gunstuff.tv/event/pistol-range-closed-3-7pm-8/
END:VEVENT
BEGIN:VEVENT
DTSTART;VALUE=DATE:20260427
DTEND;VALUE=DATE:20260428
DTSTAMP:20260419T145211
CREATED:20260407T040136Z
LAST-MODIFIED:20260414T040130Z
UID:10006878-1777248000-1777334399@gunstuff.tv
SUMMARY:Closed Mondays
DESCRIPTION:@ 			\n			\n							 \n\nHOURS: \nMonday: Closed \nTues-Thurs: 10am-8pm \nFri: 10am-5pm \nSat: 9:30am-5pm (shooting @10am) \nSun: 10:30am-4pm (shooting @11am) \nLast lane reservation is 1 hour before closing \n\n		\n\n\n\n\n\n\n						\n							Add to calendar						 \n\n\n\n									\n										Google Calendar									\n								\n\n									\n										iCalendar									\n								\n\n									\n										Outlook 365									\n								\n\n									\n										Outlook Live
URL:https://gunstuff.tv/event/closed-mondays-30/
END:VEVENT
BEGIN:VEVENT
DTSTART;TZID=America/Denver:20260427T060000
DTEND;TZID=America/Denver:20260428T210000
DTSTAMP:20260419T145211
CREATED:20260406T080147Z
LAST-MODIFIED:20260413T081627Z
UID:10006831-1777269600-1777410000@gunstuff.tv
SUMMARY:April 27&28 FRGC Member Only Days
DESCRIPTION:FRGC Member Only Days
URL:https://gunstuff.tv/event/april-2728-frgc-member-only-days/
LOCATION:Fall River Gun Range\, 28300 Old Hwy 79\, Hot Springs\, SD\, United States
GEO:43.303233;-103.346518
X-APPLE-STRUCTURED-LOCATION;VALUE=URI;X-ADDRESS=Fall River Gun Range 28300 Old Hwy 79 Hot Springs SD United States;X-APPLE-RADIUS=500;X-TITLE=28300 Old Hwy 79:geo:-103.346518,43.303233
END:VEVENT
BEGIN:VEVENT
DTSTART;TZID=UTC:20260427T080000
DTEND;TZID=UTC:20260430T170000
DTSTAMP:20260419T145211
CREATED:20260331T003151Z
LAST-MODIFIED:20260414T003233Z
UID:10006646-1777276800-1777568400@gunstuff.tv
SUMMARY:****Outdoor Range Closed 8am-5:00pm
DESCRIPTION:Outdoor Range Closed
URL:https://gunstuff.tv/event/outdoor-range-closed-8am-500pm-5/
END:VEVENT
BEGIN:VEVENT
DTSTART;TZID=America/New_York:20260427T090000
DTEND;TZID=America/New_York:20260427T100000
DTSTAMP:20260419T145211
CREATED:20251003T162640Z
LAST-MODIFIED:20251010T162928Z
UID:10001421-1777280400-1777284000@gunstuff.tv
SUMMARY:4-H Class Indoors
DESCRIPTION:Indoor reserved for 4-H class.
URL:https://gunstuff.tv/event/4-h-class-indoors-30/
LOCATION:Indoor Range
END:VEVENT
BEGIN:VEVENT
DTSTART;TZID=America/New_York:20260427T160000
DTEND;TZID=America/New_York:20260427T180000
DTSTAMP:20260419T145211
CREATED:20251003T162640Z
LAST-MODIFIED:20251205T181707Z
UID:10001422-1777305600-1777312800@gunstuff.tv
SUMMARY:Skeet League
DESCRIPTION:Contact Frank Andrews with Questions.
URL:https://gunstuff.tv/event/skeet-league-30/
END:VEVENT
BEGIN:VEVENT
DTSTART;TZID=America/New_York:20260427T160000
DTEND;TZID=America/New_York:20260427T180000
DTSTAMP:20260419T145211
CREATED:20251212T181640Z
LAST-MODIFIED:20260411T214643Z
UID:10003531-1777305600-1777312800@gunstuff.tv
SUMMARY:Skeet League
DESCRIPTION:Contact Frank Andrews with Questions.
URL:https://gunstuff.tv/event/skeet-league-120/
LOCATION:Skeet Range
END:VEVENT
BEGIN:VEVENT
DTSTART;TZID=America/Indiana/Indianapolis:20260427T170000
DTEND;TZID=America/Indiana/Indianapolis:20260427T183000
DTSTAMP:20260419T145211
CREATED:20260406T031735Z
LAST-MODIFIED:20260413T033228Z
UID:10006822-1777309200-1777314600@gunstuff.tv
SUMMARY:Skeet
DESCRIPTION:Range 9
URL:https://gunstuff.tv/event/skeet-2/
LOCATION:Wildcat Valley R and P Club\, 12094 S 300 E\, Brookston\, IN\, United States
CATEGORIES:Skeet
GEO:40.576877;-86.811749
X-APPLE-STRUCTURED-LOCATION;VALUE=URI;X-ADDRESS=Wildcat Valley R and P Club 12094 S 300 E Brookston IN United States;X-APPLE-RADIUS=500;X-TITLE=12094 S 300 E:geo:-86.811749,40.576877
END:VEVENT
BEGIN:VEVENT
DTSTART;VALUE=DATE:20260428
DTEND;VALUE=DATE:20260429
DTSTAMP:20260419T145211
CREATED:20251003T160028Z
LAST-MODIFIED:20260412T043229Z
UID:10000957-1777334400-1777420799@gunstuff.tv
SUMMARY:100\, 200\, 300 Yard Practice Benchrest Range
DESCRIPTION:
URL:https://gunstuff.tv/event/100-200-300-yard-practice-benchrest-range-22/
END:VEVENT
BEGIN:VEVENT
DTSTART;VALUE=DATE:20260428
DTEND;VALUE=DATE:20260429
DTSTAMP:20260419T145211
CREATED:20260213T031056Z
LAST-MODIFIED:20260410T034659Z
UID:10005220-1777334400-1777420799@gunstuff.tv
SUMMARY:Club closed
DESCRIPTION:
URL:https://gunstuff.tv/event/club-closed-22/
END:VEVENT
BEGIN:VEVENT
DTSTART;VALUE=DATE:20260428
DTEND;VALUE=DATE:20260429
DTSTAMP:20260419T145211
CREATED:20260405T214645Z
LAST-MODIFIED:20260414T083128Z
UID:10006787-1777334400-1777420799@gunstuff.tv
SUMMARY:Pistol Range Closed 3-7pm
DESCRIPTION:
URL:https://gunstuff.tv/event/pistol-range-closed-3-7pm-7/
END:VEVENT
BEGIN:VEVENT
DTSTART;TZID=America/Los_Angeles:20260428T090000
DTEND;TZID=America/Los_Angeles:20260428T160000
DTSTAMP:20260419T145211
CREATED:20260403T193216Z
LAST-MODIFIED:20260410T194637Z
UID:10006732-1777366800-1777392000@gunstuff.tv
SUMMARY:MPR – RSO Only – Airgun/.22 Only
DESCRIPTION:
URL:https://gunstuff.tv/event/mpr-rso-only-airgun-22-only-20/
LOCATION:USI Multi Purpose Range\, 4700 Evora Road\, Concord\, CA\, 94520
END:VEVENT
BEGIN:VEVENT
DTSTART;TZID=America/Indiana/Indianapolis:20260428T150000
DTEND;TZID=America/Indiana/Indianapolis:20260428T200000
DTSTAMP:20260419T145211
CREATED:20260406T031735Z
LAST-MODIFIED:20260413T033228Z
UID:10006823-1777388400-1777406400@gunstuff.tv
SUMMARY:High Power League
DESCRIPTION:Range 9
URL:https://gunstuff.tv/event/high-power-league-16/
LOCATION:Wildcat Valley R and P Club\, 12094 S 300 E\, Brookston\, IN\, United States
CATEGORIES:Highpower
GEO:40.576877;-86.811749
X-APPLE-STRUCTURED-LOCATION;VALUE=URI;X-ADDRESS=Wildcat Valley R and P Club 12094 S 300 E Brookston IN United States;X-APPLE-RADIUS=500;X-TITLE=12094 S 300 E:geo:-86.811749,40.576877
END:VEVENT
BEGIN:VEVENT
DTSTART;TZID=America/New_York:20260428T160000
DTEND;TZID=America/New_York:20260428T210000
DTSTAMP:20260419T145211
CREATED:20260406T113209Z
LAST-MODIFIED:20260413T113227Z
UID:10006856-1777392000-1777410000@gunstuff.tv
SUMMARY:5-Stand
DESCRIPTION:
URL:https://gunstuff.tv/event/5-stand-12/
END:VEVENT
BEGIN:VEVENT
DTSTART;TZID=America/New_York:20260428T170000
DTEND;TZID=America/New_York:20260428T200000
DTSTAMP:20260419T145211
CREATED:20260328T214628Z
LAST-MODIFIED:20260411T214643Z
UID:10006574-1777395600-1777406400@gunstuff.tv
SUMMARY:Tactical Tuesday IDPA Practice
DESCRIPTION:Shooters new to Action Shooting contact Eric Zaharee at ABSAIDPA@gmail .com\nSee (Alder Brook) PractiScore.com for sign up Cost $5
URL:https://gunstuff.tv/event/tactical-tuesday-idpa-practice-3/
LOCATION:Action Bays
END:VEVENT
BEGIN:VEVENT
DTSTART;TZID=UTC:20260428T173000
DTEND;TZID=UTC:20260428T173000
DTSTAMP:20260419T145211
CREATED:20260418T174736Z
LAST-MODIFIED:20260418T174736Z
UID:10008039-1777397400-1777397400@gunstuff.tv
SUMMARY:Boise Steel Challenge
DESCRIPTION:Boise Steel Challenge\nDate: 4/28/26\nStart Time: 5:30 PM\nLocation:\nBoise Steel Challenge (SCSA581)\n2420 E Kuna Mora rd\nKuna\, ID\nEvent Contact Information\nPaul\n208-919-5336\nboisesteelchallenge@gmail.com\nMatch Information\nHeld at Black’s Creek Shooting Range\nEvent Website \nBoise Steel Challenge
URL:https://gunstuff.tv/event/boise-steel-challenge-2/
LOCATION:Boise Steel Challenge (SCSA581)\, 2420 E Kuna Mora Rd\, Kuna\, ID\, United States
GEO:43.459228;-116.383121
X-APPLE-STRUCTURED-LOCATION;VALUE=URI;X-ADDRESS=Boise Steel Challenge (SCSA581) 2420 E Kuna Mora Rd Kuna ID United States;X-APPLE-RADIUS=500;X-TITLE=2420 E Kuna Mora Rd:geo:-116.383121,43.459228
END:VEVENT
BEGIN:VEVENT
DTSTART;TZID=UTC:20260428T173000
DTEND;TZID=UTC:20260428T173000
DTSTAMP:20260419T145212
CREATED:20260418T174736Z
LAST-MODIFIED:20260418T174736Z
UID:10008036-1777397400-1777397400@gunstuff.tv
SUMMARY:Boise Steel Challenge
DESCRIPTION:Boise Steel Challenge\nDate: 4/28/26\nStart Time: 5:30 PM\nLocation:\nBoise Steel Challenge (SCSA581)\n2420 E Kuna Mora rd\nKuna\, ID\nEvent Contact Information\nPaul\n208-919-5336\nboisesteelchallenge@gmail.com\nMatch Information\nHeld at Black’s Creek Shooting Range\nEvent Website \nBoise Steel Challenge
URL:https://gunstuff.tv/event/boise-steel-challenge-3/
LOCATION:Boise Steel Challenge (SCSA581)\, 2420 E Kuna Mora Rd\, Kuna\, ID\, United States
GEO:43.459228;-116.383121
X-APPLE-STRUCTURED-LOCATION;VALUE=URI;X-ADDRESS=Boise Steel Challenge (SCSA581) 2420 E Kuna Mora Rd Kuna ID United States;X-APPLE-RADIUS=500;X-TITLE=2420 E Kuna Mora Rd:geo:-116.383121,43.459228
END:VEVENT
BEGIN:VEVENT
DTSTART;TZID=America/New_York:20260428T173000
DTEND;TZID=America/New_York:20260428T210000
DTSTAMP:20260419T145212
CREATED:20260331T020132Z
LAST-MODIFIED:20260414T021647Z
UID:10006657-1777397400-1777410000@gunstuff.tv
SUMMARY:Tactical Tuesday CO-ED
DESCRIPTION:Are you tired of just standing still at the lane? It’s time to move! Beyond the Bench – Tactical Tuesdays! Led by Retired Major John New\, this structured\, high-energy handgun training is designed to help you evolve your skills past the static firing line. We bring the timer\, the drills\, and the community—you bring the drive to improve.How it works:• Sprint Training Format: Limited to just 10 shooters so everyone gets numerous runs on a competition-style stage!• Focus: Technical skills (draw + accuracy) and Speed (pushing the timer with competition scoring).
URL:https://gunstuff.tv/event/tactical-tuesday-co-ed-2/
LOCATION:Appalacian Gun\, Pawn & Range\, 140 Shelby Ln.\, Jasper\, GA\, 30143\, United States
CATEGORIES:firearm-safety,Safe Gun
ORGANIZER;CN="Appalachian Gun":MAILTO:Appalachiangun@gmail.com
END:VEVENT
BEGIN:VEVENT
DTSTART;TZID=America/Chicago:20260428T180000
DTEND;TZID=America/Chicago:20260428T210000
DTSTAMP:20260419T145212
CREATED:20260331T021750Z
LAST-MODIFIED:20260414T024728Z
UID:10006683-1777399200-1777410000@gunstuff.tv
SUMMARY:Hit Factor Match
DESCRIPTION:Defender Outdoors Hit Factor Match consists of 4 separate stages with a total round count varying from 100-150 rounds. \n\nThe match fee is $30 cash or card and paid directly to the range at sign in.\nIf you are a new competitor\, please take a few minutes and read over the new shooter information in the match documents section of the Practiscore registration. We offer a Practical Shooting 1 class to help you get started as well!\nNo persons under the age of 21 will be allowed on the range unless accompanied by a parent or guardian.\nThis is a Hit Factor match following the same rules\, divisions\, and classifications as USPSA.\nAll registrations are done through practiscore.com. Find all upcoming matches on our club page here: https://practiscore.com/clubs/defender_outdoors\nRegistration will open at noon on Mondays\, the week before the match.\nPlease send any questions to the Match Director: mike@defenderoutdoors.com\n\nRegister here
URL:https://gunstuff.tv/event/hit-factor-match-7/
LOCATION:Shooting Center\, 2900 Shotts Street\, Fort Worth\, TX\, 76107
CATEGORIES:Shooting Center,Shooting Center Training
ATTACH;FMTTYPE=image/jpeg:https://gunstuff.tv/wp-content/uploads/2026/03/Defender-Shooting-League-2-cqi1kD-J5aOKI.jpg
ORGANIZER;CN="Defender Outdoors Shooting Center Training":MAILTO:info@defenderoutdoors.com
END:VEVENT
BEGIN:VEVENT
DTSTART;TZID=America/New_York:20260428T193000
DTEND;TZID=America/New_York:20260428T210000
DTSTAMP:20260419T145212
CREATED:20260403T051710Z
LAST-MODIFIED:20260410T051633Z
UID:10006728-1777404600-1777410000@gunstuff.tv
SUMMARY:Shotgun Meeting
DESCRIPTION:
URL:https://gunstuff.tv/event/shotgun-meeting-7/
LOCATION:Shotgun Clubhouse
CATEGORIES:Range,Shotgun,Shotgun Range
ATTACH;FMTTYPE=image/png:https://gunstuff.tv/wp-content/uploads/2025/10/shotgun-logo-160x160-1-mvSnxY.png
END:VEVENT
BEGIN:VEVENT
DTSTART;TZID=UTC:20260429T080000
DTEND;TZID=UTC:20260429T120000
DTSTAMP:20260419T145212
CREATED:20260331T003204Z
LAST-MODIFIED:20260414T003233Z
UID:10006647-1777449600-1777464000@gunstuff.tv
SUMMARY:Indoor range closed 8am-12:00pm
DESCRIPTION:Indoor range closed
URL:https://gunstuff.tv/event/indoor-range-closed-8am-1200pm-26/
END:VEVENT
END:VCALENDAR