BEGIN:VCALENDAR
VERSION:2.0
PRODID:-//GunStuff TV - ECPv6.15.20//NONSGML v1.0//EN
CALSCALE:GREGORIAN
METHOD:PUBLISH
X-ORIGINAL-URL:https://gunstuff.tv
X-WR-CALDESC:Events for GunStuff TV
REFRESH-INTERVAL;VALUE=DURATION:PT1H
X-Robots-Tag:noindex
X-PUBLISHED-TTL:PT1H
BEGIN:VTIMEZONE
TZID:America/New_York
BEGIN:DAYLIGHT
TZOFFSETFROM:-0500
TZOFFSETTO:-0400
TZNAME:EDT
DTSTART:20260308T070000
END:DAYLIGHT
BEGIN:STANDARD
TZOFFSETFROM:-0400
TZOFFSETTO:-0500
TZNAME:EST
DTSTART:20261101T060000
END:STANDARD
BEGIN:DAYLIGHT
TZOFFSETFROM:-0500
TZOFFSETTO:-0400
TZNAME:EDT
DTSTART:20270314T070000
END:DAYLIGHT
BEGIN:STANDARD
TZOFFSETFROM:-0400
TZOFFSETTO:-0500
TZNAME:EST
DTSTART:20271107T060000
END:STANDARD
BEGIN:DAYLIGHT
TZOFFSETFROM:-0500
TZOFFSETTO:-0400
TZNAME:EDT
DTSTART:20280312T070000
END:DAYLIGHT
BEGIN:STANDARD
TZOFFSETFROM:-0400
TZOFFSETTO:-0500
TZNAME:EST
DTSTART:20281105T060000
END:STANDARD
END:VTIMEZONE
BEGIN:VEVENT
DTSTART;TZID=America/New_York:20270807T083000
DTEND;TZID=America/New_York:20270807T140000
DTSTAMP:20260423T133721
CREATED:20251003T031218Z
LAST-MODIFIED:20260417T071751Z
UID:10000711-1817627400-1817647200@gunstuff.tv
SUMMARY:PMRPC GSMM Match
DESCRIPTION:For more information you may contact the match director: James Sudduth at j.sudduth@ymail.com.
URL:https://gunstuff.tv/event/pmrpc-gsmm-match-23/
LOCATION:Port Malabar Rifle & Pistol Club\, 599 Hurley Blvd SW\, Palm Bay\, FL\, United States
GEO:27.987569;-80.71018
X-APPLE-STRUCTURED-LOCATION;VALUE=URI;X-ADDRESS=Port Malabar Rifle & Pistol Club 599 Hurley Blvd SW Palm Bay FL United States;X-APPLE-RADIUS=500;X-TITLE=599 Hurley Blvd SW:geo:-80.71018,27.987569
END:VEVENT
BEGIN:VEVENT
DTSTART;TZID=America/New_York:20270808T090000
DTEND;TZID=America/New_York:20270808T120000
DTSTAMP:20260423T133721
CREATED:20251017T163414Z
LAST-MODIFIED:20260418T214743Z
UID:10002283-1817715600-1817726400@gunstuff.tv
SUMMARY:Weekly Trap League
DESCRIPTION:
URL:https://gunstuff.tv/event/weekly-trap-league-97/
LOCATION:Shotgun Range
END:VEVENT
BEGIN:VEVENT
DTSTART;TZID=America/New_York:20270808T090000
DTEND;TZID=America/New_York:20270808T140000
DTSTAMP:20260423T133721
CREATED:20251003T031218Z
LAST-MODIFIED:20260417T071751Z
UID:10000712-1817715600-1817733600@gunstuff.tv
SUMMARY:Wyoming Antelope 2700
DESCRIPTION:
URL:https://gunstuff.tv/event/wyoming-antelope-2700-45/
LOCATION:Wyoming Antelope Club-Florida\, 3700 126th Ave N\, Clearwater\, FL\, United States
GEO:27.886432;-82.683263
X-APPLE-STRUCTURED-LOCATION;VALUE=URI;X-ADDRESS=Wyoming Antelope Club-Florida 3700 126th Ave N Clearwater FL United States;X-APPLE-RADIUS=500;X-TITLE=3700 126th Ave N:geo:-82.683263,27.886432
END:VEVENT
BEGIN:VEVENT
DTSTART;VALUE=DATE:20270809
DTEND;VALUE=DATE:20270810
DTSTAMP:20260423T133721
CREATED:20260213T031114Z
LAST-MODIFIED:20260417T034747Z
UID:10005471-1817769600-1817855999@gunstuff.tv
SUMMARY:Club Closed
DESCRIPTION:
URL:https://gunstuff.tv/event/club-closed-155/
END:VEVENT
BEGIN:VEVENT
DTSTART;TZID=America/New_York:20270809T160000
DTEND;TZID=America/New_York:20270809T180000
DTSTAMP:20260423T133721
CREATED:20251017T163414Z
LAST-MODIFIED:20251205T181716Z
UID:10002284-1817827200-1817834400@gunstuff.tv
SUMMARY:Skeet League
DESCRIPTION:Contact Frank Andrews with Questions.
URL:https://gunstuff.tv/event/skeet-league-97/
END:VEVENT
BEGIN:VEVENT
DTSTART;VALUE=DATE:20270810
DTEND;VALUE=DATE:20270811
DTSTAMP:20260423T133721
CREATED:20260213T031114Z
LAST-MODIFIED:20260417T034747Z
UID:10005472-1817856000-1817942399@gunstuff.tv
SUMMARY:Club closed
DESCRIPTION:
URL:https://gunstuff.tv/event/club-closed-156/
END:VEVENT
BEGIN:VEVENT
DTSTART;TZID=America/New_York:20270815T090000
DTEND;TZID=America/New_York:20270815T120000
DTSTAMP:20260423T133721
CREATED:20251017T163414Z
LAST-MODIFIED:20260418T214743Z
UID:10002285-1818320400-1818331200@gunstuff.tv
SUMMARY:Weekly Trap League
DESCRIPTION:
URL:https://gunstuff.tv/event/weekly-trap-league-98/
LOCATION:Shotgun Range
END:VEVENT
BEGIN:VEVENT
DTSTART;TZID=America/New_York:20270815T090000
DTEND;TZID=America/New_York:20270815T123000
DTSTAMP:20260423T133721
CREATED:20251003T031218Z
LAST-MODIFIED:20260417T071751Z
UID:10000713-1818320400-1818333000@gunstuff.tv
SUMMARY:GRPC NRA 1800
DESCRIPTION:
URL:https://gunstuff.tv/event/grpc-nra-1800-23/
LOCATION:Gateway Rifle & Pistol Club\, 9301 Zambito Ave\, Jacksonville\, FL\, United States
GEO:30.262025;-81.814577
X-APPLE-STRUCTURED-LOCATION;VALUE=URI;X-ADDRESS=Gateway Rifle & Pistol Club 9301 Zambito Ave Jacksonville FL United States;X-APPLE-RADIUS=500;X-TITLE=9301 Zambito Ave:geo:-81.814577,30.262025
END:VEVENT
BEGIN:VEVENT
DTSTART;TZID=America/New_York:20270815T090000
DTEND;TZID=America/New_York:20270815T140000
DTSTAMP:20260423T133721
CREATED:20251003T031218Z
LAST-MODIFIED:20260417T071751Z
UID:10000714-1818320400-1818338400@gunstuff.tv
SUMMARY:Wyoming Antelope 2700
DESCRIPTION:
URL:https://gunstuff.tv/event/wyoming-antelope-2700-46/
LOCATION:Wyoming Antelope Club-Florida\, 3700 126th Ave N\, Clearwater\, FL\, United States
GEO:27.886432;-82.683263
X-APPLE-STRUCTURED-LOCATION;VALUE=URI;X-ADDRESS=Wyoming Antelope Club-Florida 3700 126th Ave N Clearwater FL United States;X-APPLE-RADIUS=500;X-TITLE=3700 126th Ave N:geo:-82.683263,27.886432
END:VEVENT
BEGIN:VEVENT
DTSTART;VALUE=DATE:20270816
DTEND;VALUE=DATE:20270817
DTSTAMP:20260423T133721
CREATED:20260213T031114Z
LAST-MODIFIED:20260417T034747Z
UID:10005474-1818374400-1818460799@gunstuff.tv
SUMMARY:Club Closed
DESCRIPTION:
URL:https://gunstuff.tv/event/club-closed-158/
END:VEVENT
BEGIN:VEVENT
DTSTART;TZID=America/New_York:20270816T160000
DTEND;TZID=America/New_York:20270816T180000
DTSTAMP:20260423T133721
CREATED:20251017T163414Z
LAST-MODIFIED:20251205T181716Z
UID:10002286-1818432000-1818439200@gunstuff.tv
SUMMARY:Skeet League
DESCRIPTION:Contact Frank Andrews with Questions.
URL:https://gunstuff.tv/event/skeet-league-98/
END:VEVENT
BEGIN:VEVENT
DTSTART;VALUE=DATE:20270817
DTEND;VALUE=DATE:20270818
DTSTAMP:20260423T133721
CREATED:20260213T031114Z
LAST-MODIFIED:20260417T034747Z
UID:10005473-1818460800-1818547199@gunstuff.tv
SUMMARY:Club closed
DESCRIPTION:
URL:https://gunstuff.tv/event/club-closed-157/
END:VEVENT
BEGIN:VEVENT
DTSTART;VALUE=DATE:20270820
DTEND;VALUE=DATE:20270821
DTSTAMP:20260423T133721
CREATED:20260213T031114Z
LAST-MODIFIED:20260417T034747Z
UID:10005476-1818720000-1818806399@gunstuff.tv
SUMMARY:Competition Bays closed for USPSA set up
DESCRIPTION:
URL:https://gunstuff.tv/event/competition-bays-closed-for-uspsa-set-up-19/
END:VEVENT
BEGIN:VEVENT
DTSTART;VALUE=DATE:20270821
DTEND;VALUE=DATE:20270822
DTSTAMP:20260423T133721
CREATED:20260213T031114Z
LAST-MODIFIED:20260417T034747Z
UID:10005475-1818806400-1818892799@gunstuff.tv
SUMMARY:USPSA Pistol Match
DESCRIPTION:USPSA (United States Practical ShootingAssociation) Pistol Match: Practical Shooting measures the shooter’s ability toshoot rapidly and accurately through obstacle-laden courses. The shooter moves\,negotiates\, runs\, covers\, and speed reloads through the stage as fast as theirskill will allow.  If this fast paced shooting sounds like fun\, come outand give it a try. Show up with an unloaded centerfire pistol in .38\, 9mm\, .40\,or .45 in an enclosed case and ask a match official where the safe area is soyou can holster your gun safely.  Also bring a rigid holster\, magazines\,and mag pouches capable of holding at least 32 rounds.  Overall matchround counts are usually between 100 and 150 rounds.  Specific divisionrequirements can be found at http://uspsa.org.  Starts at 9:30 AM and costwill be $20 ($15 for Pinetucky members\, active duty military\, police\, andfire). You can sign up at practiscore.com
URL:https://gunstuff.tv/event/uspsa-pistol-match-19/
LOCATION:Pinetucky Gun Club\, 2096 Greenland Rd\, Blythe\, GA\, United States
GEO:33.344103;-82.138722
X-APPLE-STRUCTURED-LOCATION;VALUE=URI;X-ADDRESS=Pinetucky Gun Club 2096 Greenland Rd Blythe GA United States;X-APPLE-RADIUS=500;X-TITLE=2096 Greenland Rd:geo:-82.138722,33.344103
END:VEVENT
BEGIN:VEVENT
DTSTART;TZID=America/New_York:20270821T083000
DTEND;TZID=America/New_York:20270821T143000
DTSTAMP:20260423T133721
CREATED:20251003T031218Z
LAST-MODIFIED:20260417T071751Z
UID:10000715-1818837000-1818858600@gunstuff.tv
SUMMARY:PMRPC Rimfire Match
DESCRIPTION:For more information you may contact the match director: James Sudduth at j.sudduth@ymail.com.
URL:https://gunstuff.tv/event/pmrpc-rimfire-match-23/
LOCATION:Port Malabar Rifle & Pistol Club\, 599 Hurley Blvd SW\, Palm Bay\, FL\, United States
GEO:27.987569;-80.71018
X-APPLE-STRUCTURED-LOCATION;VALUE=URI;X-ADDRESS=Port Malabar Rifle & Pistol Club 599 Hurley Blvd SW Palm Bay FL United States;X-APPLE-RADIUS=500;X-TITLE=599 Hurley Blvd SW:geo:-80.71018,27.987569
END:VEVENT
BEGIN:VEVENT
DTSTART;TZID=America/New_York:20270822T090000
DTEND;TZID=America/New_York:20270822T120000
DTSTAMP:20260423T133721
CREATED:20251017T163415Z
LAST-MODIFIED:20260418T214743Z
UID:10002287-1818925200-1818936000@gunstuff.tv
SUMMARY:Weekly Trap League
DESCRIPTION:
URL:https://gunstuff.tv/event/weekly-trap-league-99/
LOCATION:Shotgun Range
END:VEVENT
BEGIN:VEVENT
DTSTART;TZID=America/New_York:20270822T090000
DTEND;TZID=America/New_York:20270822T140000
DTSTAMP:20260423T133721
CREATED:20251003T031218Z
LAST-MODIFIED:20260417T071751Z
UID:10000716-1818925200-1818943200@gunstuff.tv
SUMMARY:Wyoming Antelope NRA 2700
DESCRIPTION:
URL:https://gunstuff.tv/event/wyoming-antelope-nra-2700-23/
LOCATION:Wyoming Antelope Club-Florida\, 3700 126th Ave N\, Clearwater\, FL\, United States
GEO:27.886432;-82.683263
X-APPLE-STRUCTURED-LOCATION;VALUE=URI;X-ADDRESS=Wyoming Antelope Club-Florida 3700 126th Ave N Clearwater FL United States;X-APPLE-RADIUS=500;X-TITLE=3700 126th Ave N:geo:-82.683263,27.886432
END:VEVENT
BEGIN:VEVENT
DTSTART;VALUE=DATE:20270823
DTEND;VALUE=DATE:20270824
DTSTAMP:20260423T133721
CREATED:20260213T031114Z
LAST-MODIFIED:20260417T034747Z
UID:10005477-1818979200-1819065599@gunstuff.tv
SUMMARY:Club Closed
DESCRIPTION:
URL:https://gunstuff.tv/event/club-closed-159/
END:VEVENT
BEGIN:VEVENT
DTSTART;TZID=America/New_York:20270823T160000
DTEND;TZID=America/New_York:20270823T180000
DTSTAMP:20260423T133721
CREATED:20251017T163415Z
LAST-MODIFIED:20251205T181716Z
UID:10002288-1819036800-1819044000@gunstuff.tv
SUMMARY:Skeet League
DESCRIPTION:Contact Frank Andrews with Questions.
URL:https://gunstuff.tv/event/skeet-league-99/
END:VEVENT
BEGIN:VEVENT
DTSTART;VALUE=DATE:20270824
DTEND;VALUE=DATE:20270825
DTSTAMP:20260423T133721
CREATED:20260213T031115Z
LAST-MODIFIED:20260417T034747Z
UID:10005478-1819065600-1819151999@gunstuff.tv
SUMMARY:Club closed
DESCRIPTION:
URL:https://gunstuff.tv/event/club-closed-160/
END:VEVENT
BEGIN:VEVENT
DTSTART;TZID=America/New_York:20270826T180000
DTEND;TZID=America/New_York:20270826T183000
DTSTAMP:20260423T133721
CREATED:20251017T163415Z
LAST-MODIFIED:20260418T214743Z
UID:10002290-1819303200-1819305000@gunstuff.tv
SUMMARY:Member Session
DESCRIPTION:Hear committee reports\, ask questions\, make requests of the board.
URL:https://gunstuff.tv/event/member-session-23/
LOCATION:Indoor Range
END:VEVENT
BEGIN:VEVENT
DTSTART;TZID=America/New_York:20270826T183000
DTEND;TZID=America/New_York:20270826T203000
DTSTAMP:20260423T133721
CREATED:20251017T163415Z
LAST-MODIFIED:20260418T214743Z
UID:10002289-1819305000-1819312200@gunstuff.tv
SUMMARY:Board Meeting
DESCRIPTION:All members welcome.
URL:https://gunstuff.tv/event/board-meeting-38/
LOCATION:Indoor Range
END:VEVENT
BEGIN:VEVENT
DTSTART;TZID=America/New_York:20270829T090000
DTEND;TZID=America/New_York:20270829T120000
DTSTAMP:20260423T133721
CREATED:20251017T163415Z
LAST-MODIFIED:20260418T214743Z
UID:10002292-1819530000-1819540800@gunstuff.tv
SUMMARY:Weekly Trap League
DESCRIPTION:
URL:https://gunstuff.tv/event/weekly-trap-league-100/
LOCATION:Shotgun Range
END:VEVENT
BEGIN:VEVENT
DTSTART;TZID=America/New_York:20270829T100000
DTEND;TZID=America/New_York:20270829T120000
DTSTAMP:20260423T133721
CREATED:20251017T163415Z
LAST-MODIFIED:20251107T180159Z
UID:10002291-1819533600-1819540800@gunstuff.tv
SUMMARY:22 Marksmanship Challenge (Aspirin Shoot)
DESCRIPTION:Aspirin @ 50 yrds\nTums @ 100 yrds\nSteel @ 150 & 200 yrds\nCenterfire prohibited during event.
URL:https://gunstuff.tv/event/22-marksmanship-challenge-aspirin-shoot-23/
LOCATION:Square Range
END:VEVENT
BEGIN:VEVENT
DTSTART;VALUE=DATE:20270830
DTEND;VALUE=DATE:20270831
DTSTAMP:20260423T133721
CREATED:20260213T031115Z
LAST-MODIFIED:20260417T034747Z
UID:10005480-1819584000-1819670399@gunstuff.tv
SUMMARY:Club Closed
DESCRIPTION:
URL:https://gunstuff.tv/event/club-closed-162/
END:VEVENT
BEGIN:VEVENT
DTSTART;TZID=America/New_York:20270830T160000
DTEND;TZID=America/New_York:20270830T180000
DTSTAMP:20260423T133721
CREATED:20251017T163415Z
LAST-MODIFIED:20251205T181716Z
UID:10002293-1819641600-1819648800@gunstuff.tv
SUMMARY:Skeet League
DESCRIPTION:Contact Frank Andrews with Questions.
URL:https://gunstuff.tv/event/skeet-league-100/
END:VEVENT
BEGIN:VEVENT
DTSTART;VALUE=DATE:20270831
DTEND;VALUE=DATE:20270901
DTSTAMP:20260423T133721
CREATED:20260213T031115Z
LAST-MODIFIED:20260417T034747Z
UID:10005479-1819670400-1819756799@gunstuff.tv
SUMMARY:Club closed
DESCRIPTION:
URL:https://gunstuff.tv/event/club-closed-161/
END:VEVENT
BEGIN:VEVENT
DTSTART;VALUE=DATE:20270903
DTEND;VALUE=DATE:20270904
DTSTAMP:20260423T133721
CREATED:20260213T031115Z
LAST-MODIFIED:20260417T034748Z
UID:10005483-1819929600-1820015999@gunstuff.tv
SUMMARY:Competition Bays Closed for steel challenge set up
DESCRIPTION:
URL:https://gunstuff.tv/event/competition-bays-closed-for-steel-challenge-set-up-19/
END:VEVENT
BEGIN:VEVENT
DTSTART;VALUE=DATE:20270903
DTEND;VALUE=DATE:20270904
DTSTAMP:20260423T133721
CREATED:20260213T031115Z
LAST-MODIFIED:20260417T034747Z
UID:10005484-1819929600-1820015999@gunstuff.tv
SUMMARY:Rifle range closed for steel challenge setup & shoot.
DESCRIPTION:
URL:https://gunstuff.tv/event/rifle-range-closed-for-steel-challenge-setup-shoot-21/
END:VEVENT
BEGIN:VEVENT
DTSTART;VALUE=DATE:20270904
DTEND;VALUE=DATE:20270905
DTSTAMP:20260423T133721
CREATED:20260213T031115Z
LAST-MODIFIED:20260417T034747Z
UID:10005481-1820016000-1820102399@gunstuff.tv
SUMMARY:Rifle Range Closed Today
DESCRIPTION:
URL:https://gunstuff.tv/event/rifle-range-closed-today-18/
END:VEVENT
END:VCALENDAR