BEGIN:VCALENDAR
VERSION:2.0
PRODID:-//GunStuff TV - ECPv6.15.20//NONSGML v1.0//EN
CALSCALE:GREGORIAN
METHOD:PUBLISH
X-WR-CALNAME:GunStuff TV
X-ORIGINAL-URL:https://gunstuff.tv
X-WR-CALDESC:Events for GunStuff TV
REFRESH-INTERVAL;VALUE=DURATION:PT1H
X-Robots-Tag:noindex
X-PUBLISHED-TTL:PT1H
BEGIN:VTIMEZONE
TZID:UTC
BEGIN:STANDARD
TZOFFSETFROM:+0000
TZOFFSETTO:+0000
TZNAME:UTC
DTSTART:20250101T000000
END:STANDARD
END:VTIMEZONE
BEGIN:VTIMEZONE
TZID:America/New_York
BEGIN:DAYLIGHT
TZOFFSETFROM:-0500
TZOFFSETTO:-0400
TZNAME:EDT
DTSTART:20250309T070000
END:DAYLIGHT
BEGIN:STANDARD
TZOFFSETFROM:-0400
TZOFFSETTO:-0500
TZNAME:EST
DTSTART:20251102T060000
END:STANDARD
BEGIN:DAYLIGHT
TZOFFSETFROM:-0500
TZOFFSETTO:-0400
TZNAME:EDT
DTSTART:20260308T070000
END:DAYLIGHT
BEGIN:STANDARD
TZOFFSETFROM:-0400
TZOFFSETTO:-0500
TZNAME:EST
DTSTART:20261101T060000
END:STANDARD
BEGIN:DAYLIGHT
TZOFFSETFROM:-0500
TZOFFSETTO:-0400
TZNAME:EDT
DTSTART:20270314T070000
END:DAYLIGHT
BEGIN:STANDARD
TZOFFSETFROM:-0400
TZOFFSETTO:-0500
TZNAME:EST
DTSTART:20271107T060000
END:STANDARD
END:VTIMEZONE
BEGIN:VTIMEZONE
TZID:America/Phoenix
BEGIN:STANDARD
TZOFFSETFROM:-0700
TZOFFSETTO:-0700
TZNAME:MST
DTSTART:20250101T000000
END:STANDARD
END:VTIMEZONE
BEGIN:VTIMEZONE
TZID:America/Chicago
BEGIN:DAYLIGHT
TZOFFSETFROM:-0600
TZOFFSETTO:-0500
TZNAME:CDT
DTSTART:20250309T080000
END:DAYLIGHT
BEGIN:STANDARD
TZOFFSETFROM:-0500
TZOFFSETTO:-0600
TZNAME:CST
DTSTART:20251102T070000
END:STANDARD
BEGIN:DAYLIGHT
TZOFFSETFROM:-0600
TZOFFSETTO:-0500
TZNAME:CDT
DTSTART:20260308T080000
END:DAYLIGHT
BEGIN:STANDARD
TZOFFSETFROM:-0500
TZOFFSETTO:-0600
TZNAME:CST
DTSTART:20261101T070000
END:STANDARD
BEGIN:DAYLIGHT
TZOFFSETFROM:-0600
TZOFFSETTO:-0500
TZNAME:CDT
DTSTART:20270314T080000
END:DAYLIGHT
BEGIN:STANDARD
TZOFFSETFROM:-0500
TZOFFSETTO:-0600
TZNAME:CST
DTSTART:20271107T070000
END:STANDARD
END:VTIMEZONE
BEGIN:VEVENT
DTSTART;TZID=UTC:20260913T090000
DTEND;TZID=UTC:20260913T090000
DTSTAMP:20260421T180837
CREATED:20260207T171721Z
LAST-MODIFIED:20260410T113146Z
UID:10005057-1789290000-1789290000@gunstuff.tv
SUMMARY:BSPSC September Watson Children's Shelter Charity Match and Northern Rockies Sectional
DESCRIPTION:BSPSC September Watson Children’s Shelter Charity Match and Northern Rockies Sectional\nDate : 9/13/26\nStart Time: 9:00 AM\nLocation:\nBig Sky Practical Shooting Club (NR02)\n1142 Deer Creek Road\nEast Missoula\, MT\nEvent Contact Information\nSean Boushie\n406-370-6927\nflintlocknfur@hotmail.com\nMatch Information\nWe will again be hosting a charity match where all proceeds\, and any donations will be donated to our local Watson Children’s Shelter. The only shelter of its kind in Western Montana. This match will also serve as the Northern Rockies Sectional. So\, bring a group\, and open your wallets please!\nEvent Website\nhttps://bspsc.org/index.php
URL:https://gunstuff.tv/event/bspsc-september-watson-childrens-shelter-charity-match-and-northern-rockies-sectional/
LOCATION:Big Sky Practical Shooting Club (NR02)\, 1142 Deer Creek Rd\, Missoula\, MT\, United States
GEO:46.862716;-113.891053
X-APPLE-STRUCTURED-LOCATION;VALUE=URI;X-ADDRESS=Big Sky Practical Shooting Club (NR02) 1142 Deer Creek Rd Missoula MT United States;X-APPLE-RADIUS=500;X-TITLE=1142 Deer Creek Rd:geo:-113.891053,46.862716
END:VEVENT
BEGIN:VEVENT
DTSTART;TZID=America/New_York:20260913T090000
DTEND;TZID=America/New_York:20260913T120000
DTSTAMP:20260421T180837
CREATED:20251003T162643Z
LAST-MODIFIED:20260411T214637Z
UID:10001494-1789290000-1789300800@gunstuff.tv
SUMMARY:Weekly Trap League
DESCRIPTION:
URL:https://gunstuff.tv/event/weekly-trap-league-50/
LOCATION:Shotgun Range
END:VEVENT
BEGIN:VEVENT
DTSTART;TZID=America/New_York:20260913T090000
DTEND;TZID=America/New_York:20260913T140000
DTSTAMP:20260421T180837
CREATED:20251003T031216Z
LAST-MODIFIED:20260410T070130Z
UID:10000646-1789290000-1789308000@gunstuff.tv
SUMMARY:Wyoming Antelope 2700
DESCRIPTION:
URL:https://gunstuff.tv/event/wyoming-antelope-2700-23/
LOCATION:Wyoming Antelope Club-Florida\, 3700 126th Ave N\, Clearwater\, FL\, United States
GEO:27.886432;-82.683263
X-APPLE-STRUCTURED-LOCATION;VALUE=URI;X-ADDRESS=Wyoming Antelope Club-Florida 3700 126th Ave N Clearwater FL United States;X-APPLE-RADIUS=500;X-TITLE=3700 126th Ave N:geo:-82.683263,27.886432
END:VEVENT
BEGIN:VEVENT
DTSTART;TZID=America/New_York:20260913T090000
DTEND;TZID=America/New_York:20260913T163000
DTSTAMP:20260421T180837
CREATED:20260111T181638Z
LAST-MODIFIED:20260412T184752Z
UID:10004393-1789290000-1789317000@gunstuff.tv
SUMMARY:Smallbore Silhouette
DESCRIPTION:Smallbore Silhouettes is a series of 60 shots standing unsupported at steel animal silhouettes using a 22 caliber rimfire rifle. Targets are chickens at 40m\, pigs at 60m\, turkeys at 77m rams at 100m\, and all targets are 5 mils so they are all the same angular dimensions at their respective ranges. Participants may compete in Standard Rifle (competition style rifles) and/or Hunting Rifle (typical 22 caliber rifle). Most hunting rifles qualify as standard rifles too. \nContact Chris Moss mossthom22@gmail.com
URL:https://gunstuff.tv/event/smallbore-silhouette-8/
LOCATION:Lea Valley Range
END:VEVENT
BEGIN:VEVENT
DTSTART;TZID=UTC:20260913T114500
DTEND;TZID=UTC:20260913T114500
DTSTAMP:20260421T180837
CREATED:20260110T171713Z
LAST-MODIFIED:20260410T113146Z
UID:10004313-1789299900-1789299900@gunstuff.tv
SUMMARY:Shadow Hawk Defense USPSA Level 1 - Sep
DESCRIPTION:Shadow Hawk Defense USPSA Level 1 – Sep\nDate : 9/13/26\nStart Time: 11:45 AM\nLocation:\nShadow Hawk Defense (VA31)\n436 Apple Harvest Drive\nHedgesville\, WV\nEvent Contact Information\nLynn Kasic\n304-616-6582\ninfo@shadowhawkdefense.com\nMatch Information\nSame match on both Sat and Sun. The squad you select will determine which day/time that you shoot. USPSA level 1 match. Approx round count 165.\n*** Per rule 6.2.4.1 Multiple entries in the same division are prohibited. ***\nMatch day start times\nSaturday-AM squads\nRange and registration open at 9:00 AM\nMandatory range brief: 9:45 AM*\nHammer down at 10:00 AM\nSunday (PM) only squads (when available)\nRange and registration open at 11:00\nMandatory range brief: 11:45\nHammer down at Noon\nMatch fee is paid at the door.\nEvent Website\nhttp://www.ShadowHawkDefense.com
URL:https://gunstuff.tv/event/shadow-hawk-defense-uspsa-level-1-sep-2/
LOCATION:Shadow Hawk Defense (VA31)\, 399 Apple Harvest Dr\, Hedgesville\, WV\, United States
GEO:39.389611;-78.197586
X-APPLE-STRUCTURED-LOCATION;VALUE=URI;X-ADDRESS=Shadow Hawk Defense (VA31) 399 Apple Harvest Dr Hedgesville WV United States;X-APPLE-RADIUS=500;X-TITLE=399 Apple Harvest Dr:geo:-78.197586,39.389611
END:VEVENT
BEGIN:VEVENT
DTSTART;TZID=America/New_York:20260913T130000
DTEND;TZID=America/New_York:20260913T150000
DTSTAMP:20260421T180837
CREATED:20251019T193324Z
LAST-MODIFIED:20260414T083130Z
UID:10002470-1789304400-1789311600@gunstuff.tv
SUMMARY:Open Trap Shoot - Weather Permitting
DESCRIPTION:Open shoot\, $5.00 per round.  The trap field is 2/10ths of a mile past the clubhouse. \nFor the latest information visit:https://www.facebook.com/groups/1663932967427026
URL:https://gunstuff.tv/event/open-trap-shoot-weather-permitting-21/
LOCATION:523 Sizer Run Road Emporium\, Emporium\, PA\, United States
GEO:41.500749;-78.322815
END:VEVENT
BEGIN:VEVENT
DTSTART;VALUE=DATE:20260914
DTEND;VALUE=DATE:20260915
DTSTAMP:20260421T180837
CREATED:20260213T031101Z
LAST-MODIFIED:20260410T034704Z
UID:10005300-1789344000-1789430399@gunstuff.tv
SUMMARY:Club Closed
DESCRIPTION:
URL:https://gunstuff.tv/event/club-closed-61/
END:VEVENT
BEGIN:VEVENT
DTSTART;TZID=America/New_York:20260914T090000
DTEND;TZID=America/New_York:20260914T100000
DTSTAMP:20260421T180837
CREATED:20251003T162643Z
LAST-MODIFIED:20251010T162931Z
UID:10001495-1789376400-1789380000@gunstuff.tv
SUMMARY:4-H Class Indoors
DESCRIPTION:Indoor reserved for 4-H class.
URL:https://gunstuff.tv/event/4-h-class-indoors-50/
LOCATION:Indoor Range
END:VEVENT
BEGIN:VEVENT
DTSTART;TZID=America/New_York:20260914T160000
DTEND;TZID=America/New_York:20260914T180000
DTSTAMP:20260421T180837
CREATED:20251003T162643Z
LAST-MODIFIED:20251205T181710Z
UID:10001496-1789401600-1789408800@gunstuff.tv
SUMMARY:Skeet League
DESCRIPTION:Contact Frank Andrews with Questions.
URL:https://gunstuff.tv/event/skeet-league-50/
END:VEVENT
BEGIN:VEVENT
DTSTART;TZID=America/New_York:20260914T160000
DTEND;TZID=America/New_York:20260914T180000
DTSTAMP:20260421T180837
CREATED:20251212T181643Z
LAST-MODIFIED:20260411T214637Z
UID:10003551-1789401600-1789408800@gunstuff.tv
SUMMARY:Skeet League
DESCRIPTION:Contact Frank Andrews with Questions.
URL:https://gunstuff.tv/event/skeet-league-140/
LOCATION:Skeet Range
END:VEVENT
BEGIN:VEVENT
DTSTART;TZID=America/New_York:20260914T193000
DTEND;TZID=America/New_York:20260914T223000
DTSTAMP:20260421T180837
CREATED:20251012T173818Z
LAST-MODIFIED:20260412T184752Z
UID:10002129-1789414200-1789425000@gunstuff.tv
SUMMARY:Board Meeting
DESCRIPTION:Monthly Board Meeting
URL:https://gunstuff.tv/event/board-meeting-30/
LOCATION:Clubhouse
END:VEVENT
BEGIN:VEVENT
DTSTART;VALUE=DATE:20260915
DTEND;VALUE=DATE:20260916
DTSTAMP:20260421T180837
CREATED:20251003T160030Z
LAST-MODIFIED:20260412T043234Z
UID:10001037-1789430400-1789516799@gunstuff.tv
SUMMARY:100\, 200\, 300 Yard Practice Benchrest Range
DESCRIPTION:
URL:https://gunstuff.tv/event/100-200-300-yard-practice-benchrest-range-42/
END:VEVENT
BEGIN:VEVENT
DTSTART;VALUE=DATE:20260915
DTEND;VALUE=DATE:20260916
DTSTAMP:20260421T180837
CREATED:20260213T031101Z
LAST-MODIFIED:20260410T034704Z
UID:10005301-1789430400-1789516799@gunstuff.tv
SUMMARY:Club closed
DESCRIPTION:
URL:https://gunstuff.tv/event/club-closed-62/
END:VEVENT
BEGIN:VEVENT
DTSTART;TZID=America/New_York:20260915T170000
DTEND;TZID=America/New_York:20260915T200000
DTSTAMP:20260421T180837
CREATED:20260328T214634Z
LAST-MODIFIED:20260411T214637Z
UID:10006600-1789491600-1789502400@gunstuff.tv
SUMMARY:Tactical Tuesday IDPA Practice
DESCRIPTION:Shooters new to Action Shooting contact Eric Zaharee at ABSAIDPA@gmail .com\nSee (Alder Brook) PractiScore.com for sign up Cost $5
URL:https://gunstuff.tv/event/tactical-tuesday-idpa-practice-23/
LOCATION:Action Bays
END:VEVENT
BEGIN:VEVENT
DTSTART;TZID=America/Chicago:20260915T190000
DTEND;TZID=America/Chicago:20260915T200000
DTSTAMP:20260421T180837
CREATED:20260407T221656Z
LAST-MODIFIED:20260414T221654Z
UID:10007380-1789498800-1789502400@gunstuff.tv
SUMMARY:Northwest Suburban Townhall Meeting
DESCRIPTION:Come out and join your friends at the ISRA Northwest Suburban Townhall meeting\, returning to the location at Golden Corral Buffet\, 1591 S Randall Rd\, Algonquin. Doors open at 6:00 PM with Buffet and free soft drink available for a special ISRA Meeting price. The meeting will be from 7-8 PM.\nPlease join us to enjoy great food and company and help support our gracious host\, Golden Corral Algonquin\, in our new location.\nNorthwest Suburban townhall Meeting Board\nmember@isra.org
URL:https://gunstuff.tv/event/northwest-suburban-townhall-meeting-2/
LOCATION:Golden Corral Restaurant – Algonquin\, 699 S Randall Rd\, Algonquin\, IL\, United States
CATEGORIES:Event Calendar
GEO:42.172548;-88.33535
X-APPLE-STRUCTURED-LOCATION;VALUE=URI;X-ADDRESS=Golden Corral Restaurant – Algonquin 699 S Randall Rd Algonquin IL United States;X-APPLE-RADIUS=500;X-TITLE=699 S Randall Rd:geo:-88.33535,42.172548
END:VEVENT
BEGIN:VEVENT
DTSTART;VALUE=DATE:20260916
DTEND;VALUE=DATE:20260917
DTSTAMP:20260421T180837
CREATED:20251005T190051Z
LAST-MODIFIED:20260412T200155Z
UID:10001688-1789516800-1789603199@gunstuff.tv
SUMMARY:Wednesday Registered Skeet
DESCRIPTION:Registered Skeet.  Contact Jerry Adams at 240-605-3220 for details. \nClick here for flyer
URL:https://gunstuff.tv/event/wednesday-registered-skeet-18/
END:VEVENT
BEGIN:VEVENT
DTSTART;VALUE=DATE:20260916
DTEND;VALUE=DATE:20260917
DTSTAMP:20260421T180837
CREATED:20251005T190547Z
LAST-MODIFIED:20260412T203315Z
UID:10001732-1789516800-1789603199@gunstuff.tv
SUMMARY:Skanska USA Building
DESCRIPTION:Charity Sporting Clays tournament benefiting the Leukemia & Lymphoma Society's Light the Night event.  Contact Keith Sitzman at keith.sitzman@skanska.com or 210-889-0141 for more information.
URL:https://gunstuff.tv/event/skanska-usa-building/
END:VEVENT
BEGIN:VEVENT
DTSTART;TZID=UTC:20260916T164500
DTEND;TZID=UTC:20260916T164500
DTSTAMP:20260421T180837
CREATED:20260121T014638Z
LAST-MODIFIED:20260401T070147Z
UID:10004659-1789577100-1789577100@gunstuff.tv
SUMMARY:Bass River Weds Nite Steel
DESCRIPTION:Bass River Weds Nite Steel\nDate: 9/16/26\nStart Time: 4:45 PM\nLocation:\nBass River Rod & Gun Club (SCSA467)\nBass River Rod &Gun 620 Rt. 6A\nYarmouthport\, MA\nEvent Contact Information\nTimothy J Kent\n5082372137\ntjkent@comcast.net\nEvent Website\nhttps://www.bassriverrodandgun.com/
URL:https://gunstuff.tv/event/bass-river-weds-nite-steel-21/
LOCATION:Bass River Rod & Gun Club (SCSA467)\, 79 State Rte 6 Alt\, Dennis\, MA\, United States
GEO:41.721025;-70.196653
X-APPLE-STRUCTURED-LOCATION;VALUE=URI;X-ADDRESS=Bass River Rod & Gun Club (SCSA467) 79 State Rte 6 Alt Dennis MA United States;X-APPLE-RADIUS=500;X-TITLE=79 State Rte 6 Alt:geo:-70.196653,41.721025
END:VEVENT
BEGIN:VEVENT
DTSTART;TZID=America/Chicago:20260916T190000
DTEND;TZID=America/Chicago:20260916T200000
DTSTAMP:20260421T180837
CREATED:20260414T221629Z
LAST-MODIFIED:20260414T221655Z
UID:10007991-1789585200-1789588800@gunstuff.tv
SUMMARY:Will County Townhall Meeting
DESCRIPTION: ISRA invites you to join the Will County Townhall for our monthly meeting at the Silver Dollar Restaurant at 422 E. Mississippi Ave.\, Elwood\, IL\, and are open to everyone.\nMeetings start at 7 PM sharp; however\, feel free to come early and socialize with like-minded individuals before the meeting in our private room. Cash food and drinks are available. As always\, we will have our closing raffle where members can win a nice prize!\nHope to see you there!
URL:https://gunstuff.tv/event/will-county-townhall-meeting-9/
LOCATION:Silver Dollar Restaurant\, 398 E Mississippi Ave\, Elwood\, IL\, United States
CATEGORIES:Event Calendar
GEO:41.40415;-88.106391
X-APPLE-STRUCTURED-LOCATION;VALUE=URI;X-ADDRESS=Silver Dollar Restaurant 398 E Mississippi Ave Elwood IL United States;X-APPLE-RADIUS=500;X-TITLE=398 E Mississippi Ave:geo:-88.106391,41.40415
END:VEVENT
BEGIN:VEVENT
DTSTART;VALUE=DATE:20260917
DTEND;VALUE=DATE:20260918
DTSTAMP:20260421T180837
CREATED:20251003T160030Z
LAST-MODIFIED:20260412T043234Z
UID:10001039-1789603200-1789689599@gunstuff.tv
SUMMARY:600 Yard Practice 6:30am Pits
DESCRIPTION:
URL:https://gunstuff.tv/event/600-yard-practice-630am-pits-19/
END:VEVENT
BEGIN:VEVENT
DTSTART;VALUE=DATE:20260918
DTEND;VALUE=DATE:20260919
DTSTAMP:20260421T180837
CREATED:20251003T160030Z
LAST-MODIFIED:20260412T043234Z
UID:10001038-1789689600-1789775999@gunstuff.tv
SUMMARY:Across the Course Practice 6:30am Pits
DESCRIPTION:
URL:https://gunstuff.tv/event/across-the-course-practice-630am-pits-14/
END:VEVENT
BEGIN:VEVENT
DTSTART;VALUE=DATE:20260918
DTEND;VALUE=DATE:20260919
DTSTAMP:20260421T180837
CREATED:20260213T031101Z
LAST-MODIFIED:20260410T034704Z
UID:10005302-1789689600-1789775999@gunstuff.tv
SUMMARY:Competition Bays closed for USPSA set up
DESCRIPTION:
URL:https://gunstuff.tv/event/competition-bays-closed-for-uspsa-set-up-8/
END:VEVENT
BEGIN:VEVENT
DTSTART;TZID=UTC:20260918T090000
DTEND;TZID=UTC:20260918T090000
DTSTAMP:20260421T180837
CREATED:20251031T195554Z
LAST-MODIFIED:20260415T070237Z
UID:10002834-1789722000-1789722000@gunstuff.tv
SUMMARY:2026 Cornhusker Classic Steel Challenge
DESCRIPTION:2026 Cornhusker Classic Steel Challenge\nMatch Status: Approved by DNROI\nMatch Starts on Sep 18\, 2026\nMatch will end Sep 20\, 2026\nMatch Location:\nEastern Nebraska Gun Club\n12200 Nebraska 66\nLouisville\, NE 68037\nManaged by:\nEastern Nebraska Gun Club\nStage Count: 8\nRound Count: 195\nMatch Entry Fee: $30.00\nMatch Director: Todd Woitzel\nRange Master: Thomas Howard\nAdditional Details\nRegister!\nRegistration not available.
URL:https://gunstuff.tv/event/2026-cornhusker-classic-steel-challenge/
LOCATION:Eastern Nebraska Gun Club\, 198 Nebraska St\, South Bend\, NE\, United States
GEO:41.003693;-96.245928
X-APPLE-STRUCTURED-LOCATION;VALUE=URI;X-ADDRESS=Eastern Nebraska Gun Club 198 Nebraska St South Bend NE United States;X-APPLE-RADIUS=500;X-TITLE=198 Nebraska St:geo:-96.245928,41.003693
END:VEVENT
BEGIN:VEVENT
DTSTART;VALUE=DATE:20260919
DTEND;VALUE=DATE:20260920
DTSTAMP:20260421T180837
CREATED:20251003T160030Z
LAST-MODIFIED:20260412T043234Z
UID:10001040-1789776000-1789862399@gunstuff.tv
SUMMARY:1000 Yard Practice 6:30am Pits
DESCRIPTION:
URL:https://gunstuff.tv/event/1000-yard-practice-630am-pits-21/
END:VEVENT
BEGIN:VEVENT
DTSTART;VALUE=DATE:20260919
DTEND;VALUE=DATE:20260920
DTSTAMP:20260421T180837
CREATED:20251026T194722Z
LAST-MODIFIED:20260414T083130Z
UID:10002579-1789776000-1789862399@gunstuff.tv
SUMMARY:Club Rental
DESCRIPTION:
URL:https://gunstuff.tv/event/club-rental-11/
LOCATION:523 Sizer Run Rd\, Emporium\, PA\, United States
GEO:41.51031;-78.23157
END:VEVENT
BEGIN:VEVENT
DTSTART;VALUE=DATE:20260919
DTEND;VALUE=DATE:20260920
DTSTAMP:20260421T180837
CREATED:20260213T031101Z
LAST-MODIFIED:20260410T034704Z
UID:10005303-1789776000-1789862399@gunstuff.tv
SUMMARY:USPSA Pistol Match
DESCRIPTION:USPSA (United States Practical ShootingAssociation) Pistol Match: Practical Shooting measures the shooter’s ability toshoot rapidly and accurately through obstacle-laden courses. The shooter moves\,negotiates\, runs\, covers\, and speed reloads through the stage as fast as theirskill will allow.  If this fast paced shooting sounds like fun\, come outand give it a try. Show up with an unloaded centerfire pistol in .38\, 9mm\, .40\,or .45 in an enclosed case and ask a match official where the safe area is soyou can holster your gun safely.  Also bring a rigid holster\, magazines\,and mag pouches capable of holding at least 32 rounds.  Overall matchround counts are usually between 100 and 150 rounds.  Specific divisionrequirements can be found at http://uspsa.org.  Starts at 9:30 AM and costwill be $20 ($15 for Pinetucky members\, active duty military\, police\, andfire). You can sign up at practiscore.com
URL:https://gunstuff.tv/event/uspsa-pistol-match-8/
LOCATION:Pinetucky Gun Club\, 2096 Greenland Rd\, Blythe\, GA\, United States
GEO:33.344103;-82.138722
X-APPLE-STRUCTURED-LOCATION;VALUE=URI;X-ADDRESS=Pinetucky Gun Club 2096 Greenland Rd Blythe GA United States;X-APPLE-RADIUS=500;X-TITLE=2096 Greenland Rd:geo:-82.138722,33.344103
END:VEVENT
BEGIN:VEVENT
DTSTART;VALUE=DATE:20260919
DTEND;VALUE=DATE:20260921
DTSTAMP:20260421T180837
CREATED:20260220T184631Z
LAST-MODIFIED:20260411T214637Z
UID:10005722-1789776000-1789948799@gunstuff.tv
SUMMARY:Hunter Education
DESCRIPTION:Hunter Education by Fish & Game
URL:https://gunstuff.tv/event/hunter-education-3/
LOCATION:Clubhouse
END:VEVENT
BEGIN:VEVENT
DTSTART;TZID=UTC:20260919T080000
DTEND;TZID=UTC:20260919T080000
DTSTAMP:20260421T180837
CREATED:20260304T061643Z
LAST-MODIFIED:20260401T070147Z
UID:10006100-1789804800-1789804800@gunstuff.tv
SUMMARY:Bandera Steel Challenge
DESCRIPTION:Bandera Steel Challenge\nDate: 9/19/26\nStart Time: 8:00 AM\nLocation:\nBandera Steel Challenge (SCSA516)\n809 FM 1077\nBandera\, TX\nEvent Contact Information\nTim Reedy\n2102873785\nbandera.steel.match@gmail.com\nMatch Information\nOnline payment now accepted!\nIf shooting 2 guns\, put each division after your last name (I.e. Reedy CO\, Reedy RFPO)\nWe will shoot 6 official classifier stages. I will upload results to SCSA.\n* Setup @ 7:30\, Signup @ 8\, New Shooter’s meeting @ 8:40\, Start @9:00\n* Check in at Bay 3\, even if you paid online.\n* First-timers need to attend the “New Shooters’ Meeting” held in Bay 2 about 20 minutes before the match starts.\n* We will shoot 4 stages and after a quick reconfiguration\, shoot the other 2 stages.\nGear:\n* Pistols: Non-collapsing belt holster positioned on or in front of your hips. (No small of back\, or cross-draw allowed).\n* Enough magazines to hold 30 rounds\n* ~200 rounds of ammunition (It’s 150 if you don’t miss)\n* Eye and ear protection.\nPrices:\n* General Public. – $30\n* Bandera Gun Club Member -$20\n* Active Duty LEO or MIL – $20\n* 2nd Gun (2 registrations) – $10\nEvent Website\nhttps://practiscore.com/clubs/bandera_steel
URL:https://gunstuff.tv/event/bandera-steel-challenge-9/
LOCATION:Bandera Steel Challenge (SCSA516)\, Bandera\, TX\, United States
GEO:29.724328;-99.104014
END:VEVENT
BEGIN:VEVENT
DTSTART;TZID=America/New_York:20260919T080000
DTEND;TZID=America/New_York:20260919T160000
DTSTAMP:20260421T180837
CREATED:20251003T162536Z
LAST-MODIFIED:20260412T184752Z
UID:10001283-1789804800-1789833600@gunstuff.tv
SUMMARY:High Power Rifle Match
DESCRIPTION:Details here: https://www.fxrgc.org/rifle/high-power-rifle-monthly/
URL:https://gunstuff.tv/event/high-power-rifle-match-23/
LOCATION:Benson Range
END:VEVENT
BEGIN:VEVENT
DTSTART;TZID=America/New_York:20260919T083000
DTEND;TZID=America/New_York:20260919T143000
DTSTAMP:20260421T180837
CREATED:20251003T031216Z
LAST-MODIFIED:20260410T070130Z
UID:10000647-1789806600-1789828200@gunstuff.tv
SUMMARY:PMRPC Rimfire Match
DESCRIPTION:For more information you may contact the match director: James Sudduth at j.sudduth@ymail.com.
URL:https://gunstuff.tv/event/pmrpc-rimfire-match-12/
LOCATION:Port Malabar Rifle & Pistol Club\, 599 Hurley Blvd SW\, Palm Bay\, FL\, United States
GEO:27.987569;-80.71018
X-APPLE-STRUCTURED-LOCATION;VALUE=URI;X-ADDRESS=Port Malabar Rifle & Pistol Club 599 Hurley Blvd SW Palm Bay FL United States;X-APPLE-RADIUS=500;X-TITLE=599 Hurley Blvd SW:geo:-80.71018,27.987569
END:VEVENT
END:VCALENDAR