BEGIN:VCALENDAR
VERSION:2.0
PRODID:-//GunStuff TV - ECPv6.15.20//NONSGML v1.0//EN
CALSCALE:GREGORIAN
METHOD:PUBLISH
X-ORIGINAL-URL:https://gunstuff.tv
X-WR-CALDESC:Events for GunStuff TV
REFRESH-INTERVAL;VALUE=DURATION:PT1H
X-Robots-Tag:noindex
X-PUBLISHED-TTL:PT1H
BEGIN:VTIMEZONE
TZID:UTC
BEGIN:STANDARD
TZOFFSETFROM:+0000
TZOFFSETTO:+0000
TZNAME:UTC
DTSTART:20250101T000000
END:STANDARD
END:VTIMEZONE
BEGIN:VTIMEZONE
TZID:America/Chicago
BEGIN:DAYLIGHT
TZOFFSETFROM:-0600
TZOFFSETTO:-0500
TZNAME:CDT
DTSTART:20250309T080000
END:DAYLIGHT
BEGIN:STANDARD
TZOFFSETFROM:-0500
TZOFFSETTO:-0600
TZNAME:CST
DTSTART:20251102T070000
END:STANDARD
BEGIN:DAYLIGHT
TZOFFSETFROM:-0600
TZOFFSETTO:-0500
TZNAME:CDT
DTSTART:20260308T080000
END:DAYLIGHT
BEGIN:STANDARD
TZOFFSETFROM:-0500
TZOFFSETTO:-0600
TZNAME:CST
DTSTART:20261101T070000
END:STANDARD
BEGIN:DAYLIGHT
TZOFFSETFROM:-0600
TZOFFSETTO:-0500
TZNAME:CDT
DTSTART:20270314T080000
END:DAYLIGHT
BEGIN:STANDARD
TZOFFSETFROM:-0500
TZOFFSETTO:-0600
TZNAME:CST
DTSTART:20271107T070000
END:STANDARD
END:VTIMEZONE
BEGIN:VTIMEZONE
TZID:America/Los_Angeles
BEGIN:DAYLIGHT
TZOFFSETFROM:-0800
TZOFFSETTO:-0700
TZNAME:PDT
DTSTART:20250309T100000
END:DAYLIGHT
BEGIN:STANDARD
TZOFFSETFROM:-0700
TZOFFSETTO:-0800
TZNAME:PST
DTSTART:20251102T090000
END:STANDARD
BEGIN:DAYLIGHT
TZOFFSETFROM:-0800
TZOFFSETTO:-0700
TZNAME:PDT
DTSTART:20260308T100000
END:DAYLIGHT
BEGIN:STANDARD
TZOFFSETFROM:-0700
TZOFFSETTO:-0800
TZNAME:PST
DTSTART:20261101T090000
END:STANDARD
BEGIN:DAYLIGHT
TZOFFSETFROM:-0800
TZOFFSETTO:-0700
TZNAME:PDT
DTSTART:20270314T100000
END:DAYLIGHT
BEGIN:STANDARD
TZOFFSETFROM:-0700
TZOFFSETTO:-0800
TZNAME:PST
DTSTART:20271107T090000
END:STANDARD
END:VTIMEZONE
BEGIN:VTIMEZONE
TZID:America/New_York
BEGIN:DAYLIGHT
TZOFFSETFROM:-0500
TZOFFSETTO:-0400
TZNAME:EDT
DTSTART:20250309T070000
END:DAYLIGHT
BEGIN:STANDARD
TZOFFSETFROM:-0400
TZOFFSETTO:-0500
TZNAME:EST
DTSTART:20251102T060000
END:STANDARD
BEGIN:DAYLIGHT
TZOFFSETFROM:-0500
TZOFFSETTO:-0400
TZNAME:EDT
DTSTART:20260308T070000
END:DAYLIGHT
BEGIN:STANDARD
TZOFFSETFROM:-0400
TZOFFSETTO:-0500
TZNAME:EST
DTSTART:20261101T060000
END:STANDARD
BEGIN:DAYLIGHT
TZOFFSETFROM:-0500
TZOFFSETTO:-0400
TZNAME:EDT
DTSTART:20270314T070000
END:DAYLIGHT
BEGIN:STANDARD
TZOFFSETFROM:-0400
TZOFFSETTO:-0500
TZNAME:EST
DTSTART:20271107T060000
END:STANDARD
END:VTIMEZONE
BEGIN:VEVENT
DTSTART;TZID=UTC:20260516T100000
DTEND;TZID=UTC:20260516T100000
DTSTAMP:20260420T224103
CREATED:20260325T064636Z
LAST-MODIFIED:20260401T070142Z
UID:10006501-1778925600-1778925600@gunstuff.tv
SUMMARY:LSC Steel Challenge
DESCRIPTION:LSC Steel Challenge\nDate: 5/16/26\nStart Time: 10:00 AM\nLocation:\nLinden Sportsmen Club (SCSA551)\n14340 Hogan Rd\nLinden\, MI\nEvent Contact Information\nChris Sorgatz\n2489536150\nsorgatz@ameritech.net\nEvent Website\nhttps://practiscore.com/clubs/linden_sportsmen_club_steel_challenge
URL:https://gunstuff.tv/event/lsc-steel-challenge-2/
LOCATION:Linden Sportsmen Club (SCSA551)\, 14400 Hogan Rd\, Linden\, MI\, United States
GEO:42.815623;-83.802261
X-APPLE-STRUCTURED-LOCATION;VALUE=URI;X-ADDRESS=Linden Sportsmen Club (SCSA551) 14400 Hogan Rd Linden MI United States;X-APPLE-RADIUS=500;X-TITLE=14400 Hogan Rd:geo:-83.802261,42.815623
END:VEVENT
BEGIN:VEVENT
DTSTART;TZID=America/Chicago:20260516T110000
DTEND;TZID=America/Chicago:20260516T130000
DTSTAMP:20260420T224103
CREATED:20260421T024640Z
LAST-MODIFIED:20260421T024640Z
UID:10008093-1778929200-1778936400@gunstuff.tv
SUMMARY:Intro to Red Dot Optics
DESCRIPTION:Struggling to “find the dot” on your pistol-mounted optic? Whether you’re new to red dots or looking to sharpen your skills\, this dynamic\, hands-on course is designed to take the guesswork out of your aim and build confidence in every shot. \nIn this foundational class\, you’ll learn the secrets to achieving consistency\, accuracy\, and efficiency. With expert instruction\, you’ll discover how to work with your natural point of aim\, streamline your presentation\, and eliminate common frustrations with pistol-mounted optics. \nWhat You’ll Learn: \n\nStance: Unlock your natural point of aim by perfecting your personalized stance.\nGrip: Gain control and stability for every shot.\nIndex/Presentation: Master the art of aligning your sights smoothly and quickly\, every time.\nSight Picture: Understand where to focus and how to enhance your situational awareness.\nTrigger Control: Separate fact from fiction and learn what really matters for precision.\n\nWhat You Need: \n\nA handgun equipped with a pistol-mounted optic.\nAt least 2 magazines (3 preferred).\nReliable ball ammo (100+ rounds\, no reloads).\nEye/ear protection and a baseball cap.\nA sturdy\, belt-mounted holster Needed. **Floppy nylon holsters will not be allowed.\n\nBy the end of this course\, you’ll walk away with practical skills\, enhanced confidence\, and a clear understanding of how to maximize the potential of your red dot optic. Stop guessing—start mastering! \nSpaces are limited\, so secure your spot today and take control of your aim! \nREGISTER NOW
URL:https://gunstuff.tv/event/intro-to-red-dot-optics-8/
LOCATION:Shooting Center\, 2900 Shotts Street\, Fort Worth\, TX\, 76107
CATEGORIES:Shooting Center Training
ATTACH;FMTTYPE=image/jpeg:https://gunstuff.tv/wp-content/uploads/2026/03/Intro-to-Pistol-Mounted-Optics-iUwq8N-TALwAR.jpg
ORGANIZER;CN="Defender Outdoors Shooting Center Training":MAILTO:info@defenderoutdoors.com
END:VEVENT
BEGIN:VEVENT
DTSTART;TZID=America/Los_Angeles:20260516T130000
DTEND;TZID=America/Los_Angeles:20260516T160000
DTSTAMP:20260420T224103
CREATED:20260417T194739Z
LAST-MODIFIED:20260417T194804Z
UID:10008028-1778936400-1778947200@gunstuff.tv
SUMMARY:Centerfire Rifles (Previously Sighted In) at 200yd Only on the MPR
DESCRIPTION:Diablo Rod and Gun club is hosting a monthly club-level 200 yard centerfire rifle match on the Multi-Purpose Range (MPR) \nAll Clubs Welcome!
URL:https://gunstuff.tv/event/centerfire-rifles-previously-sighted-in-at-200yd-only-on-the-mpr-8/
LOCATION:USI Multi Purpose Range\, 4700 Evora Road\, Concord\, CA\, 94520
END:VEVENT
BEGIN:VEVENT
DTSTART;TZID=America/New_York:20260516T130000
DTEND;TZID=America/New_York:20260516T163000
DTSTAMP:20260420T224103
CREATED:20260404T214703Z
LAST-MODIFIED:20260411T214630Z
UID:10006747-1778936400-1778949000@gunstuff.tv
SUMMARY:IDPA Match Set-up
DESCRIPTION:Volunteers Welcome
URL:https://gunstuff.tv/event/idpa-match-set-up-3/
LOCATION:Action Bays
END:VEVENT
BEGIN:VEVENT
DTSTART;TZID=America/Los_Angeles:20260516T170000
DTEND;TZID=America/Los_Angeles:20260516T200000
DTSTAMP:20260420T224103
CREATED:20260417T194739Z
LAST-MODIFIED:20260417T194804Z
UID:10008029-1778950800-1778961600@gunstuff.tv
SUMMARY:Diablo Saturday Night Shooting
DESCRIPTION:Diablo Saturday Night Shooting\n\n\n\n\n\n\n\n\nDiablo will be hosting Saturday night shooting at the public pistol range. \nIMPORTANT: If you need ammunition PLEASE be sure to grab it BEFORE USI closes. Diablo will NOT be selling ammo. \nIf you are in the mood to do some plinking\, head over to USI. Make sure you have your USI “Blue” card if not please make sure you have done the online waiver. \nTHIS WILL BE A WEEKLY SATURDAY NIGHT EVENT. BOTH RIFLE AND PISTOL WILL GENERALLY BE OPEN. \nHope to see everyone there!
URL:https://gunstuff.tv/event/diablo-saturday-night-shooting-28/
LOCATION:USI Public Pistol / Rifle Range\, 4700 Evora Road\, Concord\, 94520\, United States
CATEGORIES:Pistol Events
ATTACH;FMTTYPE=image/jpeg:https://gunstuff.tv/wp-content/uploads/2025/10/unnamed-2-MCqIwU.jpg
END:VEVENT
BEGIN:VEVENT
DTSTART;VALUE=DATE:20260517
DTEND;VALUE=DATE:20260518
DTSTAMP:20260420T224103
CREATED:20251123T191632Z
LAST-MODIFIED:20260412T200129Z
UID:10003200-1778976000-1779062399@gunstuff.tv
SUMMARY:May Open
DESCRIPTION:Registered Sporting Clays.  For more information\, see the Registered Sporting Clays flyer. \nRegister at scorechaser.com
URL:https://gunstuff.tv/event/may-open/
LOCATION:National Shooting Complex\, 5931 Roft Rd\, San Antonio\, TX\, United States
GEO:29.492881;-98.741985
X-APPLE-STRUCTURED-LOCATION;VALUE=URI;X-ADDRESS=National Shooting Complex 5931 Roft Rd San Antonio TX United States;X-APPLE-RADIUS=500;X-TITLE=5931 Roft Rd:geo:-98.741985,29.492881
END:VEVENT
BEGIN:VEVENT
DTSTART;VALUE=DATE:20260517
DTEND;VALUE=DATE:20260518
DTSTAMP:20260420T224103
CREATED:20260118T210132Z
LAST-MODIFIED:20260414T083128Z
UID:10004598-1778976000-1779062399@gunstuff.tv
SUMMARY:CamCo Clay Crushers PA vs NY Shoot
DESCRIPTION:
URL:https://gunstuff.tv/event/camco-clay-crushers-pa-vs-ny-shoot/
LOCATION:1045 W Warren Rd\, Bradford\, PA\, United States
GEO:41.9559;-78.64392
END:VEVENT
BEGIN:VEVENT
DTSTART;TZID=UTC:20260517T080000
DTEND;TZID=UTC:20260517T080000
DTSTAMP:20260420T224103
CREATED:20260124T171824Z
LAST-MODIFIED:20260410T113136Z
UID:10004717-1779004800-1779004800@gunstuff.tv
SUMMARY:Prairie Thunder GP17 USPSA - 5-17-26
DESCRIPTION:Prairie Thunder GP17 USPSA – 5-17-26\nDate : 5/17/26\nStart Time: 8:00 AM\nLocation:\nPrairie Thunder (GP17)\n21602 Elk Vale Rd\nPiedmont\, SD\nEvent Contact Information\nBruce Schmidt\n6053919117\nprairiethundergc@gmail.com\nEvent Website\nhttps://practiscore.com/prairie-thunder-gp17-05-16-26-uspsa/register
URL:https://gunstuff.tv/event/prairie-thunder-gp17-uspsa-5-17-26/
LOCATION:Prairie Thunder (GP17)\, 21700 Elk Vale Rd\, Piedmont\, SD\, United States
GEO:44.252848;-103.151343
X-APPLE-STRUCTURED-LOCATION;VALUE=URI;X-ADDRESS=Prairie Thunder (GP17) 21700 Elk Vale Rd Piedmont SD United States;X-APPLE-RADIUS=500;X-TITLE=21700 Elk Vale Rd:geo:-103.151343,44.252848
END:VEVENT
BEGIN:VEVENT
DTSTART;TZID=UTC:20260517T080000
DTEND;TZID=UTC:20260517T080000
DTSTAMP:20260420T224103
CREATED:20260128T014752Z
LAST-MODIFIED:20260401T070142Z
UID:10004801-1779004800-1779004800@gunstuff.tv
SUMMARY:Colfax May Steel Challenge
DESCRIPTION:Colfax May Steel Challenge\nDate: 5/17/26\nStart Time: 8:00 AM\nLocation:\nColfax Sportsmens Club (SCSA280)\nE8489 810th Ave\nColfax\, WI\nEvent Contact Information\nCody Berger\n715-495-7259\ncolfaxwishootingsports@gmail.com\nMatch Information\nColfax WI Sportsmen’s Club Tier I Steel Challenge match. We will shoot 6 stages. You must create a registration for each division. Registrations will be limited to two (2) divisions.\nRegistration fee is $20 per division: $10 per division for club members. There will be an additional $5 charge for walk-ins.\n*RSO and NROI participants are permitted two discounted division entries per match.*\n*SASP athletes are permitted two free entries per match. Please select the discount checkbox under payment form.*\nCheck-in runs from 8am – 8:30am with the match starting at 9am. Match scores will be submitted to SCSA website for classification. This match is open to the public\, there is no requirement to be a Colfax Sportsmen’s Club member or a SCSA / USPSA member to compete. Payment can be made through Practiscore or at check-in. Squadding can be done individually through Practiscore and will be adjusted on match day for the most efficient match flow.\nPlan for 5 magazines or speed loaders and a MINIMUM of 200rds per gun.\nIf you are new to Steel Challenge\, please refer to:\nhttps://uspsa.org/viewer/SCSA-Rulebook.pdf\nIt is your responsibility to understand and follow these rules. If you are a SCSA member it is your responsibility to correctly enter your member number in the corresponding box.\nRimfire\, Centerfire\, PCC\, Revolver\, 1911\, Wisconsin\, Midwest\nEvent Website\nhttps://practiscore.com/colfax-may-steel-challenge-1/register
URL:https://gunstuff.tv/event/colfax-may-steel-challenge/
LOCATION:Colfax Sportsmens Club (SCSA280)\, E8489 810th Ave\, Colfax\, WI
END:VEVENT
BEGIN:VEVENT
DTSTART;TZID=America/Los_Angeles:20260517T080000
DTEND;TZID=America/Los_Angeles:20260517T120000
DTSTAMP:20260420T224103
CREATED:20260417T194751Z
LAST-MODIFIED:20260417T194804Z
UID:10008031-1779004800-1779019200@gunstuff.tv
SUMMARY:Airgun – Field Target
DESCRIPTION:Airgun Field Target is an outdoor venue\, utilizing precision high-power air rifles (sometimes air pistols). The reactionary\, steel animal targets are designed to fall only when the pellet hits the “Kill Zone”\, requiring target-rifle accuracy. Targets are then re-set with a cord from the shooting position. The distance to the targets varies and is unknown\, adding an element of range-finding ability (similar to hunting in the field). All types of air rifles may be used\, up to .22 cal\,  (but NO BB’s) and we do have some loaners available. Junior shooters are welcome and as always\, they shoot FREE when accompanied by an adult club member. \nAirguns have grown up…….Give it a try ! We shoot in all weather\, except for the atypical Lightning storm.
URL:https://gunstuff.tv/event/airgun-field-target-6/
LOCATION:USI Multi Purpose Range\, 4700 Evora Road\, Concord\, CA\, 94520
CATEGORIES:Airgun
ATTACH;FMTTYPE=image/png:https://gunstuff.tv/wp-content/uploads/2025/12/fieldtargetguns580-i92vQ1.png
ORGANIZER;CN="Sam Russo":MAILTO:airgun_fieldtarget@diablorodandgun.com
END:VEVENT
BEGIN:VEVENT
DTSTART;TZID=America/Los_Angeles:20260517T080000
DTEND;TZID=America/Los_Angeles:20260517T150000
DTSTAMP:20260420T224103
CREATED:20260417T194751Z
LAST-MODIFIED:20260417T194805Z
UID:10008030-1779004800-1779030000@gunstuff.tv
SUMMARY:DAWG’s ICORE Match
DESCRIPTION:Diablo Action Pistol / Diablo Action Wheel Gunners (DAWGs) will have a 5-stage ICORE match with at least one stage being a regulation Postal Match stage.  Classified semi-auto shooters & DAP shooters who recently completed the Action Orientation class are welcome! \nYou must complete the USI liability waiver online before match day: this involves watching two short 3-min videos and taking an online safety test. The waiver is located at https://unitedsportsmen.com/waiver/ \nPlease arrive early so we can start on time. On-site Registration opens at 8:00 AM and closes at 8:30 AM.  Shooters’ meeting at 8:55 AM. First shots at 9:00 AM. \n\nPre-Register on Practiscore:  https://practiscore.com/clubs/diablo-action-pistol
URL:https://gunstuff.tv/event/dawgs-icore-match-4/
LOCATION:Action Pistol Range\, 4700 Evora Road\, Concord\, CA\, 94520
CATEGORIES:Diablo Action Pistol
ORGANIZER;CN="Blade Benson":MAILTO:matchsupport@diabloactionpistol.com
GEO:42.705297;-83.4014
X-APPLE-STRUCTURED-LOCATION;VALUE=URI;X-ADDRESS=Action Pistol Range 4700 Evora Road Concord CA 94520;X-APPLE-RADIUS=500;X-TITLE=4700 Evora Road:geo:-83.4014,42.705297
END:VEVENT
BEGIN:VEVENT
DTSTART;TZID=America/New_York:20260517T080000
DTEND;TZID=America/New_York:20260517T160000
DTSTAMP:20260420T224103
CREATED:20251003T162535Z
LAST-MODIFIED:20260412T184742Z
UID:10001255-1779004800-1779033600@gunstuff.tv
SUMMARY:High Power Rifle Match
DESCRIPTION:Details here: https://www.fxrgc.org/rifle/high-power-rifle-spring-league/
URL:https://gunstuff.tv/event/high-power-rifle-match-16/
LOCATION:Benson Range
END:VEVENT
BEGIN:VEVENT
DTSTART;TZID=America/Chicago:20260517T080000
DTEND;TZID=America/Chicago:20260517T170000
DTSTAMP:20260420T224103
CREATED:20260421T031632Z
LAST-MODIFIED:20260421T031632Z
UID:10008098-1779004800-1779037200@gunstuff.tv
SUMMARY:Pistoltraining.com On Demand Performance Tactics
DESCRIPTION:In this 1 day class you will learn how to safely and correction negotiate the common environments that an individual might have to defend.\n\n\n\nShooting well is important but it is only part of the equation. In this 1 day class\, you will learn how to safely and correctly negotiate the most common environments including streets\, buildings\, and vehicles. Individual tactics are the cornerstone of the concealed carrier\, police officer\, detective\, investigator and even SWAT operator\, but most academies and schools focus only on team tactics these days. Topics covered in this course include proper use of cover\, one person clearing techniques\, as well as interior and exterior vehicle tactics. Much of the class will be live fire but where it makes more sense\, we will use inert guns. Video coaching to accelerate learning may be used as well. Whether you are protecting your home or working singleton operations\, this is the course for people who realize that winning is what matters\, not just surviving. \nRequirements: \n• Mentally and physically sound \n• Modern eye and ear protection. ANSI Z87.1 rated. Plugs alone are not ideal and electronic ears are highly recommended. \n• Hat with a brim \n• 500 rounds \n• Concealed pistol/holster (duty grade 9mm or larger recommended unless discussed in advance) \n• 4 magazines and 1 magazine pouch (minimum) \n• Ability to draw and re-holster safely as well as hit a 3×5 card slow fire at 5 yards on demand \n• Weather-appropriate clothing and comfort/sustainment items \n• Any tools or batteries needed to service your pistol/optic/holster \n• Inert training gun copy of your carry gun. Some will be available to borrow but may not be the same as yours. \n• Completed waiver
URL:https://gunstuff.tv/event/pistoltraining-com-on-demand-performance-tactics/
LOCATION:MeadHall Range\, 2181 S Blackberry Dr\, Mcloud\, OK\, 74851\, United States
END:VEVENT
BEGIN:VEVENT
DTSTART;TZID=UTC:20260517T083000
DTEND;TZID=UTC:20260517T083000
DTSTAMP:20260420T224103
CREATED:20260128T014752Z
LAST-MODIFIED:20260401T070142Z
UID:10004802-1779006600-1779006600@gunstuff.tv
SUMMARY:Las Vegas Steel @ DSRPC
DESCRIPTION:Las Vegas Steel @ DSRPC\nDate: 5/17/26\nStart Time: 8:30 AM\nLocation:\nLas Vegas Steel at DSRPC (SCSA473)\n12201 W Charleston Blvd\nLas Vegas \, NV\nEvent Contact Information\nLas Vegas Steel\n7024960837\nlasvegassteel5@gmail.com\nEvent Website\nhttp://
URL:https://gunstuff.tv/event/las-vegas-steel-dsrpc-4/
LOCATION:Las Vegas Steel at DSRPC (SCSA473)\, 11099 W Charleston Blvd\, Las Vegas\, NV\, United States
GEO:36.158975;-115.337075
X-APPLE-STRUCTURED-LOCATION;VALUE=URI;X-ADDRESS=Las Vegas Steel at DSRPC (SCSA473) 11099 W Charleston Blvd Las Vegas NV United States;X-APPLE-RADIUS=500;X-TITLE=11099 W Charleston Blvd:geo:-115.337075,36.158975
END:VEVENT
BEGIN:VEVENT
DTSTART;TZID=UTC:20260517T090000
DTEND;TZID=UTC:20260517T090000
DTSTAMP:20260420T224103
CREATED:20260110T171709Z
LAST-MODIFIED:20260410T113136Z
UID:10004268-1779008400-1779008400@gunstuff.tv
SUMMARY:York Practical Shooters
DESCRIPTION:York Practical Shooters\nDate : 5/17/26\nStart Time: 9:00 AM\nLocation:\nYork Practical Shooters (MID13)\n7131 Iron Stone Hill Rd\nDallastown\, PA\nEvent Contact Information\nRussell Fortney\n9999999999\nYorkUSPSA@gmail.com\nMatch Information\nRegistration opens in Practiscore on the 2nd Sunday of the month at 7:00PM.\nEvent Website\nhttps://www.facebook.com/YorkPracticalShooters
URL:https://gunstuff.tv/event/york-practical-shooters-3/
LOCATION:York Practical Shooters (MID13)\, 7131 Ironstone Hill Way\, Dallastown\, PA\, United States
GEO:39.870491;-76.677504
X-APPLE-STRUCTURED-LOCATION;VALUE=URI;X-ADDRESS=York Practical Shooters (MID13) 7131 Ironstone Hill Way Dallastown PA United States;X-APPLE-RADIUS=500;X-TITLE=7131 Ironstone Hill Way:geo:-76.677504,39.870491
END:VEVENT
BEGIN:VEVENT
DTSTART;TZID=America/New_York:20260517T090000
DTEND;TZID=America/New_York:20260517T120000
DTSTAMP:20260420T224103
CREATED:20251003T162640Z
LAST-MODIFIED:20260411T214630Z
UID:10001431-1779008400-1779019200@gunstuff.tv
SUMMARY:Weekly Trap League
DESCRIPTION:
URL:https://gunstuff.tv/event/weekly-trap-league-33/
LOCATION:Shotgun Range
END:VEVENT
BEGIN:VEVENT
DTSTART;TZID=America/New_York:20260517T090000
DTEND;TZID=America/New_York:20260517T120000
DTSTAMP:20260420T224103
CREATED:20251207T181649Z
LAST-MODIFIED:20260412T184742Z
UID:10003453-1779008400-1779019200@gunstuff.tv
SUMMARY:Swap Meet
DESCRIPTION:Contact Bob Paiani at dayglo@comcast.net for information
URL:https://gunstuff.tv/event/swap-meet-4/
LOCATION:Clubhouse
END:VEVENT
BEGIN:VEVENT
DTSTART;TZID=America/New_York:20260517T090000
DTEND;TZID=America/New_York:20260517T123000
DTSTAMP:20260420T224103
CREATED:20251003T031215Z
LAST-MODIFIED:20260410T070128Z
UID:10000625-1779008400-1779021000@gunstuff.tv
SUMMARY:GRPC NRA 1800
DESCRIPTION:
URL:https://gunstuff.tv/event/grpc-nra-1800-8/
LOCATION:Gateway Rifle & Pistol Club\, 9301 Zambito Ave\, Jacksonville\, FL\, United States
GEO:30.262025;-81.814577
X-APPLE-STRUCTURED-LOCATION;VALUE=URI;X-ADDRESS=Gateway Rifle & Pistol Club 9301 Zambito Ave Jacksonville FL United States;X-APPLE-RADIUS=500;X-TITLE=9301 Zambito Ave:geo:-81.814577,30.262025
END:VEVENT
BEGIN:VEVENT
DTSTART;TZID=America/New_York:20260517T090000
DTEND;TZID=America/New_York:20260517T123000
DTSTAMP:20260420T224103
CREATED:20260404T214715Z
LAST-MODIFIED:20260411T214630Z
UID:10006748-1779008400-1779021000@gunstuff.tv
SUMMARY:IDPA Match Set-up
DESCRIPTION:Volunteers welcome
URL:https://gunstuff.tv/event/idpa-match-set-up-4/
LOCATION:Action Bays
END:VEVENT
BEGIN:VEVENT
DTSTART;TZID=America/New_York:20260517T090000
DTEND;TZID=America/New_York:20260517T140000
DTSTAMP:20260420T224103
CREATED:20251003T031215Z
LAST-MODIFIED:20260410T070130Z
UID:10000624-1779008400-1779026400@gunstuff.tv
SUMMARY:Wyoming Antelope 2700
DESCRIPTION:
URL:https://gunstuff.tv/event/wyoming-antelope-2700-16/
LOCATION:Wyoming Antelope Club-Florida\, 3700 126th Ave N\, Clearwater\, FL\, United States
GEO:27.886432;-82.683263
X-APPLE-STRUCTURED-LOCATION;VALUE=URI;X-ADDRESS=Wyoming Antelope Club-Florida 3700 126th Ave N Clearwater FL United States;X-APPLE-RADIUS=500;X-TITLE=3700 126th Ave N:geo:-82.683263,27.886432
END:VEVENT
BEGIN:VEVENT
DTSTART;TZID=America/New_York:20260517T090000
DTEND;TZID=America/New_York:20260517T160000
DTSTAMP:20260420T224103
CREATED:20251109T181648Z
LAST-MODIFIED:20260412T184742Z
UID:10003025-1779008400-1779033600@gunstuff.tv
SUMMARY:Action Pistol Clinic
DESCRIPTION:Action Pistol Clinic hosted by member Adam Metcalf \nadam@openarmsinstruction.com
URL:https://gunstuff.tv/event/action-pistol-clinic-3/
LOCATION:Culver Range
END:VEVENT
BEGIN:VEVENT
DTSTART;TZID=America/Chicago:20260517T120000
DTEND;TZID=America/Chicago:20260517T160000
DTSTAMP:20260420T224103
CREATED:20260421T040129Z
LAST-MODIFIED:20260421T040129Z
UID:10008101-1779019200-1779033600@gunstuff.tv
SUMMARY:Wisconsin Concealed Carry License Class
DESCRIPTION:@ 			\n			\n							 \n\n\n		\n\n\n\n\n\n\n						\n							Add to calendar						 \n\n\n\n									\n										Google Calendar									\n								\n\n									\n										iCalendar									\n								\n\n									\n										Outlook 365									\n								\n\n									\n										Outlook Live
URL:https://gunstuff.tv/event/wisconsin-concealed-carry-license-class-6/
END:VEVENT
BEGIN:VEVENT
DTSTART;TZID=America/New_York:20260517T130000
DTEND;TZID=America/New_York:20260517T150000
DTSTAMP:20260420T224103
CREATED:20251019T193322Z
LAST-MODIFIED:20260414T083128Z
UID:10002453-1779022800-1779030000@gunstuff.tv
SUMMARY:Open Trap Shoot - Weather Permitting
DESCRIPTION:Open shoot\, $5.00 per round.  The trap field is 2/10ths of a mile past the clubhouse. \nFor the latest information visit:https://www.facebook.com/groups/1663932967427026
URL:https://gunstuff.tv/event/open-trap-shoot-weather-permitting-4/
LOCATION:523 Sizer Run Road Emporium\, Emporium\, PA\, United States
GEO:41.500749;-78.322815
END:VEVENT
BEGIN:VEVENT
DTSTART;TZID=America/Los_Angeles:20260517T130000
DTEND;TZID=America/Los_Angeles:20260517T150000
DTSTAMP:20260420T224103
CREATED:20260417T194752Z
LAST-MODIFIED:20260417T194804Z
UID:10008032-1779022800-1779030000@gunstuff.tv
SUMMARY:Musketeer Archery
DESCRIPTION:18 year and younger Youth Archery practice and instruction every third Sunday .  Youth Archery Equipment is provided\, and there is no charge for the event. \nPlease let us know you are coming: \n                          ->Signup here<- \nWe have various sized bows to accommodate most ages and sizes. \n \n 
URL:https://gunstuff.tv/event/musketeer-archery-7/
LOCATION:USI Archery Range\, 4700 Evora Road\, Concord\, CA\, 94520\, United States
CATEGORIES:Archery,Musketeers
ATTACH;FMTTYPE=image/jpeg:https://gunstuff.tv/wp-content/uploads/2025/10/Youth_Archery_cleanup-gMLvVj.jpg
ORGANIZER;CN="Glenn Rustia":MAILTO:glennjo2@gmail.com
END:VEVENT
BEGIN:VEVENT
DTSTART;TZID=America/New_York:20260517T130000
DTEND;TZID=America/New_York:20260517T163000
DTSTAMP:20260420T224103
CREATED:20260404T214715Z
LAST-MODIFIED:20260411T214630Z
UID:10006749-1779022800-1779035400@gunstuff.tv
SUMMARY:Alder Brook IDPA Tier 1 Match
DESCRIPTION:Action Bays Closed during match.\nVisitors welcome and must check in with Match Director.  Sign up at https://practiscore.com/alder-brook-idpa-5-17-26-tier-1-match/register
URL:https://gunstuff.tv/event/alder-brook-idpa-tier-1-match/
LOCATION:Action Bays
END:VEVENT
BEGIN:VEVENT
DTSTART;VALUE=DATE:20260518
DTEND;VALUE=DATE:20260519
DTSTAMP:20260420T224103
CREATED:20260213T031056Z
LAST-MODIFIED:20260410T034700Z
UID:10005232-1779062400-1779148799@gunstuff.tv
SUMMARY:Club Closed
DESCRIPTION:
URL:https://gunstuff.tv/event/club-closed-27/
END:VEVENT
BEGIN:VEVENT
DTSTART;VALUE=DATE:20260518
DTEND;VALUE=DATE:20260519
DTSTAMP:20260420T224103
CREATED:20260405T214646Z
LAST-MODIFIED:20260414T083128Z
UID:10006791-1779062400-1779148799@gunstuff.tv
SUMMARY:Pistol Range Closed 3-7pm
DESCRIPTION:
URL:https://gunstuff.tv/event/pistol-range-closed-3-7pm-11/
END:VEVENT
BEGIN:VEVENT
DTSTART;VALUE=DATE:20260518
DTEND;VALUE=DATE:20260519
DTSTAMP:20260420T224103
CREATED:20260421T040129Z
LAST-MODIFIED:20260421T040129Z
UID:10008102-1779062400-1779148799@gunstuff.tv
SUMMARY:Closed Mondays
DESCRIPTION:@ 			\n			\n							 \n\nHOURS: \nMonday: Closed \nTues-Thurs: 10am-8pm \nFri: 10am-5pm \nSat: 9:30am-5pm (shooting @10am) \nSun: 10:30am-4pm (shooting @11am) \nLast lane reservation is 1 hour before closing \n\n		\n\n\n\n\n\n\n						\n							Add to calendar						 \n\n\n\n									\n										Google Calendar									\n								\n\n									\n										iCalendar									\n								\n\n									\n										Outlook 365									\n								\n\n									\n										Outlook Live
URL:https://gunstuff.tv/event/closed-mondays-33/
END:VEVENT
BEGIN:VEVENT
DTSTART;TZID=America/New_York:20260518T080000
DTEND;TZID=America/New_York:20260520T163000
DTSTAMP:20260420T224103
CREATED:20260328T214629Z
LAST-MODIFIED:20260411T214630Z
UID:10006578-1779091200-1779294600@gunstuff.tv
SUMMARY:Rifles Only - Three-day Rifle Course
DESCRIPTION:POC Mike Mayo\nDaily Schedule\nClassroom 830- 10am\nSquare Range M-T 10 am – 2 pm\nLong Range M- 2-430 pm T-W 10 am- 430 pm
URL:https://gunstuff.tv/event/rifles-only-long-range-shooting-class/
LOCATION:Classroom and Ranges
END:VEVENT
BEGIN:VEVENT
DTSTART;TZID=America/New_York:20260518T090000
DTEND;TZID=America/New_York:20260518T100000
DTSTAMP:20260420T224103
CREATED:20251003T162640Z
LAST-MODIFIED:20251010T162928Z
UID:10001432-1779094800-1779098400@gunstuff.tv
SUMMARY:4-H Class Indoors
DESCRIPTION:Indoor reserved for 4-H class.
URL:https://gunstuff.tv/event/4-h-class-indoors-33/
LOCATION:Indoor Range
END:VEVENT
END:VCALENDAR