BEGIN:VCALENDAR
VERSION:2.0
PRODID:-//GunStuff TV - ECPv6.15.20//NONSGML v1.0//EN
CALSCALE:GREGORIAN
METHOD:PUBLISH
X-WR-CALNAME:GunStuff TV
X-ORIGINAL-URL:https://gunstuff.tv
X-WR-CALDESC:Events for GunStuff TV
REFRESH-INTERVAL;VALUE=DURATION:PT1H
X-Robots-Tag:noindex
X-PUBLISHED-TTL:PT1H
BEGIN:VTIMEZONE
TZID:UTC
BEGIN:STANDARD
TZOFFSETFROM:+0000
TZOFFSETTO:+0000
TZNAME:UTC
DTSTART:20250101T000000
END:STANDARD
END:VTIMEZONE
BEGIN:VTIMEZONE
TZID:America/New_York
BEGIN:DAYLIGHT
TZOFFSETFROM:-0500
TZOFFSETTO:-0400
TZNAME:EDT
DTSTART:20250309T070000
END:DAYLIGHT
BEGIN:STANDARD
TZOFFSETFROM:-0400
TZOFFSETTO:-0500
TZNAME:EST
DTSTART:20251102T060000
END:STANDARD
BEGIN:DAYLIGHT
TZOFFSETFROM:-0500
TZOFFSETTO:-0400
TZNAME:EDT
DTSTART:20260308T070000
END:DAYLIGHT
BEGIN:STANDARD
TZOFFSETFROM:-0400
TZOFFSETTO:-0500
TZNAME:EST
DTSTART:20261101T060000
END:STANDARD
BEGIN:DAYLIGHT
TZOFFSETFROM:-0500
TZOFFSETTO:-0400
TZNAME:EDT
DTSTART:20270314T070000
END:DAYLIGHT
BEGIN:STANDARD
TZOFFSETFROM:-0400
TZOFFSETTO:-0500
TZNAME:EST
DTSTART:20271107T060000
END:STANDARD
END:VTIMEZONE
BEGIN:VEVENT
DTSTART;TZID=UTC:20260419T190000
DTEND;TZID=UTC:20260419T210000
DTSTAMP:20260421T043523
CREATED:20260414T200240Z
LAST-MODIFIED:20260414T200240Z
UID:10007912-1776625200-1776632400@gunstuff.tv
SUMMARY:Trening Low Light Pistolet/Karabinek 19.04.2026| KRAKOWSKA KLAMKA
DESCRIPTION:Zapraszam na trening strzelecki w warunkach ograniczonej widoczności (LOW LIGHT). Zajęcia są nastawione na bezpieczne i świadome posługiwanie się pistoletem i karabinem\, gdy naturalne oświetlenie jest niewystarczające lub gdy korzystamy z dodatkowych źródeł światła.\nPodczas treningu uczestnicy pracują w warunkach ograniczonej widoczności\, strzelając do tarcz IDPA z pistoletu lub karabinu\, zajęcia mają charakter praktyczny.\nWymagane wyposażenie:\nPistolet:\n-latarka montowana na pistolecie\n-pas do przenoszenia pistoletu (kabura na broń + ładownice)\,\n-minimum 2 magazynki do pistoletu.\n-minimum 150 sztuk amunicji\nKarabin:\n-latarka montowana na karabinie\n-pas z ładownicami oraz minimum dwoma magazynkami do karabinu.\n-minimum 150 sztuk amunicji\nDodatkowo (obowiązkowo):\n-latarka ręczna jako dodatkowe źródło światła\,\n-ochrona oczu i słuchu\nW przypadku pytań zapraszam do kontaktu + 48 884 389 998 lub krakowskaklamka@gmail.com\nCENA TRENINGU 130 PLN
URL:https://gunstuff.tv/event/trening-low-light-pistolet-karabinek-19-04-2026-krakowska-klamka/
LOCATION:52 Winnicka\, Kraków Małopolska\, Poland
END:VEVENT
BEGIN:VEVENT
DTSTART;TZID=UTC:20260419T180000
DTEND;TZID=UTC:20260419T220000
DTSTAMP:20260421T043523
CREATED:20260414T200248Z
LAST-MODIFIED:20260414T200248Z
UID:10007989-1776621600-1776636000@gunstuff.tv
SUMMARY:Heartland Daily Carry April 19th
DESCRIPTION:This is a match designed to be shot with your daily carry handgun. It is designed to give you practice for dealing with a critical incident. This is not a long-range shoot. All paper targets will be “up close and personal”. Steel targets will be large and properly placed to avoid splash back.\nEquipment needed: One handgun – 380 or larger\, a holster that is concealed and covers the trigger guard\, a spare magazine\, and at least 50 rounds of ammunition.\nAll firearms and magazines must be concealed by a cover garment. Appendix carry is permitted. Red dot sights are allowed.\nRequirements/not allowed: Race guns\, all handguns must be readily concealable. belts must go through the belt loops on pants\, no stage walk throughs\, no practice aiming or turning on red dots. When you are told to “make ready” the game is on.
URL:https://gunstuff.tv/event/heartland-daily-carry-april-19th/
LOCATION:6788 W Husker Hwy\, Alda Nebraska\, United States
END:VEVENT
BEGIN:VEVENT
DTSTART;TZID=UTC:20260419T180000
DTEND;TZID=UTC:20260419T220000
DTSTAMP:20260421T043523
CREATED:20260414T200244Z
LAST-MODIFIED:20260414T200244Z
UID:10007951-1776621600-1776636000@gunstuff.tv
SUMMARY:.22ELR (Extreme Long Range) 2026 match #1
DESCRIPTION:.22LR only. Targets to 400 yards. Two heats – 7 minutes\, 25 rounds\, 5 targets per heat. Prone\, or bench\, with a spotter to assist you.\nThis is the Rimfire version of King of 1 Mile\, or King of 2 Mile. Fun\, addictive\, unbelievable. But wait\, we also take the time to shoot a side stage\, a World Record Attempt at 533 yards! We almost did it last year\, no one else has done it…is this the year? Are you the shooter?\nIf you don’t have a rifle set up for this\, but you want to try it\, register and join us! Pay an additional $25 ammo fee and use one of our Pro rifles. It’s fun\, addicting\, and unbelievable until you actually do it!
URL:https://gunstuff.tv/event/22elr-extreme-long-range-2026-match-1/
LOCATION:1438 Terbury Rd\, Alfred NY\, United States
END:VEVENT
BEGIN:VEVENT
DTSTART;TZID=America/New_York:20260419T180000
DTEND;TZID=America/New_York:20260419T210000
DTSTAMP:20260421T043523
CREATED:20260417T051644Z
LAST-MODIFIED:20260417T051741Z
UID:10008000-1776621600-1776632400@gunstuff.tv
SUMMARY:Bowling-Pin Shoots | Fall/Winter/Spring
DESCRIPTION:Cost: $5 Members\, $10 Non-Members\nThis is a “Fun-Shoot”\, for .22LR pistols\, but\, we will allow .22 LR (magazine fed.) rifles.\nTypical Equipment: Ruger Mark I\, II\, III\, IV\, 22/45; Hi Standard and other similar semi-auto\npistols\, and .22 Cal. Revolvers. Red Dot or Iron Sights.\nRequired: Eye and hearing protection.\nObjective and course of fire: Clear the tables as quickly as possible. Range: 21 Ft.\n6- tables per shooter per set. (Typically 2-3 sets per night.) Up to 5-shooters on the line.\nThe longest time is thrown out\, and the remaining 5 times are averaged for your score.\nThe maximum time for a table is 15-seconds\, cleared or not.\nPins must be OFF the table\, but not necessarily on the floor to stop the clock.\nShooters start at a “Low Ready” position\, waiting for the start buzzer.\nNo magazine changes\, but you are allowed to clear jams.\nCheck out our Range Safety Video at https://ocsportsmensclub.com/ranges/ and watch to the end after the credits\, at about the 14:30 mark to see what this is all about.
URL:https://gunstuff.tv/event/bowling-pin-shoots-fall-winter-spring-25/
LOCATION:Indoor Rifle & Pistol Range\, 4770 Waterford Rd\,\, Village of Clarkston\, 48346
CATEGORIES:D.R. Wilson,Indoor Rifle & Pistol Rage,Muzzleloaders,Range
ATTACH;FMTTYPE=image/jpeg:https://gunstuff.tv/wp-content/uploads/2025/10/Indoor_Pin_Shoots_2025-26_Flyer-FXbFJs.jpg
END:VEVENT
BEGIN:VEVENT
DTSTART;TZID=UTC:20260419T180000
DTEND;TZID=UTC:20260419T210000
DTSTAMP:20260421T043523
CREATED:20260414T200243Z
LAST-MODIFIED:20260414T200243Z
UID:10007947-1776621600-1776632400@gunstuff.tv
SUMMARY:Brock’s Gap Steel Challenge - SUN APR 19 - 5 STAGE OUTLAW STEEL
DESCRIPTION:This will be a 5-stage OUTLAW STEEL match. Bringing back a requested favorite. This match follows standard Steel Challenge rules but the stage layouts are all new. If you have never shot an Outlaw Steel match at the old range you should come check it out.\nPricing:\n$10 first division\n$10 second division\nCASH ONLY\nRegistration opens at 12:00. Safety briefing at 12:45. Match starts at 1:00.\nYou will need a minimum of 125 rounds to complete the match\, but we recommend at least 175. Mandatory safety briefing 15 minutes before the match starts. No shooters will be allowed to shoot if they miss the safety briefing. If you need to withdraw from the match\, please use the link in your email or click the Withdraw button on your match management page. Limit 2 guns per person.
URL:https://gunstuff.tv/event/brocks-gap-steel-challenge-sun-apr-19-5-stage-outlaw-steel/
LOCATION:4610 Camp Creek Road\, Pell City AL\, United States
END:VEVENT
BEGIN:VEVENT
DTSTART;TZID=UTC:20260419T170000
DTEND;TZID=UTC:20260419T213000
DTSTAMP:20260421T043523
CREATED:20260414T200240Z
LAST-MODIFIED:20260414T200240Z
UID:10007914-1776618000-1776634200@gunstuff.tv
SUMMARY:IRPC NRL22 / PRO Series April 2026 COF
DESCRIPTION:April Course of Fire for NRL22 and PRO Series. The match will consist of 5 NRL22 stages and one bonus stage with targets from 25 out to 250 yards.\n9:30 – 11:45 Setup (volunteers are welcome to help setup)\n12:00 – Zero Range Opens\n1:00 – Mandatory Safety Briefing\n1:15 – Match Begins\nMatch Fees\n$20\n$15 – IRPC Members\n$10 – Young Guns (8-17) parent or guardian must be present.\n22 Long Rifles with removable magazines only\nThis match is open to all shooters\, but if you are a member of the NRL22 or PRO Series rimfire leagues\, your scores will be submitted for League Qualification and Scoring.\nFor more information on these rimfire leagues:\nwww.nrl22.com\nwww.precisionrimfireoutlaws.com\nIf you have any questions please contact Match Director Pete Adams. pete.adams@rocketmail.com – 715-497-5756
URL:https://gunstuff.tv/event/irpc-nrl22-pro-series-april-2026-cof/
LOCATION:n6105 Mann Road\, Spooner WI\, United States
END:VEVENT
BEGIN:VEVENT
DTSTART;TZID=UTC:20260419T170000
DTEND;TZID=UTC:20260419T210000
DTSTAMP:20260421T043523
CREATED:20260414T200245Z
LAST-MODIFIED:20260414T200245Z
UID:10007961-1776618000-1776632400@gunstuff.tv
SUMMARY:BRCV April 2026 GPA (Galactic Pistol Alliance) Monthly Match
DESCRIPTION:Our Monthly GPA Matches are held on the third Sunday of each month and are open to all levels of competitor from beginner to advanced.  We encourage new shooters but the stages are designed to challenge everyone.  Come on out and enjoy GPA shooting.
URL:https://gunstuff.tv/event/brcv-april-2026-gpa-galactic-pistol-alliance-monthly-match/
LOCATION:2178 Smith Road\, Sciota PA\, United States
END:VEVENT
BEGIN:VEVENT
DTSTART;TZID=UTC:20260419T170000
DTEND;TZID=UTC:20260419T210000
DTSTAMP:20260421T043523
CREATED:20260414T200243Z
LAST-MODIFIED:20260414T200243Z
UID:10007948-1776618000-1776632400@gunstuff.tv
SUMMARY:ORPS by Tesro - North Peace Rod and Gun Club - Fort St John BC- April 2026 COF
DESCRIPTION:Outlaw Rimfire Precision Match – 50-75 Rounds.  25 – 100 yards.\nPRS-Style Rimfire competition.\nMatch Director\nDan Hiebert\n250-261-8085\ndarcinc@outlook.com
URL:https://gunstuff.tv/event/orps-by-tesro-north-peace-rod-and-gun-club-fort-st-john-bc-april-2026-cof/
LOCATION:275 Rue Notre-Dame Est\, Charlie Lake British Columbia\, Canada
END:VEVENT
BEGIN:VEVENT
DTSTART;TZID=UTC:20260419T170000
DTEND;TZID=UTC:20260419T200000
DTSTAMP:20260421T043523
CREATED:20260414T200248Z
LAST-MODIFIED:20260414T200248Z
UID:10007990-1776618000-1776628800@gunstuff.tv
SUMMARY:ASI match at Tacoma Sportsmen's Club April
DESCRIPTION:The club is behind the Amazon building. Go all the way around the chateau\, follow the signs for “members’ range”\, and you’ll see a little area on the left at the bottom of the hill.\nSee the attached map under match documents.\nIf you have any questions\, please email tsc.action@gmail.com\nNew Shooter orientation (mandatory for new ASI shooters) at 9:15 AM.\nCheck in by 9:45\, first shots at 10:00
URL:https://gunstuff.tv/event/asi-match-at-tacoma-sportsmens-club-april/
LOCATION:16409 Canyon Rd E\, Puyallup WA\, United States
END:VEVENT
BEGIN:VEVENT
DTSTART;TZID=UTC:20260419T170000
DTEND;TZID=UTC:20260419T200000
DTSTAMP:20260421T043523
CREATED:20260414T200246Z
LAST-MODIFIED:20260414T200246Z
UID:10007974-1776618000-1776628800@gunstuff.tv
SUMMARY:ACC ICORE April 19 2026
DESCRIPTION:ICORE match with 4 stages plus 1 classifier\nSetup starts at 11:00 AM.\nRegistration 12:30 – 12:45\nSafety Briefing 12:45\nShots Fired: 1:00 PM. Match is generally completed before 4:00 PM\n$15 per entry $10 for second gun plus classifier fees for ICORE members
URL:https://gunstuff.tv/event/acc-icore-april-19-2026/
LOCATION:29595 Leonard Road\, Atlanta IN\, United States
END:VEVENT
BEGIN:VEVENT
DTSTART;TZID=UTC:20260419T163000
DTEND;TZID=UTC:20260419T200000
DTSTAMP:20260421T043523
CREATED:20260414T200244Z
LAST-MODIFIED:20260414T200244Z
UID:10007955-1776616200-1776628800@gunstuff.tv
SUMMARY:Rio Salado Airgun BR 25\,50\,75\,100 Yard 9:30am Match April 19\, 26
DESCRIPTION:Please see the attached PDF for Match Information.\n9:00am-9:20am Sight-in\n9:30am Match Starts
URL:https://gunstuff.tv/event/rio-salado-airgun-br-255075100-yard-930am-match-april-19-26/
LOCATION:3960 N Usery Pass Rd\, Mesa Arizona\, United States
END:VEVENT
BEGIN:VEVENT
DTSTART;TZID=UTC:20260419T160000
DTEND;TZID=UTC:20260419T220000
DTSTAMP:20260421T043523
CREATED:20260414T200248Z
LAST-MODIFIED:20260414T200248Z
UID:10007986-1776614400-1776636000@gunstuff.tv
SUMMARY:SFA ICORE April 2026
DESCRIPTION:SFAs monthly ICORE match.
URL:https://gunstuff.tv/event/sfa-icore-april-2026/
LOCATION:3245 Indian Lakes Rd\, Fallon Nevada\, United States
END:VEVENT
BEGIN:VEVENT
DTSTART;TZID=UTC:20260419T160000
DTEND;TZID=UTC:20260419T220000
DTSTAMP:20260421T043523
CREATED:20260414T200246Z
LAST-MODIFIED:20260414T200246Z
UID:10007969-1776614400-1776636000@gunstuff.tv
SUMMARY:FT-IDPA April 19th 2026
DESCRIPTION:MATCH #2\nFT-IDPA match held in Perris California at the old Riverside Sheriffs Range now known as Wren’s Ranch Sportsman’s Club conveniently located off the 215
URL:https://gunstuff.tv/event/ft-idpa-april-19th-2026/
LOCATION:627 W 11th Street\, Perris CA\, United States
END:VEVENT
BEGIN:VEVENT
DTSTART;TZID=UTC:20260419T160000
DTEND;TZID=UTC:20260419T200000
DTSTAMP:20260421T043523
CREATED:20260414T200243Z
LAST-MODIFIED:20260414T200243Z
UID:10007943-1776614400-1776628800@gunstuff.tv
SUMMARY:Sunday Steel
DESCRIPTION:10:00 AM – Setup\n10:30 AM – First Shots\nFalling and static steel.\n12 round strings\nBring 2 magazines!\nShooters will be asked to bring two guns for the match. Your gun of choice for the main match\, and a carry/defense gun for the 2nd portion. if you only have one that’s just fine! Bring your carry gun or a gun you keep around the house for defensive purposes.\nWe will run 6-8 stages from 10:30 – 12:30 with shooters using their gun of choice for the main match. Then\, we’ll make a few changes to target size and target distance for 3-4 additional stages with carry guns. This format provides everyone with the opportunity to practice with your carry guns & comp pistols.\nYour help is appreciated to tear down & clean up the Bay after the match.\nTime Plus match\,\nPrice: 15.00
URL:https://gunstuff.tv/event/sunday-steel/
LOCATION:368 County Road 4-9\, Little Firehole Rd\, rock springs Wyoming\, United States
END:VEVENT
BEGIN:VEVENT
DTSTART;TZID=UTC:20260419T160000
DTEND;TZID=UTC:20260419T200000
DTSTAMP:20260421T043523
CREATED:20260414T200240Z
LAST-MODIFIED:20260414T200240Z
UID:10007920-1776614400-1776628800@gunstuff.tv
SUMMARY:CCPL STEEL CHALLENGE 04-19-2026
DESCRIPTION:CCPL STEEL CHALLENGE Match\nRegistration table opens at 8:00 am\, Shoot starts at 9:00 am\nIf you have any questions or concerns\, please feel free to email us at CCPLFresno@hotmail.com
URL:https://gunstuff.tv/event/ccpl-steel-challenge-04-19-2026/
LOCATION:15687 Auberry Road\, Clovis CA\, United States
END:VEVENT
BEGIN:VEVENT
DTSTART;TZID=UTC:20260419T160000
DTEND;TZID=UTC:20260419T200000
DTSTAMP:20260421T043523
CREATED:20260414T200239Z
LAST-MODIFIED:20260414T200239Z
UID:10007903-1776614400-1776628800@gunstuff.tv
SUMMARY:MSC 22 Rimfire Steel   April 2026
DESCRIPTION:MSC 22 Rimfire Steel is a Rimfire Steel Shooting Association sanctioned event.\nIt is an introduction to competitive shooting for speed using both .22 auto rifle and .22 pistol. You can use any semi-auto pistol and rifle chambered in .22LR.\nSetup starts at 0800\, 1st shot at 0900. Match may run until 1300.
URL:https://gunstuff.tv/event/msc-22-rimfire-steel-april-2026/
LOCATION:3275 Oatman Road\, Golden Valley Arizona\, United States
END:VEVENT
BEGIN:VEVENT
DTSTART;TZID=UTC:20260419T160000
DTEND;TZID=UTC:20260419T193000
DTSTAMP:20260421T043523
CREATED:20260414T200242Z
LAST-MODIFIED:20260414T200242Z
UID:10007932-1776614400-1776627000@gunstuff.tv
SUMMARY:SLOACTION - Steel Challenge April 19 2026
DESCRIPTION:There will be all 8 Steel Challenge Stages. Round count is approximately 200-250\nSign in starts at 8:15 AM\, match start time is 9 AM.\nRegistration Fee $35\nThere will be no refunds.\nOnly one gun per shooter for now.\nNo wait list\n***Effective immediately and until further notice\, the use of any variant of the SIG Sauer P320 pistol is prohibited in SLOACTION Matches.\nThis policy has been implemented in response to significant safety concerns including multiple reported incidents of unintentional discharges involving holstered P320 pistols.\nWe appreciate your cooperation and continued commitment to maintaining a safe and professional training environment.\nNo SMOKING or VAPING on the range.\nAll shooters must check in at STAT Shack between 8:00-8:45am.\nNew Shooters meeting at 8:30 meet in front of Stat Shack\nShooters meeting at 8:45 in front of STAT Shack.
URL:https://gunstuff.tv/event/sloaction-steel-challenge-april-19-2026/
LOCATION:3270 Gilardi Road\, San Luis Obispo California\, United States
END:VEVENT
BEGIN:VEVENT
DTSTART;TZID=UTC:20260419T153000
DTEND;TZID=UTC:20260420T000000
DTSTAMP:20260421T043523
CREATED:20260414T200244Z
LAST-MODIFIED:20260414T200244Z
UID:10007957-1776612600-1776643200@gunstuff.tv
SUMMARY:Oh Shoot - April 19 Rips Sponsored by Elite CCW
DESCRIPTION:Our regular Run and Gun and have fun. Plus a new division. EliteCCW will be awarding the top EDC shooter a Gun. Yes that is right. Wear your sub 3.9 inch EDC\, register in the EDC division and you are eligible. For those who want to shoot a regular division\, of course you can. You are just not eligible for the EDC prizes from EliteCCw.\nOh Shoot would like to thank Bailey Duda from EliteCCW for approaching us with the idea. His company can do CCW for Orange and LA counties. Riverside and San Diego are in process to be approved as well.\nYou may shoot more than one gun\, but must register for each one.\nStart Time – 08:30 a.m.\nPrado Running Gun Practical Shooting Club is proud to present our weekly match at the Condor Range of Prado Olympic Park in Chino Hills\, CA.\nPlease be there and checked in by 0815 so we can get you going promptly at 08:30\nPlease do not be late\nPRG operates as a fixed squad match. Your squad starts on your stage and you rotate sequentially. This means if you are on squad 2 please start on stage 2\, and run the stages sequentially.\nElite CCW awards will be given out directly after the match.\n– 7 stages\n– Primer friendly stages\n– Registration from 0700\n– No walk-ins after 0815\n– Match Fees: $55 per shooter –  Cash only please\nPlease be on time\, Registration will close so the staff can shoot the match.\nMatch fees must be paid by cash!\nNOTICE: PARK YOUR CAR OUTSIDE OF THE GATE AND WALK IN. Do not park inside of the main range parking. This is the facilities rule please abide by it!\nNOTICE: Please be courteous and withdraw if you are unable to make it to the match.
URL:https://gunstuff.tv/event/oh-shoot-april-19-rips-sponsored-by-elite-ccw/
LOCATION:17501 Pomona Rincon Road\, Chino CA\, United States
END:VEVENT
BEGIN:VEVENT
DTSTART;TZID=UTC:20260419T153000
DTEND;TZID=UTC:20260419T223000
DTSTAMP:20260421T043523
CREATED:20260414T200247Z
LAST-MODIFIED:20260414T200247Z
UID:10007984-1776612600-1776637800@gunstuff.tv
SUMMARY:Chilliwack ICORE Match April 2026
DESCRIPTION:Monthly revolver match.
URL:https://gunstuff.tv/event/chilliwack-icore-match-april-2026/
LOCATION:48685 Chilliwack Lake Rd\, Chilliwack British Columbia\, Canada
END:VEVENT
BEGIN:VEVENT
DTSTART;TZID=UTC:20260419T153000
DTEND;TZID=UTC:20260419T200000
DTSTAMP:20260421T043523
CREATED:20260414T200247Z
LAST-MODIFIED:20260414T200247Z
UID:10007983-1776612600-1776628800@gunstuff.tv
SUMMARY:Hosers Pueblo 600 Yard Precision April
DESCRIPTION:If you have not shot this 600 yard match before you must contact match staff  **prior**  to signing up.  You will be required to arrive early to get certified on the 600 yard range.\nIf a match cancelation is needed\, that decision will be made by 5:00PM the night before.  Please check your email before you head to the range.\nPlease note\, this match will require a minimum of 56 rounds to complete.\nSet up starts at 7:00AM.  Sight in from 8:00-9:15  Please be there no later than 9:00 to get signed in/registered.
URL:https://gunstuff.tv/event/hosers-pueblo-600-yard-precision-april/
LOCATION:600 East Loma Drive\, Pueblo West Colorado\, United States
END:VEVENT
BEGIN:VEVENT
DTSTART;TZID=UTC:20260419T153000
DTEND;TZID=UTC:20260419T190000
DTSTAMP:20260421T043523
CREATED:20260414T200239Z
LAST-MODIFIED:20260414T200239Z
UID:10007902-1776612600-1776625200@gunstuff.tv
SUMMARY:Emmett - Treasure Valley Rimfire Shooters - April 19 2026
DESCRIPTION:Emmett – Treasure Valley Rimfire Shooters monthly match.\n22LR Only\nYou can shoot up to two guns.\nNRAGC members $5 per entry/gun\nNon Members $6 for the first gun\, or two for $11\nMatch is open to youth as young as 8 years old\, however\, they must be able to to display competency handing their firearm and following range commands. An adult must be present during the entire event and supervising throughout.\nIf you are shooting two guns you will need to create separate entries for each\, click back out and repeat the process for the second entry.  Registration priority is competitors shooting Rifle and Pistol\, Single entry Rifle or Pistol\, and Rifle/Rifle or Pistol/Pistol.\nDirections\, after entering the range keep right towards the Pistol Range\,  22LR only
URL:https://gunstuff.tv/event/emmett-treasure-valley-rimfire-shooters-april-19-2026/
LOCATION:3600 E Main St\, Emmett Idaho\, United States
END:VEVENT
BEGIN:VEVENT
DTSTART;TZID=UTC:20260419T150000
DTEND;TZID=UTC:20260419T220000
DTSTAMP:20260421T043523
CREATED:20260414T200245Z
LAST-MODIFIED:20260414T200245Z
UID:10007959-1776610800-1776636000@gunstuff.tv
SUMMARY:CGC CTX02 Monthly USPSA Match - April 2026
DESCRIPTION:Coleman Gun Club Monthly USPSA Match
URL:https://gunstuff.tv/event/cgc-ctx02-monthly-uspsa-match-april-2026/
LOCATION:\, Coleman Texas\, United States
END:VEVENT
BEGIN:VEVENT
DTSTART;TZID=UTC:20260419T150000
DTEND;TZID=UTC:20260419T220000
DTSTAMP:20260421T043523
CREATED:20260414T200243Z
LAST-MODIFIED:20260414T200243Z
UID:10007945-1776610800-1776636000@gunstuff.tv
SUMMARY:CMPS Club Match April 19 2026
DESCRIPTION:You must be a current IPSC BC member/Black Badge to participate.\nSetup: day before the match\, Saturday April 18th – 9am.\nLunch is included. No refunds. No awards.\n6 Stages\, 130rds Minimum.\nAll CMPS members are required to stay to help after the match.
URL:https://gunstuff.tv/event/cmps-club-match-april-19-2026/
LOCATION:21791 Ladner Road\, Pitt Meadows British Columbia\, Canada
END:VEVENT
BEGIN:VEVENT
DTSTART;TZID=UTC:20260419T150000
DTEND;TZID=UTC:20260419T210000
DTSTAMP:20260421T043523
CREATED:20260414T200243Z
LAST-MODIFIED:20260414T200243Z
UID:10007946-1776610800-1776632400@gunstuff.tv
SUMMARY:White Mountain Practical Shooters Steel Challenge - 19 Apr 2026
DESCRIPTION:Steel Challenge
URL:https://gunstuff.tv/event/white-mountain-practical-shooters-steel-challenge-19-apr-2026/
LOCATION:U.S. 60\, Show Low Arizona\, United States
END:VEVENT
BEGIN:VEVENT
DTSTART;TZID=UTC:20260419T150000
DTEND;TZID=UTC:20260419T200000
DTSTAMP:20260421T043523
CREATED:20260414T200246Z
LAST-MODIFIED:20260414T200246Z
UID:10007975-1776610800-1776628800@gunstuff.tv
SUMMARY:Green Valley USPSA April 2026 Match
DESCRIPTION:Monthly Green Valley USPSA Match: 6 Stages one of which will be a classifier\nRound Count: Approximately 150\nNon Green Valley Members $15 / Green Valley Members $10 / Juniors $5\nRegister and squad online.\nCredit Cards will be accepted ONLINE ONLY and will not be accepted at the range.  In the event of a withdrawal\, a small portion will be kept to cover the credit card processing fees.\nCash/Check can be paid at the range.\nRegistration 9:00-9:45 am.\nShooting starts at 10:00 am after a brief shooters meeting.
URL:https://gunstuff.tv/event/green-valley-uspsa-april-2026-match/
LOCATION:4350 Academy Rd.\, Hallsville MO\, United States
END:VEVENT
BEGIN:VEVENT
DTSTART;TZID=UTC:20260419T150000
DTEND;TZID=UTC:20260419T200000
DTSTAMP:20260421T043523
CREATED:20260414T200246Z
LAST-MODIFIED:20260414T200246Z
UID:10007968-1776610800-1776628800@gunstuff.tv
SUMMARY:Riley Conservation Club USPSA  April 2026
DESCRIPTION:5 stages plus a classifier. RO shoot for free. If interested in ROing contact me uspsaindiana@gmail.com\n$20 cash at the door\nset up starts at 8am.  all help is welcome
URL:https://gunstuff.tv/event/riley-conservation-club-uspsa-april-2026/
LOCATION:6301 e. gross drive\, terre haute in\, United States
END:VEVENT
BEGIN:VEVENT
DTSTART;TZID=UTC:20260419T150000
DTEND;TZID=UTC:20260419T200000
DTSTAMP:20260421T043523
CREATED:20260414T200245Z
LAST-MODIFIED:20260414T200245Z
UID:10007960-1776610800-1776628800@gunstuff.tv
SUMMARY:Entrenamiento IPSC 19 abril 2026
DESCRIPTION:6 escenarios\n100 tiros\n10 mil para asociados\n20 mil para no asociados\nSe paga por Paypal o depositando en las cuentas de ASOTIPRA y enviando el comprobante a tesorero@asotipra.com.  \nBAC San José: Asociación de Tiro Práctico\nCédula Jurídica 3-002-661899\nIBAN CR81010200009156468488\nSinpemovil: 89081200
URL:https://gunstuff.tv/event/entrenamiento-ipsc-19-abril-2026/
LOCATION:\, Moravia San Jose\, Costa Rica
END:VEVENT
BEGIN:VEVENT
DTSTART;TZID=UTC:20260419T150000
DTEND;TZID=UTC:20260419T200000
DTSTAMP:20260421T043523
CREATED:20260414T200244Z
LAST-MODIFIED:20260414T200244Z
UID:10007952-1776610800-1776628800@gunstuff.tv
SUMMARY:Cactus Steel Challenge April 19  2026
DESCRIPTION:STEEL CHALLENGE MATCH\n3rd Sunday of the month\nDifficulty: Easy\nPre-registration is required\nRegistration opens on Sunday two weeks before the match at 7 PM\n– Start time 9 AM October through March\n– Start time 8 AM April through September\n– Pistol\, pistol caliber carbine\, rimfire pistol and rimfire rifle\, both iron sights and optics allowed\n– USPSA Steel Challenge rules\n– 8 timed stages – 5 strings each – 195 required hits\n– Recommend 300+ rounds of ammunition and 5 mags\n– All firearms must have a holster or case\nMatch fees are $25.\n– $5 discount for Cactus members (calculated automatically based on your membership status)\n– $12 discount for additional entry (same squad\, different division)\n– $15 discount for Juniors under 18 (first entry only)\n***REFUND POLICY FOR WEEKEND MATCHES***\nRefunds are given for a withdrawal more than 48 hours before the match or if we can fill your spot from the waitlist. Refunds for withdrawing from the match will be net of $1 for credit card fees that we incur.\nFollow this match on Facebook:\nhttps://www.facebook.com/cactussteel/\nContact:\nRaymond Eng: Cactusmatchrayeng@gmail.com – 623-229-3712
URL:https://gunstuff.tv/event/cactus-steel-challenge-april-19-2026/
LOCATION:4044 West Black Canyon Boulevard\, Phoenix AZ\, United States
END:VEVENT
BEGIN:VEVENT
DTSTART;TZID=UTC:20260419T150000
DTEND;TZID=UTC:20260419T200000
DTSTAMP:20260421T043524
CREATED:20260414T200243Z
LAST-MODIFIED:20260414T200243Z
UID:10007941-1776610800-1776628800@gunstuff.tv
SUMMARY:AMTP 2DA TIRADA SERIAL TAMAULIPAS 2026
DESCRIPTION:Esta es la segunda tirada de nuestro ya tradicional Serial Tamaulipas de TPM.
URL:https://gunstuff.tv/event/amtp-2da-tirada-serial-tamaulipas-2026/
LOCATION:Carretera a Ciudad Victoria\, Matamoros Tamaulipas\, Mexico
END:VEVENT
BEGIN:VEVENT
DTSTART;TZID=UTC:20260419T150000
DTEND;TZID=UTC:20260419T200000
DTSTAMP:20260421T043524
CREATED:20260414T200242Z
LAST-MODIFIED:20260414T200242Z
UID:10007937-1776610800-1776628800@gunstuff.tv
SUMMARY:***Unlimited 4-19-2026
DESCRIPTION:25 ARA Unlimited bullseye targets at 50 yards in 20 minutes.\nNo relay\, 10 minutes between cards. 5 Card ARA Match.\nEach bull is scored as 100\, 50\, 25\, 10 or 0.\nAmerican Rimfire Association (ARA) Scoring rules.\nSign-in and Bench Assignments begins at 9am CST followed by a safety briefing at 9:45am. First shot down range at 10am.\nPrice: $30 ARA Seniors: JUNIORS (17yrs old and under) shoot free.\nShoot or watch. Everyone is welcome.
URL:https://gunstuff.tv/event/unlimited-4-19-2026/
LOCATION:1369 Dutch Creek Rd\, Westmoreland TN\, United States
END:VEVENT
END:VCALENDAR