BEGIN:VCALENDAR
VERSION:2.0
PRODID:-//GunStuff TV - ECPv6.15.20//NONSGML v1.0//EN
CALSCALE:GREGORIAN
METHOD:PUBLISH
X-ORIGINAL-URL:https://gunstuff.tv
X-WR-CALDESC:Events for GunStuff TV
REFRESH-INTERVAL;VALUE=DURATION:PT1H
X-Robots-Tag:noindex
X-PUBLISHED-TTL:PT1H
BEGIN:VTIMEZONE
TZID:America/New_York
BEGIN:DAYLIGHT
TZOFFSETFROM:-0500
TZOFFSETTO:-0400
TZNAME:EDT
DTSTART:20250309T070000
END:DAYLIGHT
BEGIN:STANDARD
TZOFFSETFROM:-0400
TZOFFSETTO:-0500
TZNAME:EST
DTSTART:20251102T060000
END:STANDARD
BEGIN:DAYLIGHT
TZOFFSETFROM:-0500
TZOFFSETTO:-0400
TZNAME:EDT
DTSTART:20260308T070000
END:DAYLIGHT
BEGIN:STANDARD
TZOFFSETFROM:-0400
TZOFFSETTO:-0500
TZNAME:EST
DTSTART:20261101T060000
END:STANDARD
BEGIN:DAYLIGHT
TZOFFSETFROM:-0500
TZOFFSETTO:-0400
TZNAME:EDT
DTSTART:20270314T070000
END:DAYLIGHT
BEGIN:STANDARD
TZOFFSETFROM:-0400
TZOFFSETTO:-0500
TZNAME:EST
DTSTART:20271107T060000
END:STANDARD
END:VTIMEZONE
BEGIN:VTIMEZONE
TZID:UTC
BEGIN:STANDARD
TZOFFSETFROM:+0000
TZOFFSETTO:+0000
TZNAME:UTC
DTSTART:20250101T000000
END:STANDARD
END:VTIMEZONE
BEGIN:VTIMEZONE
TZID:America/Phoenix
BEGIN:STANDARD
TZOFFSETFROM:-0700
TZOFFSETTO:-0700
TZNAME:MST
DTSTART:20250101T000000
END:STANDARD
END:VTIMEZONE
BEGIN:VTIMEZONE
TZID:America/Halifax
BEGIN:DAYLIGHT
TZOFFSETFROM:-0400
TZOFFSETTO:-0300
TZNAME:ADT
DTSTART:20250309T060000
END:DAYLIGHT
BEGIN:STANDARD
TZOFFSETFROM:-0300
TZOFFSETTO:-0400
TZNAME:AST
DTSTART:20251102T050000
END:STANDARD
BEGIN:DAYLIGHT
TZOFFSETFROM:-0400
TZOFFSETTO:-0300
TZNAME:ADT
DTSTART:20260308T060000
END:DAYLIGHT
BEGIN:STANDARD
TZOFFSETFROM:-0300
TZOFFSETTO:-0400
TZNAME:AST
DTSTART:20261101T050000
END:STANDARD
BEGIN:DAYLIGHT
TZOFFSETFROM:-0400
TZOFFSETTO:-0300
TZNAME:ADT
DTSTART:20270314T060000
END:DAYLIGHT
BEGIN:STANDARD
TZOFFSETFROM:-0300
TZOFFSETTO:-0400
TZNAME:AST
DTSTART:20271107T050000
END:STANDARD
END:VTIMEZONE
BEGIN:VTIMEZONE
TZID:America/Chicago
BEGIN:DAYLIGHT
TZOFFSETFROM:-0600
TZOFFSETTO:-0500
TZNAME:CDT
DTSTART:20250309T080000
END:DAYLIGHT
BEGIN:STANDARD
TZOFFSETFROM:-0500
TZOFFSETTO:-0600
TZNAME:CST
DTSTART:20251102T070000
END:STANDARD
BEGIN:DAYLIGHT
TZOFFSETFROM:-0600
TZOFFSETTO:-0500
TZNAME:CDT
DTSTART:20260308T080000
END:DAYLIGHT
BEGIN:STANDARD
TZOFFSETFROM:-0500
TZOFFSETTO:-0600
TZNAME:CST
DTSTART:20261101T070000
END:STANDARD
BEGIN:DAYLIGHT
TZOFFSETFROM:-0600
TZOFFSETTO:-0500
TZNAME:CDT
DTSTART:20270314T080000
END:DAYLIGHT
BEGIN:STANDARD
TZOFFSETFROM:-0500
TZOFFSETTO:-0600
TZNAME:CST
DTSTART:20271107T070000
END:STANDARD
END:VTIMEZONE
BEGIN:VEVENT
DTSTART;TZID=America/New_York:20260906T090000
DTEND;TZID=America/New_York:20260906T120000
DTSTAMP:20260421T043503
CREATED:20251003T162643Z
LAST-MODIFIED:20260411T214637Z
UID:10001491-1788685200-1788696000@gunstuff.tv
SUMMARY:Weekly Trap League
DESCRIPTION:
URL:https://gunstuff.tv/event/weekly-trap-league-49/
LOCATION:Shotgun Range
END:VEVENT
BEGIN:VEVENT
DTSTART;TZID=America/New_York:20260906T090000
DTEND;TZID=America/New_York:20260906T163000
DTSTAMP:20260421T043503
CREATED:20260208T183210Z
LAST-MODIFIED:20260412T184751Z
UID:10005109-1788685200-1788712200@gunstuff.tv
SUMMARY:High Power Silhouette
DESCRIPTION:Contact Roger Estes @ rce497@comcast.net \nThis is a High Power Silhouette match per month from March thru November\, 2026\, These will be high power rifle silhouette matches fired on the Lea Valley Range with a total of 40 rounds for record. Records will be kept and sent to the NRA for classification purposes. For the matches practice will begin at 9a.m. and matches will begin at 10.Rules will follow the NRA High Power Rifle Silhouette Rules. Briefly\, rifles for Highpower silhouette have to be at least a minimum center-fire caliber of 6mm\, no maximum. Ammo cannot be belted magnum by Club Rules for ammo.Clothes can be commensurate with the weather but cannot be made specifically silhouette competition\, with the exception that leather vest specifically for rifle silhouette can be used.The match firing will be on relays\, each relay\, consisting of 4 shooting competitors and spotters . Spotters are not mandatory for these matches. Scoring can be done by a spotter or by the competitor's person. The relay is called to the line\, the command of ready is given which is 15 seconds to get prepared to fire the 5 shots in 2 1/2 minutes\, then a short rest\, then 5 more rounds in 2 1/2 minutes. Following these shots\, competitors will show their scores to the stat officer so the scores are recorded. Relays will continue till all animals are fired at. Scores are counted by the knock down of animals off the range rail\, to a maximum of 40 animals. Once the relays are complete\, scores will be counted up and the winner gets cash for the award\, total of 25 for aggregate match winner. $20 for Class winner. Each 3 competitors will get a n award of cash. A plaque award can be substituted for the cash. There is a separate category in which AR-15 rifles are allowed. AR's don't follow the silhouette rules\, mostly because of the shape of the rifle and caliber which is .223. They are allowed in a separate category in this match to get more competitors to shoot these matches\, just generating interest in this sport. They have no classification in the match\, just for fun. The matches are fired on the first Sunday of the month.
URL:https://gunstuff.tv/event/high-power-silhouette-7/
LOCATION:Lea Valley Range
END:VEVENT
BEGIN:VEVENT
DTSTART;TZID=UTC:20260906T094500
DTEND;TZID=UTC:20260906T094500
DTSTAMP:20260421T043503
CREATED:20260117T171709Z
LAST-MODIFIED:20260410T113145Z
UID:10004579-1788687900-1788687900@gunstuff.tv
SUMMARY:Bass River September Match
DESCRIPTION:Bass River September Match\nDate : 9/06/26\nStart Time: 9:45 AM\nLocation:\nBass River Rod & Gun Club (NE12)\nBass River Rod &Gun 620 Rt. 6A\nYarmouthport\, MA\nEvent Contact Information\nTimothy J Kent\n5082372137\ntjkent@comcast.net\nEvent Website\nhttps://www.bassriverrodandgun.com/
URL:https://gunstuff.tv/event/bass-river-september-match/
LOCATION:Bass River Rod & Gun Club (NE12)\, 79 State Rte 6 Alt\, Dennis\, MA\, United States
GEO:41.721025;-70.196653
X-APPLE-STRUCTURED-LOCATION;VALUE=URI;X-ADDRESS=Bass River Rod & Gun Club (NE12) 79 State Rte 6 Alt Dennis MA United States;X-APPLE-RADIUS=500;X-TITLE=79 State Rte 6 Alt:geo:-70.196653,41.721025
END:VEVENT
BEGIN:VEVENT
DTSTART;TZID=UTC:20260906T100000
DTEND;TZID=UTC:20260906T100000
DTSTAMP:20260421T043503
CREATED:20260227T113148Z
LAST-MODIFIED:20260410T113146Z
UID:10005853-1788688800-1788688800@gunstuff.tv
SUMMARY:Ripon USPSA
DESCRIPTION:Ripon USPSA\nDate : 9/06/26\nStart Time: 10:00 AM\nLocation:\nRipon Gun Club (WI18)\nN9089 Koro rd\nRipon\, WI\nEvent Contact Information\nBill Hatfield\n920-538-4178\nBhatfield1@charter.net
URL:https://gunstuff.tv/event/ripon-uspsa-5/
LOCATION:Ripon Gun Club (WI18)\, 1699 Koro Rd\, Berlin\, WI\, United States
GEO:43.953345;-88.865982
X-APPLE-STRUCTURED-LOCATION;VALUE=URI;X-ADDRESS=Ripon Gun Club (WI18) 1699 Koro Rd Berlin WI United States;X-APPLE-RADIUS=500;X-TITLE=1699 Koro Rd:geo:-88.865982,43.953345
END:VEVENT
BEGIN:VEVENT
DTSTART;TZID=America/New_York:20260906T110000
DTEND;TZID=America/New_York:20260906T180000
DTSTAMP:20260421T043503
CREATED:20260208T183210Z
LAST-MODIFIED:20260412T184751Z
UID:10005110-1788692400-1788717600@gunstuff.tv
SUMMARY:William Kurtz Birthday Celebration (private)
DESCRIPTION:
URL:https://gunstuff.tv/event/william-kurtz-birthday-celebration-private/
LOCATION:Field 1 (5-stand) & Field 2 (skeet)
END:VEVENT
BEGIN:VEVENT
DTSTART;TZID=America/New_York:20260906T130000
DTEND;TZID=America/New_York:20260906T150000
DTSTAMP:20260421T043503
CREATED:20251019T193324Z
LAST-MODIFIED:20260414T083130Z
UID:10002469-1788699600-1788706800@gunstuff.tv
SUMMARY:Open Trap Shoot - Weather Permitting
DESCRIPTION:Open shoot\, $5.00 per round.  The trap field is 2/10ths of a mile past the clubhouse. \nFor the latest information visit:https://www.facebook.com/groups/1663932967427026
URL:https://gunstuff.tv/event/open-trap-shoot-weather-permitting-20/
LOCATION:523 Sizer Run Road Emporium\, Emporium\, PA\, United States
GEO:41.500749;-78.322815
END:VEVENT
BEGIN:VEVENT
DTSTART;VALUE=DATE:20260907
DTEND;VALUE=DATE:20260908
DTSTAMP:20260421T043503
CREATED:20251003T162536Z
LAST-MODIFIED:20260412T184751Z
UID:10001282-1788739200-1788825599@gunstuff.tv
SUMMARY:Labor Day
DESCRIPTION:
URL:https://gunstuff.tv/event/labor-day/
END:VEVENT
BEGIN:VEVENT
DTSTART;VALUE=DATE:20260907
DTEND;VALUE=DATE:20260908
DTSTAMP:20260421T043503
CREATED:20260208T183210Z
LAST-MODIFIED:20260412T184751Z
UID:10005111-1788739200-1788825599@gunstuff.tv
SUMMARY:Labor Day Leather Trap Shoot
DESCRIPTION:
URL:https://gunstuff.tv/event/labor-day-leather-trap-shoot/
LOCATION:Shotgun Fields
END:VEVENT
BEGIN:VEVENT
DTSTART;VALUE=DATE:20260907
DTEND;VALUE=DATE:20260908
DTSTAMP:20260421T043503
CREATED:20260213T031100Z
LAST-MODIFIED:20260410T034704Z
UID:10005297-1788739200-1788825599@gunstuff.tv
SUMMARY:Club Closed
DESCRIPTION:
URL:https://gunstuff.tv/event/club-closed-59/
END:VEVENT
BEGIN:VEVENT
DTSTART;TZID=America/New_York:20260907T090000
DTEND;TZID=America/New_York:20260907T100000
DTSTAMP:20260421T043503
CREATED:20251003T162643Z
LAST-MODIFIED:20251010T162931Z
UID:10001492-1788771600-1788775200@gunstuff.tv
SUMMARY:4-H Class Indoors
DESCRIPTION:Indoor reserved for 4-H class.
URL:https://gunstuff.tv/event/4-h-class-indoors-49/
LOCATION:Indoor Range
END:VEVENT
BEGIN:VEVENT
DTSTART;TZID=America/New_York:20260907T160000
DTEND;TZID=America/New_York:20260907T180000
DTSTAMP:20260421T043503
CREATED:20251003T162643Z
LAST-MODIFIED:20251205T181710Z
UID:10001493-1788796800-1788804000@gunstuff.tv
SUMMARY:Skeet League
DESCRIPTION:Contact Frank Andrews with Questions.
URL:https://gunstuff.tv/event/skeet-league-49/
END:VEVENT
BEGIN:VEVENT
DTSTART;TZID=America/New_York:20260907T160000
DTEND;TZID=America/New_York:20260907T180000
DTSTAMP:20260421T043503
CREATED:20251212T181643Z
LAST-MODIFIED:20260411T214637Z
UID:10003550-1788796800-1788804000@gunstuff.tv
SUMMARY:Skeet League
DESCRIPTION:Contact Frank Andrews with Questions.
URL:https://gunstuff.tv/event/skeet-league-139/
LOCATION:Skeet Range
END:VEVENT
BEGIN:VEVENT
DTSTART;VALUE=DATE:20260908
DTEND;VALUE=DATE:20260909
DTSTAMP:20260421T043503
CREATED:20251003T160030Z
LAST-MODIFIED:20260412T043234Z
UID:10001033-1788825600-1788911999@gunstuff.tv
SUMMARY:100\, 200\, 300 Yard Practice Benchrest Range
DESCRIPTION:
URL:https://gunstuff.tv/event/100-200-300-yard-practice-benchrest-range-41/
END:VEVENT
BEGIN:VEVENT
DTSTART;VALUE=DATE:20260908
DTEND;VALUE=DATE:20260909
DTSTAMP:20260421T043503
CREATED:20260213T031100Z
LAST-MODIFIED:20260410T034704Z
UID:10005298-1788825600-1788911999@gunstuff.tv
SUMMARY:Club closed
DESCRIPTION:
URL:https://gunstuff.tv/event/club-closed-60/
END:VEVENT
BEGIN:VEVENT
DTSTART;TZID=America/Halifax:20260908T080000
DTEND;TZID=America/Halifax:20260908T170000
DTSTAMP:20260421T043503
CREATED:20260206T013131Z
LAST-MODIFIED:20260407T014707Z
UID:10004979-1788854400-1788886800@gunstuff.tv
SUMMARY:CLOSED/FERMER
DESCRIPTION:Bathurst Police Force/Force Policière de Bathurst
URL:https://gunstuff.tv/event/closed-fermer-9/
END:VEVENT
BEGIN:VEVENT
DTSTART;TZID=America/New_York:20260908T090000
DTEND;TZID=America/New_York:20260908T130000
DTSTAMP:20260421T043503
CREATED:20251012T173817Z
LAST-MODIFIED:20260412T184752Z
UID:10002125-1788858000-1788872400@gunstuff.tv
SUMMARY:GAFC
DESCRIPTION:Event Director David Evans
URL:https://gunstuff.tv/event/gafc-7/
LOCATION:Walsh & Sieger Ranges
END:VEVENT
BEGIN:VEVENT
DTSTART;TZID=UTC:20260908T143000
DTEND;TZID=UTC:20260908T143000
DTSTAMP:20260421T043503
CREATED:20260110T171713Z
LAST-MODIFIED:20260410T113146Z
UID:10004310-1788877800-1788877800@gunstuff.tv
SUMMARY:SCWPSA Monthly Match
DESCRIPTION:SCWPSA Monthly Match\nDate : 9/08/26\nStart Time: 2:30 PM\nLocation:\nSouth Central Wisconsin Practical Shooters Assoc (WI31)\n2830 County Rd DR\nMonroe\, WI\nEvent Contact Information\nBob Slusarek\n630-669-0663\nscwpsamatch@pm.me\nMatch Information\nIndoor match typically 2-3 stages including 1 or 2 classifiers
URL:https://gunstuff.tv/event/scwpsa-monthly-match-8/
LOCATION:South Central Wisconsin Practical Shooters Assoc (WI31)\, 2830 County Road Dr\, Monroe\, WI\, United States
GEO:42.617903;-89.602405
X-APPLE-STRUCTURED-LOCATION;VALUE=URI;X-ADDRESS=South Central Wisconsin Practical Shooters Assoc (WI31) 2830 County Road Dr Monroe WI United States;X-APPLE-RADIUS=500;X-TITLE=2830 County Road Dr:geo:-89.602405,42.617903
END:VEVENT
BEGIN:VEVENT
DTSTART;TZID=America/New_York:20260908T170000
DTEND;TZID=America/New_York:20260908T200000
DTSTAMP:20260421T043503
CREATED:20260328T214634Z
LAST-MODIFIED:20260411T214637Z
UID:10006599-1788886800-1788897600@gunstuff.tv
SUMMARY:Tactical Tuesday IDPA Practice
DESCRIPTION:Shooters new to Action Shooting contact Eric Zaharee at ABSAIDPA@gmail .com\nSee (Alder Brook) PractiScore.com for sign up Cost $5
URL:https://gunstuff.tv/event/tactical-tuesday-idpa-practice-22/
LOCATION:Action Bays
END:VEVENT
BEGIN:VEVENT
DTSTART;VALUE=DATE:20260909
DTEND;VALUE=DATE:20260910
DTSTAMP:20260421T043503
CREATED:20251123T200143Z
LAST-MODIFIED:20260412T203315Z
UID:10003208-1788912000-1788998399@gunstuff.tv
SUMMARY:Security Service Charitable Foundation
DESCRIPTION:Sporting Clay Fundraiser benefitting th SSFCU Charitable Foundation supporting Veterans\, Senior Citizens\, Children & Youth and the Community.  For more information you can email clayshoot@ssfcu.org.
URL:https://gunstuff.tv/event/security-service-charitable-foundation/
END:VEVENT
BEGIN:VEVENT
DTSTART;TZID=America/Halifax:20260909T080000
DTEND;TZID=America/Halifax:20260909T170000
DTSTAMP:20260421T043503
CREATED:20260206T013132Z
LAST-MODIFIED:20260407T014707Z
UID:10004980-1788940800-1788973200@gunstuff.tv
SUMMARY:CLOSED/FERMER
DESCRIPTION:Bathurst Police Force/Force Policière de Bathurst
URL:https://gunstuff.tv/event/closed-fermer-10/
END:VEVENT
BEGIN:VEVENT
DTSTART;TZID=UTC:20260909T164500
DTEND;TZID=UTC:20260909T164500
DTSTAMP:20260421T043503
CREATED:20260121T014638Z
LAST-MODIFIED:20260401T070147Z
UID:10004658-1788972300-1788972300@gunstuff.tv
SUMMARY:Bass River Weds Nite Steel
DESCRIPTION:Bass River Weds Nite Steel\nDate: 9/09/26\nStart Time: 4:45 PM\nLocation:\nBass River Rod & Gun Club (SCSA467)\nBass River Rod &Gun 620 Rt. 6A\nYarmouthport\, MA\nEvent Contact Information\nTimothy J Kent\n5082372137\ntjkent@comcast.net\nEvent Website\nhttps://www.bassriverrodandgun.com/
URL:https://gunstuff.tv/event/bass-river-weds-nite-steel-20/
LOCATION:Bass River Rod & Gun Club (SCSA467)\, 79 State Rte 6 Alt\, Dennis\, MA\, United States
GEO:41.721025;-70.196653
X-APPLE-STRUCTURED-LOCATION;VALUE=URI;X-ADDRESS=Bass River Rod & Gun Club (SCSA467) 79 State Rte 6 Alt Dennis MA United States;X-APPLE-RADIUS=500;X-TITLE=79 State Rte 6 Alt:geo:-70.196653,41.721025
END:VEVENT
BEGIN:VEVENT
DTSTART;VALUE=DATE:20260910
DTEND;VALUE=DATE:20260911
DTSTAMP:20260421T043503
CREATED:20251003T160030Z
LAST-MODIFIED:20260412T043234Z
UID:10001035-1788998400-1789084799@gunstuff.tv
SUMMARY:1000 Yard Practice 6:30am Pits
DESCRIPTION:
URL:https://gunstuff.tv/event/1000-yard-practice-630am-pits-20/
END:VEVENT
BEGIN:VEVENT
DTSTART;VALUE=DATE:20260910
DTEND;VALUE=DATE:20260911
DTSTAMP:20260421T043503
CREATED:20251005T190547Z
LAST-MODIFIED:20260412T203315Z
UID:10001730-1788998400-1789084799@gunstuff.tv
SUMMARY:United Way
DESCRIPTION:Sporting Clay Fundraiser benefiting United Way.
URL:https://gunstuff.tv/event/united-way/
END:VEVENT
BEGIN:VEVENT
DTSTART;TZID=America/Halifax:20260910T080000
DTEND;TZID=America/Halifax:20260910T170000
DTSTAMP:20260421T043503
CREATED:20260206T013132Z
LAST-MODIFIED:20260407T014708Z
UID:10004981-1789027200-1789059600@gunstuff.tv
SUMMARY:CLOSED/FERMER
DESCRIPTION:Bathurst Police Force/Force Policière de Bathurst
URL:https://gunstuff.tv/event/closed-fermer-11/
END:VEVENT
BEGIN:VEVENT
DTSTART;TZID=America/Chicago:20260910T190000
DTEND;TZID=America/Chicago:20260910T200000
DTSTAMP:20260421T043503
CREATED:20260331T221631Z
LAST-MODIFIED:20260414T221654Z
UID:10006688-1789066800-1789070400@gunstuff.tv
SUMMARY:South Suburban Cook County Townhall Meeting
DESCRIPTION:Come out and join your friends at the ISRA South Suburban Cook County Townhall meeting from 7 pm-8 pm. As always\, we will discuss current events.\nOur host Papa Joe’s Restaurant will be serving a buffet-style dinner with unlimited soft drinks starting at 6:15 pm.\nThe cost of the buffet is $17.\nCome join us and enjoy great food and company and help support our gracious host\, Papa Joe’s Restaurant.
URL:https://gunstuff.tv/event/south-suburban-cook-county-townhall-meeting/
LOCATION:Papa Joe’s Restaurant – Orland Park\, 14459 la Grange Rd\, Orland Park\, IL\, United States
CATEGORIES:Event Calendar
GEO:41.627517;-87.853783
X-APPLE-STRUCTURED-LOCATION;VALUE=URI;X-ADDRESS=Papa Joe’s Restaurant – Orland Park 14459 la Grange Rd Orland Park IL United States;X-APPLE-RADIUS=500;X-TITLE=14459 la Grange Rd:geo:-87.853783,41.627517
END:VEVENT
BEGIN:VEVENT
DTSTART;VALUE=DATE:20260911
DTEND;VALUE=DATE:20260912
DTSTAMP:20260421T043503
CREATED:20251003T160030Z
LAST-MODIFIED:20260412T043234Z
UID:10001034-1789084800-1789171199@gunstuff.tv
SUMMARY:Across the Course Practice 6:30am Pits
DESCRIPTION:
URL:https://gunstuff.tv/event/across-the-course-practice-630am-pits-13/
END:VEVENT
BEGIN:VEVENT
DTSTART;VALUE=DATE:20260911
DTEND;VALUE=DATE:20260912
DTSTAMP:20260421T043503
CREATED:20251005T190547Z
LAST-MODIFIED:20260412T203315Z
UID:10001729-1789084800-1789171199@gunstuff.tv
SUMMARY:SA Society of Petroleum Engineers
DESCRIPTION:Charity Sporting Clays event benefiting youth with scholarshipsFor event information contact balcones@spemail.org.For club information contact Royce Graff at rgraff@nssa-nsca.com 
URL:https://gunstuff.tv/event/sa-society-of-petroleum-engineers/
LOCATION:National Shooting Complex\, 5931 Roft Rd\, San Antonio\, TX\, United States
GEO:29.492881;-98.741985
X-APPLE-STRUCTURED-LOCATION;VALUE=URI;X-ADDRESS=National Shooting Complex 5931 Roft Rd San Antonio TX United States;X-APPLE-RADIUS=500;X-TITLE=5931 Roft Rd:geo:-98.741985,29.492881
END:VEVENT
BEGIN:VEVENT
DTSTART;TZID=UTC:20260911T080000
DTEND;TZID=UTC:20260911T080000
DTSTAMP:20260421T043503
CREATED:20260107T013350Z
LAST-MODIFIED:20260401T070147Z
UID:10003848-1789113600-1789113600@gunstuff.tv
SUMMARY:Indiana State Steel Challenge Match
DESCRIPTION:Indiana State Steel Challenge Match\nDates: 9/11/26 – 9/13/26\nStart Time: 8:00 AM\nLocation:\nRed Brush Rifle Range (SCSA376)\n3299 West Elbe Rd\nNewburgh\, IN\nEvent Contact Information\nDoug Kemmerer\n8124498671\nPetetofani@gmail.com\nMatch Information\n$50.00 per gun\nEvent Website \nHome
URL:https://gunstuff.tv/event/indiana-state-steel-challenge-match/
LOCATION:Red Brush Rifle Range (SCSA376)\, Newberry\, IN\, United States
GEO:38.92505;-87.01945
END:VEVENT
BEGIN:VEVENT
DTSTART;TZID=America/Halifax:20260911T080000
DTEND;TZID=America/Halifax:20260911T170000
DTSTAMP:20260421T043506
CREATED:20260206T013132Z
LAST-MODIFIED:20260407T014708Z
UID:10004982-1789113600-1789146000@gunstuff.tv
SUMMARY:CLOSED/FERMER
DESCRIPTION:Bathurst Force Police/Force Policière de Bathurst
URL:https://gunstuff.tv/event/closed-fermer-12/
END:VEVENT
BEGIN:VEVENT
DTSTART;TZID=UTC:20260911T090000
DTEND;TZID=UTC:20260911T090000
DTSTAMP:20260421T043506
CREATED:20251031T195554Z
LAST-MODIFIED:20260415T070237Z
UID:10002833-1789117200-1789117200@gunstuff.tv
SUMMARY:Queen City Steel Challenge Championship
DESCRIPTION:Queen City Steel Challenge Championship\nMatch Status: Approved by DNROI\nMatch Starts on Sep 11\, 2026\nMatch will end Sep 13\, 2026\nMatch Location:\nMiami Rifle & Pistol Club\n5462 Stonelick-Williams Corner Road\nBatavia\, OH 45103\nManaged by:\nMiami Rifle & Pistol Club\nStage Count: 8\nRound Count: 195\nMatch Entry Fee: $60.00\nMatch Director: Mike Hoge\nRange Master: Dan Ditillio\nAdditional Details\nRegister!\nhttps://practiscore.com/queen-city-steel-challenge-championship/register
URL:https://gunstuff.tv/event/queen-city-steel-challenge-championship/
LOCATION:Miami Rifle & Pistol Club\, 5462 Stonelick Williams Corner Rd\, Batavia\, OH\, United States
GEO:39.141325;-84.182558
X-APPLE-STRUCTURED-LOCATION;VALUE=URI;X-ADDRESS=Miami Rifle & Pistol Club 5462 Stonelick Williams Corner Rd Batavia OH United States;X-APPLE-RADIUS=500;X-TITLE=5462 Stonelick Williams Corner Rd:geo:-84.182558,39.141325
END:VEVENT
END:VCALENDAR