BEGIN:VCALENDAR
VERSION:2.0
PRODID:-//GunStuff TV - ECPv6.15.20//NONSGML v1.0//EN
CALSCALE:GREGORIAN
METHOD:PUBLISH
X-ORIGINAL-URL:https://gunstuff.tv
X-WR-CALDESC:Events for GunStuff TV
REFRESH-INTERVAL;VALUE=DURATION:PT1H
X-Robots-Tag:noindex
X-PUBLISHED-TTL:PT1H
BEGIN:VTIMEZONE
TZID:America/New_York
BEGIN:DAYLIGHT
TZOFFSETFROM:-0500
TZOFFSETTO:-0400
TZNAME:EDT
DTSTART:20250309T070000
END:DAYLIGHT
BEGIN:STANDARD
TZOFFSETFROM:-0400
TZOFFSETTO:-0500
TZNAME:EST
DTSTART:20251102T060000
END:STANDARD
BEGIN:DAYLIGHT
TZOFFSETFROM:-0500
TZOFFSETTO:-0400
TZNAME:EDT
DTSTART:20260308T070000
END:DAYLIGHT
BEGIN:STANDARD
TZOFFSETFROM:-0400
TZOFFSETTO:-0500
TZNAME:EST
DTSTART:20261101T060000
END:STANDARD
BEGIN:DAYLIGHT
TZOFFSETFROM:-0500
TZOFFSETTO:-0400
TZNAME:EDT
DTSTART:20270314T070000
END:DAYLIGHT
BEGIN:STANDARD
TZOFFSETFROM:-0400
TZOFFSETTO:-0500
TZNAME:EST
DTSTART:20271107T060000
END:STANDARD
END:VTIMEZONE
BEGIN:VTIMEZONE
TZID:America/Phoenix
BEGIN:STANDARD
TZOFFSETFROM:-0700
TZOFFSETTO:-0700
TZNAME:MST
DTSTART:20250101T000000
END:STANDARD
END:VTIMEZONE
BEGIN:VTIMEZONE
TZID:UTC
BEGIN:STANDARD
TZOFFSETFROM:+0000
TZOFFSETTO:+0000
TZNAME:UTC
DTSTART:20250101T000000
END:STANDARD
END:VTIMEZONE
BEGIN:VTIMEZONE
TZID:America/Los_Angeles
BEGIN:DAYLIGHT
TZOFFSETFROM:-0800
TZOFFSETTO:-0700
TZNAME:PDT
DTSTART:20250309T100000
END:DAYLIGHT
BEGIN:STANDARD
TZOFFSETFROM:-0700
TZOFFSETTO:-0800
TZNAME:PST
DTSTART:20251102T090000
END:STANDARD
BEGIN:DAYLIGHT
TZOFFSETFROM:-0800
TZOFFSETTO:-0700
TZNAME:PDT
DTSTART:20260308T100000
END:DAYLIGHT
BEGIN:STANDARD
TZOFFSETFROM:-0700
TZOFFSETTO:-0800
TZNAME:PST
DTSTART:20261101T090000
END:STANDARD
BEGIN:DAYLIGHT
TZOFFSETFROM:-0800
TZOFFSETTO:-0700
TZNAME:PDT
DTSTART:20270314T100000
END:DAYLIGHT
BEGIN:STANDARD
TZOFFSETFROM:-0700
TZOFFSETTO:-0800
TZNAME:PST
DTSTART:20271107T090000
END:STANDARD
END:VTIMEZONE
BEGIN:VTIMEZONE
TZID:Europe/Berlin
BEGIN:DAYLIGHT
TZOFFSETFROM:+0100
TZOFFSETTO:+0200
TZNAME:CEST
DTSTART:20250330T010000
END:DAYLIGHT
BEGIN:STANDARD
TZOFFSETFROM:+0200
TZOFFSETTO:+0100
TZNAME:CET
DTSTART:20251026T010000
END:STANDARD
BEGIN:DAYLIGHT
TZOFFSETFROM:+0100
TZOFFSETTO:+0200
TZNAME:CEST
DTSTART:20260329T010000
END:DAYLIGHT
BEGIN:STANDARD
TZOFFSETFROM:+0200
TZOFFSETTO:+0100
TZNAME:CET
DTSTART:20261025T010000
END:STANDARD
BEGIN:DAYLIGHT
TZOFFSETFROM:+0100
TZOFFSETTO:+0200
TZNAME:CEST
DTSTART:20270328T010000
END:DAYLIGHT
BEGIN:STANDARD
TZOFFSETFROM:+0200
TZOFFSETTO:+0100
TZNAME:CET
DTSTART:20271031T010000
END:STANDARD
END:VTIMEZONE
BEGIN:VTIMEZONE
TZID:America/Chicago
BEGIN:DAYLIGHT
TZOFFSETFROM:-0600
TZOFFSETTO:-0500
TZNAME:CDT
DTSTART:20250309T080000
END:DAYLIGHT
BEGIN:STANDARD
TZOFFSETFROM:-0500
TZOFFSETTO:-0600
TZNAME:CST
DTSTART:20251102T070000
END:STANDARD
BEGIN:DAYLIGHT
TZOFFSETFROM:-0600
TZOFFSETTO:-0500
TZNAME:CDT
DTSTART:20260308T080000
END:DAYLIGHT
BEGIN:STANDARD
TZOFFSETFROM:-0500
TZOFFSETTO:-0600
TZNAME:CST
DTSTART:20261101T070000
END:STANDARD
BEGIN:DAYLIGHT
TZOFFSETFROM:-0600
TZOFFSETTO:-0500
TZNAME:CDT
DTSTART:20270314T080000
END:DAYLIGHT
BEGIN:STANDARD
TZOFFSETFROM:-0500
TZOFFSETTO:-0600
TZNAME:CST
DTSTART:20271107T070000
END:STANDARD
END:VTIMEZONE
BEGIN:VEVENT
DTSTART;TZID=America/New_York:20260621T100000
DTEND;TZID=America/New_York:20260621T150000
DTSTAMP:20260419T150813
CREATED:20260308T183136Z
LAST-MODIFIED:20260412T184746Z
UID:10006210-1782036000-1782054000@gunstuff.tv
SUMMARY:Running Deer Match
DESCRIPTION:See https://www.fxrgc.org/rifle/running-deer/ for more info
URL:https://gunstuff.tv/event/running-deer-match-3/
LOCATION:Porasky Range
END:VEVENT
BEGIN:VEVENT
DTSTART;TZID=America/New_York:20260621T130000
DTEND;TZID=America/New_York:20260621T150000
DTSTAMP:20260419T150813
CREATED:20251019T193323Z
LAST-MODIFIED:20260414T083129Z
UID:10002458-1782046800-1782054000@gunstuff.tv
SUMMARY:Open Trap Shoot - Weather Permitting
DESCRIPTION:Open shoot\, $5.00 per round.  The trap field is 2/10ths of a mile past the clubhouse. \nFor the latest information visit:https://www.facebook.com/groups/1663932967427026
URL:https://gunstuff.tv/event/open-trap-shoot-weather-permitting-9/
LOCATION:523 Sizer Run Road Emporium\, Emporium\, PA\, United States
GEO:41.500749;-78.322815
END:VEVENT
BEGIN:VEVENT
DTSTART;VALUE=DATE:20260622
DTEND;VALUE=DATE:20260623
DTSTAMP:20260419T150813
CREATED:20260213T031058Z
LAST-MODIFIED:20260410T034701Z
UID:10005254-1782086400-1782172799@gunstuff.tv
SUMMARY:Club Closed
DESCRIPTION:
URL:https://gunstuff.tv/event/club-closed-38/
LOCATION:ID
END:VEVENT
BEGIN:VEVENT
DTSTART;TZID=America/New_York:20260622T090000
DTEND;TZID=America/New_York:20260622T100000
DTSTAMP:20260419T150813
CREATED:20251003T162641Z
LAST-MODIFIED:20251010T162929Z
UID:10001450-1782118800-1782122400@gunstuff.tv
SUMMARY:4-H Class Indoors
DESCRIPTION:Indoor reserved for 4-H class.
URL:https://gunstuff.tv/event/4-h-class-indoors-38/
LOCATION:Indoor Range
END:VEVENT
BEGIN:VEVENT
DTSTART;TZID=America/New_York:20260622T160000
DTEND;TZID=America/New_York:20260622T180000
DTSTAMP:20260419T150813
CREATED:20251003T162641Z
LAST-MODIFIED:20251205T181708Z
UID:10001451-1782144000-1782151200@gunstuff.tv
SUMMARY:Skeet League
DESCRIPTION:Contact Frank Andrews with Questions.
URL:https://gunstuff.tv/event/skeet-league-38/
LOCATION:ID
END:VEVENT
BEGIN:VEVENT
DTSTART;TZID=America/New_York:20260622T160000
DTEND;TZID=America/New_York:20260622T180000
DTSTAMP:20260419T150813
CREATED:20251212T181641Z
LAST-MODIFIED:20260411T214632Z
UID:10003539-1782144000-1782151200@gunstuff.tv
SUMMARY:Skeet League
DESCRIPTION:Contact Frank Andrews with Questions.
URL:https://gunstuff.tv/event/skeet-league-128/
LOCATION:Skeet Range
END:VEVENT
BEGIN:VEVENT
DTSTART;VALUE=DATE:20260623
DTEND;VALUE=DATE:20260624
DTSTAMP:20260419T150813
CREATED:20251003T160029Z
LAST-MODIFIED:20260412T043231Z
UID:10000992-1782172800-1782259199@gunstuff.tv
SUMMARY:100\, 200\, 300 Yard Practice Benchrest Range
DESCRIPTION:
URL:https://gunstuff.tv/event/100-200-300-yard-practice-benchrest-range-30/
LOCATION:ID
END:VEVENT
BEGIN:VEVENT
DTSTART;VALUE=DATE:20260623
DTEND;VALUE=DATE:20260624
DTSTAMP:20260419T150813
CREATED:20260213T031058Z
LAST-MODIFIED:20260410T034701Z
UID:10005253-1782172800-1782259199@gunstuff.tv
SUMMARY:Club closed
DESCRIPTION:
URL:https://gunstuff.tv/event/club-closed-37/
LOCATION:ID
END:VEVENT
BEGIN:VEVENT
DTSTART;TZID=America/New_York:20260623T170000
DTEND;TZID=America/New_York:20260623T200000
DTSTAMP:20260419T150813
CREATED:20260328T214631Z
LAST-MODIFIED:20260411T214632Z
UID:10006588-1782234000-1782244800@gunstuff.tv
SUMMARY:Tactical Tuesday IDPA Practice
DESCRIPTION:Shooters new to Action Shooting contact Eric Zaharee at ABSAIDPA@gmail .com\nSee (Alder Brook) PractiScore.com for sign up Cost $5
URL:https://gunstuff.tv/event/tactical-tuesday-idpa-practice-11/
LOCATION:Action Bays
END:VEVENT
BEGIN:VEVENT
DTSTART;TZID=UTC:20260623T173000
DTEND;TZID=UTC:20260623T173000
DTSTAMP:20260419T150813
CREATED:20260418T174742Z
LAST-MODIFIED:20260418T174742Z
UID:10008058-1782235800-1782235800@gunstuff.tv
SUMMARY:Boise Steel Challenge
DESCRIPTION:Boise Steel Challenge\nDate: 6/23/26\nStart Time: 5:30 PM\nLocation:\nBoise Steel Challenge (SCSA581)\n2420 E Kuna Mora rd\nKuna\, ID\nEvent Contact Information\nPaul\n208-919-5336\nboisesteelchallenge@gmail.com\nMatch Information\nHeld at Black’s Creek Shooting Range\nEvent Website \nBoise Steel Challenge
URL:https://gunstuff.tv/event/boise-steel-challenge-12/
LOCATION:Boise Steel Challenge (SCSA581)\, 2420 E Kuna Mora Rd\, Kuna\, ID\, United States
GEO:43.459228;-116.383121
X-APPLE-STRUCTURED-LOCATION;VALUE=URI;X-ADDRESS=Boise Steel Challenge (SCSA581) 2420 E Kuna Mora Rd Kuna ID United States;X-APPLE-RADIUS=500;X-TITLE=2420 E Kuna Mora Rd:geo:-116.383121,43.459228
END:VEVENT
BEGIN:VEVENT
DTSTART;TZID=UTC:20260624T164500
DTEND;TZID=UTC:20260624T164500
DTSTAMP:20260419T150813
CREATED:20260121T014636Z
LAST-MODIFIED:20260401T070143Z
UID:10004644-1782319500-1782319500@gunstuff.tv
SUMMARY:Bass River Weds Nite Steel
DESCRIPTION:Bass River Weds Nite Steel\nDate: 6/24/26\nStart Time: 4:45 PM\nLocation:\nBass River Rod & Gun Club (SCSA467)\nBass River Rod &Gun 620 Rt. 6A\nYarmouthport\, MA\nEvent Contact Information\nTimothy J Kent\n5082372137\ntjkent@comcast.net\nEvent Website\nhttps://www.bassriverrodandgun.com/
URL:https://gunstuff.tv/event/bass-river-weds-nite-steel-9/
LOCATION:Bass River Rod & Gun Club (SCSA467)\, 79 State Rte 6 Alt\, Dennis\, MA\, United States
GEO:41.721025;-70.196653
X-APPLE-STRUCTURED-LOCATION;VALUE=URI;X-ADDRESS=Bass River Rod & Gun Club (SCSA467) 79 State Rte 6 Alt Dennis MA United States;X-APPLE-RADIUS=500;X-TITLE=79 State Rte 6 Alt:geo:-70.196653,41.721025
END:VEVENT
BEGIN:VEVENT
DTSTART;TZID=UTC:20260624T170000
DTEND;TZID=UTC:20260624T170000
DTSTAMP:20260419T150813
CREATED:20260410T113139Z
LAST-MODIFIED:20260410T113139Z
UID:10007412-1782320400-1782320400@gunstuff.tv
SUMMARY:On Target USPSA Level 1 June 2026
DESCRIPTION:On Target USPSA Level 1 June 2026\nDate : 6/24/26\nStart Time: 5:00 PM\nLocation:\nOn Target Competitive Shooters (NC20)\n4 Busbee View Road\nAsheville\, NC\nEvent Contact Information\nMaki Goskowicz\n828-274-0028\ndrmaki2026@gmail.com
URL:https://gunstuff.tv/event/on-target-uspsa-level-1-june-2026/
LOCATION:On Target Competitive Shooters (NC20)\, 4 Busbee View Rd\, Asheville\, NC\, United States
GEO:35.541271;-82.52048
X-APPLE-STRUCTURED-LOCATION;VALUE=URI;X-ADDRESS=On Target Competitive Shooters (NC20) 4 Busbee View Rd Asheville NC United States;X-APPLE-RADIUS=500;X-TITLE=4 Busbee View Rd:geo:-82.52048,35.541271
END:VEVENT
BEGIN:VEVENT
DTSTART;TZID=America/Los_Angeles:20260624T170000
DTEND;TZID=America/Los_Angeles:20260624T220000
DTSTAMP:20260419T150813
CREATED:20260222T221631Z
LAST-MODIFIED:20260405T223147Z
UID:10005749-1782320400-1782338400@gunstuff.tv
SUMMARY:MOORE N MOORE - NIGHT SHOOT & BBQ
DESCRIPTION:For more information\, contact Moore N Moore at https://www.moorenmoore.com/night-shooting/
URL:https://gunstuff.tv/event/moore-n-moore-night-shoot-bbq-36/
LOCATION:Moore N Moore Sporting Clays\, 12653 Little Tujunga Canyon Rd\, Sylmar\, CA\, United States
CATEGORIES:Moore N Moore
ATTACH;FMTTYPE=image/png:https://gunstuff.tv/wp-content/uploads/2025/10/image-pjjZEf.png
ORGANIZER;CN="Moore N Moore Sporting Clays":MAILTO:info@moorenmoore.com
GEO:34.282317;-118.371281
X-APPLE-STRUCTURED-LOCATION;VALUE=URI;X-ADDRESS=Moore N Moore Sporting Clays 12653 Little Tujunga Canyon Rd Sylmar CA United States;X-APPLE-RADIUS=500;X-TITLE=12653 Little Tujunga Canyon Rd:geo:-118.371281,34.282317
END:VEVENT
BEGIN:VEVENT
DTSTART;TZID=UTC:20260624T180000
DTEND;TZID=UTC:20260624T180000
DTSTAMP:20260419T150813
CREATED:20260304T061639Z
LAST-MODIFIED:20260401T070143Z
UID:10006088-1782324000-1782324000@gunstuff.tv
SUMMARY:West Houston 4th Wed Steel Challenge
DESCRIPTION:West Houston 4th Wed Steel Challenge\nDate: 6/24/26\nStart Time: 6:00 PM\nLocation:\nWest Houston Shooters Club (SCSA146)\n40440 FM 529\nHempstead\, TX\nEvent Contact Information\nJim Schultz\n7135426832\nwesthoustonshootersclub@gmail.com\nMatch Information\nMatch is every 4th Wednesday\, January thru October\, weather permitting.\nEvent Website\nhttp://westhoustonshootersclub@gmail.com
URL:https://gunstuff.tv/event/west-houston-4th-wed-steel-challenge-4/
LOCATION:West Houston Shooters Club (SCSA146)\, 39798 FM 529\, Hempstead\, TX\, United States
GEO:29.914986;-96.048349
X-APPLE-STRUCTURED-LOCATION;VALUE=URI;X-ADDRESS=West Houston Shooters Club (SCSA146) 39798 FM 529 Hempstead TX United States;X-APPLE-RADIUS=500;X-TITLE=39798 FM 529:geo:-96.048349,29.914986
END:VEVENT
BEGIN:VEVENT
DTSTART;VALUE=DATE:20260625
DTEND;VALUE=DATE:20260626
DTSTAMP:20260419T150813
CREATED:20251003T160029Z
LAST-MODIFIED:20260412T043231Z
UID:10000994-1782345600-1782431999@gunstuff.tv
SUMMARY:1000 Yard Practice 6:30am Pits
DESCRIPTION:
URL:https://gunstuff.tv/event/1000-yard-practice-630am-pits-7/
LOCATION:ID
END:VEVENT
BEGIN:VEVENT
DTSTART;TZID=UTC:20260625T080000
DTEND;TZID=UTC:20260625T080000
DTSTAMP:20260419T150813
CREATED:20260110T171711Z
LAST-MODIFIED:20260410T113139Z
UID:10004283-1782374400-1782374400@gunstuff.tv
SUMMARY:2026 Battle at the Peak Colorado State USPSA Championship
DESCRIPTION:2026 Battle at the Peak Colorado State USPSA Championship\nDates : 6/25/26 – 6/28/26\nStart Time: 8:00 AM\nLocation:\nSoCo Practical Shooters (SCPS) (ECO19)\n450 S Franceville Coal Mine Rd\nColorado Springs\, CO\nEvent Contact Information\nGermaine Adams\n719.439.6993\nsocopracticalshooters@gmail.com\nEvent Website\nhttps://practiscore.com/2026-battle-at-the-peak-colorado-state-uspsa-championship/register
URL:https://gunstuff.tv/event/2026-battle-at-the-peak-colorado-state-uspsa-championship/
LOCATION:SoCo Practical Shooters (SCPS) (ECO19)\, 450 S Franceville Coal Mine Rd\, Colorado Springs\, CO\, United States
GEO:38.82531;-104.590706
X-APPLE-STRUCTURED-LOCATION;VALUE=URI;X-ADDRESS=SoCo Practical Shooters (SCPS) (ECO19) 450 S Franceville Coal Mine Rd Colorado Springs CO United States;X-APPLE-RADIUS=500;X-TITLE=450 S Franceville Coal Mine Rd:geo:-104.590706,38.82531
END:VEVENT
BEGIN:VEVENT
DTSTART;TZID=UTC:20260625T090000
DTEND;TZID=UTC:20260625T090000
DTSTAMP:20260419T150813
CREATED:20260228T173137Z
LAST-MODIFIED:20260415T070236Z
UID:10005886-1782378000-1782378000@gunstuff.tv
SUMMARY:NH State Steel Challenge Championship Hosted By CHESHIRE COUNTY ACTION PISTOL
DESCRIPTION:NH State Steel Challenge Championship Hosted By CHESHIRE COUNTY ACTION PISTOL\nMatch Status: Approved by DNROI\nMatch Starts on Jun 25\, 2026\nMatch will end Jun 28\, 2026\nMatch Location:\nCheshire County Steel Challenge\n19 Ferry Brook Rd\nKeene\, NH 03431\nManaged by:\nCheshire County Steel Challenge\nStage Count: 8\nRound Count: 195\nMatch Entry Fee: $70.00\nMatch Director: Daniel Cormier\nRange Master: Lee Cabana\nAdditional Details\nRegister!\nhttps://practiscore.com/ccssef-steel-challenge-6-25-26-match/register
URL:https://gunstuff.tv/event/nh-state-steel-challenge-championship-hosted-by-cheshire-county-action-pistol/
LOCATION:Cheshire County Steel Challenge\, 19 Ferry Brook Rd\, Keene\, NH\, United States
GEO:42.973044;-72.240668
X-APPLE-STRUCTURED-LOCATION;VALUE=URI;X-ADDRESS=Cheshire County Steel Challenge 19 Ferry Brook Rd Keene NH United States;X-APPLE-RADIUS=500;X-TITLE=19 Ferry Brook Rd:geo:-72.240668,42.973044
END:VEVENT
BEGIN:VEVENT
DTSTART;TZID=America/Los_Angeles:20260625T130000
DTEND;TZID=America/Los_Angeles:20260625T180000
DTSTAMP:20260419T150813
CREATED:20260301T221634Z
LAST-MODIFIED:20260405T223147Z
UID:10005915-1782392400-1782410400@gunstuff.tv
SUMMARY:RIFLE SIDE RANGE CLOSED
DESCRIPTION:NOT OPEN TO THE PUBLIC AFTER 1:00 P. M.
URL:https://gunstuff.tv/event/rifle-side-range-closed-13/
LOCATION:California
END:VEVENT
BEGIN:VEVENT
DTSTART;TZID=UTC:20260625T130000
DTEND;TZID=UTC:20260625T190000
DTSTAMP:20260419T150813
CREATED:20251005T192820Z
LAST-MODIFIED:20260414T084802Z
UID:10001773-1782392400-1782414000@gunstuff.tv
SUMMARY:RMSCA 2026 Annual Golf Tournament
DESCRIPTION:
URL:https://gunstuff.tv/event/rmsca-2026-annual-golf-tournament/
LOCATION:West Woods Golf Club\, 6655 Quaker St\, Arvada\, CO\, United States
ORGANIZER;CN="Rocky Mountain Steel Construction Association":MAILTO:info@rmsca.org
GEO:39.816755;-105.18401
X-APPLE-STRUCTURED-LOCATION;VALUE=URI;X-ADDRESS=West Woods Golf Club 6655 Quaker St Arvada CO United States;X-APPLE-RADIUS=500;X-TITLE=6655 Quaker St:geo:-105.18401,39.816755
END:VEVENT
BEGIN:VEVENT
DTSTART;TZID=America/New_York:20260625T180000
DTEND;TZID=America/New_York:20260625T183000
DTSTAMP:20260419T150813
CREATED:20251003T162641Z
LAST-MODIFIED:20260411T214632Z
UID:10001453-1782410400-1782412200@gunstuff.tv
SUMMARY:Member Session
DESCRIPTION:Hear committee reports\, ask questions\, make requests of the board.
URL:https://gunstuff.tv/event/member-session-9/
LOCATION:Indoor Range
END:VEVENT
BEGIN:VEVENT
DTSTART;TZID=America/New_York:20260625T183000
DTEND;TZID=America/New_York:20260625T203000
DTSTAMP:20260419T150813
CREATED:20251003T162641Z
LAST-MODIFIED:20260411T214632Z
UID:10001452-1782412200-1782419400@gunstuff.tv
SUMMARY:Board Meeting
DESCRIPTION:All members welcome.
URL:https://gunstuff.tv/event/board-meeting-12/
LOCATION:Indoor Range
END:VEVENT
BEGIN:VEVENT
DTSTART;TZID=America/New_York:20260625T190000
DTEND;TZID=America/New_York:20260625T220000
DTSTAMP:20260419T150813
CREATED:20260412T184746Z
LAST-MODIFIED:20260412T184746Z
UID:10007463-1782414000-1782424800@gunstuff.tv
SUMMARY:Doerflein Skeet League
DESCRIPTION:Doerflein Skeet League
URL:https://gunstuff.tv/event/doerflein-skeet-league-28/
LOCATION:Shotgun Fields
END:VEVENT
BEGIN:VEVENT
DTSTART;VALUE=DATE:20260626
DTEND;VALUE=DATE:20260627
DTSTAMP:20260419T150813
CREATED:20251003T160029Z
LAST-MODIFIED:20260412T043231Z
UID:10000993-1782432000-1782518399@gunstuff.tv
SUMMARY:Across the Course Practice 6:30am Pits
DESCRIPTION:
URL:https://gunstuff.tv/event/across-the-course-practice-630am-pits-9/
LOCATION:ID
END:VEVENT
BEGIN:VEVENT
DTSTART;VALUE=DATE:20260626
DTEND;VALUE=DATE:20260627
DTSTAMP:20260419T150813
CREATED:20251109T181650Z
LAST-MODIFIED:20260412T184746Z
UID:10003029-1782432000-1782518399@gunstuff.tv
SUMMARY:US Open NSSA Registered Skeet Shoot (5 gun)
DESCRIPTION:
URL:https://gunstuff.tv/event/us-open-nssa-registered-skeet-shoot-5-gun-2/
LOCATION:Fields 1-8
END:VEVENT
BEGIN:VEVENT
DTSTART;VALUE=DATE:20260626
DTEND;VALUE=DATE:20260627
DTSTAMP:20260419T150813
CREATED:20260213T031058Z
LAST-MODIFIED:20260410T034701Z
UID:10005255-1782432000-1782518399@gunstuff.tv
SUMMARY:FALLING STEEL MATCH (Comp Bays Closed Setup)
DESCRIPTION:
URL:https://gunstuff.tv/event/falling-steel-match-comp-bays-closed-setup/
LOCATION:ID
END:VEVENT
BEGIN:VEVENT
DTSTART;TZID=Europe/Berlin:20260626T000000
DTEND;TZID=Europe/Berlin:20260628T235900
DTSTAMP:20260419T150813
CREATED:20251106T204551Z
LAST-MODIFIED:20260411T174700Z
UID:10002938-1782432000-1782691140@gunstuff.tv
SUMMARY:2026 German Handgun Part I powered by Walther
DESCRIPTION:https://ipscmatch.de/m/2026_German_Handgun_Part_I
URL:https://gunstuff.tv/event/2026-german-handgun-part-i/
LOCATION:Philippsburg
ORGANIZER;CN="Bund Deutscher Sportsch%C3%BCtzen 1975 e.V.%2C Birkenring 5%2C 16356 Ahrensfelde%2C Email%3A info@bdsnet.de":MAILTO:sportdirektor@bdsnet.de
END:VEVENT
BEGIN:VEVENT
DTSTART;VALUE=DATE:20260626
DTEND;VALUE=DATE:20260629
DTSTAMP:20260419T150813
CREATED:20251005T190051Z
LAST-MODIFIED:20260412T200143Z
UID:10001676-1782432000-1782691199@gunstuff.tv
SUMMARY:US Open Skeet
DESCRIPTION:
URL:https://gunstuff.tv/event/us-open-skeet/
LOCATION:ID
END:VEVENT
BEGIN:VEVENT
DTSTART;VALUE=DATE:20260626
DTEND;VALUE=DATE:20260629
DTSTAMP:20260419T150813
CREATED:20260118T210133Z
LAST-MODIFIED:20260414T083129Z
UID:10004599-1782432000-1782691199@gunstuff.tv
SUMMARY:CamCo Clay Crushers States at Elysburg
DESCRIPTION:
URL:https://gunstuff.tv/event/camco-clay-crushers-states-at-elysburg/
LOCATION:ID
END:VEVENT
BEGIN:VEVENT
DTSTART;VALUE=DATE:20260627
DTEND;VALUE=DATE:20260628
DTSTAMP:20260419T150813
CREATED:20251003T160029Z
LAST-MODIFIED:20260412T043231Z
UID:10000995-1782518400-1782604799@gunstuff.tv
SUMMARY:Across the Course Match 6:30am Pits
DESCRIPTION:
URL:https://gunstuff.tv/event/across-the-course-match-630am-pits-2/
LOCATION:ID
END:VEVENT
BEGIN:VEVENT
DTSTART;VALUE=DATE:20260627
DTEND;VALUE=DATE:20260628
DTSTAMP:20260419T150813
CREATED:20251026T194656Z
LAST-MODIFIED:20260414T083129Z
UID:10002573-1782518400-1782604799@gunstuff.tv
SUMMARY:Club Rental
DESCRIPTION:
URL:https://gunstuff.tv/event/club-rental-7/
LOCATION:523 Sizer Run Rd\, Emporium\, PA\, United States
GEO:41.51031;-78.23157
END:VEVENT
END:VCALENDAR