BEGIN:VCALENDAR
VERSION:2.0
PRODID:-//GunStuff TV - ECPv6.15.20//NONSGML v1.0//EN
CALSCALE:GREGORIAN
METHOD:PUBLISH
X-ORIGINAL-URL:https://gunstuff.tv
X-WR-CALDESC:Events for GunStuff TV
REFRESH-INTERVAL;VALUE=DURATION:PT1H
X-Robots-Tag:noindex
X-PUBLISHED-TTL:PT1H
BEGIN:VTIMEZONE
TZID:America/New_York
BEGIN:DAYLIGHT
TZOFFSETFROM:-0500
TZOFFSETTO:-0400
TZNAME:EDT
DTSTART:20250309T070000
END:DAYLIGHT
BEGIN:STANDARD
TZOFFSETFROM:-0400
TZOFFSETTO:-0500
TZNAME:EST
DTSTART:20251102T060000
END:STANDARD
BEGIN:DAYLIGHT
TZOFFSETFROM:-0500
TZOFFSETTO:-0400
TZNAME:EDT
DTSTART:20260308T070000
END:DAYLIGHT
BEGIN:STANDARD
TZOFFSETFROM:-0400
TZOFFSETTO:-0500
TZNAME:EST
DTSTART:20261101T060000
END:STANDARD
BEGIN:DAYLIGHT
TZOFFSETFROM:-0500
TZOFFSETTO:-0400
TZNAME:EDT
DTSTART:20270314T070000
END:DAYLIGHT
BEGIN:STANDARD
TZOFFSETFROM:-0400
TZOFFSETTO:-0500
TZNAME:EST
DTSTART:20271107T060000
END:STANDARD
END:VTIMEZONE
BEGIN:VTIMEZONE
TZID:UTC
BEGIN:STANDARD
TZOFFSETFROM:+0000
TZOFFSETTO:+0000
TZNAME:UTC
DTSTART:20250101T000000
END:STANDARD
END:VTIMEZONE
BEGIN:VTIMEZONE
TZID:America/Chicago
BEGIN:DAYLIGHT
TZOFFSETFROM:-0600
TZOFFSETTO:-0500
TZNAME:CDT
DTSTART:20250309T080000
END:DAYLIGHT
BEGIN:STANDARD
TZOFFSETFROM:-0500
TZOFFSETTO:-0600
TZNAME:CST
DTSTART:20251102T070000
END:STANDARD
BEGIN:DAYLIGHT
TZOFFSETFROM:-0600
TZOFFSETTO:-0500
TZNAME:CDT
DTSTART:20260308T080000
END:DAYLIGHT
BEGIN:STANDARD
TZOFFSETFROM:-0500
TZOFFSETTO:-0600
TZNAME:CST
DTSTART:20261101T070000
END:STANDARD
BEGIN:DAYLIGHT
TZOFFSETFROM:-0600
TZOFFSETTO:-0500
TZNAME:CDT
DTSTART:20270314T080000
END:DAYLIGHT
BEGIN:STANDARD
TZOFFSETFROM:-0500
TZOFFSETTO:-0600
TZNAME:CST
DTSTART:20271107T070000
END:STANDARD
END:VTIMEZONE
BEGIN:VTIMEZONE
TZID:UTC
BEGIN:STANDARD
TZOFFSETFROM:+0000
TZOFFSETTO:+0000
TZNAME:UTC
DTSTART:20250101T000000
END:STANDARD
END:VTIMEZONE
BEGIN:VTIMEZONE
TZID:America/Indiana/Indianapolis
BEGIN:DAYLIGHT
TZOFFSETFROM:-0500
TZOFFSETTO:-0400
TZNAME:EDT
DTSTART:20250309T070000
END:DAYLIGHT
BEGIN:STANDARD
TZOFFSETFROM:-0400
TZOFFSETTO:-0500
TZNAME:EST
DTSTART:20251102T060000
END:STANDARD
BEGIN:DAYLIGHT
TZOFFSETFROM:-0500
TZOFFSETTO:-0400
TZNAME:EDT
DTSTART:20260308T070000
END:DAYLIGHT
BEGIN:STANDARD
TZOFFSETFROM:-0400
TZOFFSETTO:-0500
TZNAME:EST
DTSTART:20261101T060000
END:STANDARD
BEGIN:DAYLIGHT
TZOFFSETFROM:-0500
TZOFFSETTO:-0400
TZNAME:EDT
DTSTART:20270314T070000
END:DAYLIGHT
BEGIN:STANDARD
TZOFFSETFROM:-0400
TZOFFSETTO:-0500
TZNAME:EST
DTSTART:20271107T060000
END:STANDARD
END:VTIMEZONE
BEGIN:VTIMEZONE
TZID:America/Phoenix
BEGIN:STANDARD
TZOFFSETFROM:-0700
TZOFFSETTO:-0700
TZNAME:MST
DTSTART:20250101T000000
END:STANDARD
END:VTIMEZONE
BEGIN:VTIMEZONE
TZID:America/Denver
BEGIN:DAYLIGHT
TZOFFSETFROM:-0700
TZOFFSETTO:-0600
TZNAME:MDT
DTSTART:20250309T090000
END:DAYLIGHT
BEGIN:STANDARD
TZOFFSETFROM:-0600
TZOFFSETTO:-0700
TZNAME:MST
DTSTART:20251102T080000
END:STANDARD
BEGIN:DAYLIGHT
TZOFFSETFROM:-0700
TZOFFSETTO:-0600
TZNAME:MDT
DTSTART:20260308T090000
END:DAYLIGHT
BEGIN:STANDARD
TZOFFSETFROM:-0600
TZOFFSETTO:-0700
TZNAME:MST
DTSTART:20261101T080000
END:STANDARD
BEGIN:DAYLIGHT
TZOFFSETFROM:-0700
TZOFFSETTO:-0600
TZNAME:MDT
DTSTART:20270314T090000
END:DAYLIGHT
BEGIN:STANDARD
TZOFFSETFROM:-0600
TZOFFSETTO:-0700
TZNAME:MST
DTSTART:20271107T080000
END:STANDARD
END:VTIMEZONE
BEGIN:VTIMEZONE
TZID:America/Los_Angeles
BEGIN:DAYLIGHT
TZOFFSETFROM:-0800
TZOFFSETTO:-0700
TZNAME:PDT
DTSTART:20250309T100000
END:DAYLIGHT
BEGIN:STANDARD
TZOFFSETFROM:-0700
TZOFFSETTO:-0800
TZNAME:PST
DTSTART:20251102T090000
END:STANDARD
BEGIN:DAYLIGHT
TZOFFSETFROM:-0800
TZOFFSETTO:-0700
TZNAME:PDT
DTSTART:20260308T100000
END:DAYLIGHT
BEGIN:STANDARD
TZOFFSETFROM:-0700
TZOFFSETTO:-0800
TZNAME:PST
DTSTART:20261101T090000
END:STANDARD
BEGIN:DAYLIGHT
TZOFFSETFROM:-0800
TZOFFSETTO:-0700
TZNAME:PDT
DTSTART:20270314T100000
END:DAYLIGHT
BEGIN:STANDARD
TZOFFSETFROM:-0700
TZOFFSETTO:-0800
TZNAME:PST
DTSTART:20271107T090000
END:STANDARD
END:VTIMEZONE
BEGIN:VEVENT
DTSTART;TZID=America/New_York:20260405T090000
DTEND;TZID=America/New_York:20260405T163000
DTSTAMP:20260424T084804
CREATED:20260208T183201Z
LAST-MODIFIED:20260405T184709Z
UID:10005097-1775379600-1775406600@gunstuff.tv
SUMMARY:CANCELLED-High Power Silhouette
DESCRIPTION:Contact Roger Estes @ rce497@comcast.net \nThis is a High Power Silhouette match per month from March thru November\, 2026\, These will be high power rifle silhouette matches fired on the Lea Valley Range with a total of 40 rounds for record. Records will be kept and sent to the NRA for classification purposes. For the matches practice will begin at 9a.m. and matches will begin at 10.Rules will follow the NRA High Power Rifle Silhouette Rules. Briefly\, rifles for Highpower silhouette have to be at least a minimum center-fire caliber of 6mm\, no maximum. Ammo cannot be belted magnum by Club Rules for ammo.Clothes can be commensurate with the weather but cannot be made specifically silhouette competition\, with the exception that leather vest specifically for rifle silhouette can be used.The match firing will be on relays\, each relay\, consisting of 4 shooting competitors and spotters . Spotters are not mandatory for these matches. Scoring can be done by a spotter or by the competitor's person. The relay is called to the line\, the command of ready is given which is 15 seconds to get prepared to fire the 5 shots in 2 1/2 minutes\, then a short rest\, then 5 more rounds in 2 1/2 minutes. Following these shots\, competitors will show their scores to the stat officer so the scores are recorded. Relays will continue till all animals are fired at. Scores are counted by the knock down of animals off the range rail\, to a maximum of 40 animals. Once the relays are complete\, scores will be counted up and the winner gets cash for the award\, total of 25 for aggregate match winner. $20 for Class winner. Each 3 competitors will get a n award of cash. A plaque award can be substituted for the cash. There is a separate category in which AR-15 rifles are allowed. AR's don't follow the silhouette rules\, mostly because of the shape of the rifle and caliber which is .223. They are allowed in a separate category in this match to get more competitors to shoot these matches\, just generating interest in this sport. They have no classification in the match\, just for fun. The matches are fired on the first Sunday of the month.
URL:https://gunstuff.tv/event/high-power-silhouette-2/
LOCATION:Lea Valley Range
END:VEVENT
BEGIN:VEVENT
DTSTART;TZID=UTC:20260405T094500
DTEND;TZID=UTC:20260405T094500
DTSTAMP:20260424T084804
CREATED:20260117T171704Z
LAST-MODIFIED:20260329T034744Z
UID:10004569-1775382300-1775382300@gunstuff.tv
SUMMARY:Bass River April Match
DESCRIPTION:Bass River April Match\nDate : 4/05/26\nStart Time: 9:45 AM\nLocation:\nBass River Rod & Gun Club (NE12)\nBass River Rod &Gun 620 Rt. 6A\nYarmouthport\, MA\nEvent Contact Information\nTimothy J Kent\n5089454427\ntjkent@comcast.net\nEvent Website\nhttps://www.bassriverrodandgun.com/
URL:https://gunstuff.tv/event/bass-river-april-match/
LOCATION:Bass River Rod & Gun Club (NE12)\, 79 State Rte 6 Alt\, Dennis\, MA\, United States
GEO:41.721025;-70.196653
X-APPLE-STRUCTURED-LOCATION;VALUE=URI;X-ADDRESS=Bass River Rod & Gun Club (NE12) 79 State Rte 6 Alt Dennis MA United States;X-APPLE-RADIUS=500;X-TITLE=79 State Rte 6 Alt:geo:-70.196653,41.721025
END:VEVENT
BEGIN:VEVENT
DTSTART;TZID=America/New_York:20260405T110000
DTEND;TZID=America/New_York:20260405T160000
DTSTAMP:20260424T084804
CREATED:20260327T051729Z
LAST-MODIFIED:20260327T051752Z
UID:10006546-1775386800-1775404800@gunstuff.tv
SUMMARY:Shotgun Shooting Hours
DESCRIPTION:
URL:https://gunstuff.tv/event/shotgun-shooting-hours-21/
LOCATION:Shotgun Ranges\, 4770 Waterford Rd\, Clarkston\, MI\, United States
CATEGORIES:Range,Shotgun,Shotgun Range
ATTACH;FMTTYPE=image/png:https://gunstuff.tv/wp-content/uploads/2025/10/shotgun-logo-160x160-1-mvSnxY.png
GEO:42.705297;-83.4014
X-APPLE-STRUCTURED-LOCATION;VALUE=URI;X-ADDRESS=Shotgun Ranges 4770 Waterford Rd Clarkston MI United States;X-APPLE-RADIUS=500;X-TITLE=4770 Waterford Rd:geo:-83.4014,42.705297
END:VEVENT
BEGIN:VEVENT
DTSTART;TZID=America/New_York:20260405T120000
DTEND;TZID=America/New_York:20260405T180000
DTSTAMP:20260424T084804
CREATED:20260327T051729Z
LAST-MODIFIED:20260327T051752Z
UID:10006547-1775390400-1775412000@gunstuff.tv
SUMMARY:Steel Challenge | 8 Stage Match
DESCRIPTION:
URL:https://gunstuff.tv/event/steel-challenge-8-stage-match-2/
LOCATION:Outdoor 25/50/100 Yard Range\, 4770 Waterford Rd\, Clarkston\, MI\, United States
CATEGORIES:Outdoor Range,Range,Range Closed For Event,Steel Challenge
ATTACH;FMTTYPE=image/webp:https://gunstuff.tv/wp-content/uploads/2025/10/STEEL-CHALLENGE-logo-v1EfBi.webp
GEO:42.705297;-83.4014
X-APPLE-STRUCTURED-LOCATION;VALUE=URI;X-ADDRESS=Outdoor 25/50/100 Yard Range 4770 Waterford Rd Clarkston MI United States;X-APPLE-RADIUS=500;X-TITLE=4770 Waterford Rd:geo:-83.4014,42.705297
END:VEVENT
BEGIN:VEVENT
DTSTART;TZID=America/New_York:20260405T133000
DTEND;TZID=America/New_York:20260405T170000
DTSTAMP:20260424T084804
CREATED:20260403T051702Z
LAST-MODIFIED:20260403T051702Z
UID:10006704-1775395800-1775408400@gunstuff.tv
SUMMARY:JOAD League
DESCRIPTION:
URL:https://gunstuff.tv/event/joad-league-24/
LOCATION:Indoor Archery Range\, 4770 Waterford Rd\, Clarkston\, MI\, United States
CATEGORIES:Archery,Indoor Archery Range,Range
ATTACH;FMTTYPE=image/jpeg:https://gunstuff.tv/wp-content/uploads/2025/10/JOAD-SAM-Tournament-XezJUo.jpg
GEO:42.705297;-83.4014
X-APPLE-STRUCTURED-LOCATION;VALUE=URI;X-ADDRESS=Indoor Archery Range 4770 Waterford Rd Clarkston MI United States;X-APPLE-RADIUS=500;X-TITLE=4770 Waterford Rd:geo:-83.4014,42.705297
END:VEVENT
BEGIN:VEVENT
DTSTART;TZID=America/New_York:20260405T133000
DTEND;TZID=America/New_York:20260405T170000
DTSTAMP:20260424T084804
CREATED:20260403T051702Z
LAST-MODIFIED:20260403T051702Z
UID:10006698-1775395800-1775408400@gunstuff.tv
SUMMARY:JOAD League
DESCRIPTION:
URL:https://gunstuff.tv/event/joad-league-25/
LOCATION:Indoor Archery Range\, 4770 Waterford Rd\, Clarkston\, MI\, United States
CATEGORIES:Archery,Indoor Archery Range,Range
ATTACH;FMTTYPE=image/jpeg:https://gunstuff.tv/wp-content/uploads/2025/10/JOAD-SAM-Tournament-XezJUo.jpg
GEO:42.705297;-83.4014
X-APPLE-STRUCTURED-LOCATION;VALUE=URI;X-ADDRESS=Indoor Archery Range 4770 Waterford Rd Clarkston MI United States;X-APPLE-RADIUS=500;X-TITLE=4770 Waterford Rd:geo:-83.4014,42.705297
END:VEVENT
BEGIN:VEVENT
DTSTART;TZID=America/New_York:20260405T180000
DTEND;TZID=America/New_York:20260405T210000
DTSTAMP:20260424T084804
CREATED:20260403T051702Z
LAST-MODIFIED:20260403T051702Z
UID:10006705-1775412000-1775422800@gunstuff.tv
SUMMARY:Bowling-Pin Shoots | Fall/Winter/Spring
DESCRIPTION:Cost: $5 Members\, $10 Non-Members\nThis is a “Fun-Shoot”\, for .22LR pistols\, but\, we will allow .22 LR (magazine fed.) rifles.\nTypical Equipment: Ruger Mark I\, II\, III\, IV\, 22/45; Hi Standard and other similar semi-auto\npistols\, and .22 Cal. Revolvers. Red Dot or Iron Sights.\nRequired: Eye and hearing protection.\nObjective and course of fire: Clear the tables as quickly as possible. Range: 21 Ft.\n6- tables per shooter per set. (Typically 2-3 sets per night.) Up to 5-shooters on the line.\nThe longest time is thrown out\, and the remaining 5 times are averaged for your score.\nThe maximum time for a table is 15-seconds\, cleared or not.\nPins must be OFF the table\, but not necessarily on the floor to stop the clock.\nShooters start at a “Low Ready” position\, waiting for the start buzzer.\nNo magazine changes\, but you are allowed to clear jams.\nCheck out our Range Safety Video at https://ocsportsmensclub.com/ranges/ and watch to the end after the credits\, at about the 14:30 mark to see what this is all about.
URL:https://gunstuff.tv/event/bowling-pin-shoots-fall-winter-spring-22/
LOCATION:Indoor Rifle & Pistol Range\, 4770 Waterford Rd\,\, Village of Clarkston\, 48346
CATEGORIES:D.R. Wilson,Indoor Rifle & Pistol Rage,Muzzleloaders,Range
ATTACH;FMTTYPE=image/jpeg:https://gunstuff.tv/wp-content/uploads/2025/10/Indoor_Pin_Shoots_2025-26_Flyer-FXbFJs.jpg
END:VEVENT
BEGIN:VEVENT
DTSTART;TZID=America/New_York:20260405T180000
DTEND;TZID=America/New_York:20260405T210000
DTSTAMP:20260424T084804
CREATED:20260403T051702Z
LAST-MODIFIED:20260403T051702Z
UID:10006699-1775412000-1775422800@gunstuff.tv
SUMMARY:Bowling-Pin Shoots | Fall/Winter/Spring
DESCRIPTION:Cost: $5 Members\, $10 Non-Members\nThis is a “Fun-Shoot”\, for .22LR pistols\, but\, we will allow .22 LR (magazine fed.) rifles.\nTypical Equipment: Ruger Mark I\, II\, III\, IV\, 22/45; Hi Standard and other similar semi-auto\npistols\, and .22 Cal. Revolvers. Red Dot or Iron Sights.\nRequired: Eye and hearing protection.\nObjective and course of fire: Clear the tables as quickly as possible. Range: 21 Ft.\n6- tables per shooter per set. (Typically 2-3 sets per night.) Up to 5-shooters on the line.\nThe longest time is thrown out\, and the remaining 5 times are averaged for your score.\nThe maximum time for a table is 15-seconds\, cleared or not.\nPins must be OFF the table\, but not necessarily on the floor to stop the clock.\nShooters start at a “Low Ready” position\, waiting for the start buzzer.\nNo magazine changes\, but you are allowed to clear jams.\nCheck out our Range Safety Video at https://ocsportsmensclub.com/ranges/ and watch to the end after the credits\, at about the 14:30 mark to see what this is all about.
URL:https://gunstuff.tv/event/bowling-pin-shoots-fall-winter-spring-23/
LOCATION:Indoor Rifle & Pistol Range\, 4770 Waterford Rd\,\, Village of Clarkston\, 48346
CATEGORIES:D.R. Wilson,Indoor Rifle & Pistol Rage,Muzzleloaders,Range
ATTACH;FMTTYPE=image/jpeg:https://gunstuff.tv/wp-content/uploads/2025/10/Indoor_Pin_Shoots_2025-26_Flyer-FXbFJs.jpg
END:VEVENT
BEGIN:VEVENT
DTSTART;VALUE=DATE:20260406
DTEND;VALUE=DATE:20260407
DTSTAMP:20260424T084804
CREATED:20260213T031055Z
LAST-MODIFIED:20260403T034714Z
UID:10005208-1775433600-1775519999@gunstuff.tv
SUMMARY:Club Closed
DESCRIPTION:
URL:https://gunstuff.tv/event/club-closed-15/
LOCATION:FL
END:VEVENT
BEGIN:VEVENT
DTSTART;VALUE=DATE:20260406
DTEND;VALUE=DATE:20260407
DTSTAMP:20260424T084804
CREATED:20260310T034633Z
LAST-MODIFIED:20260331T040132Z
UID:10006264-1775433600-1775519999@gunstuff.tv
SUMMARY:Closed Mondays
DESCRIPTION:@ 			\n			\n							 \n\nHOURS: \nMonday: Closed \nTues-Thurs: 10am-8pm \nFri: 10am-5pm \nSat: 9:30am-5pm (shooting @10am) \nSun: 10:30am-4pm (shooting @11am) \nLast lane reservation is 1 hour before closing \n\n		\n\n\n\n\n\n\n						\n							Add to calendar						 \n\n\n\n									\n										Google Calendar									\n								\n\n									\n										iCalendar									\n								\n\n									\n										Outlook 365									\n								\n\n									\n										Outlook Live
URL:https://gunstuff.tv/event/closed-mondays-27/
LOCATION:FL
END:VEVENT
BEGIN:VEVENT
DTSTART;TZID=UTC:20260406T080000
DTEND;TZID=UTC:20260410T170000
DTSTAMP:20260424T084804
CREATED:20260331T003138Z
LAST-MODIFIED:20260331T003302Z
UID:10006630-1775462400-1775840400@gunstuff.tv
SUMMARY:****Outdoor Range Closed 8am-5:00pm
DESCRIPTION:Outdoor Range Closed
URL:https://gunstuff.tv/event/outdoor-range-closed-8am-500pm-2/
LOCATION:FL
END:VEVENT
BEGIN:VEVENT
DTSTART;TZID=America/New_York:20260406T090000
DTEND;TZID=America/New_York:20260406T100000
DTSTAMP:20260424T084804
CREATED:20251003T162640Z
LAST-MODIFIED:20251010T162927Z
UID:10001411-1775466000-1775469600@gunstuff.tv
SUMMARY:4-H Class Indoors
DESCRIPTION:Indoor reserved for 4-H class.
URL:https://gunstuff.tv/event/4-h-class-indoors-27/
LOCATION:Indoor Range
END:VEVENT
BEGIN:VEVENT
DTSTART;TZID=America/New_York:20260406T093000
DTEND;TZID=America/New_York:20260408T120000
DTSTAMP:20260424T084804
CREATED:20260310T013135Z
LAST-MODIFIED:20260331T020132Z
UID:10006232-1775467800-1775649600@gunstuff.tv
SUMMARY:Kids Safety Camp
DESCRIPTION:Our Kids Safety Camp is a fun\, hands-on educational experience designed to teach young shooters the fundamentals of firearm safety in a safe\, controlled\, and encouraging environment. \n\nThis camp focuses on building confidence\, responsibility\, and respect while teaching proper handling and safe use of firearms. Instruction is age-appropriate and led by experienced\, safety-focused instructors. \n\nWhat Kids Will Learn \n\nFirearm safety rules and safe handling practices\nProper range behavior and etiquette\nBasic shooting fundamentals\nResponsibility and awareness around firearms\n\n\nWhat’s Included \n\n\n\nYouth firearm safety class\nRifles and pistols provided\n(Students may bring their own .22 firearm if they have one)\nAmmo and targets\nTraining materials\nSnacks\nCamp T-shirt\n\n\n\nCamp Details \n\n\n\nTime: 9:30 AM – 12:00 PM\nAges: 7–15\nCost: $125 per child\n\n\n\n\nParents can feel confident knowing their children are learning in a structured\, supervised\, and safety-first environment while having a great time. Spots are limited\, so early registration is encouraged.
URL:https://gunstuff.tv/event/kids-safety-camp/
LOCATION:Appalacian Gun\, Pawn & Range\, 140 Shelby Ln.\, Jasper\, GA\, 30143\, United States
CATEGORIES:Kids camp,Safe Gun
ORGANIZER;CN="Appalachian Gun":MAILTO:Appalachiangun@gmail.com
END:VEVENT
BEGIN:VEVENT
DTSTART;TZID=America/New_York:20260406T100000
DTEND;TZID=America/New_York:20260406T130000
DTSTAMP:20260424T084804
CREATED:20260403T051702Z
LAST-MODIFIED:20260403T051702Z
UID:10006706-1775469600-1775480400@gunstuff.tv
SUMMARY:IDPA Practice
DESCRIPTION:
URL:https://gunstuff.tv/event/idpa-practice-2/
LOCATION:Action Pistol Range\, 4770 Waterford Rd\, Clarkston\, MI\, United States
CATEGORIES:Action Pistol Range,D.R. Wilson,Range
ATTACH;FMTTYPE=image/png:https://gunstuff.tv/wp-content/uploads/2025/10/IDPA-OCSC-Logo-nSVC80.png
GEO:42.705297;-83.4014
X-APPLE-STRUCTURED-LOCATION;VALUE=URI;X-ADDRESS=Action Pistol Range 4770 Waterford Rd Clarkston MI United States;X-APPLE-RADIUS=500;X-TITLE=4770 Waterford Rd:geo:-83.4014,42.705297
END:VEVENT
BEGIN:VEVENT
DTSTART;TZID=America/New_York:20260406T100000
DTEND;TZID=America/New_York:20260406T130000
DTSTAMP:20260424T084804
CREATED:20260403T051702Z
LAST-MODIFIED:20260403T051702Z
UID:10006700-1775469600-1775480400@gunstuff.tv
SUMMARY:IDPA Practice
DESCRIPTION:
URL:https://gunstuff.tv/event/idpa-practice-3/
LOCATION:Action Pistol Range\, 4770 Waterford Rd\, Clarkston\, MI\, United States
CATEGORIES:Action Pistol Range,D.R. Wilson,Range
ATTACH;FMTTYPE=image/png:https://gunstuff.tv/wp-content/uploads/2025/10/IDPA-OCSC-Logo-nSVC80.png
GEO:42.705297;-83.4014
X-APPLE-STRUCTURED-LOCATION;VALUE=URI;X-ADDRESS=Action Pistol Range 4770 Waterford Rd Clarkston MI United States;X-APPLE-RADIUS=500;X-TITLE=4770 Waterford Rd:geo:-83.4014,42.705297
END:VEVENT
BEGIN:VEVENT
DTSTART;TZID=America/New_York:20260406T160000
DTEND;TZID=America/New_York:20260406T180000
DTSTAMP:20260424T084804
CREATED:20251003T162640Z
LAST-MODIFIED:20251205T181707Z
UID:10001412-1775491200-1775498400@gunstuff.tv
SUMMARY:Skeet League
DESCRIPTION:Contact Frank Andrews with Questions.
URL:https://gunstuff.tv/event/skeet-league-27/
LOCATION:FL
END:VEVENT
BEGIN:VEVENT
DTSTART;TZID=America/New_York:20260406T160000
DTEND;TZID=America/New_York:20260406T180000
DTSTAMP:20260424T084804
CREATED:20251212T181639Z
LAST-MODIFIED:20260404T214727Z
UID:10003528-1775491200-1775498400@gunstuff.tv
SUMMARY:Skeet League
DESCRIPTION:Contact Frank Andrews with Questions.
URL:https://gunstuff.tv/event/skeet-league-117/
LOCATION:Skeet Range
END:VEVENT
BEGIN:VEVENT
DTSTART;TZID=America/Indiana/Indianapolis:20260406T170000
DTEND;TZID=America/Indiana/Indianapolis:20260406T190000
DTSTAMP:20260424T084804
CREATED:20260406T031717Z
LAST-MODIFIED:20260406T031733Z
UID:10006795-1775494800-1775502000@gunstuff.tv
SUMMARY:Trap
DESCRIPTION:Ranges 9 & 10
URL:https://gunstuff.tv/event/trap-28/
LOCATION:Wildcat Valley R and P Club\, 12094 S 300 E\, Brookston\, IN\, United States
CATEGORIES:Trap
GEO:40.576877;-86.811749
X-APPLE-STRUCTURED-LOCATION;VALUE=URI;X-ADDRESS=Wildcat Valley R and P Club 12094 S 300 E Brookston IN United States;X-APPLE-RADIUS=500;X-TITLE=12094 S 300 E:geo:-86.811749,40.576877
END:VEVENT
BEGIN:VEVENT
DTSTART;TZID=America/New_York:20260406T173000
DTEND;TZID=America/New_York:20260406T213000
DTSTAMP:20260424T084804
CREATED:20260403T051702Z
LAST-MODIFIED:20260403T051702Z
UID:10006701-1775496600-1775511000@gunstuff.tv
SUMMARY:Junior Rifle
DESCRIPTION:
URL:https://gunstuff.tv/event/junior-rifle-29/
LOCATION:Indoor Rifle & Pistol Range\, 4770 Waterford Rd\,\, Village of Clarkston\, 48346
CATEGORIES:D.R. Wilson,Indoor Rifle & Pistol Rage,Jr. Rifle,Range
ATTACH;FMTTYPE=image/jpeg:https://gunstuff.tv/wp-content/uploads/2025/10/Junior-Rifle-3-scaled-QIEwuL.jpg
END:VEVENT
BEGIN:VEVENT
DTSTART;TZID=America/New_York:20260406T173000
DTEND;TZID=America/New_York:20260406T213000
DTSTAMP:20260424T084804
CREATED:20260403T051702Z
LAST-MODIFIED:20260403T051702Z
UID:10006707-1775496600-1775511000@gunstuff.tv
SUMMARY:Junior Rifle
DESCRIPTION:
URL:https://gunstuff.tv/event/junior-rifle-28/
LOCATION:Indoor Rifle & Pistol Range\, 4770 Waterford Rd\,\, Village of Clarkston\, 48346
CATEGORIES:D.R. Wilson,Indoor Rifle & Pistol Rage,Jr. Rifle,Range
ATTACH;FMTTYPE=image/jpeg:https://gunstuff.tv/wp-content/uploads/2025/10/Junior-Rifle-3-scaled-QIEwuL.jpg
END:VEVENT
BEGIN:VEVENT
DTSTART;TZID=UTC:20260406T180000
DTEND;TZID=UTC:20260406T180000
DTSTAMP:20260424T084804
CREATED:20260117T171704Z
LAST-MODIFIED:20260329T034744Z
UID:10004570-1775498400-1775498400@gunstuff.tv
SUMMARY:Oak Ridge Gun Range USPSA Match
DESCRIPTION:Oak Ridge Gun Range USPSA Match\nDates : 4/06/26 – 4/07/26\nStart Time: 6:00 PM\nLocation:\nOak Ridge Gun Range Gulf Breeze (IND30)\n1889 Cowen Rd\nGULF BREEZE\, FL\nEvent Contact Information\nMax Jackson\n8509325500\ninfo@oakridgegunrangegb.com\nMatch Information\nThis is a USPSA match. Payment can be made in store at Oak Ridge Gun Range\, over the phone at 850-932-5500.\nMatch Details:\nThe match consists of 5 stages\, one classifier stage.\nRound count +/- 150 Rounds\nThe event will take place over two days\, with shooters selecting either Monday or Tuesday to compete\, based on available squadding.\nStart time: 6:00 PM on both days. Please try and be here 15 minutes prior to the start time.\nEvent Website\nhttps://practiscore.com/oak-ridge-gun-range-uspsa-match/register
URL:https://gunstuff.tv/event/oak-ridge-gun-range-uspsa-match/
LOCATION:Oak Ridge Gun Range Gulf Breeze (IND30)\, 1889 Cowen Rd\, United States
GEO:30.403716;-86.987587
X-APPLE-STRUCTURED-LOCATION;VALUE=URI;X-ADDRESS=Oak Ridge Gun Range Gulf Breeze (IND30) 1889 Cowen Rd United States;X-APPLE-RADIUS=500;X-TITLE=1889 Cowen Rd:geo:-86.987587,30.403716
END:VEVENT
BEGIN:VEVENT
DTSTART;TZID=America/New_York:20260406T183000
DTEND;TZID=America/New_York:20260406T193000
DTSTAMP:20260424T084804
CREATED:20260403T051702Z
LAST-MODIFIED:20260403T051702Z
UID:10006702-1775500200-1775503800@gunstuff.tv
SUMMARY:Drum Ball
DESCRIPTION:Drum Ball Fun on the Patio!\nJoin us for Drum Ball\, a unique and exciting way to get moving! If you’re looking for a fun\, low-impact workout that feels more like a game than exercise\, this is it.\nWe use drumsticks and large stability balls to combine drumming rhythms with fitness movements. It’s great for coordination\, core strength\, and releasing stress—all while listening to great music!\nWhen: Every Monday & Thursday evening\nTime: 6:30 PM – 7:30 PM\nLocation: Main Building Patio\nFee: $5 Drop-in per class\nNote: Sticks and balls are provided for all participants. Just bring your energy!
URL:https://gunstuff.tv/event/drum-ball-28/
LOCATION:OCSC Main Building Patio\, 4770 Waterford Rd\, Clarkston\, MI\, United States
CATEGORIES:Club Events,Open to the Public
ATTACH;FMTTYPE=image/jpeg:https://gunstuff.tv/wp-content/uploads/2025/12/Drum-Ball-at-OCSC-E9nLz4.jpg
GEO:42.705297;-83.4014
X-APPLE-STRUCTURED-LOCATION;VALUE=URI;X-ADDRESS=OCSC Main Building Patio 4770 Waterford Rd Clarkston MI United States;X-APPLE-RADIUS=500;X-TITLE=4770 Waterford Rd:geo:-83.4014,42.705297
END:VEVENT
BEGIN:VEVENT
DTSTART;TZID=America/New_York:20260406T183000
DTEND;TZID=America/New_York:20260406T193000
DTSTAMP:20260424T084804
CREATED:20260403T051702Z
LAST-MODIFIED:20260403T051702Z
UID:10006708-1775500200-1775503800@gunstuff.tv
SUMMARY:Drum Ball
DESCRIPTION:Drum Ball Fun on the Patio!\nJoin us for Drum Ball\, a unique and exciting way to get moving! If you’re looking for a fun\, low-impact workout that feels more like a game than exercise\, this is it.\nWe use drumsticks and large stability balls to combine drumming rhythms with fitness movements. It’s great for coordination\, core strength\, and releasing stress—all while listening to great music!\nWhen: Every Monday & Thursday evening\nTime: 6:30 PM – 7:30 PM\nLocation: Main Building Patio\nFee: $5 Drop-in per class\nNote: Sticks and balls are provided for all participants. Just bring your energy!
URL:https://gunstuff.tv/event/drum-ball-27/
LOCATION:OCSC Main Building Patio\, 4770 Waterford Rd\, Clarkston\, MI\, United States
CATEGORIES:Club Events,Open to the Public
ATTACH;FMTTYPE=image/jpeg:https://gunstuff.tv/wp-content/uploads/2025/12/Drum-Ball-at-OCSC-E9nLz4.jpg
GEO:42.705297;-83.4014
X-APPLE-STRUCTURED-LOCATION;VALUE=URI;X-ADDRESS=OCSC Main Building Patio 4770 Waterford Rd Clarkston MI United States;X-APPLE-RADIUS=500;X-TITLE=4770 Waterford Rd:geo:-83.4014,42.705297
END:VEVENT
BEGIN:VEVENT
DTSTART;TZID=America/New_York:20260406T190000
DTEND;TZID=America/New_York:20260406T213000
DTSTAMP:20260424T084804
CREATED:20260403T051702Z
LAST-MODIFIED:20260403T051702Z
UID:10006709-1775502000-1775511000@gunstuff.tv
SUMMARY:Executive Board Meeting
DESCRIPTION:
URL:https://gunstuff.tv/event/executive-board-meeting-7/
LOCATION:OCSC Main Hall\, 4770 Waterford Rd\, Clarkston\, MI\, United States
CATEGORIES:Board Meeting,Club Events
ATTACH;FMTTYPE=image/png:https://gunstuff.tv/wp-content/uploads/2025/10/Circle-Logo-e1647896702576-h8fJMO.png
GEO:42.705297;-83.4014
X-APPLE-STRUCTURED-LOCATION;VALUE=URI;X-ADDRESS=OCSC Main Hall 4770 Waterford Rd Clarkston MI United States;X-APPLE-RADIUS=500;X-TITLE=4770 Waterford Rd:geo:-83.4014,42.705297
END:VEVENT
BEGIN:VEVENT
DTSTART;TZID=America/New_York:20260406T193000
DTEND;TZID=America/New_York:20260406T223000
DTSTAMP:20260424T084804
CREATED:20251012T173814Z
LAST-MODIFIED:20260405T184709Z
UID:10002089-1775503800-1775514600@gunstuff.tv
SUMMARY:Board Meeting
DESCRIPTION:Monthly Board Meeting
URL:https://gunstuff.tv/event/board-meeting-25/
LOCATION:Clubhouse
END:VEVENT
BEGIN:VEVENT
DTSTART;VALUE=DATE:20260407
DTEND;VALUE=DATE:20260408
DTSTAMP:20260424T084804
CREATED:20251003T160028Z
LAST-MODIFIED:20260405T043133Z
UID:10000946-1775520000-1775606399@gunstuff.tv
SUMMARY:100\, 200\, 300 Yard Practice Benchrest Range
DESCRIPTION:
URL:https://gunstuff.tv/event/100-200-300-yard-practice-benchrest-range-19/
LOCATION:FL
END:VEVENT
BEGIN:VEVENT
DTSTART;VALUE=DATE:20260407
DTEND;VALUE=DATE:20260408
DTSTAMP:20260424T084804
CREATED:20260213T031055Z
LAST-MODIFIED:20260403T034714Z
UID:10005209-1775520000-1775606399@gunstuff.tv
SUMMARY:Club closed
DESCRIPTION:
URL:https://gunstuff.tv/event/club-closed-16/
LOCATION:FL
END:VEVENT
BEGIN:VEVENT
DTSTART;TZID=America/Denver:20260407T080000
DTEND;TZID=America/Denver:20260407T120000
DTSTAMP:20260424T084804
CREATED:20260406T080146Z
LAST-MODIFIED:20260406T080241Z
UID:10006828-1775548800-1775563200@gunstuff.tv
SUMMARY:Range Work Day
DESCRIPTION:All Ranges will be closed for range maintenance from 8:00am to noon.\nSelect to open the Workday Flyer.
URL:https://gunstuff.tv/event/range-work-day/
LOCATION:Fall River Gun Range\, 28300 Old Hwy 79\, Hot Springs\, SD\, United States
GEO:43.303233;-103.346518
X-APPLE-STRUCTURED-LOCATION;VALUE=URI;X-ADDRESS=Fall River Gun Range 28300 Old Hwy 79 Hot Springs SD United States;X-APPLE-RADIUS=500;X-TITLE=28300 Old Hwy 79:geo:-103.346518,43.303233
END:VEVENT
BEGIN:VEVENT
DTSTART;TZID=America/New_York:20260407T090000
DTEND;TZID=America/New_York:20260407T160000
DTSTAMP:20260424T084804
CREATED:20251012T173814Z
LAST-MODIFIED:20260405T184710Z
UID:10002090-1775552400-1775577600@gunstuff.tv
SUMMARY:US Army 3rd Infantry GAFPB Quals
DESCRIPTION:Host members of the 3rd Infantry Regiment (Old Guard) for the pistol segment of their qualification for the German Army Proficiency Badge
URL:https://gunstuff.tv/event/us-army-3rd-infantry-gafpb-quals-2/
LOCATION:Walsh & Sieger Ranges
END:VEVENT
BEGIN:VEVENT
DTSTART;TZID=America/Los_Angeles:20260407T090000
DTEND;TZID=America/Los_Angeles:20260407T160000
DTSTAMP:20260424T084804
CREATED:20260313T193138Z
LAST-MODIFIED:20260403T193214Z
UID:10006311-1775552400-1775577600@gunstuff.tv
SUMMARY:MPR – RSO Only – Airgun/.22 Only
DESCRIPTION:
URL:https://gunstuff.tv/event/mpr-rso-only-airgun-22-only-17/
LOCATION:USI Multi Purpose Range\, 4700 Evora Road\, Concord\, CA\, 94520
END:VEVENT
END:VCALENDAR