BEGIN:VCALENDAR
VERSION:2.0
PRODID:-//GunStuff TV - ECPv6.15.20//NONSGML v1.0//EN
CALSCALE:GREGORIAN
METHOD:PUBLISH
X-WR-CALNAME:GunStuff TV
X-ORIGINAL-URL:https://gunstuff.tv
X-WR-CALDESC:Events for GunStuff TV
REFRESH-INTERVAL;VALUE=DURATION:PT1H
X-Robots-Tag:noindex
X-PUBLISHED-TTL:PT1H
BEGIN:VTIMEZONE
TZID:UTC
BEGIN:STANDARD
TZOFFSETFROM:+0000
TZOFFSETTO:+0000
TZNAME:UTC
DTSTART:20250101T000000
END:STANDARD
END:VTIMEZONE
BEGIN:VTIMEZONE
TZID:America/Chicago
BEGIN:DAYLIGHT
TZOFFSETFROM:-0600
TZOFFSETTO:-0500
TZNAME:CDT
DTSTART:20250309T080000
END:DAYLIGHT
BEGIN:STANDARD
TZOFFSETFROM:-0500
TZOFFSETTO:-0600
TZNAME:CST
DTSTART:20251102T070000
END:STANDARD
BEGIN:DAYLIGHT
TZOFFSETFROM:-0600
TZOFFSETTO:-0500
TZNAME:CDT
DTSTART:20260308T080000
END:DAYLIGHT
BEGIN:STANDARD
TZOFFSETFROM:-0500
TZOFFSETTO:-0600
TZNAME:CST
DTSTART:20261101T070000
END:STANDARD
BEGIN:DAYLIGHT
TZOFFSETFROM:-0600
TZOFFSETTO:-0500
TZNAME:CDT
DTSTART:20270314T080000
END:DAYLIGHT
BEGIN:STANDARD
TZOFFSETFROM:-0500
TZOFFSETTO:-0600
TZNAME:CST
DTSTART:20271107T070000
END:STANDARD
END:VTIMEZONE
BEGIN:VTIMEZONE
TZID:America/New_York
BEGIN:DAYLIGHT
TZOFFSETFROM:-0500
TZOFFSETTO:-0400
TZNAME:EDT
DTSTART:20250309T070000
END:DAYLIGHT
BEGIN:STANDARD
TZOFFSETFROM:-0400
TZOFFSETTO:-0500
TZNAME:EST
DTSTART:20251102T060000
END:STANDARD
BEGIN:DAYLIGHT
TZOFFSETFROM:-0500
TZOFFSETTO:-0400
TZNAME:EDT
DTSTART:20260308T070000
END:DAYLIGHT
BEGIN:STANDARD
TZOFFSETFROM:-0400
TZOFFSETTO:-0500
TZNAME:EST
DTSTART:20261101T060000
END:STANDARD
BEGIN:DAYLIGHT
TZOFFSETFROM:-0500
TZOFFSETTO:-0400
TZNAME:EDT
DTSTART:20270314T070000
END:DAYLIGHT
BEGIN:STANDARD
TZOFFSETFROM:-0400
TZOFFSETTO:-0500
TZNAME:EST
DTSTART:20271107T060000
END:STANDARD
END:VTIMEZONE
BEGIN:VTIMEZONE
TZID:America/Phoenix
BEGIN:STANDARD
TZOFFSETFROM:-0700
TZOFFSETTO:-0700
TZNAME:MST
DTSTART:20250101T000000
END:STANDARD
END:VTIMEZONE
BEGIN:VTIMEZONE
TZID:America/Los_Angeles
BEGIN:DAYLIGHT
TZOFFSETFROM:-0800
TZOFFSETTO:-0700
TZNAME:PDT
DTSTART:20250309T100000
END:DAYLIGHT
BEGIN:STANDARD
TZOFFSETFROM:-0700
TZOFFSETTO:-0800
TZNAME:PST
DTSTART:20251102T090000
END:STANDARD
BEGIN:DAYLIGHT
TZOFFSETFROM:-0800
TZOFFSETTO:-0700
TZNAME:PDT
DTSTART:20260308T100000
END:DAYLIGHT
BEGIN:STANDARD
TZOFFSETFROM:-0700
TZOFFSETTO:-0800
TZNAME:PST
DTSTART:20261101T090000
END:STANDARD
BEGIN:DAYLIGHT
TZOFFSETFROM:-0800
TZOFFSETTO:-0700
TZNAME:PDT
DTSTART:20270314T100000
END:DAYLIGHT
BEGIN:STANDARD
TZOFFSETFROM:-0700
TZOFFSETTO:-0800
TZNAME:PST
DTSTART:20271107T090000
END:STANDARD
END:VTIMEZONE
BEGIN:VEVENT
DTSTART;TZID=UTC:20260801T090000
DTEND;TZID=UTC:20260801T090000
DTSTAMP:20260419T223109
CREATED:20260110T165504Z
LAST-MODIFIED:20260412T110153Z
UID:10004101-1785574800-1785574800@gunstuff.tv
SUMMARY:Appleseed
DESCRIPTION:Dorr\, MI – South Kent Sportsmans Club\nAugust 01\, 2026 – August 02\, 2026\nThis is a traditional 25m Project Appleseed rifle event.\nBoth Centerfire and 22 Rimfire rifles are allowed at this event.\nRegister Now\nAddress: 2536 140th Avenue\, Dorr\, MI 49323\nWebsite: www.sksc.org\nPlease Read:  How to Prepare for an Event\nSafety Notice:\n–  Keep ALL firearms in your vehicle until after the safety briefing and you are instructed to bring them to the firing line.\n–  No illegal firearms are allowed.\n–  At centerfire-friendly ranges\, rifle cartridges are limited to 8mm (rifle) or .45 caliber (pistol and pistol caliber carbines).\n–  Effective 8/8/2025\, Project Appleseed has temporarily suspended the SIG-Sauer P320/M17/M18 (all variants) in our Pistol Clinics.\n–  Parents of youth attending\, please read our Message to Parents.\nSubject to state and local laws\, Instructors at your event may have discounted .22 ammo available. Reach out to the contact at the bottom of this page for availability.\nRange Fee:\nNon-members are $10 for a one-day event and $20 for a weekend event. Club members are exempt.\nCamping Available:\nNo camping available at the range\nHotels:\nMany within about a 20 minute drive in Wayland\, Bryon Center\, Grand Rapids\, or Holland.\nDirections:\nhttps://sksc.org/front-page-2/about-sksc/\nDirections from US-131:\nDorr  Exit #68\, and head West to Dorr on 142nd Avenue for 2.5 miles (4-way stop)\nContinue West on 142nd Avenue for an additional 3.0 miles to 24th Street\nTurn left (South) on 24th Street for 1.0 miles to 140th Avenue\nTurn right (West) on 140th Avenue for 0.7 miles to the SKSC entrance on the left (South)\nGPS: 42.708180\,-85.796018\nState Laws to be aware of:\nIt is the responsibility of attendees to know and comply with all State and Federal Firearms Laws.\nMichigan State Firearms Laws\nMisc:\nBoth centerfire and rimfire allowed at this range. Participants should follow the Project Appleseed signs to the event.\nNo alcoholic beverages on the premises. No shooting down at the ground. Rifles must be pointed at berm when loading rounds.\nParticipants should bring their meals to the event\, as there will be additional instruction during lunch.\nFor more information contact:\nName: MI State Coordinator Email Address: MI@appleseedinfo.org
URL:https://gunstuff.tv/event/appleseed-129/
LOCATION:South Kent Sportsmans Club\, 2536 140th Ave\, Dorr\, MI\, United States
GEO:42.710588;-85.79578
X-APPLE-STRUCTURED-LOCATION;VALUE=URI;X-ADDRESS=South Kent Sportsmans Club 2536 140th Ave Dorr MI United States;X-APPLE-RADIUS=500;X-TITLE=2536 140th Ave:geo:-85.79578,42.710588
END:VEVENT
BEGIN:VEVENT
DTSTART;TZID=UTC:20260801T090000
DTEND;TZID=UTC:20260801T090000
DTSTAMP:20260419T223109
CREATED:20260107T013349Z
LAST-MODIFIED:20260401T070145Z
UID:10003842-1785574800-1785574800@gunstuff.tv
SUMMARY:ISRA SCSA Steel Challenge
DESCRIPTION:ISRA SCSA Steel Challenge\nDate: 8/01/26\nStart Time: 9:00 AM\nLocation:\nIllinois State Rifle Association Range (SCSA470)\n1589N 7000 West Rd\nBonfield\, IL\nEvent Contact Information\nJeff Davis\n708-476-3257\n3 gngfn@gmail.com\nEvent Website\nhttps://practiscore.com/clubs/isra_range
URL:https://gunstuff.tv/event/isra-scsa-steel-challenge-6/
LOCATION:Illinois State Rifle Association Range (SCSA470)\, 1589 N 7000W Rd\, Bonfield\, IL\, United States
GEO:41.141026;-88.010679
X-APPLE-STRUCTURED-LOCATION;VALUE=URI;X-ADDRESS=Illinois State Rifle Association Range (SCSA470) 1589 N 7000W Rd Bonfield IL United States;X-APPLE-RADIUS=500;X-TITLE=1589 N 7000W Rd:geo:-88.010679,41.141026
END:VEVENT
BEGIN:VEVENT
DTSTART;TZID=America/Chicago:20260801T083000
DTEND;TZID=America/Chicago:20260801T180000
DTSTAMP:20260419T223109
CREATED:20260303T220129Z
LAST-MODIFIED:20260414T221654Z
UID:10006057-1785573000-1785607200@gunstuff.tv
SUMMARY:NRA Certified Range Safety Officer - WRSC - Sparta\, IL - 8:30-6:00
DESCRIPTION:The NRA Range Safety Officer (RSO) course content consists of RSO’s roles and responsibilities\, range standard operating procedures\, range inspection and range rules\, firearm stoppages and malfunctions\, and Range Safety Briefings which include procedures to follow in the case of an emergency.  Click the link to register: https://illinoisstaterifleassociation.my.site.com/illinoisstaterifleassociation/s/register-for-event\nCost: $100 (ISRA member); $160 (non member)\nInstructor: Mandi Ehler\, 815.844.9949\, mailto: academy@isra.org
URL:https://gunstuff.tv/event/nra-certified-range-safety-officer-wrsc-sparta-il-830-600-2/
LOCATION:Sparta World Shooting Complex\, 101 E Main St\, Sparta\, IL\, United States
CATEGORIES:Event Calendar,ISRA Event,The Range
GEO:38.124013;-89.701961
X-APPLE-STRUCTURED-LOCATION;VALUE=URI;X-ADDRESS=Sparta World Shooting Complex 101 E Main St Sparta IL United States;X-APPLE-RADIUS=500;X-TITLE=101 E Main St:geo:-89.701961,38.124013
END:VEVENT
BEGIN:VEVENT
DTSTART;TZID=America/New_York:20260801T083000
DTEND;TZID=America/New_York:20260801T140000
DTSTAMP:20260419T223109
CREATED:20251003T031215Z
LAST-MODIFIED:20260410T070129Z
UID:10000639-1785573000-1785592800@gunstuff.tv
SUMMARY:PMRPC GSMM Match
DESCRIPTION:For more information you may contact the match director: James Sudduth at j.sudduth@ymail.com.
URL:https://gunstuff.tv/event/pmrpc-gsmm-match-11/
LOCATION:Port Malabar Rifle & Pistol Club\, 599 Hurley Blvd SW\, Palm Bay\, FL\, United States
GEO:27.987569;-80.71018
X-APPLE-STRUCTURED-LOCATION;VALUE=URI;X-ADDRESS=Port Malabar Rifle & Pistol Club 599 Hurley Blvd SW Palm Bay FL United States;X-APPLE-RADIUS=500;X-TITLE=599 Hurley Blvd SW:geo:-80.71018,27.987569
END:VEVENT
BEGIN:VEVENT
DTSTART;TZID=America/New_York:20260801T083000
DTEND;TZID=America/New_York:20260801T113000
DTSTAMP:20260419T223109
CREATED:20251109T181651Z
LAST-MODIFIED:20260412T184748Z
UID:10003032-1785573000-1785583800@gunstuff.tv
SUMMARY:Monthly Range Safety Orientation
DESCRIPTION:
URL:https://gunstuff.tv/event/monthly-range-safety-orientation-11/
LOCATION:Clubhouse
END:VEVENT
BEGIN:VEVENT
DTSTART;TZID=UTC:20260801T080000
DTEND;TZID=UTC:20260801T080000
DTSTAMP:20260419T223109
CREATED:20260306T113138Z
LAST-MODIFIED:20260410T113143Z
UID:10006168-1785571200-1785571200@gunstuff.tv
SUMMARY:WLPS August SCSA
DESCRIPTION:WLPS August SCSA\nDate : 8/01/26\nStart Time: 8:00 AM\nLocation:\nWest Liberty Practical Shooters (IA10)\n1461 121st Street\nWest Liberty\, IA\nEvent Contact Information\nIan Wicke\n319-330-9476\nikwicke@gmail.com\nMatch Information\nRegister online at Practiscore: https://practiscore.com/clubs/west-liberty-practical-shooters\nEvent Website\nhttps://www.westlibertygunclub.org/calendar
URL:https://gunstuff.tv/event/wlps-august-scsa/
LOCATION:West Liberty Practical Shooters (IA10)\, 1461 121st St\, West Liberty\, IA\, United States
GEO:41.567392;-91.283002
X-APPLE-STRUCTURED-LOCATION;VALUE=URI;X-ADDRESS=West Liberty Practical Shooters (IA10) 1461 121st St West Liberty IA United States;X-APPLE-RADIUS=500;X-TITLE=1461 121st St:geo:-91.283002,41.567392
END:VEVENT
BEGIN:VEVENT
DTSTART;VALUE=DATE:20260801
DTEND;VALUE=DATE:20260802
DTSTAMP:20260419T223109
CREATED:20260213T031059Z
LAST-MODIFIED:20260410T034702Z
UID:10005274-1785542400-1785628799@gunstuff.tv
SUMMARY:Steel Challenge
DESCRIPTION: Steel Shoot. Steel shooting offers a port of entry to the shooting sports that is far less intimidating than practical  shooting . Steel provides an excellent starting place for young or beginning shooters. Steel offers the most diversified shooting sport out there making it appealing to youth and seniors\, novice and experts. Any practical handgun \,including 22 rimfires (both handgun and rifle). Sign up starts at9AM\, Cost for monthly club level matches are $15 for Pinetucky Club Members and $20 for Non-member. A second firearm can be registered for an additional $10.Standard Pinetucky safety rules Apply. You can sign up at practiscore.com.  Please note our steel challenge is now six stages which requires a minimum round count of 150 rounds of ammunition.  Please plan accordingly.
URL:https://gunstuff.tv/event/steel-challenge-5/
LOCATION:AL
END:VEVENT
BEGIN:VEVENT
DTSTART;VALUE=DATE:20260801
DTEND;VALUE=DATE:20260802
DTSTAMP:20260419T223109
CREATED:20260213T031059Z
LAST-MODIFIED:20260410T034702Z
UID:10005275-1785542400-1785628799@gunstuff.tv
SUMMARY:Rifle Range Closed Today
DESCRIPTION:
URL:https://gunstuff.tv/event/rifle-range-closed-today-5/
LOCATION:AL
END:VEVENT
BEGIN:VEVENT
DTSTART;VALUE=DATE:20260801
DTEND;VALUE=DATE:20260802
DTSTAMP:20260419T223109
CREATED:20251005T190547Z
LAST-MODIFIED:20260412T203314Z
UID:10001722-1785542400-1785628799@gunstuff.tv
SUMMARY:Shooting for Scholarships
DESCRIPTION:For event information contact Cindy Niznik at cindy@niznikconcrete.com
URL:https://gunstuff.tv/event/shooting-for-scholarships/
LOCATION:National Shooting Complex\, 5931 Roft Rd\, San Antonio\, TX\, United States
GEO:29.492881;-98.741985
X-APPLE-STRUCTURED-LOCATION;VALUE=URI;X-ADDRESS=National Shooting Complex 5931 Roft Rd San Antonio TX United States;X-APPLE-RADIUS=500;X-TITLE=5931 Roft Rd:geo:-98.741985,29.492881
END:VEVENT
BEGIN:VEVENT
DTSTART;TZID=UTC:20260731T090000
DTEND;TZID=UTC:20260731T090000
DTSTAMP:20260419T223109
CREATED:20260107T013338Z
LAST-MODIFIED:20260415T070236Z
UID:10003788-1785488400-1785488400@gunstuff.tv
SUMMARY:Pioneer Sportsmens 2026 Sig Sauer Area 7 Steel Challenge Championship
DESCRIPTION:Pioneer Sportsmens 2026 Sig Sauer Area 7 Steel Challenge Championship\nMatch Status: Approved by DNROI\nMatch Starts on Jul 31\, 2026\nMatch will end Aug 02\, 2026\nMatch Location:\nPioneer Sportsmen Inc\n1046 Clinton Street\, 21 Farrington Road\nDunbarton\, NH 03046\nManaged by:\nPioneer Sportsmen Inc\nStage Count: 8\nRound Count: 195\nMatch Entry Fee: $90.00\nMatch Director: Doug Fuller\nRange Master: David Bold & Lee Cabana\nAdditional Details\nStaff shoots on Thursday July 30. Staff shoots one gun free for each day of service. Public shooting morning and afternoon flights on Friday July 31 and Saturday August 1 plus a morning flight on Sunday Aug 2. Adults shoot first gun at $90 and additional guns for $60 each. Juniors shoot first gun at $60 and additional guns at $40. Match to be structured much like 2025 Area 7 match. Registration is through Practiscore\, see registration link\, registration opens 2/23/26 at 6:00 PM. Sig Sauer has generously agreed to sponsor this match again this year with many guns being donated for shooter prizes. Many other shooter prizes as well including performance-based cash prizes.\nRegister!\nhttps://practiscore.com/pioneer-sportsmens-2026-area-7-steel-challenge-championship/register
URL:https://gunstuff.tv/event/pioneer-sportsmen-2026-area-7-steel-challenge-championship/
LOCATION:Pioneer Sportsmen Inc\, 1046 Clinton St\, Pages Corner\, NH\, United States
GEO:43.152917;-71.616755
X-APPLE-STRUCTURED-LOCATION;VALUE=URI;X-ADDRESS=Pioneer Sportsmen Inc 1046 Clinton St Pages Corner NH United States;X-APPLE-RADIUS=500;X-TITLE=1046 Clinton St:geo:-71.616755,43.152917
END:VEVENT
BEGIN:VEVENT
DTSTART;TZID=UTC:20260731T090000
DTEND;TZID=UTC:20260731T090000
DTSTAMP:20260419T223109
CREATED:20251031T195554Z
LAST-MODIFIED:20260415T070236Z
UID:10002830-1785488400-1785488400@gunstuff.tv
SUMMARY:2026 Tennessee State Steel Challenge Championship
DESCRIPTION:2026 Tennessee State Steel Challenge Championship\nMatch Status: Approved by DNROI\nMatch Starts on Jul 31\, 2026\nMatch will end Aug 01\, 2026\nMatch Location:\nCrockett Pioneers\n142 Scout Camp Rd\nWhitesburg\, TN 37891\nManaged by:\nCrockett Pioneers\nStage Count: 6\nRound Count: 150\nMatch Entry Fee: $50.00\nMatch Director: Greg Leitch\nRange Master: Gary McConnell\nAdditional Details\nRegister!\nhttps://practiscore.com/2026-tennessee-state-steel-challenge-championship/register
URL:https://gunstuff.tv/event/2026-tennessee-state-steel-challenge-championship/
LOCATION:Crockett Pioneers\, 142 Scout Camp Rd\, Whitesburg\, TN\, United States
GEO:36.332198;-83.152055
X-APPLE-STRUCTURED-LOCATION;VALUE=URI;X-ADDRESS=Crockett Pioneers 142 Scout Camp Rd Whitesburg TN United States;X-APPLE-RADIUS=500;X-TITLE=142 Scout Camp Rd:geo:-83.152055,36.332198
END:VEVENT
BEGIN:VEVENT
DTSTART;TZID=America/New_York:20260730T183000
DTEND;TZID=America/New_York:20260730T203000
DTSTAMP:20260419T223109
CREATED:20251003T162642Z
LAST-MODIFIED:20260411T214634Z
UID:10001471-1785436200-1785443400@gunstuff.tv
SUMMARY:Board Meeting
DESCRIPTION:All members welcome.
URL:https://gunstuff.tv/event/board-meeting-13/
LOCATION:Indoor Range
END:VEVENT
BEGIN:VEVENT
DTSTART;TZID=America/New_York:20260730T180000
DTEND;TZID=America/New_York:20260730T183000
DTSTAMP:20260419T223109
CREATED:20251003T162642Z
LAST-MODIFIED:20260411T214634Z
UID:10001472-1785434400-1785436200@gunstuff.tv
SUMMARY:Member Session
DESCRIPTION:Hear committee reports\, ask questions\, make requests of the board.
URL:https://gunstuff.tv/event/member-session-10/
LOCATION:Indoor Range
END:VEVENT
BEGIN:VEVENT
DTSTART;VALUE=DATE:20260730
DTEND;VALUE=DATE:20260731
DTSTAMP:20260419T223109
CREATED:20251003T160030Z
LAST-MODIFIED:20260412T043232Z
UID:10001013-1785369600-1785455999@gunstuff.tv
SUMMARY:1000 Yard Practice 6:30am Pits
DESCRIPTION:
URL:https://gunstuff.tv/event/1000-yard-practice-630am-pits-12/
LOCATION:AL
END:VEVENT
BEGIN:VEVENT
DTSTART;TZID=America/Los_Angeles:20260729T170000
DTEND;TZID=America/Los_Angeles:20260729T220000
DTSTAMP:20260419T223109
CREATED:20260405T223148Z
LAST-MODIFIED:20260405T223148Z
UID:10006792-1785344400-1785362400@gunstuff.tv
SUMMARY:MOORE N MOORE - NIGHT SHOOT & BBQ
DESCRIPTION:For more information\, contact Moore N Moore at https://www.moorenmoore.com/night-shooting/
URL:https://gunstuff.tv/event/moore-n-moore-night-shoot-bbq-41/
LOCATION:Moore N Moore Sporting Clays\, 12653 Little Tujunga Canyon Rd\, Sylmar\, CA\, United States
CATEGORIES:Moore N Moore
ATTACH;FMTTYPE=image/png:https://gunstuff.tv/wp-content/uploads/2025/10/image-pjjZEf.png
ORGANIZER;CN="Moore N Moore Sporting Clays":MAILTO:info@moorenmoore.com
GEO:34.282317;-118.371281
X-APPLE-STRUCTURED-LOCATION;VALUE=URI;X-ADDRESS=Moore N Moore Sporting Clays 12653 Little Tujunga Canyon Rd Sylmar CA United States;X-APPLE-RADIUS=500;X-TITLE=12653 Little Tujunga Canyon Rd:geo:-118.371281,34.282317
END:VEVENT
BEGIN:VEVENT
DTSTART;TZID=UTC:20260729T164500
DTEND;TZID=UTC:20260729T164500
DTSTAMP:20260419T223109
CREATED:20260121T014637Z
LAST-MODIFIED:20260401T070145Z
UID:10004651-1785343500-1785343500@gunstuff.tv
SUMMARY:Bass River Weds Nite Steel
DESCRIPTION:Bass River Weds Nite Steel\nDate: 7/29/26\nStart Time: 4:45 PM\nLocation:\nBass River Rod & Gun Club (SCSA467)\nBass River Rod &Gun 620 Rt. 6A\nYarmouthport\, MA\nEvent Contact Information\nTimothy J Kent\n5082372137\ntjkent@comcast.net\nEvent Website\nhttps://www.bassriverrodandgun.com/
URL:https://gunstuff.tv/event/bass-river-weds-nite-steel-14/
LOCATION:Bass River Rod & Gun Club (SCSA467)\, 79 State Rte 6 Alt\, Dennis\, MA\, United States
GEO:41.721025;-70.196653
X-APPLE-STRUCTURED-LOCATION;VALUE=URI;X-ADDRESS=Bass River Rod & Gun Club (SCSA467) 79 State Rte 6 Alt Dennis MA United States;X-APPLE-RADIUS=500;X-TITLE=79 State Rte 6 Alt:geo:-70.196653,41.721025
END:VEVENT
BEGIN:VEVENT
DTSTART;TZID=America/New_York:20260728T170000
DTEND;TZID=America/New_York:20260728T200000
DTSTAMP:20260419T223109
CREATED:20260328T214632Z
LAST-MODIFIED:20260411T214634Z
UID:10006593-1785258000-1785268800@gunstuff.tv
SUMMARY:Tactical Tuesday IDPA Practice
DESCRIPTION:Shooters new to Action Shooting contact Eric Zaharee at ABSAIDPA@gmail .com\nSee (Alder Brook) PractiScore.com for sign up Cost $5
URL:https://gunstuff.tv/event/tactical-tuesday-idpa-practice-16/
LOCATION:Action Bays
END:VEVENT
BEGIN:VEVENT
DTSTART;TZID=America/Chicago:20260728T083000
DTEND;TZID=America/Chicago:20260728T180000
DTSTAMP:20260419T223109
CREATED:20260224T220132Z
LAST-MODIFIED:20260414T221628Z
UID:10005773-1785227400-1785261600@gunstuff.tv
SUMMARY:NRA Certified Range Safety Officer - WRSC - Sparta\, IL - 8:30-6:00
DESCRIPTION:The NRA Range Safety Officer (RSO) course content consists of RSO’s roles and responsibilities\, range standard operating procedures\, range inspection and range rules\, firearm stoppages and malfunctions\, and Range Safety Briefings which include procedures to follow in the case of an emergency.  Click the link to register: https://illinoisstaterifleassociation.my.site.com/illinoisstaterifleassociation/s/register-for-event\nCost: $100 (ISRA member); $160 (non member)\nInstructor: Mandi Ehler\, 815.844.9949\, mailto: academy@isra.org
URL:https://gunstuff.tv/event/nra-certified-range-safety-officer-wrsc-sparta-il-830-600/
LOCATION:Sparta World Shooting Complex\, 101 E Main St\, Sparta\, IL\, United States
CATEGORIES:Event Calendar,ISRA Event,The Range
GEO:38.124013;-89.701961
X-APPLE-STRUCTURED-LOCATION;VALUE=URI;X-ADDRESS=Sparta World Shooting Complex 101 E Main St Sparta IL United States;X-APPLE-RADIUS=500;X-TITLE=101 E Main St:geo:-89.701961,38.124013
END:VEVENT
BEGIN:VEVENT
DTSTART;VALUE=DATE:20260728
DTEND;VALUE=DATE:20260729
DTSTAMP:20260419T223109
CREATED:20260213T031059Z
LAST-MODIFIED:20260410T034702Z
UID:10005273-1785196800-1785283199@gunstuff.tv
SUMMARY:Club closed
DESCRIPTION:
URL:https://gunstuff.tv/event/club-closed-48/
LOCATION:AL
END:VEVENT
BEGIN:VEVENT
DTSTART;VALUE=DATE:20260728
DTEND;VALUE=DATE:20260729
DTSTAMP:20260419T223109
CREATED:20251003T160030Z
LAST-MODIFIED:20260412T043232Z
UID:10001012-1785196800-1785283199@gunstuff.tv
SUMMARY:100\, 200\, 300 Yard Practice Benchrest Range
DESCRIPTION:
URL:https://gunstuff.tv/event/100-200-300-yard-practice-benchrest-range-35/
LOCATION:AL
END:VEVENT
BEGIN:VEVENT
DTSTART;TZID=America/New_York:20260727T160000
DTEND;TZID=America/New_York:20260727T180000
DTSTAMP:20260419T223109
CREATED:20251212T181642Z
LAST-MODIFIED:20260411T214634Z
UID:10003544-1785168000-1785175200@gunstuff.tv
SUMMARY:Skeet League
DESCRIPTION:Contact Frank Andrews with Questions.
URL:https://gunstuff.tv/event/skeet-league-133/
LOCATION:Skeet Range
END:VEVENT
BEGIN:VEVENT
DTSTART;TZID=America/New_York:20260727T160000
DTEND;TZID=America/New_York:20260727T180000
DTSTAMP:20260419T223109
CREATED:20251003T162642Z
LAST-MODIFIED:20251205T181709Z
UID:10001470-1785168000-1785175200@gunstuff.tv
SUMMARY:Skeet League
DESCRIPTION:Contact Frank Andrews with Questions.
URL:https://gunstuff.tv/event/skeet-league-43/
LOCATION:AL
END:VEVENT
BEGIN:VEVENT
DTSTART;TZID=America/New_York:20260727T090000
DTEND;TZID=America/New_York:20260727T100000
DTSTAMP:20260419T223109
CREATED:20251003T162642Z
LAST-MODIFIED:20251010T162930Z
UID:10001469-1785142800-1785146400@gunstuff.tv
SUMMARY:4-H Class Indoors
DESCRIPTION:Indoor reserved for 4-H class.
URL:https://gunstuff.tv/event/4-h-class-indoors-43/
LOCATION:Indoor Range
END:VEVENT
BEGIN:VEVENT
DTSTART;TZID=America/New_York:20260727T080000
DTEND;TZID=America/New_York:20260728T163000
DTSTAMP:20260419T223109
CREATED:20260404T214733Z
LAST-MODIFIED:20260411T214634Z
UID:10006763-1785139200-1785256200@gunstuff.tv
SUMMARY:Rifles Only- Rifle Clinic
DESCRIPTION:Mike Mayo POC\nDaily Schedule 8:30 am to 4:30 pm
URL:https://gunstuff.tv/event/rifles-only-rifle-clinic-2/
LOCATION:Long Range
END:VEVENT
BEGIN:VEVENT
DTSTART;VALUE=DATE:20260727
DTEND;VALUE=DATE:20260728
DTSTAMP:20260419T223109
CREATED:20260213T031059Z
LAST-MODIFIED:20260410T034702Z
UID:10005272-1785110400-1785196799@gunstuff.tv
SUMMARY:Club Closed
DESCRIPTION:
URL:https://gunstuff.tv/event/club-closed-47/
LOCATION:AL
END:VEVENT
BEGIN:VEVENT
DTSTART;TZID=UTC:20260726T140000
DTEND;TZID=UTC:20260726T140000
DTSTAMP:20260419T223109
CREATED:20260311T063140Z
LAST-MODIFIED:20260401T070145Z
UID:10006270-1785074400-1785074400@gunstuff.tv
SUMMARY:BVSA 2026 STEEL CHALLENGE - July 26
DESCRIPTION:BVSA 2026 STEEL CHALLENGE – July 26\nDate: 7/26/26\nStart Time: 2:00 PM\nLocation:\nBuffalo Valley Sportsmen’s Association (SCSA389)\n950 Sportsmens Club Rd\nMifflinburg\, PA\nEvent Contact Information\nLuke Walter\n5709391444\nlbw2@pct.edu\nEvent Website\nhttp://bvsportsman.org
URL:https://gunstuff.tv/event/bvsa-2026-steel-challenge-july-26/
LOCATION:Buffalo Valley Sportsmen’s Association (SCSA389)\, 1300 Sportsmens Club Rd\, Mifflinburg\, PA\, United States
GEO:40.947311;-77.103732
X-APPLE-STRUCTURED-LOCATION;VALUE=URI;X-ADDRESS=Buffalo Valley Sportsmen’s Association (SCSA389) 1300 Sportsmens Club Rd Mifflinburg PA United States;X-APPLE-RADIUS=500;X-TITLE=1300 Sportsmens Club Rd:geo:-77.103732,40.947311
END:VEVENT
BEGIN:VEVENT
DTSTART;TZID=America/New_York:20260726T130000
DTEND;TZID=America/New_York:20260726T150000
DTSTAMP:20260419T223109
CREATED:20251019T193323Z
LAST-MODIFIED:20260414T083130Z
UID:10002463-1785070800-1785078000@gunstuff.tv
SUMMARY:Open Trap Shoot - Weather Permitting
DESCRIPTION:Open shoot\, $5.00 per round.  The trap field is 2/10ths of a mile past the clubhouse. \nFor the latest information visit:https://www.facebook.com/groups/1663932967427026
URL:https://gunstuff.tv/event/open-trap-shoot-weather-permitting-14/
LOCATION:523 Sizer Run Road Emporium\, Emporium\, PA\, United States
GEO:41.500749;-78.322815
END:VEVENT
BEGIN:VEVENT
DTSTART;TZID=UTC:20260726T114500
DTEND;TZID=UTC:20260726T114500
DTSTAMP:20260419T223109
CREATED:20260107T013349Z
LAST-MODIFIED:20260401T070145Z
UID:10003841-1785066300-1785066300@gunstuff.tv
SUMMARY:Shadow Hawk Defense Steel Challenge
DESCRIPTION:Shadow Hawk Defense Steel Challenge\nDate: 7/26/26\nStart Time: 11:45 AM\nLocation:\nShadow Hawk Defense (SCSA271)\n436 Apple Harvest Drive\nHedgesville\, WV\nEvent Contact Information\nLynn Kasic\n3046166582\ninfo@shadowhawkdefense.com\nMatch Information\nSame match on Saturday and Sunday. The squad you select determines the day and time that you shoot. All eight stages. Approximately *200* rounds. $30\, Second gun 1/2 price. Pay at the door.\nEvent Website\nhttp://www.ShadowHawkDefense.com
URL:https://gunstuff.tv/event/shadow-hawk-defense-steel-challenge-12/
LOCATION:Shadow Hawk Defense (SCSA271)\, 399 Apple Harvest Dr\, Hedgesville\, WV\, United States
GEO:39.389611;-78.197586
X-APPLE-STRUCTURED-LOCATION;VALUE=URI;X-ADDRESS=Shadow Hawk Defense (SCSA271) 399 Apple Harvest Dr Hedgesville WV United States;X-APPLE-RADIUS=500;X-TITLE=399 Apple Harvest Dr:geo:-78.197586,39.389611
END:VEVENT
BEGIN:VEVENT
DTSTART;TZID=America/New_York:20260726T100000
DTEND;TZID=America/New_York:20260726T120000
DTSTAMP:20260419T223109
CREATED:20251003T162642Z
LAST-MODIFIED:20251107T180148Z
UID:10001468-1785060000-1785067200@gunstuff.tv
SUMMARY:22 Marksmanship Challenge (Aspirin Shoot)
DESCRIPTION:Aspirin @ 50 yrds\nTums @ 100 yrds\nSteel @ 150 & 200 yrds\nCenterfire prohibited during event.
URL:https://gunstuff.tv/event/22-marksmanship-challenge-aspirin-shoot-10/
LOCATION:Square Range
END:VEVENT
BEGIN:VEVENT
DTSTART;TZID=UTC:20260726T100000
DTEND;TZID=UTC:20260726T100000
DTSTAMP:20260419T223109
CREATED:20260121T014637Z
LAST-MODIFIED:20260401T070145Z
UID:10004650-1785060000-1785060000@gunstuff.tv
SUMMARY:PGC Steel Challenge
DESCRIPTION:PGC Steel Challenge\nDate: 7/26/26\nStart Time: 10:00 AM\nLocation:\nPalmetto Gun Club (SCSA077)\n951 Summers Dr\nRidgeville\, SC\nEvent Contact Information\nThomas Happel\n843-270-9250\nthedeltais@hotmail.com\nMatch Information\nMonthly 6-stage club match at Palmetto Gun Club.\nEvent Website\nhttps://www.palmettogunclub.org/
URL:https://gunstuff.tv/event/pgc-steel-challenge-9/
LOCATION:Palmetto Gun Club (SCSA077)\, 951 Summers Dr\, Ridgeville\, SC\, United States
GEO:32.923478;-80.292014
X-APPLE-STRUCTURED-LOCATION;VALUE=URI;X-ADDRESS=Palmetto Gun Club (SCSA077) 951 Summers Dr Ridgeville SC United States;X-APPLE-RADIUS=500;X-TITLE=951 Summers Dr:geo:-80.292014,32.923478
END:VEVENT
END:VCALENDAR