BEGIN:VCALENDAR
VERSION:2.0
PRODID:-//GunStuff TV - ECPv6.15.20//NONSGML v1.0//EN
CALSCALE:GREGORIAN
METHOD:PUBLISH
X-ORIGINAL-URL:https://gunstuff.tv
X-WR-CALDESC:Events for GunStuff TV
REFRESH-INTERVAL;VALUE=DURATION:PT1H
X-Robots-Tag:noindex
X-PUBLISHED-TTL:PT1H
BEGIN:VTIMEZONE
TZID:America/New_York
BEGIN:DAYLIGHT
TZOFFSETFROM:-0500
TZOFFSETTO:-0400
TZNAME:EDT
DTSTART:20260308T070000
END:DAYLIGHT
BEGIN:STANDARD
TZOFFSETFROM:-0400
TZOFFSETTO:-0500
TZNAME:EST
DTSTART:20261101T060000
END:STANDARD
BEGIN:DAYLIGHT
TZOFFSETFROM:-0500
TZOFFSETTO:-0400
TZNAME:EDT
DTSTART:20270314T070000
END:DAYLIGHT
BEGIN:STANDARD
TZOFFSETFROM:-0400
TZOFFSETTO:-0500
TZNAME:EST
DTSTART:20271107T060000
END:STANDARD
BEGIN:DAYLIGHT
TZOFFSETFROM:-0500
TZOFFSETTO:-0400
TZNAME:EDT
DTSTART:20280312T070000
END:DAYLIGHT
BEGIN:STANDARD
TZOFFSETFROM:-0400
TZOFFSETTO:-0500
TZNAME:EST
DTSTART:20281105T060000
END:STANDARD
END:VTIMEZONE
BEGIN:VEVENT
DTSTART;TZID=America/New_York:20270620T090000
DTEND;TZID=America/New_York:20270620T123000
DTSTAMP:20260423T163815
CREATED:20251003T031218Z
LAST-MODIFIED:20260417T071750Z
UID:10000703-1813482000-1813494600@gunstuff.tv
SUMMARY:GRPC NRA 1800
DESCRIPTION:
URL:https://gunstuff.tv/event/grpc-nra-1800-21/
LOCATION:Gateway Rifle & Pistol Club\, 9301 Zambito Ave\, Jacksonville\, FL\, United States
GEO:30.262025;-81.814577
X-APPLE-STRUCTURED-LOCATION;VALUE=URI;X-ADDRESS=Gateway Rifle & Pistol Club 9301 Zambito Ave Jacksonville FL United States;X-APPLE-RADIUS=500;X-TITLE=9301 Zambito Ave:geo:-81.814577,30.262025
END:VEVENT
BEGIN:VEVENT
DTSTART;TZID=America/New_York:20270620T090000
DTEND;TZID=America/New_York:20270620T140000
DTSTAMP:20260423T163815
CREATED:20251003T031218Z
LAST-MODIFIED:20260417T071750Z
UID:10000702-1813482000-1813500000@gunstuff.tv
SUMMARY:Wyoming Antelope 2700
DESCRIPTION:
URL:https://gunstuff.tv/event/wyoming-antelope-2700-42/
LOCATION:Wyoming Antelope Club-Florida\, 3700 126th Ave N\, Clearwater\, FL\, United States
GEO:27.886432;-82.683263
X-APPLE-STRUCTURED-LOCATION;VALUE=URI;X-ADDRESS=Wyoming Antelope Club-Florida 3700 126th Ave N Clearwater FL United States;X-APPLE-RADIUS=500;X-TITLE=3700 126th Ave N:geo:-82.683263,27.886432
END:VEVENT
BEGIN:VEVENT
DTSTART;VALUE=DATE:20270621
DTEND;VALUE=DATE:20270622
DTSTAMP:20260423T163815
CREATED:20260213T031112Z
LAST-MODIFIED:20260417T034745Z
UID:10005447-1813536000-1813622399@gunstuff.tv
SUMMARY:Club Closed
DESCRIPTION:
URL:https://gunstuff.tv/event/club-closed-141/
END:VEVENT
BEGIN:VEVENT
DTSTART;TZID=America/New_York:20270621T160000
DTEND;TZID=America/New_York:20270621T180000
DTSTAMP:20260423T163815
CREATED:20251017T163413Z
LAST-MODIFIED:20251205T181715Z
UID:10002264-1813593600-1813600800@gunstuff.tv
SUMMARY:Skeet League
DESCRIPTION:Contact Frank Andrews with Questions.
URL:https://gunstuff.tv/event/skeet-league-90/
END:VEVENT
BEGIN:VEVENT
DTSTART;VALUE=DATE:20270622
DTEND;VALUE=DATE:20270623
DTSTAMP:20260423T163815
CREATED:20260213T031112Z
LAST-MODIFIED:20260417T034745Z
UID:10005448-1813622400-1813708799@gunstuff.tv
SUMMARY:Club closed
DESCRIPTION:
URL:https://gunstuff.tv/event/club-closed-142/
END:VEVENT
BEGIN:VEVENT
DTSTART;TZID=America/New_York:20270624T180000
DTEND;TZID=America/New_York:20270624T183000
DTSTAMP:20260423T163815
CREATED:20251017T163413Z
LAST-MODIFIED:20260418T214742Z
UID:10002265-1813860000-1813861800@gunstuff.tv
SUMMARY:Member Session
DESCRIPTION:Hear committee reports\, ask questions\, make requests of the board.
URL:https://gunstuff.tv/event/member-session-21/
LOCATION:Indoor Range
END:VEVENT
BEGIN:VEVENT
DTSTART;TZID=America/New_York:20270624T183000
DTEND;TZID=America/New_York:20270624T203000
DTSTAMP:20260423T163815
CREATED:20251017T163413Z
LAST-MODIFIED:20260418T214742Z
UID:10002266-1813861800-1813869000@gunstuff.tv
SUMMARY:Board Meeting
DESCRIPTION:All members welcome.
URL:https://gunstuff.tv/event/board-meeting-36/
LOCATION:Indoor Range
END:VEVENT
BEGIN:VEVENT
DTSTART;TZID=America/New_York:20270627T090000
DTEND;TZID=America/New_York:20270627T120000
DTSTAMP:20260423T163815
CREATED:20251017T163413Z
LAST-MODIFIED:20260418T214742Z
UID:10002267-1814086800-1814097600@gunstuff.tv
SUMMARY:Weekly Trap League
DESCRIPTION:
URL:https://gunstuff.tv/event/weekly-trap-league-91/
LOCATION:Shotgun Range
END:VEVENT
BEGIN:VEVENT
DTSTART;TZID=America/New_York:20270627T090000
DTEND;TZID=America/New_York:20270627T140000
DTSTAMP:20260423T163815
CREATED:20251003T031218Z
LAST-MODIFIED:20260417T071750Z
UID:10000704-1814086800-1814104800@gunstuff.tv
SUMMARY:Wyoming Antelope NRA 2700
DESCRIPTION:
URL:https://gunstuff.tv/event/wyoming-antelope-nra-2700-21/
LOCATION:Wyoming Antelope Club-Florida\, 3700 126th Ave N\, Clearwater\, FL\, United States
GEO:27.886432;-82.683263
X-APPLE-STRUCTURED-LOCATION;VALUE=URI;X-ADDRESS=Wyoming Antelope Club-Florida 3700 126th Ave N Clearwater FL United States;X-APPLE-RADIUS=500;X-TITLE=3700 126th Ave N:geo:-82.683263,27.886432
END:VEVENT
BEGIN:VEVENT
DTSTART;TZID=America/New_York:20270627T100000
DTEND;TZID=America/New_York:20270627T120000
DTSTAMP:20260423T163816
CREATED:20251017T163413Z
LAST-MODIFIED:20251107T180156Z
UID:10002268-1814090400-1814097600@gunstuff.tv
SUMMARY:22 Marksmanship Challenge (Aspirin Shoot)
DESCRIPTION:Aspirin @ 50 yrds\nTums @ 100 yrds\nSteel @ 150 & 200 yrds\nCenterfire prohibited during event.
URL:https://gunstuff.tv/event/22-marksmanship-challenge-aspirin-shoot-21/
LOCATION:Square Range
END:VEVENT
BEGIN:VEVENT
DTSTART;VALUE=DATE:20270628
DTEND;VALUE=DATE:20270629
DTSTAMP:20260423T163816
CREATED:20260213T031112Z
LAST-MODIFIED:20260417T034745Z
UID:10005450-1814140800-1814227199@gunstuff.tv
SUMMARY:Club Closed
DESCRIPTION:
URL:https://gunstuff.tv/event/club-closed-144/
END:VEVENT
BEGIN:VEVENT
DTSTART;TZID=America/New_York:20270628T160000
DTEND;TZID=America/New_York:20270628T180000
DTSTAMP:20260423T163816
CREATED:20251017T163413Z
LAST-MODIFIED:20251205T181715Z
UID:10002269-1814198400-1814205600@gunstuff.tv
SUMMARY:Skeet League
DESCRIPTION:Contact Frank Andrews with Questions.
URL:https://gunstuff.tv/event/skeet-league-91/
END:VEVENT
BEGIN:VEVENT
DTSTART;VALUE=DATE:20270629
DTEND;VALUE=DATE:20270630
DTSTAMP:20260423T163816
CREATED:20260213T031112Z
LAST-MODIFIED:20260417T034745Z
UID:10005449-1814227200-1814313599@gunstuff.tv
SUMMARY:Club closed
DESCRIPTION:
URL:https://gunstuff.tv/event/club-closed-143/
END:VEVENT
BEGIN:VEVENT
DTSTART;VALUE=DATE:20270702
DTEND;VALUE=DATE:20270703
DTSTAMP:20260423T163816
CREATED:20260213T031113Z
LAST-MODIFIED:20260417T034745Z
UID:10005452-1814486400-1814572799@gunstuff.tv
SUMMARY:Rifle range closed for steel challenge setup & shoot.
DESCRIPTION:
URL:https://gunstuff.tv/event/rifle-range-closed-for-steel-challenge-setup-shoot-19/
END:VEVENT
BEGIN:VEVENT
DTSTART;VALUE=DATE:20270702
DTEND;VALUE=DATE:20270703
DTSTAMP:20260423T163816
CREATED:20260213T031113Z
LAST-MODIFIED:20260417T034745Z
UID:10005453-1814486400-1814572799@gunstuff.tv
SUMMARY:Competition Bays Closed for steel challenge set up
DESCRIPTION:
URL:https://gunstuff.tv/event/competition-bays-closed-for-steel-challenge-set-up-17/
END:VEVENT
BEGIN:VEVENT
DTSTART;VALUE=DATE:20270703
DTEND;VALUE=DATE:20270704
DTSTAMP:20260423T163816
CREATED:20260213T031113Z
LAST-MODIFIED:20260417T034745Z
UID:10005454-1814572800-1814659199@gunstuff.tv
SUMMARY:Steel Challenge
DESCRIPTION: Steel Shoot. Steel shooting offers a port of entry to the shooting sports that is far less intimidating than practical  shooting . Steel provides an excellent starting place for young or beginning shooters. Steel offers the most diversified shooting sport out there making it appealing to youth and seniors\, novice and experts. Any practical handgun \,including 22 rimfires (both handgun and rifle). Sign up starts at9AM\, Cost for monthly club level matches are $15 for Pinetucky Club Members and $20 for Non-member. A second firearm can be registered for an additional $10.Standard Pinetucky safety rules Apply. You can sign up at practiscore.com.  Please note our steel challenge is now six stages which requires a minimum round count of 150 rounds of ammunition.  Please plan accordingly.
URL:https://gunstuff.tv/event/steel-challenge-16/
END:VEVENT
BEGIN:VEVENT
DTSTART;VALUE=DATE:20270703
DTEND;VALUE=DATE:20270704
DTSTAMP:20260423T163816
CREATED:20260213T031113Z
LAST-MODIFIED:20260417T034745Z
UID:10005451-1814572800-1814659199@gunstuff.tv
SUMMARY:Rifle Range Closed Today
DESCRIPTION:
URL:https://gunstuff.tv/event/rifle-range-closed-today-16/
END:VEVENT
BEGIN:VEVENT
DTSTART;TZID=America/New_York:20270703T083000
DTEND;TZID=America/New_York:20270703T140000
DTSTAMP:20260423T163816
CREATED:20251003T031218Z
LAST-MODIFIED:20260417T071750Z
UID:10000705-1814603400-1814623200@gunstuff.tv
SUMMARY:PMRPC GSMM Match
DESCRIPTION:For more information you may contact the match director: James Sudduth at j.sudduth@ymail.com.
URL:https://gunstuff.tv/event/pmrpc-gsmm-match-22/
LOCATION:Port Malabar Rifle & Pistol Club\, 599 Hurley Blvd SW\, Palm Bay\, FL\, United States
GEO:27.987569;-80.71018
X-APPLE-STRUCTURED-LOCATION;VALUE=URI;X-ADDRESS=Port Malabar Rifle & Pistol Club 599 Hurley Blvd SW Palm Bay FL United States;X-APPLE-RADIUS=500;X-TITLE=599 Hurley Blvd SW:geo:-80.71018,27.987569
END:VEVENT
BEGIN:VEVENT
DTSTART;TZID=America/New_York:20270704T090000
DTEND;TZID=America/New_York:20270704T120000
DTSTAMP:20260423T163816
CREATED:20251017T163413Z
LAST-MODIFIED:20260418T214742Z
UID:10002270-1814691600-1814702400@gunstuff.tv
SUMMARY:Weekly Trap League
DESCRIPTION:
URL:https://gunstuff.tv/event/weekly-trap-league-92/
LOCATION:Shotgun Range
END:VEVENT
BEGIN:VEVENT
DTSTART;VALUE=DATE:20270705
DTEND;VALUE=DATE:20270706
DTSTAMP:20260423T163816
CREATED:20260213T031113Z
LAST-MODIFIED:20260417T034745Z
UID:10005455-1814745600-1814831999@gunstuff.tv
SUMMARY:Club Closed
DESCRIPTION:
URL:https://gunstuff.tv/event/club-closed-145/
END:VEVENT
BEGIN:VEVENT
DTSTART;TZID=America/New_York:20270705T160000
DTEND;TZID=America/New_York:20270705T180000
DTSTAMP:20260423T163816
CREATED:20251017T163413Z
LAST-MODIFIED:20251205T181715Z
UID:10002271-1814803200-1814810400@gunstuff.tv
SUMMARY:Skeet League
DESCRIPTION:Contact Frank Andrews with Questions.
URL:https://gunstuff.tv/event/skeet-league-92/
END:VEVENT
BEGIN:VEVENT
DTSTART;VALUE=DATE:20270706
DTEND;VALUE=DATE:20270707
DTSTAMP:20260423T163816
CREATED:20260213T031113Z
LAST-MODIFIED:20260417T034746Z
UID:10005456-1814832000-1814918399@gunstuff.tv
SUMMARY:Club closed
DESCRIPTION:
URL:https://gunstuff.tv/event/club-closed-146/
END:VEVENT
BEGIN:VEVENT
DTSTART;TZID=America/New_York:20270711T090000
DTEND;TZID=America/New_York:20270711T120000
DTSTAMP:20260423T163816
CREATED:20251017T163413Z
LAST-MODIFIED:20260418T214742Z
UID:10002272-1815296400-1815307200@gunstuff.tv
SUMMARY:Weekly Trap League
DESCRIPTION:
URL:https://gunstuff.tv/event/weekly-trap-league-93/
LOCATION:Shotgun Range
END:VEVENT
BEGIN:VEVENT
DTSTART;TZID=America/New_York:20270711T090000
DTEND;TZID=America/New_York:20270711T140000
DTSTAMP:20260423T163816
CREATED:20251003T031218Z
LAST-MODIFIED:20260417T071750Z
UID:10000706-1815296400-1815314400@gunstuff.tv
SUMMARY:Wyoming Antelope 2700
DESCRIPTION:
URL:https://gunstuff.tv/event/wyoming-antelope-2700-43/
LOCATION:Wyoming Antelope Club-Florida\, 3700 126th Ave N\, Clearwater\, FL\, United States
GEO:27.886432;-82.683263
X-APPLE-STRUCTURED-LOCATION;VALUE=URI;X-ADDRESS=Wyoming Antelope Club-Florida 3700 126th Ave N Clearwater FL United States;X-APPLE-RADIUS=500;X-TITLE=3700 126th Ave N:geo:-82.683263,27.886432
END:VEVENT
BEGIN:VEVENT
DTSTART;VALUE=DATE:20270712
DTEND;VALUE=DATE:20270713
DTSTAMP:20260423T163816
CREATED:20260213T031113Z
LAST-MODIFIED:20260417T034746Z
UID:10005457-1815350400-1815436799@gunstuff.tv
SUMMARY:Club Closed
DESCRIPTION:
URL:https://gunstuff.tv/event/club-closed-147/
END:VEVENT
BEGIN:VEVENT
DTSTART;TZID=America/New_York:20270712T160000
DTEND;TZID=America/New_York:20270712T180000
DTSTAMP:20260423T163816
CREATED:20251017T163413Z
LAST-MODIFIED:20251205T181715Z
UID:10002273-1815408000-1815415200@gunstuff.tv
SUMMARY:Skeet League
DESCRIPTION:Contact Frank Andrews with Questions.
URL:https://gunstuff.tv/event/skeet-league-93/
END:VEVENT
BEGIN:VEVENT
DTSTART;VALUE=DATE:20270713
DTEND;VALUE=DATE:20270714
DTSTAMP:20260423T163816
CREATED:20260213T031113Z
LAST-MODIFIED:20260417T034746Z
UID:10005458-1815436800-1815523199@gunstuff.tv
SUMMARY:Club closed
DESCRIPTION:
URL:https://gunstuff.tv/event/club-closed-148/
END:VEVENT
BEGIN:VEVENT
DTSTART;VALUE=DATE:20270716
DTEND;VALUE=DATE:20270717
DTSTAMP:20260423T163816
CREATED:20260213T031113Z
LAST-MODIFIED:20260417T034746Z
UID:10005460-1815696000-1815782399@gunstuff.tv
SUMMARY:Competition Bays closed for USPSA set up
DESCRIPTION:
URL:https://gunstuff.tv/event/competition-bays-closed-for-uspsa-set-up-18/
END:VEVENT
BEGIN:VEVENT
DTSTART;VALUE=DATE:20270717
DTEND;VALUE=DATE:20270718
DTSTAMP:20260423T163816
CREATED:20260213T031113Z
LAST-MODIFIED:20260417T034746Z
UID:10005459-1815782400-1815868799@gunstuff.tv
SUMMARY:USPSA Pistol Match
DESCRIPTION:USPSA (United States Practical ShootingAssociation) Pistol Match: Practical Shooting measures the shooter’s ability toshoot rapidly and accurately through obstacle-laden courses. The shooter moves\,negotiates\, runs\, covers\, and speed reloads through the stage as fast as theirskill will allow.  If this fast paced shooting sounds like fun\, come outand give it a try. Show up with an unloaded centerfire pistol in .38\, 9mm\, .40\,or .45 in an enclosed case and ask a match official where the safe area is soyou can holster your gun safely.  Also bring a rigid holster\, magazines\,and mag pouches capable of holding at least 32 rounds.  Overall matchround counts are usually between 100 and 150 rounds.  Specific divisionrequirements can be found at http://uspsa.org.  Starts at 9:30 AM and costwill be $20 ($15 for Pinetucky members\, active duty military\, police\, andfire). You can sign up at practiscore.com
URL:https://gunstuff.tv/event/uspsa-pistol-match-18/
LOCATION:Pinetucky Gun Club\, 2096 Greenland Rd\, Blythe\, GA\, United States
GEO:33.344103;-82.138722
X-APPLE-STRUCTURED-LOCATION;VALUE=URI;X-ADDRESS=Pinetucky Gun Club 2096 Greenland Rd Blythe GA United States;X-APPLE-RADIUS=500;X-TITLE=2096 Greenland Rd:geo:-82.138722,33.344103
END:VEVENT
BEGIN:VEVENT
DTSTART;TZID=America/New_York:20270717T083000
DTEND;TZID=America/New_York:20270717T143000
DTSTAMP:20260423T163816
CREATED:20251003T031218Z
LAST-MODIFIED:20260417T071750Z
UID:10000707-1815813000-1815834600@gunstuff.tv
SUMMARY:PMRPC Rimfire Match
DESCRIPTION:For more information you may contact the match director: James Sudduth at j.sudduth@ymail.com.
URL:https://gunstuff.tv/event/pmrpc-rimfire-match-22/
LOCATION:Port Malabar Rifle & Pistol Club\, 599 Hurley Blvd SW\, Palm Bay\, FL\, United States
GEO:27.987569;-80.71018
X-APPLE-STRUCTURED-LOCATION;VALUE=URI;X-ADDRESS=Port Malabar Rifle & Pistol Club 599 Hurley Blvd SW Palm Bay FL United States;X-APPLE-RADIUS=500;X-TITLE=599 Hurley Blvd SW:geo:-80.71018,27.987569
END:VEVENT
END:VCALENDAR