BEGIN:VCALENDAR
VERSION:2.0
PRODID:-//GunStuff TV - ECPv6.15.20//NONSGML v1.0//EN
CALSCALE:GREGORIAN
METHOD:PUBLISH
X-ORIGINAL-URL:https://gunstuff.tv
X-WR-CALDESC:Events for GunStuff TV
REFRESH-INTERVAL;VALUE=DURATION:PT1H
X-Robots-Tag:noindex
X-PUBLISHED-TTL:PT1H
BEGIN:VTIMEZONE
TZID:America/New_York
BEGIN:DAYLIGHT
TZOFFSETFROM:-0500
TZOFFSETTO:-0400
TZNAME:EDT
DTSTART:20250309T070000
END:DAYLIGHT
BEGIN:STANDARD
TZOFFSETFROM:-0400
TZOFFSETTO:-0500
TZNAME:EST
DTSTART:20251102T060000
END:STANDARD
BEGIN:DAYLIGHT
TZOFFSETFROM:-0500
TZOFFSETTO:-0400
TZNAME:EDT
DTSTART:20260308T070000
END:DAYLIGHT
BEGIN:STANDARD
TZOFFSETFROM:-0400
TZOFFSETTO:-0500
TZNAME:EST
DTSTART:20261101T060000
END:STANDARD
BEGIN:DAYLIGHT
TZOFFSETFROM:-0500
TZOFFSETTO:-0400
TZNAME:EDT
DTSTART:20270314T070000
END:DAYLIGHT
BEGIN:STANDARD
TZOFFSETFROM:-0400
TZOFFSETTO:-0500
TZNAME:EST
DTSTART:20271107T060000
END:STANDARD
END:VTIMEZONE
BEGIN:VTIMEZONE
TZID:UTC
BEGIN:STANDARD
TZOFFSETFROM:+0000
TZOFFSETTO:+0000
TZNAME:UTC
DTSTART:20250101T000000
END:STANDARD
END:VTIMEZONE
BEGIN:VTIMEZONE
TZID:America/Phoenix
BEGIN:STANDARD
TZOFFSETFROM:-0700
TZOFFSETTO:-0700
TZNAME:MST
DTSTART:20250101T000000
END:STANDARD
END:VTIMEZONE
BEGIN:VTIMEZONE
TZID:America/Chicago
BEGIN:DAYLIGHT
TZOFFSETFROM:-0600
TZOFFSETTO:-0500
TZNAME:CDT
DTSTART:20250309T080000
END:DAYLIGHT
BEGIN:STANDARD
TZOFFSETFROM:-0500
TZOFFSETTO:-0600
TZNAME:CST
DTSTART:20251102T070000
END:STANDARD
BEGIN:DAYLIGHT
TZOFFSETFROM:-0600
TZOFFSETTO:-0500
TZNAME:CDT
DTSTART:20260308T080000
END:DAYLIGHT
BEGIN:STANDARD
TZOFFSETFROM:-0500
TZOFFSETTO:-0600
TZNAME:CST
DTSTART:20261101T070000
END:STANDARD
BEGIN:DAYLIGHT
TZOFFSETFROM:-0600
TZOFFSETTO:-0500
TZNAME:CDT
DTSTART:20270314T080000
END:DAYLIGHT
BEGIN:STANDARD
TZOFFSETFROM:-0500
TZOFFSETTO:-0600
TZNAME:CST
DTSTART:20271107T070000
END:STANDARD
END:VTIMEZONE
BEGIN:VTIMEZONE
TZID:America/Halifax
BEGIN:DAYLIGHT
TZOFFSETFROM:-0400
TZOFFSETTO:-0300
TZNAME:ADT
DTSTART:20250309T060000
END:DAYLIGHT
BEGIN:STANDARD
TZOFFSETFROM:-0300
TZOFFSETTO:-0400
TZNAME:AST
DTSTART:20251102T050000
END:STANDARD
BEGIN:DAYLIGHT
TZOFFSETFROM:-0400
TZOFFSETTO:-0300
TZNAME:ADT
DTSTART:20260308T060000
END:DAYLIGHT
BEGIN:STANDARD
TZOFFSETFROM:-0300
TZOFFSETTO:-0400
TZNAME:AST
DTSTART:20261101T050000
END:STANDARD
BEGIN:DAYLIGHT
TZOFFSETFROM:-0400
TZOFFSETTO:-0300
TZNAME:ADT
DTSTART:20270314T060000
END:DAYLIGHT
BEGIN:STANDARD
TZOFFSETFROM:-0300
TZOFFSETTO:-0400
TZNAME:AST
DTSTART:20271107T050000
END:STANDARD
END:VTIMEZONE
BEGIN:VEVENT
DTSTART;TZID=America/New_York:20260830T130000
DTEND;TZID=America/New_York:20260830T150000
DTSTAMP:20260420T215808
CREATED:20251019T193324Z
LAST-MODIFIED:20260414T083130Z
UID:10002468-1788094800-1788102000@gunstuff.tv
SUMMARY:Open Trap Shoot - Weather Permitting
DESCRIPTION:Open shoot\, $5.00 per round.  The trap field is 2/10ths of a mile past the clubhouse. \nFor the latest information visit:https://www.facebook.com/groups/1663932967427026
URL:https://gunstuff.tv/event/open-trap-shoot-weather-permitting-19/
LOCATION:523 Sizer Run Road Emporium\, Emporium\, PA\, United States
GEO:41.500749;-78.322815
END:VEVENT
BEGIN:VEVENT
DTSTART;TZID=UTC:20260830T140000
DTEND;TZID=UTC:20260830T140000
DTSTAMP:20260420T215808
CREATED:20260318T064642Z
LAST-MODIFIED:20260401T070146Z
UID:10006364-1788098400-1788098400@gunstuff.tv
SUMMARY:BVSA 2026 STEEL CHALLENGE - August 30
DESCRIPTION:BVSA 2026 STEEL CHALLENGE – August 30\nDate: 8/30/26\nStart Time: 2:00 PM\nLocation:\nBuffalo Valley Sportsmen’s Association (SCSA389)\n950 Sportsmens Club Rd\nMifflinburg\, PA\nEvent Contact Information\nLuke Walter\n5709391444\nlbw2@pct.edu\nEvent Website\nhttp://bvsportsman.org
URL:https://gunstuff.tv/event/bvsa-2026-steel-challenge-august-30/
LOCATION:Buffalo Valley Sportsmen’s Association (SCSA389)\, 1300 Sportsmens Club Rd\, Mifflinburg\, PA\, United States
GEO:40.947311;-77.103732
X-APPLE-STRUCTURED-LOCATION;VALUE=URI;X-ADDRESS=Buffalo Valley Sportsmen’s Association (SCSA389) 1300 Sportsmens Club Rd Mifflinburg PA United States;X-APPLE-RADIUS=500;X-TITLE=1300 Sportsmens Club Rd:geo:-77.103732,40.947311
END:VEVENT
BEGIN:VEVENT
DTSTART;VALUE=DATE:20260831
DTEND;VALUE=DATE:20260901
DTSTAMP:20260420T215808
CREATED:20260213T031100Z
LAST-MODIFIED:20260410T034703Z
UID:10005292-1788134400-1788220799@gunstuff.tv
SUMMARY:Club Closed
DESCRIPTION:
URL:https://gunstuff.tv/event/club-closed-58/
END:VEVENT
BEGIN:VEVENT
DTSTART;TZID=America/New_York:20260831T080000
DTEND;TZID=America/New_York:20260901T163000
DTSTAMP:20260420T215808
CREATED:20260404T214735Z
LAST-MODIFIED:20260411T214636Z
UID:10006769-1788163200-1788280200@gunstuff.tv
SUMMARY:Rifles Only- Rifle Clinic
DESCRIPTION:Mike Mayo POC\nDaily Schedule 8:30 am to 4:30 pm
URL:https://gunstuff.tv/event/rifles-only-rifle-clinic-3/
LOCATION:Long Range
END:VEVENT
BEGIN:VEVENT
DTSTART;TZID=America/New_York:20260831T090000
DTEND;TZID=America/New_York:20260831T100000
DTSTAMP:20260420T215808
CREATED:20251003T162643Z
LAST-MODIFIED:20251010T162930Z
UID:10001489-1788166800-1788170400@gunstuff.tv
SUMMARY:4-H Class Indoors
DESCRIPTION:Indoor reserved for 4-H class.
URL:https://gunstuff.tv/event/4-h-class-indoors-48/
LOCATION:Indoor Range
END:VEVENT
BEGIN:VEVENT
DTSTART;TZID=America/New_York:20260831T160000
DTEND;TZID=America/New_York:20260831T180000
DTSTAMP:20260420T215808
CREATED:20251003T162643Z
LAST-MODIFIED:20251205T181710Z
UID:10001490-1788192000-1788199200@gunstuff.tv
SUMMARY:Skeet League
DESCRIPTION:Contact Frank Andrews with Questions.
URL:https://gunstuff.tv/event/skeet-league-48/
END:VEVENT
BEGIN:VEVENT
DTSTART;TZID=America/New_York:20260831T160000
DTEND;TZID=America/New_York:20260831T180000
DTSTAMP:20260420T215808
CREATED:20251212T181642Z
LAST-MODIFIED:20260411T214636Z
UID:10003549-1788192000-1788199200@gunstuff.tv
SUMMARY:Skeet League
DESCRIPTION:Contact Frank Andrews with Questions.
URL:https://gunstuff.tv/event/skeet-league-138/
LOCATION:Skeet Range
END:VEVENT
BEGIN:VEVENT
DTSTART;VALUE=DATE:20260901
DTEND;VALUE=DATE:20260902
DTSTAMP:20260420T215808
CREATED:20251003T160030Z
LAST-MODIFIED:20260412T043234Z
UID:10001028-1788220800-1788307199@gunstuff.tv
SUMMARY:100\, 200\, 300 Yard Practice Benchrest Range
DESCRIPTION:
URL:https://gunstuff.tv/event/100-200-300-yard-practice-benchrest-range-40/
END:VEVENT
BEGIN:VEVENT
DTSTART;VALUE=DATE:20260901
DTEND;VALUE=DATE:20260902
DTSTAMP:20260420T215808
CREATED:20260213T031100Z
LAST-MODIFIED:20260410T034703Z
UID:10005291-1788220800-1788307199@gunstuff.tv
SUMMARY:Club closed
DESCRIPTION:
URL:https://gunstuff.tv/event/club-closed-57/
END:VEVENT
BEGIN:VEVENT
DTSTART;TZID=America/New_York:20260901T090000
DTEND;TZID=America/New_York:20260901T160000
DTSTAMP:20260420T215808
CREATED:20251012T173817Z
LAST-MODIFIED:20260412T184750Z
UID:10002124-1788253200-1788278400@gunstuff.tv
SUMMARY:US Army 3rd Infantry GAFPB Quals
DESCRIPTION:Host members of the 3rd Infantry Regiment (Old Guard) for the pistol segment of their qualification for the German Army Proficiency Badge
URL:https://gunstuff.tv/event/us-army-3rd-infantry-gafpb-quals-7/
LOCATION:Walsh & Sieger Ranges
END:VEVENT
BEGIN:VEVENT
DTSTART;TZID=America/New_York:20260901T170000
DTEND;TZID=America/New_York:20260901T200000
DTSTAMP:20260420T215808
CREATED:20260328T214634Z
LAST-MODIFIED:20260411T214636Z
UID:10006598-1788282000-1788292800@gunstuff.tv
SUMMARY:Tactical Tuesday IDPA Practice
DESCRIPTION:Shooters new to Action Shooting contact Eric Zaharee at ABSAIDPA@gmail .com\nSee (Alder Brook) PractiScore.com for sign up Cost $5
URL:https://gunstuff.tv/event/tactical-tuesday-idpa-practice-21/
LOCATION:Action Bays
END:VEVENT
BEGIN:VEVENT
DTSTART;VALUE=DATE:20260902
DTEND;VALUE=DATE:20260903
DTSTAMP:20260420T215808
CREATED:20251005T190051Z
LAST-MODIFIED:20260412T200155Z
UID:10001686-1788307200-1788393599@gunstuff.tv
SUMMARY:Wednesday Registered Skeet
DESCRIPTION:Registered Skeet.  Contact Jerry Adams at 240-605-3220 for details. \nClick here for flyer
URL:https://gunstuff.tv/event/wednesday-registered-skeet-17/
END:VEVENT
BEGIN:VEVENT
DTSTART;TZID=UTC:20260902T164500
DTEND;TZID=UTC:20260902T164500
DTSTAMP:20260420T215808
CREATED:20260121T014638Z
LAST-MODIFIED:20260401T070146Z
UID:10004657-1788367500-1788367500@gunstuff.tv
SUMMARY:Bass River Weds Nite Steel
DESCRIPTION:Bass River Weds Nite Steel\nDate: 9/02/26\nStart Time: 4:45 PM\nLocation:\nBass River Rod & Gun Club (SCSA467)\nBass River Rod &Gun 620 Rt. 6A\nYarmouthport\, MA\nEvent Contact Information\nTimothy J Kent\n5082372137\ntjkent@comcast.net\nEvent Website\nhttps://www.bassriverrodandgun.com/
URL:https://gunstuff.tv/event/bass-river-weds-nite-steel-19/
LOCATION:Bass River Rod & Gun Club (SCSA467)\, 79 State Rte 6 Alt\, Dennis\, MA\, United States
GEO:41.721025;-70.196653
X-APPLE-STRUCTURED-LOCATION;VALUE=URI;X-ADDRESS=Bass River Rod & Gun Club (SCSA467) 79 State Rte 6 Alt Dennis MA United States;X-APPLE-RADIUS=500;X-TITLE=79 State Rte 6 Alt:geo:-70.196653,41.721025
END:VEVENT
BEGIN:VEVENT
DTSTART;TZID=America/Chicago:20260902T183000
DTEND;TZID=America/Chicago:20260902T193000
DTSTAMP:20260420T215808
CREATED:20260324T220136Z
LAST-MODIFIED:20260414T221654Z
UID:10006496-1788373800-1788377400@gunstuff.tv
SUMMARY:Madison County Townhall Meeting
DESCRIPTION:Come out and join your friends at the ISRA Madison County Townhall meeting starting at 6:30 pm. As always\, we will discuss current events.\nCome join us and enjoy great company at our gracious host\, Piasa Armory.
URL:https://gunstuff.tv/event/madison-county-townhall-meeting/
LOCATION:Piasa Armory\, East Alton\, IL\, United States
CATEGORIES:Event Calendar
GEO:38.876483;-90.109493
END:VEVENT
BEGIN:VEVENT
DTSTART;VALUE=DATE:20260903
DTEND;VALUE=DATE:20260904
DTSTAMP:20260420T215808
CREATED:20251003T160030Z
LAST-MODIFIED:20260412T043234Z
UID:10001029-1788393600-1788479999@gunstuff.tv
SUMMARY:600 Yard Practice 6:30am Pits
DESCRIPTION:
URL:https://gunstuff.tv/event/600-yard-practice-630am-pits-17/
END:VEVENT
BEGIN:VEVENT
DTSTART;VALUE=DATE:20260903
DTEND;VALUE=DATE:20260904
DTSTAMP:20260420T215808
CREATED:20251005T190547Z
LAST-MODIFIED:20260412T203315Z
UID:10001728-1788393600-1788479999@gunstuff.tv
SUMMARY:E-Z Bel Construction
DESCRIPTION:Sporting Clays fundraiser to benefit the San Antonio Food Bank.
URL:https://gunstuff.tv/event/e-z-bel-construction/
END:VEVENT
BEGIN:VEVENT
DTSTART;TZID=America/New_York:20260904T000000
DTEND;TZID=America/New_York:20260904T210000
DTSTAMP:20260420T215808
CREATED:20260404T214735Z
LAST-MODIFIED:20260411T214636Z
UID:10006770-1788480000-1788555600@gunstuff.tv
SUMMARY:PRS Match set-up
DESCRIPTION:POC Deb Gaumond
URL:https://gunstuff.tv/event/prs-match-set-up-2/
LOCATION:Long Range
END:VEVENT
BEGIN:VEVENT
DTSTART;VALUE=DATE:20260904
DTEND;VALUE=DATE:20260905
DTSTAMP:20260420T215808
CREATED:20251003T160030Z
LAST-MODIFIED:20260412T043234Z
UID:10001030-1788480000-1788566399@gunstuff.tv
SUMMARY:Across the Course Practice 6:30am Pits
DESCRIPTION:
URL:https://gunstuff.tv/event/across-the-course-practice-630am-pits-12/
END:VEVENT
BEGIN:VEVENT
DTSTART;VALUE=DATE:20260904
DTEND;VALUE=DATE:20260905
DTSTAMP:20260420T215808
CREATED:20260213T031100Z
LAST-MODIFIED:20260410T034703Z
UID:10005293-1788480000-1788566399@gunstuff.tv
SUMMARY:Competition Bays Closed for steel challenge set up
DESCRIPTION:
URL:https://gunstuff.tv/event/competition-bays-closed-for-steel-challenge-set-up-7/
END:VEVENT
BEGIN:VEVENT
DTSTART;VALUE=DATE:20260904
DTEND;VALUE=DATE:20260905
DTSTAMP:20260420T215808
CREATED:20260213T031100Z
LAST-MODIFIED:20260410T034704Z
UID:10005296-1788480000-1788566399@gunstuff.tv
SUMMARY:Rifle range closed for steel challenge setup & shoot.
DESCRIPTION:
URL:https://gunstuff.tv/event/rifle-range-closed-for-steel-challenge-setup-shoot-9/
END:VEVENT
BEGIN:VEVENT
DTSTART;VALUE=DATE:20260904
DTEND;VALUE=DATE:20260907
DTSTAMP:20260420T215808
CREATED:20251005T190051Z
LAST-MODIFIED:20260412T200155Z
UID:10001687-1788480000-1788739199@gunstuff.tv
SUMMARY:TTA Zone V Trap
DESCRIPTION:Registered Trap ShootFor more shoot or club information\, contact Royce Graff at rgraff@nssa-nsca.com. \nSee event flyer
URL:https://gunstuff.tv/event/tta-zone-v-trap/
LOCATION:National Shooting Complex\, 5931 Roft Rd\, San Antonio\, TX\, United States
GEO:29.492881;-98.741985
X-APPLE-STRUCTURED-LOCATION;VALUE=URI;X-ADDRESS=National Shooting Complex 5931 Roft Rd San Antonio TX United States;X-APPLE-RADIUS=500;X-TITLE=5931 Roft Rd:geo:-98.741985,29.492881
END:VEVENT
BEGIN:VEVENT
DTSTART;TZID=America/New_York:20260904T080000
DTEND;TZID=America/New_York:20260904T170000
DTSTAMP:20260420T215808
CREATED:20260111T181637Z
LAST-MODIFIED:20260412T184751Z
UID:10004389-1788508800-1788541200@gunstuff.tv
SUMMARY:2026 Paul Nordquist Memorial Prone Match
DESCRIPTION:2026 Paul Nordquist Memorial Prone match \nMatch Director’s name: George Harris \nMatch Director’s Contact Phone: 703-680-1067 \nMatch Director’s Contact email address: handlebargbh@verizon.com 
URL:https://gunstuff.tv/event/2026-paul-nordquist-memorial-prone-match/
LOCATION:Mann Range
END:VEVENT
BEGIN:VEVENT
DTSTART;TZID=America/Halifax:20260904T080000
DTEND;TZID=America/Halifax:20260904T170000
DTSTAMP:20260420T215808
CREATED:20260206T013131Z
LAST-MODIFIED:20260407T014707Z
UID:10004977-1788508800-1788541200@gunstuff.tv
SUMMARY:CLOSED/FERMER
DESCRIPTION:Bathurst Police Force/Force Policière de Bathurst
URL:https://gunstuff.tv/event/closed-fermer-7/
END:VEVENT
BEGIN:VEVENT
DTSTART;VALUE=DATE:20260905
DTEND;VALUE=DATE:20260906
DTSTAMP:20260420T215808
CREATED:20251003T160030Z
LAST-MODIFIED:20260412T043234Z
UID:10001032-1788566400-1788652799@gunstuff.tv
SUMMARY:Palma Practice 6:30am Pits
DESCRIPTION:
URL:https://gunstuff.tv/event/palma-practice-630am-pits-3/
END:VEVENT
BEGIN:VEVENT
DTSTART;VALUE=DATE:20260905
DTEND;VALUE=DATE:20260906
DTSTAMP:20260420T215808
CREATED:20260213T031100Z
LAST-MODIFIED:20260410T034704Z
UID:10005294-1788566400-1788652799@gunstuff.tv
SUMMARY:Rifle Range Closed Today
DESCRIPTION:
URL:https://gunstuff.tv/event/rifle-range-closed-today-6/
END:VEVENT
BEGIN:VEVENT
DTSTART;VALUE=DATE:20260905
DTEND;VALUE=DATE:20260906
DTSTAMP:20260420T215808
CREATED:20260213T031100Z
LAST-MODIFIED:20260410T034704Z
UID:10005295-1788566400-1788652799@gunstuff.tv
SUMMARY:Steel Challenge
DESCRIPTION: Steel Shoot. Steel shooting offers a port of entry to the shooting sports that is far less intimidating than practical  shooting . Steel provides an excellent starting place for young or beginning shooters. Steel offers the most diversified shooting sport out there making it appealing to youth and seniors\, novice and experts. Any practical handgun \,including 22 rimfires (both handgun and rifle). Sign up starts at9AM\, Cost for monthly club level matches are $15 for Pinetucky Club Members and $20 for Non-member. A second firearm can be registered for an additional $10.Standard Pinetucky safety rules Apply. You can sign up at practiscore.com.  Please note our steel challenge is now six stages which requires a minimum round count of 150 rounds of ammunition.  Please plan accordingly.
URL:https://gunstuff.tv/event/steel-challenge-6/
END:VEVENT
BEGIN:VEVENT
DTSTART;VALUE=DATE:20260905
DTEND;VALUE=DATE:20260906
DTSTAMP:20260420T215808
CREATED:20260404T214735Z
LAST-MODIFIED:20260411T214636Z
UID:10006771-1788566400-1788652799@gunstuff.tv
SUMMARY:PRS Match
DESCRIPTION:POC Deb Gaumond
URL:https://gunstuff.tv/event/prs-match/
LOCATION:Long Range
END:VEVENT
BEGIN:VEVENT
DTSTART;TZID=UTC:20260905T080000
DTEND;TZID=UTC:20260905T080000
DTSTAMP:20260420T215808
CREATED:20260306T113140Z
LAST-MODIFIED:20260410T113145Z
UID:10006170-1788595200-1788595200@gunstuff.tv
SUMMARY:WLPS September SCSA
DESCRIPTION:WLPS September SCSA\nDate : 9/05/26\nStart Time: 8:00 AM\nLocation:\nWest Liberty Practical Shooters (IA10)\n1461 121st Street\nWest Liberty\, IA\nEvent Contact Information\nIan Wicke\n319-330-9476\nikwicke@gmail.com\nMatch Information\nRegister online at Practiscore: https://practiscore.com/clubs/west-liberty-practical-shooters\nEvent Website\nhttps://www.westlibertygunclub.org/calendar
URL:https://gunstuff.tv/event/wlps-september-scsa/
LOCATION:West Liberty Practical Shooters (IA10)\, 1461 121st St\, West Liberty\, IA\, United States
GEO:41.567392;-91.283002
X-APPLE-STRUCTURED-LOCATION;VALUE=URI;X-ADDRESS=West Liberty Practical Shooters (IA10) 1461 121st St West Liberty IA United States;X-APPLE-RADIUS=500;X-TITLE=1461 121st St:geo:-91.283002,41.567392
END:VEVENT
BEGIN:VEVENT
DTSTART;TZID=America/New_York:20260905T080000
DTEND;TZID=America/New_York:20260905T160000
DTSTAMP:20260420T215808
CREATED:20251003T162536Z
LAST-MODIFIED:20260412T184751Z
UID:10001281-1788595200-1788624000@gunstuff.tv
SUMMARY:High Power Rifle Match
DESCRIPTION:Details here: https://www.fxrgc.org/rifle/high-power-rifle-vintage/
URL:https://gunstuff.tv/event/high-power-rifle-match-22/
LOCATION:Benson Range
END:VEVENT
BEGIN:VEVENT
DTSTART;TZID=America/New_York:20260905T080000
DTEND;TZID=America/New_York:20260905T170000
DTSTAMP:20260420T215808
CREATED:20251109T181652Z
LAST-MODIFIED:20260412T184751Z
UID:10003035-1788595200-1788627600@gunstuff.tv
SUMMARY:Green Ops Tactical Defensive Pistol I Class
DESCRIPTION:see https://www.green-ops.com/schedule-registration-virginia for class registration info
URL:https://gunstuff.tv/event/green-ops-tactical-defensive-pistol-i-class-2/
LOCATION:Culver Range
END:VEVENT
END:VCALENDAR