BEGIN:VCALENDAR
VERSION:2.0
PRODID:-//GunStuff TV - ECPv6.15.20//NONSGML v1.0//EN
CALSCALE:GREGORIAN
METHOD:PUBLISH
X-WR-CALNAME:GunStuff TV
X-ORIGINAL-URL:https://gunstuff.tv
X-WR-CALDESC:Events for GunStuff TV
REFRESH-INTERVAL;VALUE=DURATION:PT1H
X-Robots-Tag:noindex
X-PUBLISHED-TTL:PT1H
BEGIN:VTIMEZONE
TZID:UTC
BEGIN:STANDARD
TZOFFSETFROM:+0000
TZOFFSETTO:+0000
TZNAME:UTC
DTSTART:20250101T000000
END:STANDARD
END:VTIMEZONE
BEGIN:VTIMEZONE
TZID:America/New_York
BEGIN:DAYLIGHT
TZOFFSETFROM:-0500
TZOFFSETTO:-0400
TZNAME:EDT
DTSTART:20250309T070000
END:DAYLIGHT
BEGIN:STANDARD
TZOFFSETFROM:-0400
TZOFFSETTO:-0500
TZNAME:EST
DTSTART:20251102T060000
END:STANDARD
BEGIN:DAYLIGHT
TZOFFSETFROM:-0500
TZOFFSETTO:-0400
TZNAME:EDT
DTSTART:20260308T070000
END:DAYLIGHT
BEGIN:STANDARD
TZOFFSETFROM:-0400
TZOFFSETTO:-0500
TZNAME:EST
DTSTART:20261101T060000
END:STANDARD
BEGIN:DAYLIGHT
TZOFFSETFROM:-0500
TZOFFSETTO:-0400
TZNAME:EDT
DTSTART:20270314T070000
END:DAYLIGHT
BEGIN:STANDARD
TZOFFSETFROM:-0400
TZOFFSETTO:-0500
TZNAME:EST
DTSTART:20271107T060000
END:STANDARD
END:VTIMEZONE
BEGIN:VTIMEZONE
TZID:America/Phoenix
BEGIN:STANDARD
TZOFFSETFROM:-0700
TZOFFSETTO:-0700
TZNAME:MST
DTSTART:20250101T000000
END:STANDARD
END:VTIMEZONE
BEGIN:VTIMEZONE
TZID:America/Chicago
BEGIN:DAYLIGHT
TZOFFSETFROM:-0600
TZOFFSETTO:-0500
TZNAME:CDT
DTSTART:20250309T080000
END:DAYLIGHT
BEGIN:STANDARD
TZOFFSETFROM:-0500
TZOFFSETTO:-0600
TZNAME:CST
DTSTART:20251102T070000
END:STANDARD
BEGIN:DAYLIGHT
TZOFFSETFROM:-0600
TZOFFSETTO:-0500
TZNAME:CDT
DTSTART:20260308T080000
END:DAYLIGHT
BEGIN:STANDARD
TZOFFSETFROM:-0500
TZOFFSETTO:-0600
TZNAME:CST
DTSTART:20261101T070000
END:STANDARD
BEGIN:DAYLIGHT
TZOFFSETFROM:-0600
TZOFFSETTO:-0500
TZNAME:CDT
DTSTART:20270314T080000
END:DAYLIGHT
BEGIN:STANDARD
TZOFFSETFROM:-0500
TZOFFSETTO:-0600
TZNAME:CST
DTSTART:20271107T070000
END:STANDARD
END:VTIMEZONE
BEGIN:VEVENT
DTSTART;TZID=UTC:20261114T090000
DTEND;TZID=UTC:20261114T090000
DTSTAMP:20260423T011436
CREATED:20260110T165514Z
LAST-MODIFIED:20260405T110311Z
UID:10004199-1794646800-1794646800@gunstuff.tv
SUMMARY:Appleseed
DESCRIPTION:Annapolis\, MD – Anne Arundel Fish and Game Conservation Association\nNovember 14\, 2026 – November 15\, 2026\nThis is a traditional 25m Project Appleseed rifle event.\nCenterfire is NOT allowed at this event – 22 Rimfire Only.\nRegister Now\nAddress: 1730 St Margarets Rd \, Annapolis\, MD 21409\nWebsite: www.aafg.org\nPlease Read:  How to Prepare for an Event\nSafety Notice:\n–  Keep ALL firearms in your vehicle until after the safety briefing and you are instructed to bring them to the firing line.\n–  No illegal firearms are allowed.\n–  At centerfire-friendly ranges\, rifle cartridges are limited to 8mm (rifle) or .45 caliber (pistol and pistol caliber carbines).\n–  Effective 8/8/2025\, Project Appleseed has temporarily suspended the SIG-Sauer P320/M17/M18 (all variants) in our Pistol Clinics.\n–  Parents of youth attending\, please read our Message to Parents.\nSubject to state and local laws\, Instructors at your event may have discounted .22 ammo available. Reach out to the contact at the bottom of this page for availability.\nRange Fee:  $5 per shooter per event\, children under 18 exempt\, mil/LE category exempt\nCamping Available:\nNo\nHotels:\nSuper 8 Annapolis\, 74 Old Mill Bottom Road North\,  Annapolis\, MD 21401 (410) 757-2222\nComfort Inn ? 76 Old Mill Bottom Road South\, Annapolis\, MD 21409 (410) 757-8500\nLodging is within 2 miles of the range\nDirections:\nFrom MD Rt 50 Eastbound\, Take Exit 28 Bay Dale Dr. Stay left to stop sign on service road. Make a left at stopsign and proceed to Red\, Hot\, and Blue Restaurant. At the restaurant\, make a right on Old Mill Bottom Rd. At the next intersection\, make a right onto St Margarets Rd (Rt 179). Go 0.7 mi. The entrance to the club is on the right hand side\, adjacent to Mill Creek. If you pass over a small bridge\, you have gone too far.\nGPS: 39.017206\,-76.475523\nState Laws to be aware of:\nIt is the responsibility of attendees to know and comply with all State and Federal Firearms Laws.\nMaryland State Firearms Laws\nGuns and ammo kept locked & separate. Transfer of magazines with over 10 round capacity is illegal\, Check State Laws\nMisc:\nThis is a .22 caliber RIMFIRE ONLY range.\nPlease meet at the clubhouse for sign in. Annapolis is home to the U.S. Naval Academy.\nNO Alcohol Permitted\nFor more information contact:\nName: Brian Swift – Private Message BeSwift on Appleseed Forum Email Address: appleseedmaryland@gmail.com\nName: MD State Coordinator Email Address: MD@appleseedinfo.org
URL:https://gunstuff.tv/event/appleseed-192/
LOCATION:Anne Arundel Fish and Game Conservation Association\, 1730 St Margarets Rd\, Annapolis\, MD\, United States
GEO:39.014982;-76.471613
X-APPLE-STRUCTURED-LOCATION;VALUE=URI;X-ADDRESS=Anne Arundel Fish and Game Conservation Association 1730 St Margarets Rd Annapolis MD United States;X-APPLE-RADIUS=500;X-TITLE=1730 St Margarets Rd:geo:-76.471613,39.014982
END:VEVENT
BEGIN:VEVENT
DTSTART;TZID=UTC:20261114T090000
DTEND;TZID=UTC:20261114T090000
DTSTAMP:20260423T011436
CREATED:20260107T013351Z
LAST-MODIFIED:20260418T174751Z
UID:10003855-1794646800-1794646800@gunstuff.tv
SUMMARY:CRPC Steel Challenge November 2026
DESCRIPTION:CRPC Steel Challenge November 2026\nDate: 11/14/26\nStart Time: 9:00 AM\nLocation:\nCoast Rifle And Pistol Club (SCSA185)\n16706 Highway 67\nBiloxi\, MS\nEvent Contact Information\nAustin curry\n228-596-0452\ncrpc.steelchallenge@gmail.com\nMatch Information\nCoast Rifle and Pistol Club will host 5 stages of Steel Challenge.\nMatch Day Schedule:\nPlease check in the morning of the match before 8:30.\nIf there are changes in the schedule\, an email will be sent out and Practiscore will be updated.\nNew shooter meeting will be held at 8:45.\nMatch briefing and match Start at 9:00\nFees:\nCRPC Member – 1st Gun – $10\nNon-Member 1st Gun – $15\nAll second guns $5\nAll Juniors shoot up to 2 guns free\nClub Website\nhttps://crpcms.com/Steel_Challenge\nEvent Website\nhttps://practiscore.com/crpc-steel-challenge-november-2026/register
URL:https://gunstuff.tv/event/crpc-steel-challenge-november-2026/
LOCATION:Coast Rifle And Pistol Club (SCSA185)\, 16706 Highway 67\, Biloxi\, MS
END:VEVENT
BEGIN:VEVENT
DTSTART;TZID=UTC:20261114T090000
DTEND;TZID=UTC:20261114T090000
DTSTAMP:20260423T011436
CREATED:20260107T013339Z
LAST-MODIFIED:20260422T071729Z
UID:10003789-1794646800-1794646800@gunstuff.tv
SUMMARY:2026 Heartland State Steel Classic- Presented by Hornady
DESCRIPTION:2026 Heartland State Steel Classic- Presented by Hornady\nMatch Status: Approved by DNROI\nMatch Starts on Nov 14\, 2026\nMatch will end Nov 14\, 2026\nMatch Location:\nHeartland Practical Shooters\n6788 W Husker Way\nAlda\, NE 68801\nManaged by:\nHeartland Practical Shooters\nStage Count: 8\nRound Count: 195\nMatch Entry Fee: $30.00\nMatch Director: Jeff Marsh\nRange Master: Tom Busch\nAdditional Details\nOne day Match with morning and afternoon flights. Competitors may shoot two guns in each flight morning and afternoon for a total of four entries. 10 gun maximum per squad. Mandatory safety briefing will be at 7:30AM and 1:00PM. Awards ceremony will be immediately after completion of match. Awards will be given on the following: 5 or more competitors 1st place\, 7 or more competitors 1st and 2nd place\, 9 or more competitor’s 1st\, 2nd and 3rd places. Food for purchase during lunch hour.\nRegister!\nhttps://na01.safelinks.protection.outlook.com/?url=https%3A%2F%2Fpractiscore.com%2Fheartland-steel-challenge-championship%2Fregister&data=05%7C02%7C%7C9ddce8e6681e49c4721d08de2b8b37f8%7C84df9e7fe9f640afb435aaaaaaaaaaaa%7C1%7C0%7C638996074134095138%7CUnknown%7CTWFpbGZsb3d8eyJFbXB0eU1hcGkiOnRydWUsIlYiOiIwLjAuMDAwMCIsIlAiOiJXaW4zMiIsIkFOIjoiTWFpbCIsIldUIjoyfQ%3D%3D%7C0%7C%7C%7C&sdata=OUN8jmJ7Q2cIoCO1RXQnuB%2FVspqz5LXjAcVR8VrBTs0%3D&reserved=0
URL:https://gunstuff.tv/event/2026-heartland-state-steel-classic-presented-by-hornady/
LOCATION:Heartland Practical Shooters\, 4748 W Husker Hwy\, Grand Island\, NE\, United States
GEO:40.887963;-98.426003
X-APPLE-STRUCTURED-LOCATION;VALUE=URI;X-ADDRESS=Heartland Practical Shooters 4748 W Husker Hwy Grand Island NE United States;X-APPLE-RADIUS=500;X-TITLE=4748 W Husker Hwy:geo:-98.426003,40.887963
END:VEVENT
BEGIN:VEVENT
DTSTART;TZID=America/New_York:20261114T080000
DTEND;TZID=America/New_York:20261114T170000
DTSTAMP:20260423T011436
CREATED:20251109T181654Z
LAST-MODIFIED:20260419T190300Z
UID:10003043-1794643200-1794675600@gunstuff.tv
SUMMARY:Green Ops Tactical Red Dot Pistol Skills Class
DESCRIPTION:see https://www.green-ops.com/schedule-registration-virginia for class registration info \nDual Use with IDPA
URL:https://gunstuff.tv/event/green-ops-tactical-red-dot-pistol-skills-class-2/
LOCATION:Culver Range
END:VEVENT
BEGIN:VEVENT
DTSTART;TZID=UTC:20261114T080000
DTEND;TZID=UTC:20261114T080000
DTSTAMP:20260423T011436
CREATED:20260227T113152Z
LAST-MODIFIED:20260417T114655Z
UID:10005865-1794643200-1794643200@gunstuff.tv
SUMMARY:SEIPS USPSA November 14 2026
DESCRIPTION:SEIPS USPSA November 14 2026\nDate : 11/14/26\nStart Time: 8:00 AM\nLocation:\nS.e. Idaho Practical Shooters (ID02)\n1999 N 65th West\nIdaho Falls\, ID\nEvent Contact Information\nKevin Elliott\n(559) 310-9945\nkevinbelliott@mac.com\nMatch Information\nMonthly SEIPS Regular Season Match. Setup time is 8:00am. Mandatory shooters meeting at 9:30am. Registration opens in Practiscore.org two weeks prior to match. Online payment required. $20 non-SEIPS members. $15 SEIPS members. Juniors $5 (under age 18 on day of match). Expect 5-6 stages including a USPSA Classifier. October match is typically an All-Classifier match.\nEvent Website\nhttp://seips.org
URL:https://gunstuff.tv/event/seips-uspsa-november-14-2026/
LOCATION:S.e. Idaho Practical Shooters (ID02)\, 1998 N 65th W\, Idaho Falls\, ID\, United States
GEO:43.51329;-112.162612
X-APPLE-STRUCTURED-LOCATION;VALUE=URI;X-ADDRESS=S.e. Idaho Practical Shooters (ID02) 1998 N 65th W Idaho Falls ID United States;X-APPLE-RADIUS=500;X-TITLE=1998 N 65th W:geo:-112.162612,43.51329
END:VEVENT
BEGIN:VEVENT
DTSTART;TZID=UTC:20261114T080000
DTEND;TZID=UTC:20261114T080000
DTSTAMP:20260423T011436
CREATED:20251031T195459Z
LAST-MODIFIED:20260418T174751Z
UID:10002801-1794643200-1794643200@gunstuff.tv
SUMMARY:Hansen Steel
DESCRIPTION:Hansen Steel\nDate: 11/14/26\nStart Time: 8:00 AM\nLocation:\nFort Myers Practical Shooters (SCSA254)\n27700 Zemel Road\nPunta Gorda\, FL\nEvent Contact Information\nSteve Naso\n2398490190\nstevenaso1@gmail.com\nMatch Information\nClassifier every second saturday.\nEvent Website\nhttp://
URL:https://gunstuff.tv/event/hansen-steel-13/
LOCATION:Fort Myers Practical Shooters (SCSA254)\, 25398 Zemel Rd\, Punta Gorda\, FL\, United States
GEO:26.799811;-82.032777
X-APPLE-STRUCTURED-LOCATION;VALUE=URI;X-ADDRESS=Fort Myers Practical Shooters (SCSA254) 25398 Zemel Rd Punta Gorda FL United States;X-APPLE-RADIUS=500;X-TITLE=25398 Zemel Rd:geo:-82.032777,26.799811
END:VEVENT
BEGIN:VEVENT
DTSTART;TZID=America/New_York:20261114T073000
DTEND;TZID=America/New_York:20261114T113000
DTSTAMP:20260423T011436
CREATED:20260111T181639Z
LAST-MODIFIED:20260419T190300Z
UID:10004399-1794641400-1794655800@gunstuff.tv
SUMMARY:Air Pistol (Saturday)
DESCRIPTION:Fairfax Rod & Gun Club\, Inc.\nNRA Approved Air Pistol & Free Pistol Tournaments \nLocation: Club House & Walsh range\nFairfax Rod & Gun Club\, Inc.\, 7039 Signal Hill Road\, Manassas\, VA 20111-4212\nEligibility: Open to all wishing to compete. Fairfax Rod & Gun Club or NRA membership not required.\nRules: NRA International Pistol Rules (current edition) govern.\nPositions: 4 relays air pistol (36 spots: 18 Friday\, 18 Saturday) (subject to change)\n1 relay 20 points free pistol. Advanced reservations strongly recommended.\nAwards: none\, in order to keep fees low\nTime: Friday Air relays at; 4:30 & 7:30 PM\nSaturday Air Relays at: 7:30 & 9:30 AM\nSaturday Free pistol at: 12:30 (weather permitting) \nCourse of Fire:\nAir\n10 Minute preparation period (dry-firing only)\n– 15 Minute sighting period (unlimited number of sighting shots allowed)\n– 4 Record Firing Periods\no 22 1/2 minutes each\,15 shots fired in each period for a total of 60 shots.\no 3 B-40 targets will be posted for the sighting period and for each of the record firing periods. Five shots will be fired at each record firing period target for a total of 15 shots.\nFree Pistol\n10 min prep\n17 min sight in period\n6 record firing periods\n• 17 minutes each\,10 shots fired in each period for a total of 60 shots\n• B-19 targets and centers will be used. \nFees: $5.00 per event plus a $5 registration fee. Total $10 or $15. Checks payable to; FAIRFAX ROD & GUN.\n(CASH PREFERRED)\nMisc: Eye and ear protection mandatory for competitors AND spectators on the range.\nObey all speed limit signs on club property.\nBring a stapler for target posting/repair in free pistol.\nInitial NRA air pistol classifications are earned after 120 shots in NRA sanctioned air pistol & free pistol matches.\nClassification upgrades after 240 shots in current classification.\nAMMO – .177 caliber pellets only Air Pistol\n.22 Long Rifle ammunition for Free Pistol\nAir pistol NRA Rule 3.7\nFree Pistol NRA Rule 3.6 (normal clip fed semi-automatics or revolvers are also permitted) \nInfo: George Harris 703-680-1067 email: handlebargbh@verizon.net \nIMPORTANT: The door between the Pro Shop and the ballroom as well as the ballroom door leading directly to the outside in back will be secured during the match because we will be posting targets on the stands along the wall. That places the doors in the line of fire.\nThere will be new procedures for entering the club grounds and moving to the free pistol range. NOTE: if the gate is open\, drive in. If the gate is down\, enter “the code” on the key pad for access.The code changes and will be sent out before each match week end.\nThis should allow you access through the main gate and to the pistol range for free pistol. On the way out simply drive up to the gate and it should open to permit you to leave. \nBecause of the times air pistol firing points may be reduced. As soon as I know I will pass that information on to you.\nMasks are required in the club house… except when eating.
URL:https://gunstuff.tv/event/air-pistol-saturday-7/
LOCATION:Clubhouse
END:VEVENT
BEGIN:VEVENT
DTSTART;VALUE=DATE:20261114
DTEND;VALUE=DATE:20261116
DTSTAMP:20260423T011436
CREATED:20251003T160031Z
LAST-MODIFIED:20260419T044756Z
UID:10001073-1794614400-1794787199@gunstuff.tv
SUMMARY:AZ State 600 Yard Championships
DESCRIPTION:
URL:https://gunstuff.tv/event/az-state-600-yard-championships-2/
END:VEVENT
BEGIN:VEVENT
DTSTART;VALUE=DATE:20261114
DTEND;VALUE=DATE:20261115
DTSTAMP:20260423T011436
CREATED:20260220T031638Z
LAST-MODIFIED:20260417T034738Z
UID:10005678-1794614400-1794700799@gunstuff.tv
SUMMARY:pistol closed 12:30am 5:00pm
DESCRIPTION:
URL:https://gunstuff.tv/event/pistol-closed-1230am-500pm/
END:VEVENT
BEGIN:VEVENT
DTSTART;VALUE=DATE:20261114
DTEND;VALUE=DATE:20261115
DTSTAMP:20260423T011436
CREATED:20260220T031638Z
LAST-MODIFIED:20260417T034737Z
UID:10005679-1794614400-1794700799@gunstuff.tv
SUMMARY:class room closed
DESCRIPTION:
URL:https://gunstuff.tv/event/class-room-closed/
END:VEVENT
BEGIN:VEVENT
DTSTART;VALUE=DATE:20261114
DTEND;VALUE=DATE:20261115
DTSTAMP:20260423T011436
CREATED:20260213T031103Z
LAST-MODIFIED:20260417T034737Z
UID:10005336-1794614400-1794700799@gunstuff.tv
SUMMARY:Women On Target
DESCRIPTION:cost is $45 Preregistration on NRA.org under Women’s Events (choose Blythe\, GA for location)
URL:https://gunstuff.tv/event/women-on-target-5/
END:VEVENT
BEGIN:VEVENT
DTSTART;VALUE=DATE:20261114
DTEND;VALUE=DATE:20261115
DTSTAMP:20260423T011436
CREATED:20251123T200143Z
LAST-MODIFIED:20260419T204745Z
UID:10003210-1794614400-1794700799@gunstuff.tv
SUMMARY:Shoot to Walk
DESCRIPTION:Sporting Clay Fundraiser
URL:https://gunstuff.tv/event/shoot-to-walk-2/
END:VEVENT
BEGIN:VEVENT
DTSTART;TZID=America/New_York:20261113T163000
DTEND;TZID=America/New_York:20261113T210000
DTSTAMP:20260423T011436
CREATED:20260111T181639Z
LAST-MODIFIED:20260419T190259Z
UID:10004398-1794587400-1794603600@gunstuff.tv
SUMMARY:Air Pistol (Friday)
DESCRIPTION:Fairfax Rod & Gun Club\, Inc. \nNRA Approved Air Pistol & Free Pistol Tournaments \n \nLocation: Club House \nFairfax Rod & Gun Club\, Inc.\, 7039 Signal Hill Road\, Manassas\, VA 20111-4212 \nEligibility: Open to all wishing to compete. Fairfax Rod & Gun Club or NRA membership not required. \nRules: NRA International Pistol Rules (current edition) govern. \nPositions: 4 relays air pistol (36 spots: 18 Friday\, 18 Saturday) (subject to change) \n1 relay 20 points free pistol. Advanced reservations strongly recommended. \nAwards: none\, in order to keep fees low \nTime: Friday Air relays at; 4:30 & 7:30 PM \nSaturday Air Relays at: 7:30 & 9:30 AM \nSaturday Free pistol at: 12:30 (weather permitting) \n \nCourse of Fire: \nAir \n10 Minute preparation period (dry-firing only) \n– 15 Minute sighting period (unlimited number of sighting shots allowed) \n– 4 Record Firing Periods \no 22 1/2 minutes each\,15 shots fired in each period for a total of 60 shots. \no 3 B-40 targets will be posted for the sighting period and for each of the record firing periods. Five shots will be fired at each record firing period target for a total of 15 shots. \nFree Pistol \n10 min prep \n17 min sight in period \n6 record firing periods \n• 17 minutes each\,10 shots fired in each period for a total of 60 shots \n• B-19 targets and centers will be used. \n \nFees: $5.00 per event plus a $5 registration fee. Total $10 or $15. Checks payable to; FAIRFAX ROD & GUN. \n(CASH PREFERRED) \nMisc: Eye and ear protection mandatory for competitors AND spectators on the range. \nObey all speed limit signs on club property. \nBring a stapler for target posting/repair in free pistol. \nInitial NRA air pistol classifications are earned after 120 shots in NRA sanctioned air pistol & free pistol matches. \nClassification upgrades after 240 shots in current classification. \nAMMO – .177 caliber pellets only Air Pistol \n.22 Long Rifle ammunition for Free Pistol \nAir pistol NRA Rule 3.7 \nFree Pistol NRA Rule 3.6 (normal clip fed semi-automatics or revolvers are also permitted) \n \nInfo: George Harris 703-680-1067 email: handlebargbh@verizon.net \n \nIMPORTANT: The door between the Pro Shop and the ballroom as well as the ballroom door leading directly to the outside in back will be secured during the match because we will be posting targets on the stands along the wall. That places the doors in the line of fire. \nThere will be new procedures for entering the club grounds and moving to the free pistol range. NOTE: if the gate is open\, drive in. If the gate is down\, enter “the code” on the key pad for access.The code changes and will be sent out before each match week end. \nThis should allow you access through the main gate and to the pistol range for free pistol. On the way out simply drive up to the gate and it should open to permit you to leave. \n \nBecause of the times air pistol firing points may be reduced. As soon as I know I will pass that information on to you. \nMasks are required in the club house… except when eating.
URL:https://gunstuff.tv/event/air-pistol-friday-7/
LOCATION:Clubhouse
END:VEVENT
BEGIN:VEVENT
DTSTART;TZID=America/New_York:20261113T120000
DTEND;TZID=America/New_York:20261113T200000
DTSTAMP:20260423T011436
CREATED:20251012T173819Z
LAST-MODIFIED:20260419T190259Z
UID:10002139-1794571200-1794600000@gunstuff.tv
SUMMARY:IDPA/GPA Match Setup
DESCRIPTION:Culver Range closed for monthly IDPA Match setup. Contact idpa@fxrgc.org for more info.
URL:https://gunstuff.tv/event/idpa-match-setup-11/
LOCATION:Culver Range
END:VEVENT
BEGIN:VEVENT
DTSTART;VALUE=DATE:20261113
DTEND;VALUE=DATE:20261114
DTSTAMP:20260423T011436
CREATED:20251123T200143Z
LAST-MODIFIED:20260419T204745Z
UID:10003209-1794528000-1794614399@gunstuff.tv
SUMMARY:Transplants for Children
DESCRIPTION:Sporting Clays fundraising event. \nEvent Facebook page \nLearn more about Transplants for Children
URL:https://gunstuff.tv/event/transplants-for-children-2/
END:VEVENT
BEGIN:VEVENT
DTSTART;VALUE=DATE:20261113
DTEND;VALUE=DATE:20261114
DTSTAMP:20260423T011436
CREATED:20251003T160031Z
LAST-MODIFIED:20260419T044756Z
UID:10001074-1794528000-1794614399@gunstuff.tv
SUMMARY:Across the Course Practice 8:00am Pits
DESCRIPTION:
URL:https://gunstuff.tv/event/across-the-course-practice-800am-pits-18/
END:VEVENT
BEGIN:VEVENT
DTSTART;TZID=UTC:20261112T140000
DTEND;TZID=UTC:20261112T220000
DTSTAMP:20260423T011436
CREATED:20260111T213127Z
LAST-MODIFIED:20260421T084629Z
UID:10004414-1794492000-1794520800@gunstuff.tv
SUMMARY:2026 Health and Safety Summit
DESCRIPTION:
URL:https://gunstuff.tv/event/2026-health-and-safety-summit/
LOCATION:TBD
ORGANIZER;CN="Rocky Mountain Steel Construction Association":MAILTO:info@rmsca.org
END:VEVENT
BEGIN:VEVENT
DTSTART;VALUE=DATE:20261112
DTEND;VALUE=DATE:20261113
DTSTAMP:20260423T011436
CREATED:20251116T200136Z
LAST-MODIFIED:20260419T204745Z
UID:10003128-1794441600-1794527999@gunstuff.tv
SUMMARY:MZ Foundation Charity Sporting Clay Shoot
DESCRIPTION:Charity Sporting Clay Shoot in support of the MZ Foundation.
URL:https://gunstuff.tv/event/mz-foundation-charity-sporting-clay-shoot-2/
END:VEVENT
BEGIN:VEVENT
DTSTART;VALUE=DATE:20261112
DTEND;VALUE=DATE:20261113
DTSTAMP:20260423T011436
CREATED:20251003T160031Z
LAST-MODIFIED:20260419T044756Z
UID:10001072-1794441600-1794527999@gunstuff.tv
SUMMARY:600 Yard Practice 8:00am Pits
DESCRIPTION:
URL:https://gunstuff.tv/event/600-yard-practice-800am-pits-12/
END:VEVENT
BEGIN:VEVENT
DTSTART;VALUE=DATE:20261111
DTEND;VALUE=DATE:20261112
DTSTAMP:20260423T011436
CREATED:20251003T162536Z
LAST-MODIFIED:20260419T190259Z
UID:10001293-1794355200-1794441599@gunstuff.tv
SUMMARY:Veterans Day
DESCRIPTION:
URL:https://gunstuff.tv/event/veterans-day-2/
END:VEVENT
BEGIN:VEVENT
DTSTART;VALUE=DATE:20261111
DTEND;VALUE=DATE:20261112
DTSTAMP:20260423T011436
CREATED:20251003T160031Z
LAST-MODIFIED:20260419T044756Z
UID:10001071-1794355200-1794441599@gunstuff.tv
SUMMARY:Centerfire and Smallbore Practice - Smallbore Range
DESCRIPTION:
URL:https://gunstuff.tv/event/centerfire-and-smallbore-practice-smallbore-range-21/
END:VEVENT
BEGIN:VEVENT
DTSTART;VALUE=DATE:20261110
DTEND;VALUE=DATE:20261111
DTSTAMP:20260423T011436
CREATED:20260213T031103Z
LAST-MODIFIED:20260417T034737Z
UID:10005335-1794268800-1794355199@gunstuff.tv
SUMMARY:Club closed
DESCRIPTION:
URL:https://gunstuff.tv/event/club-closed-78/
END:VEVENT
BEGIN:VEVENT
DTSTART;VALUE=DATE:20261110
DTEND;VALUE=DATE:20261111
DTSTAMP:20260423T011436
CREATED:20251003T160031Z
LAST-MODIFIED:20260419T044756Z
UID:10001070-1794268800-1794355199@gunstuff.tv
SUMMARY:100\, 200\, 300 Yard Practice Benchrest Range
DESCRIPTION:
URL:https://gunstuff.tv/event/100-200-300-yard-practice-benchrest-range-50/
END:VEVENT
BEGIN:VEVENT
DTSTART;TZID=America/New_York:20261109T160000
DTEND;TZID=America/New_York:20261109T180000
DTSTAMP:20260423T011436
CREATED:20251212T181644Z
LAST-MODIFIED:20260418T214738Z
UID:10003559-1794240000-1794247200@gunstuff.tv
SUMMARY:Skeet League
DESCRIPTION:Contact Frank Andrews with Questions.
URL:https://gunstuff.tv/event/skeet-league-148/
LOCATION:Skeet Range
END:VEVENT
BEGIN:VEVENT
DTSTART;TZID=America/New_York:20261109T160000
DTEND;TZID=America/New_York:20261109T180000
DTSTAMP:20260423T011436
CREATED:20251003T162644Z
LAST-MODIFIED:20251205T181711Z
UID:10001526-1794240000-1794247200@gunstuff.tv
SUMMARY:Skeet League
DESCRIPTION:Contact Frank Andrews with Questions.
URL:https://gunstuff.tv/event/skeet-league-58/
END:VEVENT
BEGIN:VEVENT
DTSTART;TZID=America/New_York:20261109T090000
DTEND;TZID=America/New_York:20261109T130000
DTSTAMP:20260423T011436
CREATED:20251012T173818Z
LAST-MODIFIED:20260419T190259Z
UID:10002138-1794214800-1794229200@gunstuff.tv
SUMMARY:GAFC
DESCRIPTION:Event Director David Evans
URL:https://gunstuff.tv/event/gafc-9/
LOCATION:Walsh & Sieger Ranges
END:VEVENT
BEGIN:VEVENT
DTSTART;TZID=America/New_York:20261109T090000
DTEND;TZID=America/New_York:20261109T100000
DTSTAMP:20260423T011436
CREATED:20251003T162644Z
LAST-MODIFIED:20251010T162932Z
UID:10001525-1794214800-1794218400@gunstuff.tv
SUMMARY:4-H Class Indoors
DESCRIPTION:Indoor reserved for 4-H class.
URL:https://gunstuff.tv/event/4-h-class-indoors-58/
LOCATION:Indoor Range
END:VEVENT
BEGIN:VEVENT
DTSTART;VALUE=DATE:20261109
DTEND;VALUE=DATE:20261110
DTSTAMP:20260423T011436
CREATED:20260213T031103Z
LAST-MODIFIED:20260417T034737Z
UID:10005334-1794182400-1794268799@gunstuff.tv
SUMMARY:Club Closed
DESCRIPTION:
URL:https://gunstuff.tv/event/club-closed-77/
END:VEVENT
BEGIN:VEVENT
DTSTART;TZID=UTC:20261108T143000
DTEND;TZID=UTC:20261108T143000
DTSTAMP:20260423T011436
CREATED:20260110T171715Z
LAST-MODIFIED:20260417T114654Z
UID:10004336-1794148200-1794148200@gunstuff.tv
SUMMARY:SCWPSA Monthly Match
DESCRIPTION:SCWPSA Monthly Match\nDate : 11/08/26\nStart Time: 2:30 PM\nLocation:\nSouth Central Wisconsin Practical Shooters Assoc (WI31)\n2830 County Rd DR\nMonroe\, WI\nEvent Contact Information\nBob Slusarek\n630-669-0663\nscwpsamatch@pm.me\nMatch Information\nIndoor match typically 2-3 stages including 1 or 2 classifiers
URL:https://gunstuff.tv/event/scwpsa-monthly-match-10/
LOCATION:South Central Wisconsin Practical Shooters Assoc (WI31)\, 2830 County Road Dr\, Monroe\, WI\, United States
GEO:42.617903;-89.602405
X-APPLE-STRUCTURED-LOCATION;VALUE=URI;X-ADDRESS=South Central Wisconsin Practical Shooters Assoc (WI31) 2830 County Road Dr Monroe WI United States;X-APPLE-RADIUS=500;X-TITLE=2830 County Road Dr:geo:-89.602405,42.617903
END:VEVENT
BEGIN:VEVENT
DTSTART;TZID=America/New_York:20261108T090000
DTEND;TZID=America/New_York:20261108T190000
DTSTAMP:20260423T011436
CREATED:20251109T181654Z
LAST-MODIFIED:20260419T190259Z
UID:10003042-1794128400-1794164400@gunstuff.tv
SUMMARY:75th Bull Run Open
DESCRIPTION:
URL:https://gunstuff.tv/event/75th-bull-run-open-3/
LOCATION:Fields 1-8
END:VEVENT
END:VCALENDAR