BEGIN:VCALENDAR
VERSION:2.0
PRODID:-//GunStuff TV - ECPv6.15.20//NONSGML v1.0//EN
CALSCALE:GREGORIAN
METHOD:PUBLISH
X-WR-CALNAME:GunStuff TV
X-ORIGINAL-URL:https://gunstuff.tv
X-WR-CALDESC:Events for GunStuff TV
REFRESH-INTERVAL;VALUE=DURATION:PT1H
X-Robots-Tag:noindex
X-PUBLISHED-TTL:PT1H
BEGIN:VTIMEZONE
TZID:UTC
BEGIN:STANDARD
TZOFFSETFROM:+0000
TZOFFSETTO:+0000
TZNAME:UTC
DTSTART:20250101T000000
END:STANDARD
END:VTIMEZONE
BEGIN:VTIMEZONE
TZID:America/New_York
BEGIN:DAYLIGHT
TZOFFSETFROM:-0500
TZOFFSETTO:-0400
TZNAME:EDT
DTSTART:20250309T070000
END:DAYLIGHT
BEGIN:STANDARD
TZOFFSETFROM:-0400
TZOFFSETTO:-0500
TZNAME:EST
DTSTART:20251102T060000
END:STANDARD
BEGIN:DAYLIGHT
TZOFFSETFROM:-0500
TZOFFSETTO:-0400
TZNAME:EDT
DTSTART:20260308T070000
END:DAYLIGHT
BEGIN:STANDARD
TZOFFSETFROM:-0400
TZOFFSETTO:-0500
TZNAME:EST
DTSTART:20261101T060000
END:STANDARD
BEGIN:DAYLIGHT
TZOFFSETFROM:-0500
TZOFFSETTO:-0400
TZNAME:EDT
DTSTART:20270314T070000
END:DAYLIGHT
BEGIN:STANDARD
TZOFFSETFROM:-0400
TZOFFSETTO:-0500
TZNAME:EST
DTSTART:20271107T060000
END:STANDARD
END:VTIMEZONE
BEGIN:VTIMEZONE
TZID:UTC
BEGIN:STANDARD
TZOFFSETFROM:+0000
TZOFFSETTO:+0000
TZNAME:UTC
DTSTART:20250101T000000
END:STANDARD
END:VTIMEZONE
BEGIN:VTIMEZONE
TZID:America/Phoenix
BEGIN:STANDARD
TZOFFSETFROM:-0700
TZOFFSETTO:-0700
TZNAME:MST
DTSTART:20250101T000000
END:STANDARD
END:VTIMEZONE
BEGIN:VTIMEZONE
TZID:America/Los_Angeles
BEGIN:DAYLIGHT
TZOFFSETFROM:-0800
TZOFFSETTO:-0700
TZNAME:PDT
DTSTART:20250309T100000
END:DAYLIGHT
BEGIN:STANDARD
TZOFFSETFROM:-0700
TZOFFSETTO:-0800
TZNAME:PST
DTSTART:20251102T090000
END:STANDARD
BEGIN:DAYLIGHT
TZOFFSETFROM:-0800
TZOFFSETTO:-0700
TZNAME:PDT
DTSTART:20260308T100000
END:DAYLIGHT
BEGIN:STANDARD
TZOFFSETFROM:-0700
TZOFFSETTO:-0800
TZNAME:PST
DTSTART:20261101T090000
END:STANDARD
BEGIN:DAYLIGHT
TZOFFSETFROM:-0800
TZOFFSETTO:-0700
TZNAME:PDT
DTSTART:20270314T100000
END:DAYLIGHT
BEGIN:STANDARD
TZOFFSETFROM:-0700
TZOFFSETTO:-0800
TZNAME:PST
DTSTART:20271107T090000
END:STANDARD
END:VTIMEZONE
BEGIN:VTIMEZONE
TZID:America/Chicago
BEGIN:DAYLIGHT
TZOFFSETFROM:-0600
TZOFFSETTO:-0500
TZNAME:CDT
DTSTART:20250309T080000
END:DAYLIGHT
BEGIN:STANDARD
TZOFFSETFROM:-0500
TZOFFSETTO:-0600
TZNAME:CST
DTSTART:20251102T070000
END:STANDARD
BEGIN:DAYLIGHT
TZOFFSETFROM:-0600
TZOFFSETTO:-0500
TZNAME:CDT
DTSTART:20260308T080000
END:DAYLIGHT
BEGIN:STANDARD
TZOFFSETFROM:-0500
TZOFFSETTO:-0600
TZNAME:CST
DTSTART:20261101T070000
END:STANDARD
BEGIN:DAYLIGHT
TZOFFSETFROM:-0600
TZOFFSETTO:-0500
TZNAME:CDT
DTSTART:20270314T080000
END:DAYLIGHT
BEGIN:STANDARD
TZOFFSETFROM:-0500
TZOFFSETTO:-0600
TZNAME:CST
DTSTART:20271107T070000
END:STANDARD
END:VTIMEZONE
BEGIN:VEVENT
DTSTART;TZID=UTC:20260319T173000
DTEND;TZID=UTC:20260319T173000
DTSTAMP:20260425T095257
CREATED:20251017T181837Z
LAST-MODIFIED:20260313T113148Z
UID:10002432-1773941400-1773941400@gunstuff.tv
SUMMARY:2 If By Sea Thursday Match
DESCRIPTION:2 If By Sea Thursday Match\nDate : 3/19/26\nStart Time: 5:30 PM\nLocation:\n2 If By Sea Tactical (MN20)\n222 2nd Ave SW\nNew Prague\, MN\nEvent Contact Information\nAustin Reville\n9527584867\nareville@2ifbyseatactical.com\nEvent Website\nhttp://2ifbyseatactical.com/
URL:https://gunstuff.tv/event/2-if-by-sea-thursday-match-10/
LOCATION:2 If By Sea Tactical (MN20)\, 222 2nd Ave SW\, New Prague\, MN\, United States
GEO:44.542161;-93.581053
X-APPLE-STRUCTURED-LOCATION;VALUE=URI;X-ADDRESS=2 If By Sea Tactical (MN20) 222 2nd Ave SW New Prague MN United States;X-APPLE-RADIUS=500;X-TITLE=222 2nd Ave SW:geo:-93.581053,44.542161
END:VEVENT
BEGIN:VEVENT
DTSTART;TZID=America/New_York:20260319T173000
DTEND;TZID=America/New_York:20260319T210000
DTSTAMP:20260425T095258
CREATED:20260313T051640Z
LAST-MODIFIED:20260313T051640Z
UID:10006303-1773941400-1773954000@gunstuff.tv
SUMMARY:Fall/Winter PPC
DESCRIPTION:Fall / Winter PPC Season – Indoor range – Thursdays from 5:30 to 9:30 PM October 2\, 2025 to March 26\, 2026\, and Mondays from 8:30 AM to 12:00\, October 6th 2025 to March 30\, 2026.
URL:https://gunstuff.tv/event/fall-winter-ppc-50/
LOCATION:Indoor Rifle & Pistol Range\, 4770 Waterford Rd\,\, Village of Clarkston\, 48346
CATEGORIES:D.R. Wilson,Indoor Rifle & Pistol Rage,Range
ATTACH;FMTTYPE=image/jpeg:https://gunstuff.tv/wp-content/uploads/2025/10/PPC-Logo-6Evv9j.jpg
END:VEVENT
BEGIN:VEVENT
DTSTART;TZID=UTC:20260319T180000
DTEND;TZID=UTC:20260319T180000
DTSTAMP:20260425T095258
CREATED:20251024T181858Z
LAST-MODIFIED:20260313T113148Z
UID:10002566-1773943200-1773943200@gunstuff.tv
SUMMARY:BRSS uspsa
DESCRIPTION:BRSS uspsa\nDate : 3/19/26\nStart Time: 6:00 PM\nLocation:\nBlack River Shooting Supplies and Indoor Range (MO25)\n3260 S Westwood Blvd\nPopular Bluff\, MO\nEvent Contact Information\nHolt Pride\n5734298874\nHolt.Pride@gmail.com\nMatch Information\nWe are an indoor facility. Most people show up around 5pm to grab a bite to eat from the cafe that’s in the range. We will go hot at 6pm. Entry fee is $20.00. We will have at least 5 stages\, including one classifier.
URL:https://gunstuff.tv/event/brss-uspsa-6/
LOCATION:Black River Shooting Supplies and Indoor Range (MO25)\, 1198 Poplar St\, Poplar Bluff\, MO\, United States
GEO:36.756557;-90.407811
X-APPLE-STRUCTURED-LOCATION;VALUE=URI;X-ADDRESS=Black River Shooting Supplies and Indoor Range (MO25) 1198 Poplar St Poplar Bluff MO United States;X-APPLE-RADIUS=500;X-TITLE=1198 Poplar St:geo:-90.407811,36.756557
END:VEVENT
BEGIN:VEVENT
DTSTART;TZID=America/New_York:20260319T180000
DTEND;TZID=America/New_York:20260319T200000
DTSTAMP:20260425T095258
CREATED:20260313T051640Z
LAST-MODIFIED:20260313T051640Z
UID:10006304-1773943200-1773950400@gunstuff.tv
SUMMARY:NFAA League - Thursdays
DESCRIPTION:
URL:https://gunstuff.tv/event/nfaa-league-thursdays-8/
LOCATION:Indoor Archery Range\, 4770 Waterford Rd\, Clarkston\, MI\, United States
CATEGORIES:Archery,Indoor Archery Range,Range,Winter League
ATTACH;FMTTYPE=image/jpeg:https://gunstuff.tv/wp-content/uploads/2026/01/NFAA-ABnmFF.jpg
GEO:42.705297;-83.4014
X-APPLE-STRUCTURED-LOCATION;VALUE=URI;X-ADDRESS=Indoor Archery Range 4770 Waterford Rd Clarkston MI United States;X-APPLE-RADIUS=500;X-TITLE=4770 Waterford Rd:geo:-83.4014,42.705297
END:VEVENT
BEGIN:VEVENT
DTSTART;TZID=America/New_York:20260319T180000
DTEND;TZID=America/New_York:20260319T210000
DTSTAMP:20260425T095258
CREATED:20260111T181634Z
LAST-MODIFIED:20260315T183129Z
UID:10004375-1773943200-1773954000@gunstuff.tv
SUMMARY:Doerflein Skeet League Banquet
DESCRIPTION:
URL:https://gunstuff.tv/event/doerflein-skeet-league-banquet/
LOCATION:Clubhouse
END:VEVENT
BEGIN:VEVENT
DTSTART;TZID=America/New_York:20260319T180000
DTEND;TZID=America/New_York:20260319T213000
DTSTAMP:20260425T095258
CREATED:20260217T013142Z
LAST-MODIFIED:20260317T013325Z
UID:10005631-1773943200-1773955800@gunstuff.tv
SUMMARY:USPSA Match Night – Mountain City Practical Shooters
DESCRIPTION:Weekly USPSA Level 1 Match hosted by Mountain City Practical Shooters. \nLocation: Appalachian Gun\, Pawn & Range \n140 Shelby Ln\, Jasper\, GA 30143 \nArrive: 6:00 PM (New Shooter Briefing) \nFirst Shots: 6:30 PM \nMatch Fee: $20 \nOpen to new and experienced shooters. Come learn\, compete\, and have fun in a safe\, supportive environment. \n\n\n\n\nSchedule subject to change due to weather\, and holidays. \n\n\n 
URL:https://gunstuff.tv/event/uspsa-match-night-mountain-city-practical-shooters-6/
LOCATION:Appalacian Gun\, Pawn & Range\, 140 Shelby Ln.\, Jasper\, GA\, 30143\, United States
CATEGORIES:firearm-safety,Safe Gun
ORGANIZER;CN="Appalachian Gun":MAILTO:Appalachiangun@gmail.com
END:VEVENT
BEGIN:VEVENT
DTSTART;TZID=UTC:20260319T183000
DTEND;TZID=UTC:20260319T183000
DTSTAMP:20260425T095258
CREATED:20260306T113128Z
LAST-MODIFIED:20260313T113148Z
UID:10006158-1773945000-1773945000@gunstuff.tv
SUMMARY:Mountain City Practical Shooters 03-19-2026 USPSA Sponsored by Curated Arms
DESCRIPTION:Mountain City Practical Shooters 03-19-2026 USPSA Sponsored by Curated Arms\nDate : 3/19/26\nStart Time: 6:30 PM\nLocation:\nMountain City Practical Shooters (GA35)\n140 Shelby Ln\nJasper\, GA\nEvent Contact Information\nMD @ Mountain City Practical Shooters\n404 713 5353\nmtcity.p.s@gmail.com\nMatch Information\nRegistration opens on: March 12\, 2026 @ 9:30 PM · Registration closes on: March 19\, 2026 @ 3:30 PM\nTimes are local to America/New_York timezone.\nMatch starts: March 19\, 2026 @ 6:30 PM · Match ends: March 19\, 2026 @ 9:30 PM\nLocation:\n140 Shelby Lane\nJasper\, GA 30143\nUSPSA Level 1 match – Mountain City Practical Shooters Match on Thursdays 6:30-9:30pm $20 @ Appalachian Gun Pawn & Range. 140 Shelby Ln\, Jasper\, GA 30143 Arrive at 6:00 to get situated and help setup. New shooter briefing at 6:00 PM and first shots at 6:30 PM. New shooters encouraged and welcome!\nEvent Website\nhttps://practiscore.com/mountain-city-practical-shooters-03-19-2026-uspsa-sponsored-by-curated-arms/register
URL:https://gunstuff.tv/event/mountain-city-practical-shooters-03-19-2026-uspsa-sponsored-by-curated-arms/
LOCATION:Mountain City Practical Shooters (GA35)\, 140 Shelby Ln\, Hiram\, GA\, United States
GEO:33.815058;-84.807333
X-APPLE-STRUCTURED-LOCATION;VALUE=URI;X-ADDRESS=Mountain City Practical Shooters (GA35) 140 Shelby Ln Hiram GA United States;X-APPLE-RADIUS=500;X-TITLE=140 Shelby Ln:geo:-84.807333,33.815058
END:VEVENT
BEGIN:VEVENT
DTSTART;TZID=UTC:20260319T190000
DTEND;TZID=UTC:20260319T210000
DTSTAMP:20260425T095258
CREATED:20260303T001634Z
LAST-MODIFIED:20260317T001631Z
UID:10005984-1773946800-1773954000@gunstuff.tv
SUMMARY:Indoor Range Closed 7-9:00pm
DESCRIPTION:Little Club Match \nFreeport Gold (home) vs Roslyn Green \nMatch 4615
URL:https://gunstuff.tv/event/indoor-range-closed-7-900pm-12/
END:VEVENT
BEGIN:VEVENT
DTSTART;VALUE=DATE:20260320
DTEND;VALUE=DATE:20260321
DTSTAMP:20260425T095258
CREATED:20251003T160028Z
LAST-MODIFIED:20260313T174629Z
UID:10000937-1773964800-1774051199@gunstuff.tv
SUMMARY:Across the Course Practice 8:00am Pits
DESCRIPTION:
URL:https://gunstuff.tv/event/across-the-course-practice-800am-pits-16/
END:VEVENT
BEGIN:VEVENT
DTSTART;VALUE=DATE:20260320
DTEND;VALUE=DATE:20260321
DTSTAMP:20260425T095258
CREATED:20260213T031054Z
LAST-MODIFIED:20260320T033132Z
UID:10005191-1773964800-1774051199@gunstuff.tv
SUMMARY:Competition Bays closed for USPSA set up
DESCRIPTION:
URL:https://gunstuff.tv/event/competition-bays-closed-for-uspsa-set-up-2/
END:VEVENT
BEGIN:VEVENT
DTSTART;TZID=UTC:20260320T090000
DTEND;TZID=UTC:20260320T090000
DTSTAMP:20260425T095258
CREATED:20260107T013337Z
LAST-MODIFIED:20260314T174629Z
UID:10003786-1773997200-1773997200@gunstuff.tv
SUMMARY:US Steel Nationals
DESCRIPTION:US Steel Nationals\nMatch Status: Approved by DNROI\nMatch Starts on Mar 20\, 2026\nMatch will end Mar 22\, 2026\nMatch Location:\nConnecticut Practical Shooters\n2299 Gun Club Lane\nMims\, FL 32754\nManaged by:\nConnecticut Practical Shooters\nStage Count: 8\nRound Count: 195\nMatch Entry Fee: $100.00\nMatch Director: Douglas Koenig\nRange Master: Bob Young\nAdditional Details\nThe Host club where the match will be held is Titusville Rifle & Pistol club in Titusville\, FL.\nRegister!\nhttps://practiscore.com/2026-us-steel-nationals-march-20-22-2026/register
URL:https://gunstuff.tv/event/us-steel-nationals/
LOCATION:Connecticut Practical Shooters\, 3201 Kilbee St\, Mims\, FL\, United States
GEO:28.6865;-80.852848
X-APPLE-STRUCTURED-LOCATION;VALUE=URI;X-ADDRESS=Connecticut Practical Shooters 3201 Kilbee St Mims FL United States;X-APPLE-RADIUS=500;X-TITLE=3201 Kilbee St:geo:-80.852848,28.6865
END:VEVENT
BEGIN:VEVENT
DTSTART;TZID=America/Los_Angeles:20260320T090000
DTEND;TZID=America/Los_Angeles:20260320T170000
DTSTAMP:20260425T095259
CREATED:20260220T193136Z
LAST-MODIFIED:20260320T193143Z
UID:10005734-1773997200-1774026000@gunstuff.tv
SUMMARY:Action Pistol – RO Practice
DESCRIPTION:This practice is for Diablo Range Officers only.  Do not show up if you are not a Diablo Range Officer.
URL:https://gunstuff.tv/event/action-pistol-ro-practice-24/
LOCATION:Action Pistol Range\, 4700 Evora Road\, Concord\, CA\, 94520
CATEGORIES:Diablo Action Pistol
ATTACH;FMTTYPE=image/jpeg:https://gunstuff.tv/wp-content/uploads/2025/10/range_officer-e1638567606101-fR8pOy.jpg
ORGANIZER;CN="Blade Benson":MAILTO:matchsupport@diabloactionpistol.com
GEO:42.705297;-83.4014
X-APPLE-STRUCTURED-LOCATION;VALUE=URI;X-ADDRESS=Action Pistol Range 4700 Evora Road Concord CA 94520;X-APPLE-RADIUS=500;X-TITLE=4700 Evora Road:geo:-83.4014,42.705297
END:VEVENT
BEGIN:VEVENT
DTSTART;TZID=America/Chicago:20260320T100000
DTEND;TZID=America/Chicago:20260320T170000
DTSTAMP:20260425T095259
CREATED:20260224T021641Z
LAST-MODIFIED:20260224T021641Z
UID:10005758-1774000800-1774026000@gunstuff.tv
SUMMARY:Full Auto Friday
DESCRIPTION:Every Friday is Full Auto Friday at Defender! Pick any full auto you want from our rental wall\, and then just buy the box of ammo\, and you’re on your way to having some serious fun. Shoot as much as you want because your target\, eye and ear protection\, range fee* and machine gun rental is all included! \n*range fee only for full auto use. Standard range fees apply for general pistol and rifle shooting lanes.
URL:https://gunstuff.tv/event/full-auto-friday-22/
LOCATION:Shooting Center\, 2900 Shotts Street\, Fort Worth\, TX\, 76107
CATEGORIES:Shooting Center,Shooting Center Events
ATTACH;FMTTYPE=image/jpeg:https://gunstuff.tv/wp-content/uploads/2025/10/Full-Auto-Friday-Lj6zKx.jpg
ORGANIZER;CN="Defender Outdoors Shooting Center Events":MAILTO:info@defenderoutdoors.com
END:VEVENT
BEGIN:VEVENT
DTSTART;TZID=America/Chicago:20260320T100000
DTEND;TZID=America/Chicago:20260320T170000
DTSTAMP:20260425T095259
CREATED:20260303T021738Z
LAST-MODIFIED:20260303T021744Z
UID:10006033-1774000800-1774026000@gunstuff.tv
SUMMARY:Full Auto Friday
DESCRIPTION:Every Friday is Full Auto Friday at Defender! Pick any full auto you want from our rental wall\, and then just buy the box of ammo\, and you’re on your way to having some serious fun. Shoot as much as you want because your target\, eye and ear protection\, range fee* and machine gun rental is all included! \n*range fee only for full auto use. Standard range fees apply for general pistol and rifle shooting lanes.
URL:https://gunstuff.tv/event/full-auto-friday-25/
LOCATION:Shooting Center\, 2900 Shotts Street\, Fort Worth\, TX\, 76107
CATEGORIES:Shooting Center,Shooting Center Events
ATTACH;FMTTYPE=image/jpeg:https://gunstuff.tv/wp-content/uploads/2026/03/Full-Auto-Friday-Hahtdd-tZAQXN.jpg
ORGANIZER;CN="Defender Outdoors Shooting Center Events":MAILTO:info@defenderoutdoors.com
END:VEVENT
BEGIN:VEVENT
DTSTART;TZID=America/Chicago:20260320T100000
DTEND;TZID=America/Chicago:20260320T170000
DTSTAMP:20260425T095259
CREATED:20260310T021637Z
LAST-MODIFIED:20260317T021637Z
UID:10006244-1774000800-1774026000@gunstuff.tv
SUMMARY:Full Auto Friday
DESCRIPTION:Every Friday is Full Auto Friday at Defender! Pick any full auto you want from our rental wall\, and then just buy the box of ammo\, and you’re on your way to having some serious fun. Shoot as much as you want because your target\, eye and ear protection\, range fee* and machine gun rental is all included! \n*Range fee only for full auto use. Standard range fees apply for general pistol and rifle shooting lanes.
URL:https://gunstuff.tv/event/full-auto-friday-29/
LOCATION:Shooting Center\, 2900 Shotts Street\, Fort Worth\, TX\, 76107
CATEGORIES:Shooting Center,Shooting Center Events
ATTACH;FMTTYPE=image/jpeg:https://gunstuff.tv/wp-content/uploads/2026/03/Full-Auto-Friday-Hahtdd-tZAQXN.jpg
ORGANIZER;CN="Defender Outdoors Shooting Center Events":MAILTO:info@defenderoutdoors.com
END:VEVENT
BEGIN:VEVENT
DTSTART;TZID=America/New_York:20260320T120000
DTEND;TZID=America/New_York:20260320T210000
DTSTAMP:20260425T095259
CREATED:20260320T051636Z
LAST-MODIFIED:20260320T051636Z
UID:10006377-1774008000-1774040400@gunstuff.tv
SUMMARY:Friday Fish Fry
DESCRIPTION:Join us today from 12pm-9pm for our weekly Fish Fry! Delicious 3 piece cod dinner (Blue Gill\, Perch\, and Walleye also available!) served with fries\, coleslaw\, and a dinner roll – all for only $14.99! Bring the family\, we’d love to have you!
URL:https://gunstuff.tv/event/friday-fish-fry-27/
LOCATION:OCSC Bar & Kitchen\, 4770 Waterford Rd\, Clarkston\, MI\, United States
CATEGORIES:Fish Fry
ATTACH;FMTTYPE=image/jpeg:https://gunstuff.tv/wp-content/uploads/2026/01/600448231_1363467405576801_5650142578702317788_n-cbA30r.jpg
GEO:42.705297;-83.4014
X-APPLE-STRUCTURED-LOCATION;VALUE=URI;X-ADDRESS=OCSC Bar & Kitchen 4770 Waterford Rd Clarkston MI United States;X-APPLE-RADIUS=500;X-TITLE=4770 Waterford Rd:geo:-83.4014,42.705297
END:VEVENT
BEGIN:VEVENT
DTSTART;TZID=America/Chicago:20260320T130000
DTEND;TZID=America/Chicago:20260320T180000
DTSTAMP:20260425T095259
CREATED:20260303T021738Z
LAST-MODIFIED:20260303T021738Z
UID:10006034-1774011600-1774029600@gunstuff.tv
SUMMARY:2026 Annual All Saints Clay Shoot
DESCRIPTION:2026 All Saints’ Clay Shoot\nMarch 20\, 2026\nDefender Outdoors Clay Sports Ranch\n8270 Aledo Rd\, Fort Worth\, TX 76126 \nHosted by the All Saints’ Episcopal School Alumni Association\nOpen to all parents\, alumni\, parents of alumni and friends of the School; anyone 18 years of age or older is welcome! All funds raised benefit the Alumni Association. \n 
URL:https://gunstuff.tv/event/2026-annual-all-saints-clay-shoot/
LOCATION:Clay Sports Ranch\, 8270 Aledo Road\, Fort Worth\, TX\, 76126\, United States
CATEGORIES:Clay Sports Ranch Events
END:VEVENT
BEGIN:VEVENT
DTSTART;TZID=UTC:20260320T154500
DTEND;TZID=UTC:20260320T154500
DTSTAMP:20260425T095259
CREATED:20260117T171704Z
LAST-MODIFIED:20260320T113138Z
UID:10004568-1774021500-1774021500@gunstuff.tv
SUMMARY:DAISR March Match
DESCRIPTION:DAISR March Match\nDates : 3/20/26 – 3/21/26\nStart Time: 3:45 PM\nLocation:\nDefenders Armory Indoor Shooting Range (WPA20)\n915 East Pittsburgh St\nGreensburg\, PA\nEvent Contact Information\nMadison Forbes\n7243745850\nmadisondawn2012@gmail.com\nMatch Information\nThis is a special match; 5 classifiers\nEvent Website\nhttps://practiscore.com/daisr-march-uspsa-match/register
URL:https://gunstuff.tv/event/daisr-march-match/
LOCATION:Defenders Armory Indoor Shooting Range (WPA20)\, 841 E Pittsburgh St\, Greensburg\, PA\, United States
GEO:40.302253;-79.522347
X-APPLE-STRUCTURED-LOCATION;VALUE=URI;X-ADDRESS=Defenders Armory Indoor Shooting Range (WPA20) 841 E Pittsburgh St Greensburg PA United States;X-APPLE-RADIUS=500;X-TITLE=841 E Pittsburgh St:geo:-79.522347,40.302253
END:VEVENT
BEGIN:VEVENT
DTSTART;TZID=America/Chicago:20260320T160000
DTEND;TZID=America/Chicago:20260320T180000
DTSTAMP:20260425T095259
CREATED:20260224T021641Z
LAST-MODIFIED:20260224T021641Z
UID:10005759-1774022400-1774029600@gunstuff.tv
SUMMARY:Pistol 2
DESCRIPTION:[vc_row][vc_column icons_position=”left”][vc_column_text css=””]Strengthen Fundamentals\, Correct Mistakes\, Build Confidence \nPistol 2 is a 2-hour course designed to build on your solid foundation of handgun knowledge and handling. This range-only class equips you with the tools to strengthen your fundamentals while also introducing new concepts that expand your skills. \nYou will focus on the fundamentals needed for both accuracy and precision\, while also learning how to diagnose and correct mistakes on your own. Each drill is structured to sharpen mechanics and reinforce confidence\, giving you noticeable progress by the end of the course. \nThis course is strategically designed to refine the essentials of marksmanship and prepare you for the next step in your pistol training progression. \nTopics Covered: \n\nRange Instruction\nRefine The Fundamentals\nHow To Diagnose And Correct Your Mistakes\nPresentation Of The Firearm In Preparation Of Drawing From A Holster\nMethods To Clear The Most Common Malfunctions\nEfficient Reloading Technique\nBalancing Speed And Precision To Shoot Accurately In Quick Succession\n\nRequired Equipment: \n\nHandgun and two magazines\nEye and ear protection\n150 rounds of ammunition (available for purchase)\n\nThere is NO holster use in this course \nWhat To Know Before You Get Here: \nThis class is designed for those individually capable of using and safely handling their own firearm and are looking to progress their shooting to the next level. Have any questions about the gear you have? Contact Us![/vc_column_text][/vc_column][/vc_row][vc_row][vc_column icons_position=”left”][vc_empty_space hide_on_desktop=”” hide_on_notebook=”” hide_on_tablet=”” hide_on_mobile=””][/vc_column][/vc_row][vc_row][vc_column icons_position=”left”][vc_btn title=”Book Now” color=”warning” css=”” link=”url:https%3A%2F%2Ftms.ezfacility.com%2FOnlineRegistrations%2FRegister.aspx%3FCompanyID%3D5960%26GroupID%3D3934224″][/vc_column][/vc_row]
URL:https://gunstuff.tv/event/pistol-2-5/
LOCATION:Shooting Center\, 2900 Shotts Street\, Fort Worth\, TX\, 76107
CATEGORIES:Shooting Center,Shooting Center Training
ATTACH;FMTTYPE=image/jpeg:https://gunstuff.tv/wp-content/uploads/2025/12/Pistol-2-1-hlItH9.jpg
ORGANIZER;CN="Defender Outdoors Shooting Center Training":MAILTO:info@defenderoutdoors.com
END:VEVENT
BEGIN:VEVENT
DTSTART;TZID=America/Chicago:20260320T160000
DTEND;TZID=America/Chicago:20260320T180000
DTSTAMP:20260425T095259
CREATED:20260303T021738Z
LAST-MODIFIED:20260303T021738Z
UID:10006035-1774022400-1774029600@gunstuff.tv
SUMMARY:Pistol 2
DESCRIPTION:Strengthen Fundamentals\, Correct Mistakes\, Build Confidence \nPistol 2 is a 2-hour course designed to build on your solid foundation of handgun knowledge and handling. This range-only class equips you with the tools to strengthen your fundamentals while also introducing new concepts that expand your skills. \nYou will focus on the fundamentals needed for both accuracy and precision\, while also learning how to diagnose and correct mistakes on your own. Each drill is structured to sharpen mechanics and reinforce confidence\, giving you noticeable progress by the end of the course. \nThis course is strategically designed to refine the essentials of marksmanship and prepare you for the next step in your pistol training progression. \nTopics Covered: \n\nRange Instruction\nRefine The Fundamentals\nHow To Diagnose And Correct Your Mistakes\nPresentation Of The Firearm In Preparation Of Drawing From A Holster\nMethods To Clear The Most Common Malfunctions\nEfficient Reloading Technique\nBalancing Speed And Precision To Shoot Accurately In Quick Succession\n\nRequired Equipment: \n\nHandgun and two magazines\nEye and ear protection\n150 rounds of ammunition (available for purchase)\n\nThere is NO holster use in this course \nWhat To Know Before You Get Here: \nThis class is designed for those individually capable of using and safely handling their own firearm and are looking to progress their shooting to the next level. Have any questions about the gear you have? Contact Us! \n\nRegister here
URL:https://gunstuff.tv/event/pistol-2-6/
LOCATION:Shooting Center\, 2900 Shotts Street\, Fort Worth\, TX\, 76107
CATEGORIES:Shooting Center,Shooting Center Training
ATTACH;FMTTYPE=image/jpeg:https://gunstuff.tv/wp-content/uploads/2026/03/Pistol-2-1-zaNrat-xddf8S.jpg
ORGANIZER;CN="Defender Outdoors Shooting Center Training":MAILTO:info@defenderoutdoors.com
END:VEVENT
BEGIN:VEVENT
DTSTART;TZID=America/New_York:20260320T190000
DTEND;TZID=America/New_York:20260320T210000
DTSTAMP:20260425T095259
CREATED:20260320T051636Z
LAST-MODIFIED:20260320T051636Z
UID:10006378-1774033200-1774040400@gunstuff.tv
SUMMARY:NFAA League - Fridays
DESCRIPTION:
URL:https://gunstuff.tv/event/nfaa-league-fridays-11/
LOCATION:Indoor Archery Range\, 4770 Waterford Rd\, Clarkston\, MI\, United States
CATEGORIES:Archery,Indoor Archery Range,Range,Winter League
ATTACH;FMTTYPE=image/jpeg:https://gunstuff.tv/wp-content/uploads/2026/01/NFAA-ABnmFF.jpg
GEO:42.705297;-83.4014
X-APPLE-STRUCTURED-LOCATION;VALUE=URI;X-ADDRESS=Indoor Archery Range 4770 Waterford Rd Clarkston MI United States;X-APPLE-RADIUS=500;X-TITLE=4770 Waterford Rd:geo:-83.4014,42.705297
END:VEVENT
BEGIN:VEVENT
DTSTART;VALUE=DATE:20260321
DTEND;VALUE=DATE:20260322
DTSTAMP:20260425T095259
CREATED:20251003T160028Z
LAST-MODIFIED:20260306T173128Z
UID:10000939-1774051200-1774137599@gunstuff.tv
SUMMARY:Across the Course Match 8:00am Pits
DESCRIPTION:
URL:https://gunstuff.tv/event/across-the-course-match-800am-pits-4/
END:VEVENT
BEGIN:VEVENT
DTSTART;VALUE=DATE:20260321
DTEND;VALUE=DATE:20260322
DTSTAMP:20260425T095259
CREATED:20260213T031054Z
LAST-MODIFIED:20260320T033132Z
UID:10005195-1774051200-1774137599@gunstuff.tv
SUMMARY:rifle closed
DESCRIPTION:
URL:https://gunstuff.tv/event/rifle-closed/
END:VEVENT
BEGIN:VEVENT
DTSTART;VALUE=DATE:20260321
DTEND;VALUE=DATE:20260322
DTSTAMP:20260425T095259
CREATED:20260213T031054Z
LAST-MODIFIED:20260320T033132Z
UID:10005188-1774051200-1774137599@gunstuff.tv
SUMMARY:one skeet field reserved
DESCRIPTION:
URL:https://gunstuff.tv/event/one-skeet-field-reserved/
END:VEVENT
BEGIN:VEVENT
DTSTART;VALUE=DATE:20260321
DTEND;VALUE=DATE:20260322
DTSTAMP:20260425T095259
CREATED:20260213T031054Z
LAST-MODIFIED:20260320T033132Z
UID:10005189-1774051200-1774137599@gunstuff.tv
SUMMARY:masonic shooting event for kids
DESCRIPTION:
URL:https://gunstuff.tv/event/masonic-shooting-event-for-kids/
END:VEVENT
BEGIN:VEVENT
DTSTART;VALUE=DATE:20260321
DTEND;VALUE=DATE:20260322
DTSTAMP:20260425T095259
CREATED:20260213T031054Z
LAST-MODIFIED:20260320T033132Z
UID:10005190-1774051200-1774137599@gunstuff.tv
SUMMARY:USPSA Pistol Match
DESCRIPTION:USPSA (United States Practical ShootingAssociation) Pistol Match: Practical Shooting measures the shooter’s ability toshoot rapidly and accurately through obstacle-laden courses. The shooter moves\,negotiates\, runs\, covers\, and speed reloads through the stage as fast as theirskill will allow.  If this fast paced shooting sounds like fun\, come outand give it a try. Show up with an unloaded centerfire pistol in .38\, 9mm\, .40\,or .45 in an enclosed case and ask a match official where the safe area is soyou can holster your gun safely.  Also bring a rigid holster\, magazines\,and mag pouches capable of holding at least 32 rounds.  Overall matchround counts are usually between 100 and 150 rounds.  Specific divisionrequirements can be found at http://uspsa.org.  Starts at 9:30 AM and costwill be $20 ($15 for Pinetucky members\, active duty military\, police\, andfire). You can sign up at practiscore.com
URL:https://gunstuff.tv/event/uspsa-pistol-match-2/
LOCATION:Pinetucky Gun Club\, 2096 Greenland Rd\, Blythe\, GA\, United States
GEO:33.344103;-82.138722
X-APPLE-STRUCTURED-LOCATION;VALUE=URI;X-ADDRESS=Pinetucky Gun Club 2096 Greenland Rd Blythe GA United States;X-APPLE-RADIUS=500;X-TITLE=2096 Greenland Rd:geo:-82.138722,33.344103
END:VEVENT
BEGIN:VEVENT
DTSTART;VALUE=DATE:20260321
DTEND;VALUE=DATE:20260322
DTSTAMP:20260425T095259
CREATED:20260220T031629Z
LAST-MODIFIED:20260313T031629Z
UID:10005670-1774051200-1774137599@gunstuff.tv
SUMMARY:classroom closed
DESCRIPTION:
URL:https://gunstuff.tv/event/classroom-closed-3/
END:VEVENT
BEGIN:VEVENT
DTSTART;VALUE=DATE:20260321
DTEND;VALUE=DATE:20260322
DTSTAMP:20260425T095259
CREATED:20260220T031629Z
LAST-MODIFIED:20260320T033132Z
UID:10005668-1774051200-1774137599@gunstuff.tv
SUMMARY:4H group picnic one skeet field  7am to 4 fields 2/3 reserved
DESCRIPTION:cost $175 this is a two day class  must have completed the NRA basic pistol course
URL:https://gunstuff.tv/event/355286/
END:VEVENT
BEGIN:VEVENT
DTSTART;VALUE=DATE:20260321
DTEND;VALUE=DATE:20260322
DTSTAMP:20260425T095259
CREATED:20260306T173128Z
LAST-MODIFIED:20260321T111635Z
UID:10006174-1774051200-1774137599@gunstuff.tv
SUMMARY:A/R Tactical Practice 8:00am Pits
DESCRIPTION:
URL:https://gunstuff.tv/event/a-r-tactical-practice-800am-pits/
END:VEVENT
BEGIN:VEVENT
DTSTART;VALUE=DATE:20260321
DTEND;VALUE=DATE:20260323
DTSTAMP:20260425T095259
CREATED:20260220T184626Z
LAST-MODIFIED:20260313T190128Z
UID:10005720-1774051200-1774223999@gunstuff.tv
SUMMARY:Hunter Education
DESCRIPTION:Hunter Education by Fish & Game
URL:https://gunstuff.tv/event/hunter-education/
LOCATION:Clubhouse
END:VEVENT
END:VCALENDAR