BEGIN:VCALENDAR
VERSION:2.0
PRODID:-//GunStuff TV - ECPv6.15.20//NONSGML v1.0//EN
CALSCALE:GREGORIAN
METHOD:PUBLISH
X-WR-CALNAME:GunStuff TV
X-ORIGINAL-URL:https://gunstuff.tv
X-WR-CALDESC:Events for GunStuff TV
REFRESH-INTERVAL;VALUE=DURATION:PT1H
X-Robots-Tag:noindex
X-PUBLISHED-TTL:PT1H
BEGIN:VTIMEZONE
TZID:America/New_York
BEGIN:DAYLIGHT
TZOFFSETFROM:-0500
TZOFFSETTO:-0400
TZNAME:EDT
DTSTART:20250309T070000
END:DAYLIGHT
BEGIN:STANDARD
TZOFFSETFROM:-0400
TZOFFSETTO:-0500
TZNAME:EST
DTSTART:20251102T060000
END:STANDARD
BEGIN:DAYLIGHT
TZOFFSETFROM:-0500
TZOFFSETTO:-0400
TZNAME:EDT
DTSTART:20260308T070000
END:DAYLIGHT
BEGIN:STANDARD
TZOFFSETFROM:-0400
TZOFFSETTO:-0500
TZNAME:EST
DTSTART:20261101T060000
END:STANDARD
BEGIN:DAYLIGHT
TZOFFSETFROM:-0500
TZOFFSETTO:-0400
TZNAME:EDT
DTSTART:20270314T070000
END:DAYLIGHT
BEGIN:STANDARD
TZOFFSETFROM:-0400
TZOFFSETTO:-0500
TZNAME:EST
DTSTART:20271107T060000
END:STANDARD
END:VTIMEZONE
BEGIN:VTIMEZONE
TZID:America/Chicago
BEGIN:DAYLIGHT
TZOFFSETFROM:-0600
TZOFFSETTO:-0500
TZNAME:CDT
DTSTART:20250309T080000
END:DAYLIGHT
BEGIN:STANDARD
TZOFFSETFROM:-0500
TZOFFSETTO:-0600
TZNAME:CST
DTSTART:20251102T070000
END:STANDARD
BEGIN:DAYLIGHT
TZOFFSETFROM:-0600
TZOFFSETTO:-0500
TZNAME:CDT
DTSTART:20260308T080000
END:DAYLIGHT
BEGIN:STANDARD
TZOFFSETFROM:-0500
TZOFFSETTO:-0600
TZNAME:CST
DTSTART:20261101T070000
END:STANDARD
BEGIN:DAYLIGHT
TZOFFSETFROM:-0600
TZOFFSETTO:-0500
TZNAME:CDT
DTSTART:20270314T080000
END:DAYLIGHT
BEGIN:STANDARD
TZOFFSETFROM:-0500
TZOFFSETTO:-0600
TZNAME:CST
DTSTART:20271107T070000
END:STANDARD
END:VTIMEZONE
BEGIN:VTIMEZONE
TZID:America/Indiana/Indianapolis
BEGIN:DAYLIGHT
TZOFFSETFROM:-0500
TZOFFSETTO:-0400
TZNAME:EDT
DTSTART:20250309T070000
END:DAYLIGHT
BEGIN:STANDARD
TZOFFSETFROM:-0400
TZOFFSETTO:-0500
TZNAME:EST
DTSTART:20251102T060000
END:STANDARD
BEGIN:DAYLIGHT
TZOFFSETFROM:-0500
TZOFFSETTO:-0400
TZNAME:EDT
DTSTART:20260308T070000
END:DAYLIGHT
BEGIN:STANDARD
TZOFFSETFROM:-0400
TZOFFSETTO:-0500
TZNAME:EST
DTSTART:20261101T060000
END:STANDARD
BEGIN:DAYLIGHT
TZOFFSETFROM:-0500
TZOFFSETTO:-0400
TZNAME:EDT
DTSTART:20270314T070000
END:DAYLIGHT
BEGIN:STANDARD
TZOFFSETFROM:-0400
TZOFFSETTO:-0500
TZNAME:EST
DTSTART:20271107T060000
END:STANDARD
END:VTIMEZONE
BEGIN:VTIMEZONE
TZID:UTC
BEGIN:STANDARD
TZOFFSETFROM:+0000
TZOFFSETTO:+0000
TZNAME:UTC
DTSTART:20250101T000000
END:STANDARD
END:VTIMEZONE
BEGIN:VTIMEZONE
TZID:America/Denver
BEGIN:DAYLIGHT
TZOFFSETFROM:-0700
TZOFFSETTO:-0600
TZNAME:MDT
DTSTART:20250309T090000
END:DAYLIGHT
BEGIN:STANDARD
TZOFFSETFROM:-0600
TZOFFSETTO:-0700
TZNAME:MST
DTSTART:20251102T080000
END:STANDARD
BEGIN:DAYLIGHT
TZOFFSETFROM:-0700
TZOFFSETTO:-0600
TZNAME:MDT
DTSTART:20260308T090000
END:DAYLIGHT
BEGIN:STANDARD
TZOFFSETFROM:-0600
TZOFFSETTO:-0700
TZNAME:MST
DTSTART:20261101T080000
END:STANDARD
BEGIN:DAYLIGHT
TZOFFSETFROM:-0700
TZOFFSETTO:-0600
TZNAME:MDT
DTSTART:20270314T090000
END:DAYLIGHT
BEGIN:STANDARD
TZOFFSETFROM:-0600
TZOFFSETTO:-0700
TZNAME:MST
DTSTART:20271107T080000
END:STANDARD
END:VTIMEZONE
BEGIN:VTIMEZONE
TZID:UTC
BEGIN:STANDARD
TZOFFSETFROM:+0000
TZOFFSETTO:+0000
TZNAME:UTC
DTSTART:20250101T000000
END:STANDARD
END:VTIMEZONE
BEGIN:VTIMEZONE
TZID:America/Phoenix
BEGIN:STANDARD
TZOFFSETFROM:-0700
TZOFFSETTO:-0700
TZNAME:MST
DTSTART:20250101T000000
END:STANDARD
END:VTIMEZONE
BEGIN:VEVENT
DTSTART;TZID=America/New_York:20260208T090000
DTEND;TZID=America/New_York:20260208T120000
DTSTAMP:20260425T070754
CREATED:20260202T111629Z
LAST-MODIFIED:20260202T111629Z
UID:10004917-1770541200-1770552000@gunstuff.tv
SUMMARY:Sporting Clay 9 - Noon
DESCRIPTION:
URL:https://gunstuff.tv/event/sporting-clay-9-noon-4/
END:VEVENT
BEGIN:VEVENT
DTSTART;TZID=America/New_York:20260208T090000
DTEND;TZID=America/New_York:20260208T140000
DTSTAMP:20260425T070754
CREATED:20251003T031214Z
LAST-MODIFIED:20260206T061640Z
UID:10000604-1770541200-1770559200@gunstuff.tv
SUMMARY:Wyoming Antelope 2700
DESCRIPTION:
URL:https://gunstuff.tv/event/wyoming-antelope-2700-9/
LOCATION:Wyoming Antelope Club-Florida\, 3700 126th Ave N\, Clearwater\, FL\, United States
GEO:27.886432;-82.683263
X-APPLE-STRUCTURED-LOCATION;VALUE=URI;X-ADDRESS=Wyoming Antelope Club-Florida 3700 126th Ave N Clearwater FL United States;X-APPLE-RADIUS=500;X-TITLE=3700 126th Ave N:geo:-82.683263,27.886432
END:VEVENT
BEGIN:VEVENT
DTSTART;TZID=America/New_York:20260208T090000
DTEND;TZID=America/New_York:20260208T140000
DTSTAMP:20260425T070754
CREATED:20260206T050152Z
LAST-MODIFIED:20260206T050152Z
UID:10004993-1770541200-1770559200@gunstuff.tv
SUMMARY:3D Fun Shoot
DESCRIPTION:
URL:https://gunstuff.tv/event/3d-fun-shoot-2/
LOCATION:Indoor Archery Range\, 4770 Waterford Rd\, Clarkston\, MI\, United States
CATEGORIES:Archery,Indoor Archery Range,Range
ATTACH;FMTTYPE=image/jpeg:https://gunstuff.tv/wp-content/uploads/2026/01/3d-Archery-Shoot-EBj3rI.jpg
GEO:42.705297;-83.4014
X-APPLE-STRUCTURED-LOCATION;VALUE=URI;X-ADDRESS=Indoor Archery Range 4770 Waterford Rd Clarkston MI United States;X-APPLE-RADIUS=500;X-TITLE=4770 Waterford Rd:geo:-83.4014,42.705297
END:VEVENT
BEGIN:VEVENT
DTSTART;TZID=America/Chicago:20260208T100000
DTEND;TZID=America/Chicago:20260208T140000
DTSTAMP:20260425T070754
CREATED:20260113T020230Z
LAST-MODIFIED:20260203T021711Z
UID:10004459-1770544800-1770559200@gunstuff.tv
SUMMARY:Clay Sports Ranch Challenge & North Texas Fight Club
DESCRIPTION:120 Challenging Championship Targets on the Ranch Course \nFight Club\n• $100 for 120 target event paid to Range \n• $200 Cash for Payouts ($200 includes the $80 HOA\, $60 squad\, $40 Lewis\, $20 station) \nSchedule\nArrive and Register 10:00 am\nRandom Squadding 10:30 am\nShooting to follow\nGames after shoot \nPayouts\n\nHOA option: 50/30/20\nHOA using Handicap: 50/30/20\nStation Option: Winner takes all\, Ties divide unless over 3 are tied. (If over 3 tie\, they will shoot off for 1st\, 2nd\, and 3rd with a 50/30/20 Split)\nSquad Option: 60/40 to 1st and 2nd place Squad (Using Handicap Scores)\nLewis Option: Using Raw Scores – High shooter 50%\, Middle of the pack 50% (Tied divide)\n\nHandicaps:\n2025 NSCA Average gives a percent handicap that is applied to your raw score. This puts all skill levels at even playing field for all the payouts that are based on handicap scores. \nExample: 2024 NSCA Average = 85\, then your handicap is 15% (not 15 birds) \nPayout that use Handicap are HOA Handicap and Squad Payout. \nSign Up:\nREGISTER HERE\nFor more questions\, please email Travis at Travis@defenderoutdoors.com
URL:https://gunstuff.tv/event/clay-sports-ranch-challenge-north-texas-fight-club/
LOCATION:Clay Sports Ranch\, 8270 Aledo Road\, Fort Worth\, TX\, 76126\, United States
CATEGORIES:Clay Sports Ranch Events
ATTACH;FMTTYPE=image/jpeg:https://gunstuff.tv/wp-content/uploads/2026/01/Fight-Club-2026-Flyer-scaled-neYT3T.jpg
ORGANIZER;CN="Defender Outdoors Clay Sports Ranch":MAILTO:jessica@defenderoutdoors.com
END:VEVENT
BEGIN:VEVENT
DTSTART;TZID=America/Chicago:20260208T110000
DTEND;TZID=America/Chicago:20260208T150000
DTSTAMP:20260425T070754
CREATED:20260203T033158Z
LAST-MODIFIED:20260203T033219Z
UID:10004969-1770548400-1770562800@gunstuff.tv
SUMMARY:Close at 3 pm today
DESCRIPTION:@ 			\n			\n							 \n\n\n		\n\n\n\n\n\n\n						\n							Add to calendar						 \n\n\n\n									\n										Google Calendar									\n								\n\n									\n										iCalendar									\n								\n\n									\n										Outlook 365									\n								\n\n									\n										Outlook Live
URL:https://gunstuff.tv/event/close-at-3-pm-today/
END:VEVENT
BEGIN:VEVENT
DTSTART;TZID=America/New_York:20260208T110000
DTEND;TZID=America/New_York:20260208T160000
DTSTAMP:20260425T070754
CREATED:20260206T050152Z
LAST-MODIFIED:20260206T050152Z
UID:10004994-1770548400-1770566400@gunstuff.tv
SUMMARY:Regular Shooting Hours
DESCRIPTION:
URL:https://gunstuff.tv/event/regular-shooting-hours-75/
LOCATION:Shotgun Ranges\, 4770 Waterford Rd\, Clarkston\, MI\, United States
CATEGORIES:Range,Shotgun,Shotgun Range
ATTACH;FMTTYPE=image/png:https://gunstuff.tv/wp-content/uploads/2025/10/shotgun-logo-160x160-1-mvSnxY.png
GEO:42.705297;-83.4014
X-APPLE-STRUCTURED-LOCATION;VALUE=URI;X-ADDRESS=Shotgun Ranges 4770 Waterford Rd Clarkston MI United States;X-APPLE-RADIUS=500;X-TITLE=4770 Waterford Rd:geo:-83.4014,42.705297
END:VEVENT
BEGIN:VEVENT
DTSTART;TZID=America/Indiana/Indianapolis:20260208T120000
DTEND;TZID=America/Indiana/Indianapolis:20260208T170000
DTSTAMP:20260425T070754
CREATED:20260202T024709Z
LAST-MODIFIED:20260202T024709Z
UID:10004892-1770552000-1770570000@gunstuff.tv
SUMMARY:NRL22
DESCRIPTION:Sight-In 12:00 PMRange 1
URL:https://gunstuff.tv/event/nrl22-6/
LOCATION:Wildcat Valley R and P Club\, 12094 S 300 E\, Brookston\, IN\, United States
CATEGORIES:NRL-22
GEO:40.576877;-86.811749
X-APPLE-STRUCTURED-LOCATION;VALUE=URI;X-ADDRESS=Wildcat Valley R and P Club 12094 S 300 E Brookston IN United States;X-APPLE-RADIUS=500;X-TITLE=12094 S 300 E:geo:-86.811749,40.576877
END:VEVENT
BEGIN:VEVENT
DTSTART;TZID=America/New_York:20260208T130000
DTEND;TZID=America/New_York:20260208T160000
DTSTAMP:20260425T070754
CREATED:20251207T181645Z
LAST-MODIFIED:20260208T183158Z
UID:10003433-1770555600-1770566400@gunstuff.tv
SUMMARY:SAWS (Sunday Afternoon Winter Skeet) League
DESCRIPTION:https://www.fxrgc.org/shotgun/saws/ \nLeague Director: John Feroldi    jferoldi@yahoo.com
URL:https://gunstuff.tv/event/saws-sunday-afternoon-winter-skeet-league-5/
LOCATION:Skeet Fields 2-7
END:VEVENT
BEGIN:VEVENT
DTSTART;TZID=America/New_York:20260208T133000
DTEND;TZID=America/New_York:20260208T170000
DTSTAMP:20260425T070754
CREATED:20260206T050152Z
LAST-MODIFIED:20260206T050152Z
UID:10004995-1770557400-1770570000@gunstuff.tv
SUMMARY:JOAD League
DESCRIPTION:
URL:https://gunstuff.tv/event/joad-league-15/
LOCATION:Indoor Archery Range\, 4770 Waterford Rd\, Clarkston\, MI\, United States
CATEGORIES:Archery,Indoor Archery Range,Range
ATTACH;FMTTYPE=image/jpeg:https://gunstuff.tv/wp-content/uploads/2025/10/JOAD-SAM-Tournament-XezJUo.jpg
GEO:42.705297;-83.4014
X-APPLE-STRUCTURED-LOCATION;VALUE=URI;X-ADDRESS=Indoor Archery Range 4770 Waterford Rd Clarkston MI United States;X-APPLE-RADIUS=500;X-TITLE=4770 Waterford Rd:geo:-83.4014,42.705297
END:VEVENT
BEGIN:VEVENT
DTSTART;TZID=UTC:20260208T140000
DTEND;TZID=UTC:20260208T180000
DTSTAMP:20260425T070754
CREATED:20260203T001632Z
LAST-MODIFIED:20260203T001632Z
UID:10004934-1770559200-1770573600@gunstuff.tv
SUMMARY:Indoor Range closed 2-6:00pm
DESCRIPTION:Juniors will meet today \nAll new members must schedule\, please call John at 516-250-7373
URL:https://gunstuff.tv/event/indoor-range-closed-2-600pm/
END:VEVENT
BEGIN:VEVENT
DTSTART;TZID=America/New_York:20260208T180000
DTEND;TZID=America/New_York:20260208T200000
DTSTAMP:20260425T070754
CREATED:20260206T050152Z
LAST-MODIFIED:20260206T050152Z
UID:10004996-1770573600-1770580800@gunstuff.tv
SUMMARY:FITA Target League
DESCRIPTION:
URL:https://gunstuff.tv/event/fita-target-league-6/
LOCATION:Indoor Archery Range\, 4770 Waterford Rd\, Clarkston\, MI\, United States
CATEGORIES:Archery,Indoor Archery Range,Range,Winter League
ATTACH;FMTTYPE=image/jpeg:https://gunstuff.tv/wp-content/uploads/2025/12/FITA_outdoorwednesday-4fSUc8.jpg
GEO:42.705297;-83.4014
X-APPLE-STRUCTURED-LOCATION;VALUE=URI;X-ADDRESS=Indoor Archery Range 4770 Waterford Rd Clarkston MI United States;X-APPLE-RADIUS=500;X-TITLE=4770 Waterford Rd:geo:-83.4014,42.705297
END:VEVENT
BEGIN:VEVENT
DTSTART;VALUE=DATE:20260209
DTEND;VALUE=DATE:20260210
DTSTAMP:20260425T070754
CREATED:20260127T031659Z
LAST-MODIFIED:20260203T033219Z
UID:10004773-1770595200-1770681599@gunstuff.tv
SUMMARY:Closed Mondays
DESCRIPTION:@ 			\n			\n							 \n\nHOURS: \nMonday: Closed \nTues-Thurs: 10am-8pm \nFri: 10am-5pm \nSat: 9:30am-5pm (shooting @10am) \nSun: 10:30am-4pm (shooting @11am) \nLast lane reservation is 1 hour before closing \n\n		\n\n\n\n\n\n\n						\n							Add to calendar						 \n\n\n\n									\n										Google Calendar									\n								\n\n									\n										iCalendar									\n								\n\n									\n										Outlook 365									\n								\n\n									\n										Outlook Live
URL:https://gunstuff.tv/event/closed-mondays-19/
END:VEVENT
BEGIN:VEVENT
DTSTART;TZID=America/Denver:20260209T080000
DTEND;TZID=America/Denver:20260209T170000
DTSTAMP:20260425T070754
CREATED:20260202T070217Z
LAST-MODIFIED:20260202T070238Z
UID:10004899-1770624000-1770656400@gunstuff.tv
SUMMARY:FRGC Member Only Day
DESCRIPTION:
URL:https://gunstuff.tv/event/frgc-member-only-day-11/
LOCATION:South Dakota
END:VEVENT
BEGIN:VEVENT
DTSTART;TZID=America/Denver:20260209T080000
DTEND;TZID=America/Denver:20260209T170000
DTSTAMP:20260425T070754
CREATED:20260209T070149Z
LAST-MODIFIED:20260209T070209Z
UID:10005118-1770624000-1770656400@gunstuff.tv
SUMMARY:FRGC Member Only Day
DESCRIPTION:
URL:https://gunstuff.tv/event/frgc-member-only-day-17/
LOCATION:South Dakota
END:VEVENT
BEGIN:VEVENT
DTSTART;TZID=America/New_York:20260209T083000
DTEND;TZID=America/New_York:20260209T120000
DTSTAMP:20260425T070754
CREATED:20260206T050153Z
LAST-MODIFIED:20260206T050153Z
UID:10004998-1770625800-1770638400@gunstuff.tv
SUMMARY:Fall/Winter PPC
DESCRIPTION:Fall / Winter PPC Season – Indoor range – Thursdays from 5:30 to 9:30 PM October 2\, 2025 to March 26\, 2026\, and Mondays from 8:30 AM to 12:00\, October 6th 2024 to March 30\, 2026.
URL:https://gunstuff.tv/event/fall-winter-ppc-39/
LOCATION:Indoor Rifle & Pistol Range\, 4770 Waterford Rd\,\, Village of Clarkston\, 48346
CATEGORIES:D.R. Wilson,Indoor Rifle & Pistol Rage,Range
ATTACH;FMTTYPE=image/jpeg:https://gunstuff.tv/wp-content/uploads/2025/10/PPC-Logo-6Evv9j.jpg
END:VEVENT
BEGIN:VEVENT
DTSTART;TZID=America/New_York:20260209T090000
DTEND;TZID=America/New_York:20260209T100000
DTSTAMP:20260425T070754
CREATED:20251003T162639Z
LAST-MODIFIED:20251010T162926Z
UID:10001381-1770627600-1770631200@gunstuff.tv
SUMMARY:4-H Class Indoors
DESCRIPTION:Indoor reserved for 4-H class.
URL:https://gunstuff.tv/event/4-h-class-indoors-19/
LOCATION:Indoor Range
END:VEVENT
BEGIN:VEVENT
DTSTART;TZID=America/New_York:20260209T090000
DTEND;TZID=America/New_York:20260209T110000
DTSTAMP:20260425T070754
CREATED:20260206T050153Z
LAST-MODIFIED:20260206T050153Z
UID:10004997-1770627600-1770634800@gunstuff.tv
SUMMARY:Traditional League AM
DESCRIPTION:
URL:https://gunstuff.tv/event/traditional-league-am-6/
LOCATION:Indoor Archery Range\, 4770 Waterford Rd\, Clarkston\, MI\, United States
CATEGORIES:Archery,Indoor Archery Range,Range,Winter League
ATTACH;FMTTYPE=image/jpeg:https://gunstuff.tv/wp-content/uploads/2025/12/Traditional_Barebow-3kQxVw.jpg
GEO:42.705297;-83.4014
X-APPLE-STRUCTURED-LOCATION;VALUE=URI;X-ADDRESS=Indoor Archery Range 4770 Waterford Rd Clarkston MI United States;X-APPLE-RADIUS=500;X-TITLE=4770 Waterford Rd:geo:-83.4014,42.705297
END:VEVENT
BEGIN:VEVENT
DTSTART;TZID=America/New_York:20260209T160000
DTEND;TZID=America/New_York:20260209T180000
DTSTAMP:20260425T070754
CREATED:20251003T162639Z
LAST-MODIFIED:20251205T181706Z
UID:10001382-1770652800-1770660000@gunstuff.tv
SUMMARY:Skeet League
DESCRIPTION:Contact Frank Andrews with Questions.
URL:https://gunstuff.tv/event/skeet-league-19/
END:VEVENT
BEGIN:VEVENT
DTSTART;TZID=America/New_York:20260209T163000
DTEND;TZID=America/New_York:20260209T183000
DTSTAMP:20260425T070754
CREATED:20260113T030136Z
LAST-MODIFIED:20260203T033216Z
UID:10004464-1770654600-1770661800@gunstuff.tv
SUMMARY:Firearm Foundations: Ladies Only
DESCRIPTION:Our “Firearm Foundations: Ladies Only” course is ideal for women who are inexperienced\, or completely new to shooting handguns.  Enjoy learning gun safety fundamentals\, basic operation\, and getting on target in a friendly and encouraging environment! \nThis Fun and Exciting 2-hour course focuses on: \n–Basic Firearms Safety \n–Getting familiar with the parts and operation of handguns \n–Gripping\, aiming\, stance and trigger press \n–Considerations for using a handgun \nThe first portion of class occurs in our classroom\, where participants will learn firearms safety rules\, parts of handguns\, and begin to learn how to shoot a handgun. \nWe spend the second half of the course on our private\, climate-controlled indoor range.  Here we preview five .22 LR handguns that are great for beginners.  Each participant will get to choose three to try! \nDO NOT BRING A FIREARM TO THIS CLASS–HANDGUNS ARE PROVIDED! \nIF SPOT IS RESERVED FOR A MINOR (UNDER 18) THEY MUST BE ACCOMPANIED BY AN ADULT. THERE MUST BE AN ADULT FOR EACH MINOR. \nThis is a perfect opportunity to learn the fundamentals of shooting without the noise\, flash\, and recoil of larger calibers. \nWith our certified instructors’ experience in teaching and hands-on training\, you can be confident that the information you’ll receive is among the best in the industry–read our reviews below! \nRESERVE YOUR SPOT ONLINE TODAY– these events fill up quickly.  In order to provide quality attention to our students\, we have a fixed number of available seats. \n*HANDGUNS\, AMMUNITION\, EAR AND EYE PROTECTION ARE PROVIDED IN THE COST OF THIS COURSE. \nCourse Length: 2 hours \nCourse Location: Bud’s Gun Shop and Range\, 1105 Industry Rd\, Lexington\, KY 40505 \nPlease consider bringing a sweater or light jacket as classroom temperature can be cool! \nCheck Dates for Available Courses\, If Date Does Not Appear In Drop Down Menu It Has Been Filled\n \n*****IMPORTANT: Please arrive at least 15 minutes before start of class to complete waivers at our range desk***** \n Late arrivals: Due to safety considerations and important safety training\, late arrivals will not be seated\, but allowed to attend the next available class. \nREGISTRATION ONLINE IS REQUIRED TO RESERVE YOUR SPOT\, SO SIGN UP TODAY! Firearm Foundations: Ladies Only | Bud’s Gun Shop & Range\, Lexington KY \nClick for Bud’s Gun Shop KY Cancellation Policies 
URL:https://gunstuff.tv/event/firearm-foundations-ladies-only-6/
LOCATION:Buds Gun Shop and Range\, 1105 Industry Rd\, Lexington\, KY\, 40505\, United States
CATEGORIES:Handgun Training,Introductory Training,Ladies Handgun Training
ATTACH;FMTTYPE=image/jpeg:https://gunstuff.tv/wp-content/uploads/2025/10/firearmfoundationsladiessquare-1Dzsoi.jpg
ORGANIZER;CN="Bud&#8217%3Bs Gun Shop Range":MAILTO:range@budsgunshop.com
END:VEVENT
BEGIN:VEVENT
DTSTART;TZID=UTC:20260209T170000
DTEND;TZID=UTC:20260209T210000
DTSTAMP:20260425T070754
CREATED:20260203T001632Z
LAST-MODIFIED:20260203T001632Z
UID:10004935-1770656400-1770670800@gunstuff.tv
SUMMARY:Indoor Range closed 5-9:00pm
DESCRIPTION:Indoor Range Closed
URL:https://gunstuff.tv/event/indoor-range-closed-5-900pm/
END:VEVENT
BEGIN:VEVENT
DTSTART;TZID=America/New_York:20260209T173000
DTEND;TZID=America/New_York:20260209T213000
DTSTAMP:20260425T070754
CREATED:20260206T050153Z
LAST-MODIFIED:20260206T050153Z
UID:10004999-1770658200-1770672600@gunstuff.tv
SUMMARY:Junior Rifle
DESCRIPTION:
URL:https://gunstuff.tv/event/junior-rifle-20/
LOCATION:Indoor Rifle & Pistol Range\, 4770 Waterford Rd\,\, Village of Clarkston\, 48346
CATEGORIES:D.R. Wilson,Indoor Rifle & Pistol Rage,Jr. Rifle,Range
ATTACH;FMTTYPE=image/jpeg:https://gunstuff.tv/wp-content/uploads/2025/10/Junior-Rifle-3-scaled-QIEwuL.jpg
END:VEVENT
BEGIN:VEVENT
DTSTART;TZID=America/New_York:20260209T183000
DTEND;TZID=America/New_York:20260209T193000
DTSTAMP:20260425T070754
CREATED:20260206T050153Z
LAST-MODIFIED:20260206T050153Z
UID:10005000-1770661800-1770665400@gunstuff.tv
SUMMARY:Drum Ball
DESCRIPTION:Drum Ball Fun on the Patio!\nJoin us for Drum Ball\, a unique and exciting way to get moving! If you’re looking for a fun\, low-impact workout that feels more like a game than exercise\, this is it.\nWe use drumsticks and large stability balls to combine drumming rhythms with fitness movements. It’s great for coordination\, core strength\, and releasing stress—all while listening to great music!\nWhen: Every Monday & Thursday evening\nTime: 6:30 PM – 7:30 PM\nLocation: Main Building Patio\nFee: $5 Drop-in per class\nNote: Sticks and balls are provided for all participants. Just bring your energy!
URL:https://gunstuff.tv/event/drum-ball-16/
LOCATION:OCSC Main Building Patio\, 4770 Waterford Rd\, Clarkston\, MI\, United States
CATEGORIES:Club Events,Open to the Public
ATTACH;FMTTYPE=image/jpeg:https://gunstuff.tv/wp-content/uploads/2025/12/Drum-Ball-at-OCSC-E9nLz4.jpg
GEO:42.705297;-83.4014
X-APPLE-STRUCTURED-LOCATION;VALUE=URI;X-ADDRESS=OCSC Main Building Patio 4770 Waterford Rd Clarkston MI United States;X-APPLE-RADIUS=500;X-TITLE=4770 Waterford Rd:geo:-83.4014,42.705297
END:VEVENT
BEGIN:VEVENT
DTSTART;TZID=America/Chicago:20260209T190000
DTEND;TZID=America/Chicago:20260209T200000
DTSTAMP:20260425T070754
CREATED:20251121T053145Z
LAST-MODIFIED:20260206T053138Z
UID:10003187-1770663600-1770667200@gunstuff.tv
SUMMARY:Monthly Membership Meeting
DESCRIPTION:Second Monday of each month at Hill Barn Event Center.\n100 Hill Road Bryant AR\nStarts at 7pm.\nThis is the only way to join as a NEW member\, no new members taken during the months of October and November.\nExisting members may renew at any meeting between October and February.
URL:https://gunstuff.tv/event/monthly-membership-meeting-5/
LOCATION:AR
END:VEVENT
BEGIN:VEVENT
DTSTART;TZID=America/New_York:20260209T190000
DTEND;TZID=America/New_York:20260209T210000
DTSTAMP:20260425T070754
CREATED:20260206T050153Z
LAST-MODIFIED:20260206T050153Z
UID:10005001-1770663600-1770670800@gunstuff.tv
SUMMARY:Traditional League PM
DESCRIPTION:
URL:https://gunstuff.tv/event/traditional-league-pm-6/
LOCATION:Indoor Archery Range\, 4770 Waterford Rd\, Clarkston\, MI\, United States
CATEGORIES:Archery,Indoor Archery Range,Range,Winter League
ATTACH;FMTTYPE=image/jpeg:https://gunstuff.tv/wp-content/uploads/2025/12/Traditional_Barebow-3kQxVw.jpg
GEO:42.705297;-83.4014
X-APPLE-STRUCTURED-LOCATION;VALUE=URI;X-ADDRESS=Indoor Archery Range 4770 Waterford Rd Clarkston MI United States;X-APPLE-RADIUS=500;X-TITLE=4770 Waterford Rd:geo:-83.4014,42.705297
END:VEVENT
BEGIN:VEVENT
DTSTART;TZID=America/New_York:20260209T190000
DTEND;TZID=America/New_York:20260209T213000
DTSTAMP:20260425T070754
CREATED:20260206T050153Z
LAST-MODIFIED:20260206T050153Z
UID:10005002-1770663600-1770672600@gunstuff.tv
SUMMARY:Board of Director's Meeting
DESCRIPTION:
URL:https://gunstuff.tv/event/board-of-directors-meeting-5/
LOCATION:Indoor Rifle & Pistol Range\, 4770 Waterford Rd\,\, Village of Clarkston\, 48346
CATEGORIES:Board Meeting
ATTACH;FMTTYPE=image/png:https://gunstuff.tv/wp-content/uploads/2025/10/Circle-Logo-e1647896702576-h8fJMO.png
END:VEVENT
BEGIN:VEVENT
DTSTART;TZID=UTC:20260209T190000
DTEND;TZID=UTC:20260209T220000
DTSTAMP:20260425T070754
CREATED:20260209T194653Z
LAST-MODIFIED:20260209T194653Z
UID:10005122-1770663600-1770674400@gunstuff.tv
SUMMARY:Open Range W/C 08/02/2026
DESCRIPTION:
URL:https://gunstuff.tv/event/open-range-w-c-08-02-2026/
LOCATION:Tiverton Small-bore Rifle Club
END:VEVENT
BEGIN:VEVENT
DTSTART;VALUE=DATE:20260210
DTEND;VALUE=DATE:20260211
DTSTAMP:20260425T070754
CREATED:20251031T161656Z
LAST-MODIFIED:20260206T171638Z
UID:10002669-1770681600-1770767999@gunstuff.tv
SUMMARY:SWN zero & test day Benchrest Range
DESCRIPTION:
URL:https://gunstuff.tv/event/100-200-300-yard-practice-benchrest-range-58/
END:VEVENT
BEGIN:VEVENT
DTSTART;VALUE=DATE:20260210
DTEND;VALUE=DATE:20260211
DTSTAMP:20260425T070754
CREATED:20260102T170139Z
LAST-MODIFIED:20260206T171638Z
UID:10003704-1770681600-1770767999@gunstuff.tv
SUMMARY:Keith Weil & David Gosnell life Celebration 5pm activity center
DESCRIPTION:
URL:https://gunstuff.tv/event/keith-weil-david-gosnell-life-celebration-5pm-activity-center/
END:VEVENT
BEGIN:VEVENT
DTSTART;TZID=America/Denver:20260210T080000
DTEND;TZID=America/Denver:20260210T170000
DTSTAMP:20260425T070754
CREATED:20260202T070217Z
LAST-MODIFIED:20260202T070238Z
UID:10004900-1770710400-1770742800@gunstuff.tv
SUMMARY:FRGC Member Only Day
DESCRIPTION:
URL:https://gunstuff.tv/event/frgc-member-only-day-12/
LOCATION:South Dakota
END:VEVENT
BEGIN:VEVENT
DTSTART;TZID=UTC:20260210T090000
DTEND;TZID=UTC:20260210T090000
DTSTAMP:20260425T070754
CREATED:20260110T165451Z
LAST-MODIFIED:20260208T103142Z
UID:10003939-1770714000-1770714000@gunstuff.tv
SUMMARY:Libertyseed
DESCRIPTION:Strasburg\, OH – Tuscarawas County Public Library\, Strasburg Branch\nFebruary 10\, 2026\nAddress: 356 Fifth St. SW\, Strasburg\, OH\nThis event is a Libertyseed. It is a speaking engagement and no firearms instruction takes place. This event is free to the public and no registration is required.\nProject Appleseed invites you to experience a LibertySeed event where our volunteers will tell the story of the birth of our Nation. These events are free to the public.\nThe 19th of April\, 1775\, a day that forever changed the course of our Nation. Why is this such an important day and who was involved in the birth of our Nation?\nIt will not be the story you think you know\, or the story you heard in school. The volunteers at the RWVA are passionate about American Heritage. We love to tell people the Story of the Three Strikes\, about ‘The Day the Shot was Heard Around the World.’ The volunteers are willing to tell the story to groups around the Nation.\nStarts at 3:30pm\nContact info: (email or phone number please) \nEmily Crilley\nStrasburg Branch Supervisor\, Strasburg Branch\n330.878.5711 | ecrilley@tusclibrary.org
URL:https://gunstuff.tv/event/libertyseed/
LOCATION:Tuscarawas County Public Library\, 107 S Main St\, Tuscarawas\, OH\, United States
GEO:40.396508;-81.407328
X-APPLE-STRUCTURED-LOCATION;VALUE=URI;X-ADDRESS=Tuscarawas County Public Library 107 S Main St Tuscarawas OH United States;X-APPLE-RADIUS=500;X-TITLE=107 S Main St:geo:-81.407328,40.396508
END:VEVENT
END:VCALENDAR