BEGIN:VCALENDAR
VERSION:2.0
PRODID:-//GunStuff TV - ECPv6.15.20//NONSGML v1.0//EN
CALSCALE:GREGORIAN
METHOD:PUBLISH
X-ORIGINAL-URL:https://gunstuff.tv
X-WR-CALDESC:Events for GunStuff TV
REFRESH-INTERVAL;VALUE=DURATION:PT1H
X-Robots-Tag:noindex
X-PUBLISHED-TTL:PT1H
BEGIN:VTIMEZONE
TZID:America/New_York
BEGIN:DAYLIGHT
TZOFFSETFROM:-0500
TZOFFSETTO:-0400
TZNAME:EDT
DTSTART:20260308T070000
END:DAYLIGHT
BEGIN:STANDARD
TZOFFSETFROM:-0400
TZOFFSETTO:-0500
TZNAME:EST
DTSTART:20261101T060000
END:STANDARD
BEGIN:DAYLIGHT
TZOFFSETFROM:-0500
TZOFFSETTO:-0400
TZNAME:EDT
DTSTART:20270314T070000
END:DAYLIGHT
BEGIN:STANDARD
TZOFFSETFROM:-0400
TZOFFSETTO:-0500
TZNAME:EST
DTSTART:20271107T060000
END:STANDARD
BEGIN:DAYLIGHT
TZOFFSETFROM:-0500
TZOFFSETTO:-0400
TZNAME:EDT
DTSTART:20280312T070000
END:DAYLIGHT
BEGIN:STANDARD
TZOFFSETFROM:-0400
TZOFFSETTO:-0500
TZNAME:EST
DTSTART:20281105T060000
END:STANDARD
END:VTIMEZONE
BEGIN:VTIMEZONE
TZID:America/Chicago
BEGIN:DAYLIGHT
TZOFFSETFROM:-0600
TZOFFSETTO:-0500
TZNAME:CDT
DTSTART:20260308T080000
END:DAYLIGHT
BEGIN:STANDARD
TZOFFSETFROM:-0500
TZOFFSETTO:-0600
TZNAME:CST
DTSTART:20261101T070000
END:STANDARD
BEGIN:DAYLIGHT
TZOFFSETFROM:-0600
TZOFFSETTO:-0500
TZNAME:CDT
DTSTART:20270314T080000
END:DAYLIGHT
BEGIN:STANDARD
TZOFFSETFROM:-0500
TZOFFSETTO:-0600
TZNAME:CST
DTSTART:20271107T070000
END:STANDARD
BEGIN:DAYLIGHT
TZOFFSETFROM:-0600
TZOFFSETTO:-0500
TZNAME:CDT
DTSTART:20280312T080000
END:DAYLIGHT
BEGIN:STANDARD
TZOFFSETFROM:-0500
TZOFFSETTO:-0600
TZNAME:CST
DTSTART:20281105T070000
END:STANDARD
END:VTIMEZONE
BEGIN:VTIMEZONE
TZID:UTC
BEGIN:STANDARD
TZOFFSETFROM:+0000
TZOFFSETTO:+0000
TZNAME:UTC
DTSTART:20260101T000000
END:STANDARD
END:VTIMEZONE
BEGIN:VEVENT
DTSTART;TZID=America/New_York:20270128T183000
DTEND;TZID=America/New_York:20270128T203000
DTSTAMP:20260422T153413
CREATED:20251003T162646Z
LAST-MODIFIED:20260418T214739Z
UID:10001567-1801161000-1801168200@gunstuff.tv
SUMMARY:Board Meeting
DESCRIPTION:All members welcome.
URL:https://gunstuff.tv/event/board-meeting-19/
LOCATION:Indoor Range
END:VEVENT
BEGIN:VEVENT
DTSTART;VALUE=DATE:20270129
DTEND;VALUE=DATE:20270201
DTSTAMP:20260422T153413
CREATED:20260301T200130Z
LAST-MODIFIED:20260419T200303Z
UID:10005907-1801180800-1801439999@gunstuff.tv
SUMMARY:ACUI Lower Midwest Conference Tournament
DESCRIPTION:Click for more information
URL:https://gunstuff.tv/event/acui-lower-midwest-conference-tournament-2/
END:VEVENT
BEGIN:VEVENT
DTSTART;TZID=America/New_York:20270131T090000
DTEND;TZID=America/New_York:20270131T120000
DTSTAMP:20260422T153413
CREATED:20251003T162646Z
LAST-MODIFIED:20260418T214739Z
UID:10001568-1801386000-1801396800@gunstuff.tv
SUMMARY:Weekly Trap League
DESCRIPTION:
URL:https://gunstuff.tv/event/weekly-trap-league-70/
LOCATION:Shotgun Range
END:VEVENT
BEGIN:VEVENT
DTSTART;TZID=America/New_York:20270131T100000
DTEND;TZID=America/New_York:20270131T120000
DTSTAMP:20260422T153413
CREATED:20251003T162646Z
LAST-MODIFIED:20251107T180153Z
UID:10001569-1801389600-1801396800@gunstuff.tv
SUMMARY:22 Marksmanship Challenge (Aspirin Shoot)
DESCRIPTION:Aspirin @ 50 yrds\nTums @ 100 yrds\nSteel @ 150 & 200 yrds\nCenterfire prohibited during event.
URL:https://gunstuff.tv/event/22-marksmanship-challenge-aspirin-shoot-16/
LOCATION:Square Range
END:VEVENT
BEGIN:VEVENT
DTSTART;VALUE=DATE:20270201
DTEND;VALUE=DATE:20270202
DTSTAMP:20260422T153413
CREATED:20260213T031106Z
LAST-MODIFIED:20260417T034740Z
UID:10005378-1801440000-1801526399@gunstuff.tv
SUMMARY:Club Closed
DESCRIPTION:
URL:https://gunstuff.tv/event/club-closed-102/
END:VEVENT
BEGIN:VEVENT
DTSTART;TZID=America/New_York:20270201T090000
DTEND;TZID=America/New_York:20270201T100000
DTSTAMP:20260422T153413
CREATED:20251003T162646Z
LAST-MODIFIED:20251010T162934Z
UID:10001570-1801472400-1801476000@gunstuff.tv
SUMMARY:4-H Class Indoors
DESCRIPTION:Indoor reserved for 4-H class.
URL:https://gunstuff.tv/event/4-h-class-indoors-70/
LOCATION:Indoor Range
END:VEVENT
BEGIN:VEVENT
DTSTART;TZID=America/New_York:20270201T160000
DTEND;TZID=America/New_York:20270201T180000
DTSTAMP:20260422T153413
CREATED:20251003T162646Z
LAST-MODIFIED:20251205T181712Z
UID:10001571-1801497600-1801504800@gunstuff.tv
SUMMARY:Skeet League
DESCRIPTION:Contact Frank Andrews with Questions.
URL:https://gunstuff.tv/event/skeet-league-70/
END:VEVENT
BEGIN:VEVENT
DTSTART;VALUE=DATE:20270202
DTEND;VALUE=DATE:20270203
DTSTAMP:20260422T153413
CREATED:20260213T031106Z
LAST-MODIFIED:20260417T034740Z
UID:10005377-1801526400-1801612799@gunstuff.tv
SUMMARY:Club closed
DESCRIPTION:
URL:https://gunstuff.tv/event/club-closed-101/
END:VEVENT
BEGIN:VEVENT
DTSTART;VALUE=DATE:20270203
DTEND;VALUE=DATE:20270204
DTSTAMP:20260422T153413
CREATED:20260301T201631Z
LAST-MODIFIED:20260419T204745Z
UID:10005909-1801612800-1801699199@gunstuff.tv
SUMMARY:Northside Education Foundation
DESCRIPTION:Sporting Clays Fundraiser benefiting Northside School District students by funding classroom projects that are not provided in the district budget. \nLearn More
URL:https://gunstuff.tv/event/northside-education-foundation-2/
END:VEVENT
BEGIN:VEVENT
DTSTART;VALUE=DATE:20270205
DTEND;VALUE=DATE:20270206
DTSTAMP:20260422T153413
CREATED:20260213T031106Z
LAST-MODIFIED:20260417T034740Z
UID:10005379-1801785600-1801871999@gunstuff.tv
SUMMARY:Rifle range closed for steel challenge setup & shoot.
DESCRIPTION:
URL:https://gunstuff.tv/event/rifle-range-closed-for-steel-challenge-setup-shoot-14/
END:VEVENT
BEGIN:VEVENT
DTSTART;VALUE=DATE:20270205
DTEND;VALUE=DATE:20270206
DTSTAMP:20260422T153413
CREATED:20260213T031107Z
LAST-MODIFIED:20260417T034740Z
UID:10005381-1801785600-1801871999@gunstuff.tv
SUMMARY:Competition Bays Closed for steel challenge set up
DESCRIPTION:
URL:https://gunstuff.tv/event/competition-bays-closed-for-steel-challenge-set-up-12/
END:VEVENT
BEGIN:VEVENT
DTSTART;VALUE=DATE:20270205
DTEND;VALUE=DATE:20270206
DTSTAMP:20260422T153413
CREATED:20260215T200318Z
LAST-MODIFIED:20260419T204745Z
UID:10005620-1801785600-1801871999@gunstuff.tv
SUMMARY:Vulcan
DESCRIPTION:Sporting Clay Fundraiser
URL:https://gunstuff.tv/event/vulcan-2/
END:VEVENT
BEGIN:VEVENT
DTSTART;VALUE=DATE:20270206
DTEND;VALUE=DATE:20270207
DTSTAMP:20260422T153413
CREATED:20260213T031107Z
LAST-MODIFIED:20260417T034741Z
UID:10005380-1801872000-1801958399@gunstuff.tv
SUMMARY:Steel Challenge
DESCRIPTION: Steel Shoot. Steel shooting offers a port of entry to the shooting sports that is far less intimidating than practical  shooting . Steel provides an excellent starting place for young or beginning shooters. Steel offers the most diversified shooting sport out there making it appealing to youth and seniors\, novice and experts. Any practical handgun \,including 22 rimfires (both handgun and rifle). Sign up starts at9AM\, Cost for monthly club level matches are $15 for Pinetucky Club Members and $20 for Non-member. A second firearm can be registered for an additional $10.Standard Pinetucky safety rules Apply. You can sign up at practiscore.com.  Please note our steel challenge is now six stages which requires a minimum round count of 150 rounds of ammunition.  Please plan accordingly.
URL:https://gunstuff.tv/event/steel-challenge-11/
END:VEVENT
BEGIN:VEVENT
DTSTART;VALUE=DATE:20270206
DTEND;VALUE=DATE:20270207
DTSTAMP:20260422T153413
CREATED:20260213T031107Z
LAST-MODIFIED:20260417T034740Z
UID:10005382-1801872000-1801958399@gunstuff.tv
SUMMARY:Rifle Range Closed Today
DESCRIPTION:
URL:https://gunstuff.tv/event/rifle-range-closed-today-11/
END:VEVENT
BEGIN:VEVENT
DTSTART;TZID=America/New_York:20270206T083000
DTEND;TZID=America/New_York:20270206T140000
DTSTAMP:20260422T153413
CREATED:20251003T031217Z
LAST-MODIFIED:20260417T071750Z
UID:10000675-1801902600-1801922400@gunstuff.tv
SUMMARY:PMRPC GSMM Match
DESCRIPTION:For more information you may contact the match director: James Sudduth at j.sudduth@ymail.com.
URL:https://gunstuff.tv/event/pmrpc-gsmm-match-17/
LOCATION:Port Malabar Rifle & Pistol Club\, 599 Hurley Blvd SW\, Palm Bay\, FL\, United States
GEO:27.987569;-80.71018
X-APPLE-STRUCTURED-LOCATION;VALUE=URI;X-ADDRESS=Port Malabar Rifle & Pistol Club 599 Hurley Blvd SW Palm Bay FL United States;X-APPLE-RADIUS=500;X-TITLE=599 Hurley Blvd SW:geo:-80.71018,27.987569
END:VEVENT
BEGIN:VEVENT
DTSTART;TZID=UTC:20270207T083000
DTEND;TZID=UTC:20270207T083000
DTSTAMP:20260422T153413
CREATED:20251031T195500Z
LAST-MODIFIED:20260418T174753Z
UID:10002806-1801989000-1801989000@gunstuff.tv
SUMMARY:EDSS Level I Steel Challenge
DESCRIPTION:EDSS Level I Steel Challenge\nDate: 2/07/27\nStart Time: 8:30 AM\nLocation:\nEl Dorado Steel Shooters (SCSA522)\n5941 Union Mine Rd\nEl Dorado\, CA\nEvent Contact Information\nAmer Sahtout\n9162964076\nedss.public@gmail.com\nMatch Information\nEDSS Level I Club Match. Sign-ups available on Practiscore.com. 5941 Union Mine Rd.\, El Dorado Ca 95623\nEvent Website \nHome
URL:https://gunstuff.tv/event/edss-level-i-steel-challenge-16/
LOCATION:El Dorado Steel Shooters (SCSA522)\, 5941 Union Mine Rd\, El Dorado\, CA\, United States
GEO:38.652465;-120.833266
X-APPLE-STRUCTURED-LOCATION;VALUE=URI;X-ADDRESS=El Dorado Steel Shooters (SCSA522) 5941 Union Mine Rd El Dorado CA United States;X-APPLE-RADIUS=500;X-TITLE=5941 Union Mine Rd:geo:-120.833266,38.652465
END:VEVENT
BEGIN:VEVENT
DTSTART;TZID=America/New_York:20270207T090000
DTEND;TZID=America/New_York:20270207T120000
DTSTAMP:20260422T153413
CREATED:20251003T162646Z
LAST-MODIFIED:20260418T214740Z
UID:10001572-1801990800-1802001600@gunstuff.tv
SUMMARY:Weekly Trap League
DESCRIPTION:
URL:https://gunstuff.tv/event/weekly-trap-league-71/
LOCATION:Shotgun Range
END:VEVENT
BEGIN:VEVENT
DTSTART;VALUE=DATE:20270208
DTEND;VALUE=DATE:20270209
DTSTAMP:20260422T153413
CREATED:20260213T031107Z
LAST-MODIFIED:20260417T034741Z
UID:10005383-1802044800-1802131199@gunstuff.tv
SUMMARY:Club Closed
DESCRIPTION:
URL:https://gunstuff.tv/event/club-closed-103/
END:VEVENT
BEGIN:VEVENT
DTSTART;TZID=America/New_York:20270208T090000
DTEND;TZID=America/New_York:20270208T100000
DTSTAMP:20260422T153413
CREATED:20251003T162646Z
LAST-MODIFIED:20251010T162934Z
UID:10001573-1802077200-1802080800@gunstuff.tv
SUMMARY:4-H Class Indoors
DESCRIPTION:Indoor reserved for 4-H class.
URL:https://gunstuff.tv/event/4-h-class-indoors-71/
LOCATION:Indoor Range
END:VEVENT
BEGIN:VEVENT
DTSTART;TZID=America/New_York:20270208T160000
DTEND;TZID=America/New_York:20270208T180000
DTSTAMP:20260422T153413
CREATED:20251003T162646Z
LAST-MODIFIED:20251205T181713Z
UID:10001574-1802102400-1802109600@gunstuff.tv
SUMMARY:Skeet League
DESCRIPTION:Contact Frank Andrews with Questions.
URL:https://gunstuff.tv/event/skeet-league-71/
END:VEVENT
BEGIN:VEVENT
DTSTART;VALUE=DATE:20270209
DTEND;VALUE=DATE:20270210
DTSTAMP:20260422T153413
CREATED:20260213T031107Z
LAST-MODIFIED:20260417T034741Z
UID:10005384-1802131200-1802217599@gunstuff.tv
SUMMARY:Club closed
DESCRIPTION:
URL:https://gunstuff.tv/event/club-closed-104/
END:VEVENT
BEGIN:VEVENT
DTSTART;VALUE=DATE:20270210
DTEND;VALUE=DATE:20270215
DTSTAMP:20260422T153413
CREATED:20260301T200130Z
LAST-MODIFIED:20260419T200303Z
UID:10005908-1802217600-1802649599@gunstuff.tv
SUMMARY:San Antonio Stock Show & Rodeo Junior Shoot-Out
DESCRIPTION:For event information check the San Antonio Stock Show & Rodeo website at www.sarodeo.com.  For club information\, contact Amber Schwarz at aschwarz@nssa-nsca.com. \nSee our event page for rules and other information.
URL:https://gunstuff.tv/event/san-antonio-stock-show-rodeo-junior-shoot-out-2/
LOCATION:National Shooting Complex\, 5931 Roft Rd\, San Antonio\, TX\, United States
GEO:29.492881;-98.741985
X-APPLE-STRUCTURED-LOCATION;VALUE=URI;X-ADDRESS=National Shooting Complex 5931 Roft Rd San Antonio TX United States;X-APPLE-RADIUS=500;X-TITLE=5931 Roft Rd:geo:-98.741985,29.492881
END:VEVENT
BEGIN:VEVENT
DTSTART;TZID=UTC:20270213T080000
DTEND;TZID=UTC:20270213T080000
DTSTAMP:20260422T153413
CREATED:20251031T195500Z
LAST-MODIFIED:20260418T174753Z
UID:10002807-1802505600-1802505600@gunstuff.tv
SUMMARY:Hansen Steel
DESCRIPTION:Hansen Steel\nDate: 2/13/27\nStart Time: 8:00 AM\nLocation:\nFort Myers Practical Shooters (SCSA254)\n27700 Zemel Road\nPunta Gorda\, FL\nEvent Contact Information\nSteve Naso\n2398490190\nstevenaso1@gmail.com\nMatch Information\nClassifier every second saturday.\nEvent Website\nhttp://
URL:https://gunstuff.tv/event/hansen-steel-16/
LOCATION:Fort Myers Practical Shooters (SCSA254)\, 25398 Zemel Rd\, Punta Gorda\, FL\, United States
GEO:26.799811;-82.032777
X-APPLE-STRUCTURED-LOCATION;VALUE=URI;X-ADDRESS=Fort Myers Practical Shooters (SCSA254) 25398 Zemel Rd Punta Gorda FL United States;X-APPLE-RADIUS=500;X-TITLE=25398 Zemel Rd:geo:-82.032777,26.799811
END:VEVENT
BEGIN:VEVENT
DTSTART;TZID=America/New_York:20270214T090000
DTEND;TZID=America/New_York:20270214T120000
DTSTAMP:20260422T153413
CREATED:20251003T162646Z
LAST-MODIFIED:20260418T214740Z
UID:10001575-1802595600-1802606400@gunstuff.tv
SUMMARY:Weekly Trap League
DESCRIPTION:
URL:https://gunstuff.tv/event/weekly-trap-league-72/
LOCATION:Shotgun Range
END:VEVENT
BEGIN:VEVENT
DTSTART;TZID=America/New_York:20270214T090000
DTEND;TZID=America/New_York:20270214T140000
DTSTAMP:20260422T153413
CREATED:20251003T031217Z
LAST-MODIFIED:20260417T071748Z
UID:10000676-1802595600-1802613600@gunstuff.tv
SUMMARY:Wyoming Antelope 2700
DESCRIPTION:
URL:https://gunstuff.tv/event/wyoming-antelope-2700-33/
LOCATION:Wyoming Antelope Club-Florida\, 3700 126th Ave N\, Clearwater\, FL\, United States
GEO:27.886432;-82.683263
X-APPLE-STRUCTURED-LOCATION;VALUE=URI;X-ADDRESS=Wyoming Antelope Club-Florida 3700 126th Ave N Clearwater FL United States;X-APPLE-RADIUS=500;X-TITLE=3700 126th Ave N:geo:-82.683263,27.886432
END:VEVENT
BEGIN:VEVENT
DTSTART;VALUE=DATE:20270215
DTEND;VALUE=DATE:20270216
DTSTAMP:20260422T153413
CREATED:20260213T031107Z
LAST-MODIFIED:20260417T034741Z
UID:10005386-1802649600-1802735999@gunstuff.tv
SUMMARY:Club Closed
DESCRIPTION:
URL:https://gunstuff.tv/event/club-closed-106/
END:VEVENT
BEGIN:VEVENT
DTSTART;TZID=America/New_York:20270215T090000
DTEND;TZID=America/New_York:20270215T100000
DTSTAMP:20260422T153413
CREATED:20251003T162646Z
LAST-MODIFIED:20251010T162934Z
UID:10001576-1802682000-1802685600@gunstuff.tv
SUMMARY:4-H Class Indoors
DESCRIPTION:Indoor reserved for 4-H class.
URL:https://gunstuff.tv/event/4-h-class-indoors-72/
LOCATION:Indoor Range
END:VEVENT
BEGIN:VEVENT
DTSTART;TZID=America/New_York:20270215T160000
DTEND;TZID=America/New_York:20270215T180000
DTSTAMP:20260422T153413
CREATED:20251003T162646Z
LAST-MODIFIED:20251205T181713Z
UID:10001577-1802707200-1802714400@gunstuff.tv
SUMMARY:Skeet League
DESCRIPTION:Contact Frank Andrews with Questions.
URL:https://gunstuff.tv/event/skeet-league-72/
END:VEVENT
BEGIN:VEVENT
DTSTART;VALUE=DATE:20270216
DTEND;VALUE=DATE:20270217
DTSTAMP:20260422T153413
CREATED:20260213T031107Z
LAST-MODIFIED:20260417T034741Z
UID:10005385-1802736000-1802822399@gunstuff.tv
SUMMARY:Club closed
DESCRIPTION:
URL:https://gunstuff.tv/event/club-closed-105/
END:VEVENT
BEGIN:VEVENT
DTSTART;VALUE=DATE:20270218
DTEND;VALUE=DATE:20270220
DTSTAMP:20260422T153413
CREATED:20260301T201631Z
LAST-MODIFIED:20260419T204745Z
UID:10005910-1802908800-1803081599@gunstuff.tv
SUMMARY:Conoco Phillips
DESCRIPTION:Sporting Clay fundraiser to benefitSouth TexasChildren's Hospital of San Antonio Foundation.
URL:https://gunstuff.tv/event/conoco-phillips-2/
END:VEVENT
END:VCALENDAR