BEGIN:VCALENDAR
VERSION:2.0
PRODID:-//GunStuff TV - ECPv6.15.20//NONSGML v1.0//EN
CALSCALE:GREGORIAN
METHOD:PUBLISH
X-ORIGINAL-URL:https://gunstuff.tv
X-WR-CALDESC:Events for GunStuff TV
REFRESH-INTERVAL;VALUE=DURATION:PT1H
X-Robots-Tag:noindex
X-PUBLISHED-TTL:PT1H
BEGIN:VTIMEZONE
TZID:America/Phoenix
BEGIN:STANDARD
TZOFFSETFROM:-0700
TZOFFSETTO:-0700
TZNAME:MST
DTSTART:20250101T000000
END:STANDARD
END:VTIMEZONE
BEGIN:VTIMEZONE
TZID:America/New_York
BEGIN:DAYLIGHT
TZOFFSETFROM:-0500
TZOFFSETTO:-0400
TZNAME:EDT
DTSTART:20250309T070000
END:DAYLIGHT
BEGIN:STANDARD
TZOFFSETFROM:-0400
TZOFFSETTO:-0500
TZNAME:EST
DTSTART:20251102T060000
END:STANDARD
BEGIN:DAYLIGHT
TZOFFSETFROM:-0500
TZOFFSETTO:-0400
TZNAME:EDT
DTSTART:20260308T070000
END:DAYLIGHT
BEGIN:STANDARD
TZOFFSETFROM:-0400
TZOFFSETTO:-0500
TZNAME:EST
DTSTART:20261101T060000
END:STANDARD
BEGIN:DAYLIGHT
TZOFFSETFROM:-0500
TZOFFSETTO:-0400
TZNAME:EDT
DTSTART:20270314T070000
END:DAYLIGHT
BEGIN:STANDARD
TZOFFSETFROM:-0400
TZOFFSETTO:-0500
TZNAME:EST
DTSTART:20271107T060000
END:STANDARD
END:VTIMEZONE
BEGIN:VTIMEZONE
TZID:America/Chicago
BEGIN:DAYLIGHT
TZOFFSETFROM:-0600
TZOFFSETTO:-0500
TZNAME:CDT
DTSTART:20250309T080000
END:DAYLIGHT
BEGIN:STANDARD
TZOFFSETFROM:-0500
TZOFFSETTO:-0600
TZNAME:CST
DTSTART:20251102T070000
END:STANDARD
BEGIN:DAYLIGHT
TZOFFSETFROM:-0600
TZOFFSETTO:-0500
TZNAME:CDT
DTSTART:20260308T080000
END:DAYLIGHT
BEGIN:STANDARD
TZOFFSETFROM:-0500
TZOFFSETTO:-0600
TZNAME:CST
DTSTART:20261101T070000
END:STANDARD
BEGIN:DAYLIGHT
TZOFFSETFROM:-0600
TZOFFSETTO:-0500
TZNAME:CDT
DTSTART:20270314T080000
END:DAYLIGHT
BEGIN:STANDARD
TZOFFSETFROM:-0500
TZOFFSETTO:-0600
TZNAME:CST
DTSTART:20271107T070000
END:STANDARD
END:VTIMEZONE
BEGIN:VTIMEZONE
TZID:UTC
BEGIN:STANDARD
TZOFFSETFROM:+0000
TZOFFSETTO:+0000
TZNAME:UTC
DTSTART:20250101T000000
END:STANDARD
END:VTIMEZONE
BEGIN:VEVENT
DTSTART;VALUE=DATE:20261215
DTEND;VALUE=DATE:20261216
DTSTAMP:20260422T153409
CREATED:20251003T160032Z
LAST-MODIFIED:20260419T044758Z
UID:10001096-1797292800-1797379199@gunstuff.tv
SUMMARY:100\, 200\, 300 Yard Practice Benchrest Range
DESCRIPTION:
URL:https://gunstuff.tv/event/100-200-300-yard-practice-benchrest-range-55/
END:VEVENT
BEGIN:VEVENT
DTSTART;VALUE=DATE:20261215
DTEND;VALUE=DATE:20261216
DTSTAMP:20260422T153409
CREATED:20260213T031105Z
LAST-MODIFIED:20260417T034739Z
UID:10005356-1797292800-1797379199@gunstuff.tv
SUMMARY:Club closed
DESCRIPTION:
URL:https://gunstuff.tv/event/club-closed-88/
END:VEVENT
BEGIN:VEVENT
DTSTART;VALUE=DATE:20261216
DTEND;VALUE=DATE:20261217
DTSTAMP:20260422T153409
CREATED:20251003T160032Z
LAST-MODIFIED:20260419T044758Z
UID:10001095-1797379200-1797465599@gunstuff.tv
SUMMARY:Centerfire and Smallbore Practice - Smallbore Range
DESCRIPTION:
URL:https://gunstuff.tv/event/centerfire-and-smallbore-practice-smallbore-range-26/
END:VEVENT
BEGIN:VEVENT
DTSTART;VALUE=DATE:20261216
DTEND;VALUE=DATE:20261217
DTSTAMP:20260422T153409
CREATED:20251005T190051Z
LAST-MODIFIED:20260419T200303Z
UID:10001694-1797379200-1797465599@gunstuff.tv
SUMMARY:Wednesday Registered Skeet
DESCRIPTION:Registered Skeet.  Contact Jerry Adams at 240-605-3220 for details. \nClick here for flyer
URL:https://gunstuff.tv/event/wednesday-registered-skeet-22/
END:VEVENT
BEGIN:VEVENT
DTSTART;VALUE=DATE:20261217
DTEND;VALUE=DATE:20261218
DTSTAMP:20260422T153409
CREATED:20251003T160032Z
LAST-MODIFIED:20260419T044758Z
UID:10001094-1797465600-1797551999@gunstuff.tv
SUMMARY:600 Yard Practice 8:00am Pits
DESCRIPTION:
URL:https://gunstuff.tv/event/600-yard-practice-800am-pits-14/
END:VEVENT
BEGIN:VEVENT
DTSTART;VALUE=DATE:20261218
DTEND;VALUE=DATE:20261219
DTSTAMP:20260422T153409
CREATED:20251003T160032Z
LAST-MODIFIED:20260419T044758Z
UID:10001097-1797552000-1797638399@gunstuff.tv
SUMMARY:Across the Course Practice 8:00am Pits
DESCRIPTION:
URL:https://gunstuff.tv/event/across-the-course-practice-800am-pits-20/
END:VEVENT
BEGIN:VEVENT
DTSTART;VALUE=DATE:20261218
DTEND;VALUE=DATE:20261219
DTSTAMP:20260422T153409
CREATED:20260213T031105Z
LAST-MODIFIED:20260417T034739Z
UID:10005358-1797552000-1797638399@gunstuff.tv
SUMMARY:Competition Bays closed for USPSA set up
DESCRIPTION:
URL:https://gunstuff.tv/event/competition-bays-closed-for-uspsa-set-up-11/
END:VEVENT
BEGIN:VEVENT
DTSTART;VALUE=DATE:20261219
DTEND;VALUE=DATE:20261220
DTSTAMP:20260422T153409
CREATED:20251003T160032Z
LAST-MODIFIED:20260419T044758Z
UID:10001098-1797638400-1797724799@gunstuff.tv
SUMMARY:1000 Yard Practice 8:00am Pits
DESCRIPTION:
URL:https://gunstuff.tv/event/1000-yard-practice-800am-pits-17/
END:VEVENT
BEGIN:VEVENT
DTSTART;VALUE=DATE:20261219
DTEND;VALUE=DATE:20261220
DTSTAMP:20260422T153409
CREATED:20260213T031105Z
LAST-MODIFIED:20260417T034739Z
UID:10005357-1797638400-1797724799@gunstuff.tv
SUMMARY:USPSA Pistol Match
DESCRIPTION:USPSA (United States Practical ShootingAssociation) Pistol Match: Practical Shooting measures the shooter’s ability toshoot rapidly and accurately through obstacle-laden courses. The shooter moves\,negotiates\, runs\, covers\, and speed reloads through the stage as fast as theirskill will allow.  If this fast paced shooting sounds like fun\, come outand give it a try. Show up with an unloaded centerfire pistol in .38\, 9mm\, .40\,or .45 in an enclosed case and ask a match official where the safe area is soyou can holster your gun safely.  Also bring a rigid holster\, magazines\,and mag pouches capable of holding at least 32 rounds.  Overall matchround counts are usually between 100 and 150 rounds.  Specific divisionrequirements can be found at http://uspsa.org.  Starts at 9:30 AM and costwill be $20 ($15 for Pinetucky members\, active duty military\, police\, andfire). You can sign up at practiscore.com
URL:https://gunstuff.tv/event/uspsa-pistol-match-11/
LOCATION:Pinetucky Gun Club\, 2096 Greenland Rd\, Blythe\, GA\, United States
GEO:33.344103;-82.138722
X-APPLE-STRUCTURED-LOCATION;VALUE=URI;X-ADDRESS=Pinetucky Gun Club 2096 Greenland Rd Blythe GA United States;X-APPLE-RADIUS=500;X-TITLE=2096 Greenland Rd:geo:-82.138722,33.344103
END:VEVENT
BEGIN:VEVENT
DTSTART;TZID=America/New_York:20261219T080000
DTEND;TZID=America/New_York:20261219T160000
DTSTAMP:20260422T153409
CREATED:20251003T162537Z
LAST-MODIFIED:20260419T190301Z
UID:10001299-1797667200-1797696000@gunstuff.tv
SUMMARY:High Power Rifle Match
DESCRIPTION:Details here: https://www.fxrgc.org/rifle/high-power-rifle-monthly/
URL:https://gunstuff.tv/event/high-power-rifle-match-29/
LOCATION:Benson Range
END:VEVENT
BEGIN:VEVENT
DTSTART;TZID=America/New_York:20261219T083000
DTEND;TZID=America/New_York:20261219T143000
DTSTAMP:20260422T153409
CREATED:20251003T031216Z
LAST-MODIFIED:20260417T071747Z
UID:10000665-1797669000-1797690600@gunstuff.tv
SUMMARY:PMRPC Rimfire Match
DESCRIPTION:For more information you may contact the match director: James Sudduth at j.sudduth@ymail.com.
URL:https://gunstuff.tv/event/pmrpc-rimfire-match-15/
LOCATION:Port Malabar Rifle & Pistol Club\, 599 Hurley Blvd SW\, Palm Bay\, FL\, United States
GEO:27.987569;-80.71018
X-APPLE-STRUCTURED-LOCATION;VALUE=URI;X-ADDRESS=Port Malabar Rifle & Pistol Club 599 Hurley Blvd SW Palm Bay FL United States;X-APPLE-RADIUS=500;X-TITLE=599 Hurley Blvd SW:geo:-80.71018,27.987569
END:VEVENT
BEGIN:VEVENT
DTSTART;TZID=UTC:20261219T090000
DTEND;TZID=UTC:20261219T090000
DTSTAMP:20260422T153409
CREATED:20260110T171716Z
LAST-MODIFIED:20260417T114657Z
UID:10004350-1797670800-1797670800@gunstuff.tv
SUMMARY:SAPSA USPSA Match
DESCRIPTION:SAPSA USPSA Match\nDate : 12/19/26\nStart Time: 9:00 AM\nLocation:\nSt. Augustine Practical Shooting Assn (FL13)\n18811 Maxville MacClenny Hwy\nJacksonville\, FL\nEvent Contact Information\nMicha McLain\n8505436555\nsapsashooters@gmail.com\nMatch Information\nSix stages including 1 classifier. Approximate round count is 150-200.\nSignup starts at 0800 and will end promptly at 0900.\nShooters meeting will commence upon closing of registration and match starts thereafter.\nMatch fee is $40 for non-members and $35 for members. Cash Only – No online payment accepted.\nEveryone is expected to help break the stages down after the match is over.\nEvent Website\nhttps://sapsa.org
URL:https://gunstuff.tv/event/sapsa-uspsa-match-15/
LOCATION:St. Augustine Practical Shooting Assn (FL13)\, 18811 Maxville MacClenny Hwy\, Jacksonville\, FL
END:VEVENT
BEGIN:VEVENT
DTSTART;TZID=UTC:20261219T090000
DTEND;TZID=UTC:20261219T090000
DTSTAMP:20260422T153409
CREATED:20260117T171712Z
LAST-MODIFIED:20260417T114657Z
UID:10004586-1797670800-1797670800@gunstuff.tv
SUMMARY:Chillicothe Sportsmens Club
DESCRIPTION:Chillicothe Sportsmens Club\nDates : 12/19/26 – 12/20/26\nStart Time: 9:00 AM\nLocation:\nChillicothe Sportsmens Club (IL08)\n21617 N Yankee Ln\nChillicothe\, IL\nEvent Contact Information\njim stobaugh\n3092089558\njimsbuilders@YAHOO.COM\nMatch Information\nWe shoot the weekend with the 4th Sunday. Saturday starts at 10 am after setup\, setup starts at 8 am. Sunday starts at 9 am. Sign Up on Practiscore. Please check Practiscore for changes due to Weather\, Holidays or other Club Events. Winter Months will be outdoors weather permitting. If Indoor\, match is Sunday Only. Please follow us at Chillicothe USPSA on Facebook for match updates.
URL:https://gunstuff.tv/event/chillicothe-sportsmens-club-16/
LOCATION:Chillicothe Sportsmens Club (IL08)\, 21617 N Yankee Ln\, Chillicothe\, IL\, United States
GEO:40.951421;-89.482129
X-APPLE-STRUCTURED-LOCATION;VALUE=URI;X-ADDRESS=Chillicothe Sportsmens Club (IL08) 21617 N Yankee Ln Chillicothe IL United States;X-APPLE-RADIUS=500;X-TITLE=21617 N Yankee Ln:geo:-89.482129,40.951421
END:VEVENT
BEGIN:VEVENT
DTSTART;TZID=UTC:20261219T090000
DTEND;TZID=UTC:20261219T090000
DTSTAMP:20260422T153409
CREATED:20260208T103211Z
LAST-MODIFIED:20260419T111841Z
UID:10005091-1797670800-1797670800@gunstuff.tv
SUMMARY:Appleseed
DESCRIPTION:Waco\, TX – Central Texas Rifle & Pistol Club\nDecember 19\, 2026 – December 20\, 2026\nThis is a traditional 25m Project Appleseed rifle event.\nCenterfire is NOT allowed at this event – 22 Rimfire Only.\nRegister Now\nAddress: 348 Range Rd\, China Spring\, TX 76633\nWebsite: ctrpclub.org\nPlease Read:  How to Prepare for an Event\nSafety Notice:\n–  Keep ALL firearms in your vehicle until after the safety briefing and you are instructed to bring them to the firing line.\n–  No illegal firearms are allowed.\n–  At centerfire-friendly ranges\, rifle cartridges are limited to 8mm (rifle) or .45 caliber (pistol and pistol caliber carbines).\n–  Effective 8/8/2025\, Project Appleseed has temporarily suspended the SIG-Sauer P320/M17/M18 (all variants) in our Pistol Clinics.\n–  Parents of youth attending\, please read our Message to Parents.\nSubject to state and local laws\, Instructors at your event may have discounted .22 ammo available. Reach out to the contact at the bottom of this page for availability.\nRange Fee:  $10.00 per day per person.\nCamping Available:\nPrimitive camping available on site. Two RV hookups available also.\nAirport Park Campground – 8 Miles from range\nHotels:\nFairfield Inn 12 Miles\nExtended Stay 12 Miles\nAmerica’s Best 12 Miles\nCourtyard 12 Miles\nFood Outlets\nGriff’s 5 Miles\nPizza Hut 5.5 Miles\nSonic 6 Miles\nSubway 6 Miles\nDirections:\nSee map to the range.\nAlso see directions at the range website.\nFrom TX-340 Loop / TX Hwy 6:\n– Take highway TX-340-Loop W / TX-6 N\, 8.0 mi\n– Turn right at FM-185\, 4.4 mi\n– Turn right at China Spring Rd. (FM1637)\, 2.1 mi\n– Turn left at Wortham Bend Rd. (FM 2490)\, 4.8 mi\n– Turn right at Range Rd.\n– Turn right at 384 Range Rd. (CTRP Club gate)\nFrom I-35\, Waco TX:\n– Take exit 339 – Lakeshore Dr.\n– Take E Lakeshore Dr\, 4.6 mi\n– Turn right at Steinbeck Bend Dr\, 2.8 mi\n– Turn right at China Spring Rd. (FM1687)\, 3.1 mi\n– Slight right toward Wortham Bend Rd. (FM2490)\, 4.8 mi\n– Turn right at Range Rd.\n– Turn right at 384 Range Rd. (CTRP Club gate)\nGPS: 31.691138\,-97.283281\nState Laws to be aware of:\nIt is the responsibility of attendees to know and comply with all State and Federal Firearms Laws.\nTexas State Firearms Laws\nMisc:\nCurrently this range is limited to .22 rimfire only.\nCentral Texas Rifle and Pistol Club\nThe largest members only\, not-for-profit gun club in Central Texas!\nCentral Texas Rifle and Pistol Club was formed in 1946 as a non-profit organization to promote shooting sports in the Central Texas area. Our Club provides educational as well as a number of recreational and competitive rifle and pistol shooting sport opportunities. Shooting program descriptions and scheduled matches can be found on the Programs  page.\nFor more information contact:\nName: TX State Coordinator Email Address: TX@appleseedinfo.org\nName: Kirby Foster Email Address: kfoster@projectappleseed.net
URL:https://gunstuff.tv/event/appleseed-261/
LOCATION:Central Texas Rifle & Pistol Club\, 348 Range Rd\, China Spring\, TX\, United States
GEO:31.69011;-97.285551
X-APPLE-STRUCTURED-LOCATION;VALUE=URI;X-ADDRESS=Central Texas Rifle & Pistol Club 348 Range Rd China Spring TX United States;X-APPLE-RADIUS=500;X-TITLE=348 Range Rd:geo:-97.285551,31.69011
END:VEVENT
BEGIN:VEVENT
DTSTART;TZID=UTC:20261219T090000
DTEND;TZID=UTC:20261219T090000
DTSTAMP:20260422T153409
CREATED:20260418T174752Z
LAST-MODIFIED:20260418T174752Z
UID:10008066-1797670800-1797670800@gunstuff.tv
SUMMARY:December Steel Match
DESCRIPTION:December Steel Match\nDate: 12/19/26\nStart Time: 9:00 AM\nLocation:\nMoss Branch Steel Shooters (SCSA584)\n419 Alexis Ln\nAnniston\, AL\nEvent Contact Information\nClint McCall\n256 591-7507\nclintemccall@gmail.com\nMatch Information\nWe will begin match set up at 8:am. Onsite registration will begin at 8:30am. Shooting will start at 9:00am. we will shoot 5 to 6 stages.\nEvent Website\nhttp://
URL:https://gunstuff.tv/event/december-steel-match/
LOCATION:Moss Branch Steel Shooters (SCSA584)\, 299 Alexis Ln\, Anniston\, AL\, United States
GEO:33.651897;-85.91955
X-APPLE-STRUCTURED-LOCATION;VALUE=URI;X-ADDRESS=Moss Branch Steel Shooters (SCSA584) 299 Alexis Ln Anniston AL United States;X-APPLE-RADIUS=500;X-TITLE=299 Alexis Ln:geo:-85.91955,33.651897
END:VEVENT
BEGIN:VEVENT
DTSTART;TZID=America/New_York:20261219T090000
DTEND;TZID=America/New_York:20261219T130000
DTSTAMP:20260422T153409
CREATED:20251003T162537Z
LAST-MODIFIED:20260419T190301Z
UID:10001300-1797670800-1797685200@gunstuff.tv
SUMMARY:Ram Bash
DESCRIPTION:See https://www.fxrgc.org/rifle/ram-bash/ for more info
URL:https://gunstuff.tv/event/ram-bash-15/
LOCATION:Lea Valley
END:VEVENT
BEGIN:VEVENT
DTSTART;TZID=America/New_York:20261219T090000
DTEND;TZID=America/New_York:20261220T170000
DTSTAMP:20260422T153409
CREATED:20251003T162537Z
LAST-MODIFIED:20260419T190301Z
UID:10001301-1797670800-1797786000@gunstuff.tv
SUMMARY:2G-ACM Match
DESCRIPTION:See the Club web page for 2G-ACM for more details (https://www.fxrgc.org/practical-shooting/2g-acm/). Subscribe to the 2GACM mailing list to get match announcements. 
URL:https://gunstuff.tv/event/2g-acm-match-13/
LOCATION:Culver & Benson Ranges
END:VEVENT
BEGIN:VEVENT
DTSTART;TZID=UTC:20261219T100000
DTEND;TZID=UTC:20261219T100000
DTSTAMP:20260422T153409
CREATED:20260110T171716Z
LAST-MODIFIED:20260417T114657Z
UID:10004351-1797674400-1797674400@gunstuff.tv
SUMMARY:LowCountry USPSA
DESCRIPTION:LowCountry USPSA\nDate : 12/19/26\nStart Time: 10:00 AM\nLocation:\nLow Country Uspsa (NC37)\n466 Indigo Flats E\nTabor City\, NC\nEvent Contact Information\nallen terrell\n8432311810\nlowcountrypreserveuspsa@gmail.com\nEvent Website\nhttps://practiscore.com/clubs/low-country-uspsa
URL:https://gunstuff.tv/event/lowcountry-uspsa-15/
LOCATION:Low Country Uspsa (NC37)\, 466 Indigo Flats E\, Tabor City\, NC\, United States
GEO:34.025696;-78.628674
X-APPLE-STRUCTURED-LOCATION;VALUE=URI;X-ADDRESS=Low Country Uspsa (NC37) 466 Indigo Flats E Tabor City NC United States;X-APPLE-RADIUS=500;X-TITLE=466 Indigo Flats E:geo:-78.628674,34.025696
END:VEVENT
BEGIN:VEVENT
DTSTART;TZID=UTC:20261219T100000
DTEND;TZID=UTC:20261219T100000
DTSTAMP:20260422T153409
CREATED:20260128T014757Z
LAST-MODIFIED:20260418T174752Z
UID:10004820-1797674400-1797674400@gunstuff.tv
SUMMARY:VA Steel
DESCRIPTION:VA Steel\nDate: 12/19/26\nStart Time: 10:00 AM\nLocation:\nVasteel (SCSA382)\nBrushy Mountain Club 1813 Izaak Walton Road Hurt\, VA\nHurt\, VA\nEvent Contact Information\nJudy Gallion\n434-907-4443\nvasteel21@gmail.com\nMatch Information\nThis is a 6 Stage sanctioned Steel Challenge match. Registration at clubhouse from 9:00 am until 9:30 am\, match starts at 10:00 am.\nEvent Website\nhttp://
URL:https://gunstuff.tv/event/va-steel-13/
LOCATION:Vasteel (SCSA382)\, 307 Izaak Walton Rd\, Gretna\, VA\, United States
GEO:37.005382;-79.325362
X-APPLE-STRUCTURED-LOCATION;VALUE=URI;X-ADDRESS=Vasteel (SCSA382) 307 Izaak Walton Rd Gretna VA United States;X-APPLE-RADIUS=500;X-TITLE=307 Izaak Walton Rd:geo:-79.325362,37.005382
END:VEVENT
BEGIN:VEVENT
DTSTART;TZID=UTC:20261219T100000
DTEND;TZID=UTC:20261219T100000
DTSTAMP:20260422T153409
CREATED:20260320T113201Z
LAST-MODIFIED:20260417T114657Z
UID:10006436-1797674400-1797674400@gunstuff.tv
SUMMARY:Intrepid Defense December USPSA Match
DESCRIPTION:Intrepid Defense December USPSA Match\nDate : 12/19/26\nStart Time: 10:00 AM\nLocation:\nIntrepid Defense Practical Shooters (MO26)\n4645 Elk Head Road\nBland\, MO\nEvent Contact Information\nMelinda Puckett\n3147619712\nmpuckett@intrepiddefenseusa.com\nMatch Information\nThis is the monthly USPSA match at Intrepid Defense. There are 7 stages\, including 1 classifier.\nMatch fee is $30 for adults\, $15 for 18 and under. Pay when you register or bring cash on match day.\nCheck in on match day between 9-9:30am at Bay 3. New shooters meeting is at 9:45am followed by the all shooters safety brief at 10am.\nIf you would like to volunteer to help with setup/teardown\, please text or call Melinda @ (314) 761-9712.\nEvent Website\nhttps://practiscore.com/clubs/intrepid_defense_practical_shooters
URL:https://gunstuff.tv/event/intrepid-defense-december-uspsa-match/
LOCATION:Intrepid Defense Practical Shooters (MO26)\, 4645 Elkhead Rd\, Bland\, MO\, United States
GEO:38.175002;-91.606187
X-APPLE-STRUCTURED-LOCATION;VALUE=URI;X-ADDRESS=Intrepid Defense Practical Shooters (MO26) 4645 Elkhead Rd Bland MO United States;X-APPLE-RADIUS=500;X-TITLE=4645 Elkhead Rd:geo:-91.606187,38.175002
END:VEVENT
BEGIN:VEVENT
DTSTART;VALUE=DATE:20261220
DTEND;VALUE=DATE:20261221
DTSTAMP:20260422T153409
CREATED:20251003T160032Z
LAST-MODIFIED:20260419T044758Z
UID:10001099-1797724800-1797811199@gunstuff.tv
SUMMARY:Winter Smallbore League Smallbore Range
DESCRIPTION:
URL:https://gunstuff.tv/event/winter-smallbore-league-smallbore-range-6/
END:VEVENT
BEGIN:VEVENT
DTSTART;TZID=America/New_York:20261220T090000
DTEND;TZID=America/New_York:20261220T120000
DTSTAMP:20260422T153409
CREATED:20251003T162645Z
LAST-MODIFIED:20260418T214739Z
UID:10001545-1797757200-1797768000@gunstuff.tv
SUMMARY:Weekly Trap League
DESCRIPTION:
URL:https://gunstuff.tv/event/weekly-trap-league-64/
LOCATION:Shotgun Range
END:VEVENT
BEGIN:VEVENT
DTSTART;TZID=America/New_York:20261220T090000
DTEND;TZID=America/New_York:20261220T123000
DTSTAMP:20260422T153409
CREATED:20251003T031216Z
LAST-MODIFIED:20260417T071749Z
UID:10000667-1797757200-1797769800@gunstuff.tv
SUMMARY:GRPC NRA 1800
DESCRIPTION:
URL:https://gunstuff.tv/event/grpc-nra-1800-15/
LOCATION:Gateway Rifle & Pistol Club\, 9301 Zambito Ave\, Jacksonville\, FL\, United States
GEO:30.262025;-81.814577
X-APPLE-STRUCTURED-LOCATION;VALUE=URI;X-ADDRESS=Gateway Rifle & Pistol Club 9301 Zambito Ave Jacksonville FL United States;X-APPLE-RADIUS=500;X-TITLE=9301 Zambito Ave:geo:-81.814577,30.262025
END:VEVENT
BEGIN:VEVENT
DTSTART;TZID=America/New_York:20261220T090000
DTEND;TZID=America/New_York:20261220T140000
DTSTAMP:20260422T153409
CREATED:20251003T031216Z
LAST-MODIFIED:20260417T071749Z
UID:10000666-1797757200-1797775200@gunstuff.tv
SUMMARY:Wyoming Antelope 2700
DESCRIPTION:
URL:https://gunstuff.tv/event/wyoming-antelope-2700-30/
LOCATION:Wyoming Antelope Club-Florida\, 3700 126th Ave N\, Clearwater\, FL\, United States
GEO:27.886432;-82.683263
X-APPLE-STRUCTURED-LOCATION;VALUE=URI;X-ADDRESS=Wyoming Antelope Club-Florida 3700 126th Ave N Clearwater FL United States;X-APPLE-RADIUS=500;X-TITLE=3700 126th Ave N:geo:-82.683263,27.886432
END:VEVENT
BEGIN:VEVENT
DTSTART;TZID=UTC:20261220T100000
DTEND;TZID=UTC:20261220T100000
DTSTAMP:20260422T153409
CREATED:20260124T171831Z
LAST-MODIFIED:20260417T114657Z
UID:10004728-1797760800-1797760800@gunstuff.tv
SUMMARY:EWPSA Monthly USPSA Match
DESCRIPTION:EWPSA Monthly USPSA Match\nDate : 12/20/26\nStart Time: 10:00 AM\nLocation:\nEastern Wa. Practical Shooters (IE02)\n93315 N SR 225\nBenton City\, WA\nEvent Contact Information\nWarren Harper\n1\newpsa.stats@gmail.com\nMatch Information\nMatch Information\nThis is the EWPSA monthly match. Gates will be open by 9 am\, new shooter briefing at 9:30 am\, and shooters meeting at 10 am. We start shooting after the shooters meeting. The match will be $25 for non-members\, $20 for TCSA members\, juniors shoot for free\, new shooters to USPSA shoot for free\, and setup staff shoots for free. Setup for the match will begin at 9 am on Saturday before the match and targets will be put up around 8am on Sunday. Refunds will be given for cancellations minus Stripe fee. Typically 5-6 stages and around 180 rounds\, including a classifier. If you are a new shooter\, feel free to contact the Match Director (below) if you have any questions. Match Director Contact: ewpsa.stats@gmail.com\nEvent Website\nhttps://practiscore.com/search/matches?refinementList%5Bstate%5D%5B0%5D=Washington&refinementList%5Btype%5D%5B0%5D=USPSA&query=ewpsa
URL:https://gunstuff.tv/event/ewpsa-monthly-uspsa-match-14/
LOCATION:Eastern Wa. Practical Shooters (IE02)\, 71598 N State Rte 225 NW\, Benton City\, WA\, United States
GEO:46.31731;-119.493158
X-APPLE-STRUCTURED-LOCATION;VALUE=URI;X-ADDRESS=Eastern Wa. Practical Shooters (IE02) 71598 N State Rte 225 NW Benton City WA United States;X-APPLE-RADIUS=500;X-TITLE=71598 N State Rte 225 NW:geo:-119.493158,46.31731
END:VEVENT
BEGIN:VEVENT
DTSTART;VALUE=DATE:20261221
DTEND;VALUE=DATE:20261222
DTSTAMP:20260422T153409
CREATED:20260213T031105Z
LAST-MODIFIED:20260417T034739Z
UID:10005360-1797811200-1797897599@gunstuff.tv
SUMMARY:Club Closed
DESCRIPTION:
URL:https://gunstuff.tv/event/club-closed-90/
END:VEVENT
BEGIN:VEVENT
DTSTART;TZID=America/New_York:20261221T090000
DTEND;TZID=America/New_York:20261221T100000
DTSTAMP:20260422T153409
CREATED:20251003T162645Z
LAST-MODIFIED:20251010T162933Z
UID:10001546-1797843600-1797847200@gunstuff.tv
SUMMARY:4-H Class Indoors
DESCRIPTION:Indoor reserved for 4-H class.
URL:https://gunstuff.tv/event/4-h-class-indoors-64/
LOCATION:Indoor Range
END:VEVENT
BEGIN:VEVENT
DTSTART;TZID=America/New_York:20261221T160000
DTEND;TZID=America/New_York:20261221T180000
DTSTAMP:20260422T153409
CREATED:20251003T162645Z
LAST-MODIFIED:20251205T181712Z
UID:10001547-1797868800-1797876000@gunstuff.tv
SUMMARY:Skeet League
DESCRIPTION:Contact Frank Andrews with Questions.
URL:https://gunstuff.tv/event/skeet-league-64/
END:VEVENT
BEGIN:VEVENT
DTSTART;VALUE=DATE:20261222
DTEND;VALUE=DATE:20261223
DTSTAMP:20260422T153409
CREATED:20251003T160032Z
LAST-MODIFIED:20260419T044758Z
UID:10001101-1797897600-1797983999@gunstuff.tv
SUMMARY:100\, 200\, 300 Yard Practice Benchrest Range
DESCRIPTION:
URL:https://gunstuff.tv/event/100-200-300-yard-practice-benchrest-range-56/
END:VEVENT
BEGIN:VEVENT
DTSTART;VALUE=DATE:20261222
DTEND;VALUE=DATE:20261223
DTSTAMP:20260422T153409
CREATED:20260213T031105Z
LAST-MODIFIED:20260417T034739Z
UID:10005359-1797897600-1797983999@gunstuff.tv
SUMMARY:Club closed
DESCRIPTION:
URL:https://gunstuff.tv/event/club-closed-89/
END:VEVENT
END:VCALENDAR