BEGIN:VCALENDAR
VERSION:2.0
PRODID:-//GunStuff TV - ECPv6.15.20//NONSGML v1.0//EN
CALSCALE:GREGORIAN
METHOD:PUBLISH
X-WR-CALNAME:GunStuff TV
X-ORIGINAL-URL:https://gunstuff.tv
X-WR-CALDESC:Events for GunStuff TV
REFRESH-INTERVAL;VALUE=DURATION:PT1H
X-Robots-Tag:noindex
X-PUBLISHED-TTL:PT1H
BEGIN:VTIMEZONE
TZID:America/New_York
BEGIN:DAYLIGHT
TZOFFSETFROM:-0500
TZOFFSETTO:-0400
TZNAME:EDT
DTSTART:20250309T070000
END:DAYLIGHT
BEGIN:STANDARD
TZOFFSETFROM:-0400
TZOFFSETTO:-0500
TZNAME:EST
DTSTART:20251102T060000
END:STANDARD
BEGIN:DAYLIGHT
TZOFFSETFROM:-0500
TZOFFSETTO:-0400
TZNAME:EDT
DTSTART:20260308T070000
END:DAYLIGHT
BEGIN:STANDARD
TZOFFSETFROM:-0400
TZOFFSETTO:-0500
TZNAME:EST
DTSTART:20261101T060000
END:STANDARD
BEGIN:DAYLIGHT
TZOFFSETFROM:-0500
TZOFFSETTO:-0400
TZNAME:EDT
DTSTART:20270314T070000
END:DAYLIGHT
BEGIN:STANDARD
TZOFFSETFROM:-0400
TZOFFSETTO:-0500
TZNAME:EST
DTSTART:20271107T060000
END:STANDARD
END:VTIMEZONE
BEGIN:VTIMEZONE
TZID:UTC
BEGIN:STANDARD
TZOFFSETFROM:+0000
TZOFFSETTO:+0000
TZNAME:UTC
DTSTART:20250101T000000
END:STANDARD
END:VTIMEZONE
BEGIN:VTIMEZONE
TZID:America/Chicago
BEGIN:DAYLIGHT
TZOFFSETFROM:-0600
TZOFFSETTO:-0500
TZNAME:CDT
DTSTART:20250309T080000
END:DAYLIGHT
BEGIN:STANDARD
TZOFFSETFROM:-0500
TZOFFSETTO:-0600
TZNAME:CST
DTSTART:20251102T070000
END:STANDARD
BEGIN:DAYLIGHT
TZOFFSETFROM:-0600
TZOFFSETTO:-0500
TZNAME:CDT
DTSTART:20260308T080000
END:DAYLIGHT
BEGIN:STANDARD
TZOFFSETFROM:-0500
TZOFFSETTO:-0600
TZNAME:CST
DTSTART:20261101T070000
END:STANDARD
BEGIN:DAYLIGHT
TZOFFSETFROM:-0600
TZOFFSETTO:-0500
TZNAME:CDT
DTSTART:20270314T080000
END:DAYLIGHT
BEGIN:STANDARD
TZOFFSETFROM:-0500
TZOFFSETTO:-0600
TZNAME:CST
DTSTART:20271107T070000
END:STANDARD
END:VTIMEZONE
BEGIN:VTIMEZONE
TZID:America/Denver
BEGIN:DAYLIGHT
TZOFFSETFROM:-0700
TZOFFSETTO:-0600
TZNAME:MDT
DTSTART:20250309T090000
END:DAYLIGHT
BEGIN:STANDARD
TZOFFSETFROM:-0600
TZOFFSETTO:-0700
TZNAME:MST
DTSTART:20251102T080000
END:STANDARD
BEGIN:DAYLIGHT
TZOFFSETFROM:-0700
TZOFFSETTO:-0600
TZNAME:MDT
DTSTART:20260308T090000
END:DAYLIGHT
BEGIN:STANDARD
TZOFFSETFROM:-0600
TZOFFSETTO:-0700
TZNAME:MST
DTSTART:20261101T080000
END:STANDARD
BEGIN:DAYLIGHT
TZOFFSETFROM:-0700
TZOFFSETTO:-0600
TZNAME:MDT
DTSTART:20270314T090000
END:DAYLIGHT
BEGIN:STANDARD
TZOFFSETFROM:-0600
TZOFFSETTO:-0700
TZNAME:MST
DTSTART:20271107T080000
END:STANDARD
END:VTIMEZONE
BEGIN:VTIMEZONE
TZID:America/Phoenix
BEGIN:STANDARD
TZOFFSETFROM:-0700
TZOFFSETTO:-0700
TZNAME:MST
DTSTART:20250101T000000
END:STANDARD
END:VTIMEZONE
BEGIN:VTIMEZONE
TZID:America/Los_Angeles
BEGIN:DAYLIGHT
TZOFFSETFROM:-0800
TZOFFSETTO:-0700
TZNAME:PDT
DTSTART:20250309T100000
END:DAYLIGHT
BEGIN:STANDARD
TZOFFSETFROM:-0700
TZOFFSETTO:-0800
TZNAME:PST
DTSTART:20251102T090000
END:STANDARD
BEGIN:DAYLIGHT
TZOFFSETFROM:-0800
TZOFFSETTO:-0700
TZNAME:PDT
DTSTART:20260308T100000
END:DAYLIGHT
BEGIN:STANDARD
TZOFFSETFROM:-0700
TZOFFSETTO:-0800
TZNAME:PST
DTSTART:20261101T090000
END:STANDARD
BEGIN:DAYLIGHT
TZOFFSETFROM:-0800
TZOFFSETTO:-0700
TZNAME:PDT
DTSTART:20270314T100000
END:DAYLIGHT
BEGIN:STANDARD
TZOFFSETFROM:-0700
TZOFFSETTO:-0800
TZNAME:PST
DTSTART:20271107T090000
END:STANDARD
END:VTIMEZONE
BEGIN:VEVENT
DTSTART;TZID=America/New_York:20260201T110000
DTEND;TZID=America/New_York:20260201T160000
DTSTAMP:20260425T065529
CREATED:20260130T050157Z
LAST-MODIFIED:20260130T050218Z
UID:10004828-1769943600-1769961600@gunstuff.tv
SUMMARY:Regular Shooting Hours
DESCRIPTION:
URL:https://gunstuff.tv/event/regular-shooting-hours-72/
LOCATION:Shotgun Ranges\, 4770 Waterford Rd\, Clarkston\, MI\, United States
CATEGORIES:Range,Shotgun,Shotgun Range
ATTACH;FMTTYPE=image/png:https://gunstuff.tv/wp-content/uploads/2025/10/shotgun-logo-160x160-1-mvSnxY.png
GEO:42.705297;-83.4014
X-APPLE-STRUCTURED-LOCATION;VALUE=URI;X-ADDRESS=Shotgun Ranges 4770 Waterford Rd Clarkston MI United States;X-APPLE-RADIUS=500;X-TITLE=4770 Waterford Rd:geo:-83.4014,42.705297
END:VEVENT
BEGIN:VEVENT
DTSTART;TZID=America/New_York:20260201T130000
DTEND;TZID=America/New_York:20260201T160000
DTSTAMP:20260425T065529
CREATED:20251207T181645Z
LAST-MODIFIED:20260125T183218Z
UID:10003432-1769950800-1769961600@gunstuff.tv
SUMMARY:SAWS (Sunday Afternoon Winter Skeet) League
DESCRIPTION:https://www.fxrgc.org/shotgun/saws/ \nLeague Director: John Feroldi    jferoldi@yahoo.com
URL:https://gunstuff.tv/event/saws-sunday-afternoon-winter-skeet-league-4/
LOCATION:Skeet Fields 2-7
END:VEVENT
BEGIN:VEVENT
DTSTART;TZID=America/New_York:20260201T133000
DTEND;TZID=America/New_York:20260201T163000
DTSTAMP:20260425T065529
CREATED:20260125T183159Z
LAST-MODIFIED:20260201T183128Z
UID:10004749-1769952600-1769963400@gunstuff.tv
SUMMARY:Club Annual Membership Meeting
DESCRIPTION:
URL:https://gunstuff.tv/event/club-annual-membership-meeting-2/
LOCATION:Clubhouse
END:VEVENT
BEGIN:VEVENT
DTSTART;TZID=America/New_York:20260201T133000
DTEND;TZID=America/New_York:20260201T170000
DTSTAMP:20260425T065529
CREATED:20260130T050157Z
LAST-MODIFIED:20260130T050218Z
UID:10004829-1769952600-1769965200@gunstuff.tv
SUMMARY:JOAD League
DESCRIPTION:
URL:https://gunstuff.tv/event/joad-league-14/
LOCATION:Indoor Archery Range\, 4770 Waterford Rd\, Clarkston\, MI\, United States
CATEGORIES:Archery,Indoor Archery Range,Range
ATTACH;FMTTYPE=image/jpeg:https://gunstuff.tv/wp-content/uploads/2025/10/JOAD-SAM-Tournament-XezJUo.jpg
GEO:42.705297;-83.4014
X-APPLE-STRUCTURED-LOCATION;VALUE=URI;X-ADDRESS=Indoor Archery Range 4770 Waterford Rd Clarkston MI United States;X-APPLE-RADIUS=500;X-TITLE=4770 Waterford Rd:geo:-83.4014,42.705297
END:VEVENT
BEGIN:VEVENT
DTSTART;TZID=UTC:20260201T140000
DTEND;TZID=UTC:20260201T140000
DTSTAMP:20260425T065529
CREATED:20251024T181844Z
LAST-MODIFIED:20260124T171819Z
UID:10002564-1769954400-1769954400@gunstuff.tv
SUMMARY:BRSS uspsa
DESCRIPTION:BRSS uspsa\nDate : 2/01/26\nStart Time: 2:00 PM\nLocation:\nBlack River Shooting Supplies and Indoor Range (MO25)\n3260 S Westwood Blvd\nPopular Bluff\, MO\nEvent Contact Information\nHolt Pride\n5734298874\nHolt.pride@gmail.com\nMatch Information\nWe are an indoor facility. Most people show up around 5pm to grab a bite to eat from the cafe that’s in the range. We will go hot at 6pm. Entry fee is $20.00. We will have at least 5 stages\, including one classifier.
URL:https://gunstuff.tv/event/brss-uspsa-4/
LOCATION:Black River Shooting Supplies and Indoor Range (MO25)\, 1198 Poplar St\, Poplar Bluff\, MO\, United States
GEO:36.756557;-90.407811
X-APPLE-STRUCTURED-LOCATION;VALUE=URI;X-ADDRESS=Black River Shooting Supplies and Indoor Range (MO25) 1198 Poplar St Poplar Bluff MO United States;X-APPLE-RADIUS=500;X-TITLE=1198 Poplar St:geo:-90.407811,36.756557
END:VEVENT
BEGIN:VEVENT
DTSTART;TZID=America/New_York:20260201T180000
DTEND;TZID=America/New_York:20260201T200000
DTSTAMP:20260425T065529
CREATED:20260130T050157Z
LAST-MODIFIED:20260130T050218Z
UID:10004830-1769968800-1769976000@gunstuff.tv
SUMMARY:FITA Target League
DESCRIPTION:
URL:https://gunstuff.tv/event/fita-target-league-5/
LOCATION:Indoor Archery Range\, 4770 Waterford Rd\, Clarkston\, MI\, United States
CATEGORIES:Archery,Indoor Archery Range,Range,Winter League
ATTACH;FMTTYPE=image/jpeg:https://gunstuff.tv/wp-content/uploads/2025/12/FITA_outdoorwednesday-4fSUc8.jpg
GEO:42.705297;-83.4014
X-APPLE-STRUCTURED-LOCATION;VALUE=URI;X-ADDRESS=Indoor Archery Range 4770 Waterford Rd Clarkston MI United States;X-APPLE-RADIUS=500;X-TITLE=4770 Waterford Rd:geo:-83.4014,42.705297
END:VEVENT
BEGIN:VEVENT
DTSTART;VALUE=DATE:20260202
DTEND;VALUE=DATE:20260203
DTSTAMP:20260425T065529
CREATED:20251109T181644Z
LAST-MODIFIED:20260201T183128Z
UID:10003012-1769990400-1770076799@gunstuff.tv
SUMMARY:Dues Notices Released
DESCRIPTION:
URL:https://gunstuff.tv/event/dues-notices-released/
END:VEVENT
BEGIN:VEVENT
DTSTART;VALUE=DATE:20260202
DTEND;VALUE=DATE:20260203
DTSTAMP:20260425T065529
CREATED:20260127T031658Z
LAST-MODIFIED:20260127T031714Z
UID:10004768-1769990400-1770076799@gunstuff.tv
SUMMARY:Closed Mondays
DESCRIPTION:@ 			\n			\n							 \n\nHOURS: \nMonday: Closed \nTues-Thurs: 10am-8pm \nFri: 10am-5pm \nSat: 9:30am-5pm (shooting @10am) \nSun: 10:30am-4pm (shooting @11am) \nLast lane reservation is 1 hour before closing \n\n		\n\n\n\n\n\n\n						\n							Add to calendar						 \n\n\n\n									\n										Google Calendar									\n								\n\n									\n										iCalendar									\n								\n\n									\n										Outlook 365									\n								\n\n									\n										Outlook Live
URL:https://gunstuff.tv/event/closed-mondays-18/
END:VEVENT
BEGIN:VEVENT
DTSTART;TZID=America/New_York:20260202T080000
DTEND;TZID=America/New_York:20260202T170000
DTSTAMP:20260425T065529
CREATED:20260106T013233Z
LAST-MODIFIED:20260127T013129Z
UID:10003746-1770019200-1770051600@gunstuff.tv
SUMMARY:Women’s Handgun: Next Level
DESCRIPTION:Women’s Handgun: Next Level is designed for women who have completed Before the Range or who already have a basic understanding of handgun safety and fundamentals and are ready to build confidence through guided range time and skill development. \nThis class focuses on strengthening your foundation\, refining technique\, and helping you clearly understand where you are in your firearms journey—and what to work on next. Instruction is supportive\, individualized\, and paced to meet each student where they are. \nWhat You’ll Work On\n\nReinforcing firearm safety on and off the range\nUnderstanding the why behind your firearms journey\nRefining grip\, stance\, and shooting fundamentals\nSight alignment and sight picture consistency\nTrigger control and follow-through\nIntroduction to situational awareness and mindset\nIndividualized range time and drills tailored to your skill level\n\nHow This Class Builds on Before the Range\nWhile Before the Range focuses on safety\, terminology\, and comfort\, Next Level transitions those skills into applied range practice\, helping students gain confidence through repetition\, feedback\, and structured drills. \nEach student will leave with: \n\nA clearer understanding of their strengths\nAreas to practice and improve\nConfidence moving forward into continued training or independent range time\n\nClass Details\n\nDuration: 3 hours\nTime: 5:00 PM – 8:00 PM\nCost: $150\nInstructor: USCCA Certified Instructor Christa \nLocation: Appalachian Gun\, Pawn\, Range & Training\n\nWho This Class Is For\nThis class is ideal for women who: \n\nHave completed Before the Range\nHave some familiarity with handgun safety and operation\nWant guided range time with coaching and feedback\nAre ready to move beyond basics in a supportive environment\n\n  \nLadies only. Limited class size.
URL:https://gunstuff.tv/event/womens-handgun-next-level/
LOCATION:Appalacian Gun\, Pawn & Range\, 140 Shelby Ln.\, Jasper\, GA\, 30143\, United States
CATEGORIES:Basic,firearm-safety,Safe Gun
ORGANIZER;CN="Appalachian Gun":MAILTO:Appalachiangun@gmail.com
END:VEVENT
BEGIN:VEVENT
DTSTART;TZID=America/Denver:20260202T080000
DTEND;TZID=America/Denver:20260202T170000
DTSTAMP:20260425T065529
CREATED:20260202T070217Z
LAST-MODIFIED:20260202T070237Z
UID:10004898-1770019200-1770051600@gunstuff.tv
SUMMARY:FRGC Member Only Day
DESCRIPTION:
URL:https://gunstuff.tv/event/frgc-member-only-day-10/
LOCATION:South Dakota
END:VEVENT
BEGIN:VEVENT
DTSTART;TZID=America/New_York:20260202T083000
DTEND;TZID=America/New_York:20260202T120000
DTSTAMP:20260425T065529
CREATED:20260130T050210Z
LAST-MODIFIED:20260130T050218Z
UID:10004831-1770021000-1770033600@gunstuff.tv
SUMMARY:Fall/Winter PPC
DESCRIPTION:Fall / Winter PPC Season – Indoor range – Thursdays from 5:30 to 9:30 PM October 2\, 2025 to March 26\, 2026\, and Mondays from 8:30 AM to 12:00\, October 6th 2024 to March 30\, 2026.
URL:https://gunstuff.tv/event/fall-winter-ppc-37/
LOCATION:Indoor Rifle & Pistol Range\, 4770 Waterford Rd\,\, Village of Clarkston\, 48346
CATEGORIES:D.R. Wilson,Indoor Rifle & Pistol Rage,Range
ATTACH;FMTTYPE=image/jpeg:https://gunstuff.tv/wp-content/uploads/2025/10/PPC-Logo-6Evv9j.jpg
END:VEVENT
BEGIN:VEVENT
DTSTART;TZID=America/New_York:20260202T090000
DTEND;TZID=America/New_York:20260202T100000
DTSTAMP:20260425T065529
CREATED:20251003T162638Z
LAST-MODIFIED:20251010T162926Z
UID:10001378-1770022800-1770026400@gunstuff.tv
SUMMARY:4-H Class Indoors
DESCRIPTION:Indoor reserved for 4-H class.
URL:https://gunstuff.tv/event/4-h-class-indoors-18/
LOCATION:Indoor Range
END:VEVENT
BEGIN:VEVENT
DTSTART;TZID=America/New_York:20260202T090000
DTEND;TZID=America/New_York:20260202T110000
DTSTAMP:20260425T065529
CREATED:20260130T050210Z
LAST-MODIFIED:20260130T050218Z
UID:10004832-1770022800-1770030000@gunstuff.tv
SUMMARY:Traditional League AM
DESCRIPTION:
URL:https://gunstuff.tv/event/traditional-league-am-5/
LOCATION:Indoor Archery Range\, 4770 Waterford Rd\, Clarkston\, MI\, United States
CATEGORIES:Archery,Indoor Archery Range,Range,Winter League
ATTACH;FMTTYPE=image/jpeg:https://gunstuff.tv/wp-content/uploads/2025/12/Traditional_Barebow-3kQxVw.jpg
GEO:42.705297;-83.4014
X-APPLE-STRUCTURED-LOCATION;VALUE=URI;X-ADDRESS=Indoor Archery Range 4770 Waterford Rd Clarkston MI United States;X-APPLE-RADIUS=500;X-TITLE=4770 Waterford Rd:geo:-83.4014,42.705297
END:VEVENT
BEGIN:VEVENT
DTSTART;TZID=America/New_York:20260202T160000
DTEND;TZID=America/New_York:20260202T180000
DTSTAMP:20260425T065529
CREATED:20251003T162638Z
LAST-MODIFIED:20251205T181706Z
UID:10001379-1770048000-1770055200@gunstuff.tv
SUMMARY:Skeet League
DESCRIPTION:Contact Frank Andrews with Questions.
URL:https://gunstuff.tv/event/skeet-league-18/
END:VEVENT
BEGIN:VEVENT
DTSTART;TZID=America/New_York:20260202T163000
DTEND;TZID=America/New_York:20260202T183000
DTSTAMP:20260425T065529
CREATED:20260113T030136Z
LAST-MODIFIED:20260127T033141Z
UID:10004462-1770049800-1770057000@gunstuff.tv
SUMMARY:Firearm Foundations
DESCRIPTION:Click Here to Sign Up! Firearm Foundations | Bud’s Gun Shop & Range\, Lexington KY\nOnly $45.  For this class\, you must pay in advance with a credit card.  Unpaid orders for seating will not be honored. \nIn our Firearm Foundations session\, you’ll learn the important basics of firearm safety and how to properly grip\, sight\, and shoot handguns. \nWhether you are new to firearms\, or perhaps you have already purchased a firearm\, but just lack experience—this is the class for you! \nThis is serious subject matter for sure\, but we keep it fun while you learn: \n–Basic Firearms Safety \n–Getting familiar with the parts and operation of handguns \n–Gripping\, aiming\, stance and trigger press \n–Considerations of using a handgun \nThe second part of the course focuses on live-fire in our unique Training Range. \nWe feature a variety of handguns in rimfire (.22LR) and centerfire calibers (.38 spl and 9mm) and each participant will get to choose then try several different firearms. \nWe provide: \n\nRange handguns for the class\nAmmunition\nEye & Ear protection\nTargets\n\nDO NOT BRING A FIREARM TO THIS CLASS–HANDGUNS ARE PROVIDED! \nIF SPOT IS RESERVED FOR A MINOR (UNDER 18) THEY MUST BE ACCOMPANIED BY AN ADULT. THERE MUST BE AN ADULT FOR EACH MINOR. \nThis is a perfect opportunity to learn the fundamentals of shooting without the noise\, flash\, and recoil of larger calibers. \nWith our certified instructors’ experience in teaching and hands-on training\, you can be confident that the information you’ll receive is among the best in the industry–read our reviews below! \nRESERVE YOUR SPOT ONLINE TODAY– these events fill up quickly.  In order to provide quality attention to our students\, we have a fixed number of available seats. \n*HANDGUNS\, AMMUNITION\, EAR AND EYE PROTECTION ARE PROVIDED IN THE COST OF THIS COURSE. \nCourse Length: 2 hours \nCourse Location: Bud’s Gun Shop and Range\, 1105 Industry Rd\, Lexington\, KY 40505 \nPlease consider bringing a sweater or light jacket as classroom temperature can be cool! \nCheck Dates for Available Courses\, If Date Does Not Appear In Drop Down Menu It Has Been Filled\n \n*****IMPORTANT: Please arrive at least 15 minutes before start of class to complete waivers at our range desk***** \n Late arrivals: Due to safety considerations and important safety training\, late arrivals will not be seated\, but allowed to attend the next available class. \nREGISTRATION ONLINE IS REQUIRED TO RESERVE YOUR SPOT\, SO SIGN UP TODAY! \nClick for Bud’s Gun Shop KY Cancellation Policies
URL:https://gunstuff.tv/event/firearm-foundations-4/
CATEGORIES:Handgun Training,Introductory Training
ATTACH;FMTTYPE=image/jpeg:https://gunstuff.tv/wp-content/uploads/2025/10/firearmfoundationssquare-QsfJWo.jpg
END:VEVENT
BEGIN:VEVENT
DTSTART;TZID=America/New_York:20260202T173000
DTEND;TZID=America/New_York:20260202T213000
DTSTAMP:20260425T065529
CREATED:20260130T050210Z
LAST-MODIFIED:20260130T050219Z
UID:10004836-1770053400-1770067800@gunstuff.tv
SUMMARY:Junior Rifle
DESCRIPTION:
URL:https://gunstuff.tv/event/junior-rifle-19/
LOCATION:Indoor Rifle & Pistol Range\, 4770 Waterford Rd\,\, Village of Clarkston\, 48346
CATEGORIES:D.R. Wilson,Indoor Rifle & Pistol Rage,Jr. Rifle,Range
ATTACH;FMTTYPE=image/jpeg:https://gunstuff.tv/wp-content/uploads/2025/10/Junior-Rifle-3-scaled-QIEwuL.jpg
END:VEVENT
BEGIN:VEVENT
DTSTART;TZID=America/New_York:20260202T183000
DTEND;TZID=America/New_York:20260202T193000
DTSTAMP:20260425T065529
CREATED:20260130T050210Z
LAST-MODIFIED:20260130T050219Z
UID:10004835-1770057000-1770060600@gunstuff.tv
SUMMARY:Drum Ball
DESCRIPTION:Drum Ball Fun on the Patio!\nJoin us for Drum Ball\, a unique and exciting way to get moving! If you’re looking for a fun\, low-impact workout that feels more like a game than exercise\, this is it.\nWe use drumsticks and large stability balls to combine drumming rhythms with fitness movements. It’s great for coordination\, core strength\, and releasing stress—all while listening to great music!\nWhen: Every Monday & Thursday evening\nTime: 6:30 PM – 7:30 PM\nLocation: Main Building Patio\nFee: $5 Drop-in per class\nNote: Sticks and balls are provided for all participants. Just bring your energy!
URL:https://gunstuff.tv/event/drum-ball-14/
LOCATION:OCSC Main Building Patio\, 4770 Waterford Rd\, Clarkston\, MI\, United States
CATEGORIES:Club Events,Open to the Public
ATTACH;FMTTYPE=image/jpeg:https://gunstuff.tv/wp-content/uploads/2025/12/Drum-Ball-at-OCSC-E9nLz4.jpg
GEO:42.705297;-83.4014
X-APPLE-STRUCTURED-LOCATION;VALUE=URI;X-ADDRESS=OCSC Main Building Patio 4770 Waterford Rd Clarkston MI United States;X-APPLE-RADIUS=500;X-TITLE=4770 Waterford Rd:geo:-83.4014,42.705297
END:VEVENT
BEGIN:VEVENT
DTSTART;TZID=America/New_York:20260202T190000
DTEND;TZID=America/New_York:20260202T210000
DTSTAMP:20260425T065529
CREATED:20260130T050210Z
LAST-MODIFIED:20260130T050219Z
UID:10004833-1770058800-1770066000@gunstuff.tv
SUMMARY:Traditional League PM
DESCRIPTION:
URL:https://gunstuff.tv/event/traditional-league-pm-5/
LOCATION:Indoor Archery Range\, 4770 Waterford Rd\, Clarkston\, MI\, United States
CATEGORIES:Archery,Indoor Archery Range,Range,Winter League
ATTACH;FMTTYPE=image/jpeg:https://gunstuff.tv/wp-content/uploads/2025/12/Traditional_Barebow-3kQxVw.jpg
GEO:42.705297;-83.4014
X-APPLE-STRUCTURED-LOCATION;VALUE=URI;X-ADDRESS=Indoor Archery Range 4770 Waterford Rd Clarkston MI United States;X-APPLE-RADIUS=500;X-TITLE=4770 Waterford Rd:geo:-83.4014,42.705297
END:VEVENT
BEGIN:VEVENT
DTSTART;TZID=America/New_York:20260202T190000
DTEND;TZID=America/New_York:20260202T213000
DTSTAMP:20260425T065529
CREATED:20260130T050210Z
LAST-MODIFIED:20260130T050219Z
UID:10004834-1770058800-1770067800@gunstuff.tv
SUMMARY:Executive Board Meeting
DESCRIPTION:
URL:https://gunstuff.tv/event/executive-board-meeting-5/
LOCATION:OCSC Main Hall\, 4770 Waterford Rd\, Clarkston\, MI\, United States
CATEGORIES:Board Meeting,Club Events
ATTACH;FMTTYPE=image/png:https://gunstuff.tv/wp-content/uploads/2025/10/Circle-Logo-e1647896702576-h8fJMO.png
GEO:42.705297;-83.4014
X-APPLE-STRUCTURED-LOCATION;VALUE=URI;X-ADDRESS=OCSC Main Hall 4770 Waterford Rd Clarkston MI United States;X-APPLE-RADIUS=500;X-TITLE=4770 Waterford Rd:geo:-83.4014,42.705297
END:VEVENT
BEGIN:VEVENT
DTSTART;TZID=UTC:20260202T190000
DTEND;TZID=UTC:20260202T220000
DTSTAMP:20260425T065529
CREATED:20260202T194653Z
LAST-MODIFIED:20260202T194712Z
UID:10004929-1770058800-1770069600@gunstuff.tv
SUMMARY:Open Range W/C 01/02/2026
DESCRIPTION:
URL:https://gunstuff.tv/event/open-range-w-c-01-02-2026/
LOCATION:Tiverton Small-bore Rifle Club
END:VEVENT
BEGIN:VEVENT
DTSTART;TZID=America/New_York:20260202T193000
DTEND;TZID=America/New_York:20260202T223000
DTSTAMP:20260425T065529
CREATED:20251012T173813Z
LAST-MODIFIED:20260201T183128Z
UID:10002079-1770060600-1770071400@gunstuff.tv
SUMMARY:Board Meeting
DESCRIPTION:Monthly Board Meeting
URL:https://gunstuff.tv/event/board-meeting-23/
LOCATION:Clubhouse
END:VEVENT
BEGIN:VEVENT
DTSTART;VALUE=DATE:20260203
DTEND;VALUE=DATE:20260204
DTSTAMP:20260425T065529
CREATED:20251003T160027Z
LAST-MODIFIED:20260130T170135Z
UID:10000914-1770076800-1770163199@gunstuff.tv
SUMMARY:100\, 200\, 300 Yard Practice Benchrest Range
DESCRIPTION:
URL:https://gunstuff.tv/event/100-200-300-yard-practice-benchrest-range-17/
END:VEVENT
BEGIN:VEVENT
DTSTART;TZID=America/Los_Angeles:20260203T090000
DTEND;TZID=America/Los_Angeles:20260203T160000
DTSTAMP:20260425T065529
CREATED:20260109T190149Z
LAST-MODIFIED:20260130T191633Z
UID:10003896-1770109200-1770134400@gunstuff.tv
SUMMARY:MPR – RSO Only – Airgun/.22 Only
DESCRIPTION:
URL:https://gunstuff.tv/event/mpr-rso-only-airgun-22-only-8/
LOCATION:USI Multi Purpose Range\, 4700 Evora Road\, Concord\, CA\, 94520
END:VEVENT
BEGIN:VEVENT
DTSTART;TZID=America/Chicago:20260203T130000
DTEND;TZID=America/Chicago:20260203T193000
DTSTAMP:20260425T065529
CREATED:20260127T031658Z
LAST-MODIFIED:20260203T033219Z
UID:10004769-1770123600-1770147000@gunstuff.tv
SUMMARY:Bullseye League
DESCRIPTION:@ 			\n			\n							 \n\n\n		\n\n\n\n\n\n\n						\n							Add to calendar						 \n\n\n\n									\n										Google Calendar									\n								\n\n									\n										iCalendar									\n								\n\n									\n										Outlook 365									\n								\n\n									\n										Outlook Live
URL:https://gunstuff.tv/event/bullseye-league-25/
END:VEVENT
BEGIN:VEVENT
DTSTART;TZID=America/New_York:20260203T170000
DTEND;TZID=America/New_York:20260203T210000
DTSTAMP:20260425T065529
CREATED:20260202T111629Z
LAST-MODIFIED:20260202T111629Z
UID:10004914-1770138000-1770152400@gunstuff.tv
SUMMARY:Cosmic
DESCRIPTION:Time:  5-9\n$10 includes a round of 25 Wobble or Skeet and a Hot Dog + Soda
URL:https://gunstuff.tv/event/cosmic/
END:VEVENT
BEGIN:VEVENT
DTSTART;TZID=America/New_York:20260203T173000
DTEND;TZID=America/New_York:20260203T210000
DTSTAMP:20260425T065529
CREATED:20260130T050210Z
LAST-MODIFIED:20260130T050219Z
UID:10004837-1770139800-1770152400@gunstuff.tv
SUMMARY:Bullseye
DESCRIPTION:Join us every Tuesday evening at the Oakland County Sportsmans Club for our weekly Bullseye session. Hosted by the DR Wilson Rifle and Pistol Club\, this event is dedicated to the art of precision shooting. Whether you are training for competition or simply want to improve your marksmanship\, these sessions provide a structured and welcoming environment for all skill levels.\nEvent Details\nWhen: Every Tuesday\nTime: 5:30 PM – 9:00 PM\nLocation: DR Wilson Rifle and Pistol Club Range\nFocus: Bullseye / Precision Pistol\nBenefits of Joining\nRefine Your Technique: Focus on the core pillars of marksmanship: stance\, grip\, sight alignment\, and trigger squeeze.\nConsistency: Our weekly schedule makes it easy to build a routine and see measurable improvement in your scores.\nCamaraderie: Connect with experienced shooters and club members who share a passion for the sport.
URL:https://gunstuff.tv/event/bullseye-3/
LOCATION:Indoor Rifle & Pistol Range\, 4770 Waterford Rd\,\, Village of Clarkston\, 48346
CATEGORIES:D.R. Wilson,Indoor Rifle & Pistol Rage,Range
ATTACH;FMTTYPE=image/jpeg:https://gunstuff.tv/wp-content/uploads/2026/01/gun-and-bullets-2021-10-18-18-53-59-utc-scaled-42cwdJ.jpg
END:VEVENT
BEGIN:VEVENT
DTSTART;TZID=America/New_York:20260203T190000
DTEND;TZID=America/New_York:20260203T210000
DTSTAMP:20260425T065529
CREATED:20260130T050210Z
LAST-MODIFIED:20260130T050219Z
UID:10004839-1770145200-1770152400@gunstuff.tv
SUMMARY:Animal League
DESCRIPTION:
URL:https://gunstuff.tv/event/animal-league-5/
LOCATION:Indoor Archery Range\, 4770 Waterford Rd\, Clarkston\, MI\, United States
CATEGORIES:Archery,Indoor Archery Range,Range,Winter League
ATTACH;FMTTYPE=image/jpeg:https://gunstuff.tv/wp-content/uploads/2026/01/Animal-X5cx5x.jpg
GEO:42.705297;-83.4014
X-APPLE-STRUCTURED-LOCATION;VALUE=URI;X-ADDRESS=Indoor Archery Range 4770 Waterford Rd Clarkston MI United States;X-APPLE-RADIUS=500;X-TITLE=4770 Waterford Rd:geo:-83.4014,42.705297
END:VEVENT
BEGIN:VEVENT
DTSTART;TZID=America/New_York:20260203T190000
DTEND;TZID=America/New_York:20260203T210000
DTSTAMP:20260425T065529
CREATED:20260130T050210Z
LAST-MODIFIED:20260130T050219Z
UID:10004838-1770145200-1770152400@gunstuff.tv
SUMMARY:Boy Scouts
DESCRIPTION:
URL:https://gunstuff.tv/event/boy-scouts-18/
LOCATION:Michigan
CATEGORIES:Boy Scouts
END:VEVENT
BEGIN:VEVENT
DTSTART;VALUE=DATE:20260204
DTEND;VALUE=DATE:20260205
DTSTAMP:20260425T065529
CREATED:20251003T160027Z
LAST-MODIFIED:20260130T170135Z
UID:10000916-1770163200-1770249599@gunstuff.tv
SUMMARY:Centerfire and Smallbore Practice - Smallbore Range
DESCRIPTION:
URL:https://gunstuff.tv/event/centerfire-and-smallbore-practice-smallbore-range-12/
END:VEVENT
BEGIN:VEVENT
DTSTART;VALUE=DATE:20260204
DTEND;VALUE=DATE:20260205
DTSTAMP:20260425T065529
CREATED:20251003T160027Z
LAST-MODIFIED:20260123T170130Z
UID:10000917-1770163200-1770249599@gunstuff.tv
SUMMARY:Across the Course Practice 8:00am Pits
DESCRIPTION:
URL:https://gunstuff.tv/event/across-the-course-practice-800am-pits-13/
END:VEVENT
END:VCALENDAR