BEGIN:VCALENDAR
VERSION:2.0
PRODID:-//GunStuff TV - ECPv6.15.20//NONSGML v1.0//EN
CALSCALE:GREGORIAN
METHOD:PUBLISH
X-ORIGINAL-URL:https://gunstuff.tv
X-WR-CALDESC:Events for GunStuff TV
REFRESH-INTERVAL;VALUE=DURATION:PT1H
X-Robots-Tag:noindex
X-PUBLISHED-TTL:PT1H
BEGIN:VTIMEZONE
TZID:America/Phoenix
BEGIN:STANDARD
TZOFFSETFROM:-0700
TZOFFSETTO:-0700
TZNAME:MST
DTSTART:20250101T000000
END:STANDARD
END:VTIMEZONE
BEGIN:VTIMEZONE
TZID:America/Chicago
BEGIN:DAYLIGHT
TZOFFSETFROM:-0600
TZOFFSETTO:-0500
TZNAME:CDT
DTSTART:20250309T080000
END:DAYLIGHT
BEGIN:STANDARD
TZOFFSETFROM:-0500
TZOFFSETTO:-0600
TZNAME:CST
DTSTART:20251102T070000
END:STANDARD
BEGIN:DAYLIGHT
TZOFFSETFROM:-0600
TZOFFSETTO:-0500
TZNAME:CDT
DTSTART:20260308T080000
END:DAYLIGHT
BEGIN:STANDARD
TZOFFSETFROM:-0500
TZOFFSETTO:-0600
TZNAME:CST
DTSTART:20261101T070000
END:STANDARD
BEGIN:DAYLIGHT
TZOFFSETFROM:-0600
TZOFFSETTO:-0500
TZNAME:CDT
DTSTART:20270314T080000
END:DAYLIGHT
BEGIN:STANDARD
TZOFFSETFROM:-0500
TZOFFSETTO:-0600
TZNAME:CST
DTSTART:20271107T070000
END:STANDARD
END:VTIMEZONE
BEGIN:VTIMEZONE
TZID:America/New_York
BEGIN:DAYLIGHT
TZOFFSETFROM:-0500
TZOFFSETTO:-0400
TZNAME:EDT
DTSTART:20250309T070000
END:DAYLIGHT
BEGIN:STANDARD
TZOFFSETFROM:-0400
TZOFFSETTO:-0500
TZNAME:EST
DTSTART:20251102T060000
END:STANDARD
BEGIN:DAYLIGHT
TZOFFSETFROM:-0500
TZOFFSETTO:-0400
TZNAME:EDT
DTSTART:20260308T070000
END:DAYLIGHT
BEGIN:STANDARD
TZOFFSETFROM:-0400
TZOFFSETTO:-0500
TZNAME:EST
DTSTART:20261101T060000
END:STANDARD
BEGIN:DAYLIGHT
TZOFFSETFROM:-0500
TZOFFSETTO:-0400
TZNAME:EDT
DTSTART:20270314T070000
END:DAYLIGHT
BEGIN:STANDARD
TZOFFSETFROM:-0400
TZOFFSETTO:-0500
TZNAME:EST
DTSTART:20271107T060000
END:STANDARD
END:VTIMEZONE
BEGIN:VTIMEZONE
TZID:UTC
BEGIN:STANDARD
TZOFFSETFROM:+0000
TZOFFSETTO:+0000
TZNAME:UTC
DTSTART:20250101T000000
END:STANDARD
END:VTIMEZONE
BEGIN:VEVENT
DTSTART;VALUE=DATE:20261202
DTEND;VALUE=DATE:20261203
DTSTAMP:20260421T174715
CREATED:20251003T160032Z
LAST-MODIFIED:20260412T043238Z
UID:10001087-1796169600-1796255999@gunstuff.tv
SUMMARY:Centerfire and Smallbore Practice - Smallbore Range
DESCRIPTION:
URL:https://gunstuff.tv/event/centerfire-and-smallbore-practice-smallbore-range-24/
LOCATION:IL
END:VEVENT
BEGIN:VEVENT
DTSTART;VALUE=DATE:20261202
DTEND;VALUE=DATE:20261203
DTSTAMP:20260421T174715
CREATED:20251005T190051Z
LAST-MODIFIED:20260412T200208Z
UID:10001693-1796169600-1796255999@gunstuff.tv
SUMMARY:Wednesday Registered Skeet
DESCRIPTION:Registered Skeet.  Contact Jerry Adams at 240-605-3220 for details. \nClick here for flyer
URL:https://gunstuff.tv/event/wednesday-registered-skeet-21/
LOCATION:IL
END:VEVENT
BEGIN:VEVENT
DTSTART;VALUE=DATE:20261203
DTEND;VALUE=DATE:20261204
DTSTAMP:20260421T174715
CREATED:20251003T160032Z
LAST-MODIFIED:20260412T043238Z
UID:10001086-1796256000-1796342399@gunstuff.tv
SUMMARY:Palma Practice
DESCRIPTION:
URL:https://gunstuff.tv/event/palma-practice/
LOCATION:IL
END:VEVENT
BEGIN:VEVENT
DTSTART;VALUE=DATE:20261204
DTEND;VALUE=DATE:20261205
DTSTAMP:20260421T174715
CREATED:20260213T031104Z
LAST-MODIFIED:20260410T034707Z
UID:10005350-1796342400-1796428799@gunstuff.tv
SUMMARY:Rifle range closed for steel challenge setup & shoot.
DESCRIPTION:
URL:https://gunstuff.tv/event/rifle-range-closed-for-steel-challenge-setup-shoot-12/
LOCATION:IL
END:VEVENT
BEGIN:VEVENT
DTSTART;VALUE=DATE:20261204
DTEND;VALUE=DATE:20261205
DTSTAMP:20260421T174715
CREATED:20260213T031104Z
LAST-MODIFIED:20260410T034707Z
UID:10005347-1796342400-1796428799@gunstuff.tv
SUMMARY:Competition Bays Closed for steel challenge set up
DESCRIPTION:
URL:https://gunstuff.tv/event/competition-bays-closed-for-steel-challenge-set-up-10/
LOCATION:IL
END:VEVENT
BEGIN:VEVENT
DTSTART;VALUE=DATE:20261204
DTEND;VALUE=DATE:20261207
DTSTAMP:20260421T174715
CREATED:20251003T160032Z
LAST-MODIFIED:20260412T043238Z
UID:10001088-1796342400-1796601599@gunstuff.tv
SUMMARY:AZ State Palma Championships
DESCRIPTION:
URL:https://gunstuff.tv/event/az-state-palma-championships-2/
LOCATION:IL
END:VEVENT
BEGIN:VEVENT
DTSTART;VALUE=DATE:20261205
DTEND;VALUE=DATE:20261206
DTSTAMP:20260421T174715
CREATED:20260213T031104Z
LAST-MODIFIED:20260410T034707Z
UID:10005348-1796428800-1796515199@gunstuff.tv
SUMMARY:Steel Challenge
DESCRIPTION: Steel Shoot. Steel shooting offers a port of entry to the shooting sports that is far less intimidating than practical  shooting . Steel provides an excellent starting place for young or beginning shooters. Steel offers the most diversified shooting sport out there making it appealing to youth and seniors\, novice and experts. Any practical handgun \,including 22 rimfires (both handgun and rifle). Sign up starts at9AM\, Cost for monthly club level matches are $15 for Pinetucky Club Members and $20 for Non-member. A second firearm can be registered for an additional $10.Standard Pinetucky safety rules Apply. You can sign up at practiscore.com.  Please note our steel challenge is now six stages which requires a minimum round count of 150 rounds of ammunition.  Please plan accordingly.
URL:https://gunstuff.tv/event/steel-challenge-9/
LOCATION:IL
END:VEVENT
BEGIN:VEVENT
DTSTART;VALUE=DATE:20261205
DTEND;VALUE=DATE:20261206
DTSTAMP:20260421T174715
CREATED:20260213T031104Z
LAST-MODIFIED:20260410T034707Z
UID:10005349-1796428800-1796515199@gunstuff.tv
SUMMARY:Rifle Range Closed Today
DESCRIPTION:
URL:https://gunstuff.tv/event/rifle-range-closed-today-9/
LOCATION:IL
END:VEVENT
BEGIN:VEVENT
DTSTART;TZID=America/New_York:20261205T080000
DTEND;TZID=America/New_York:20261205T160000
DTSTAMP:20260421T174715
CREATED:20251003T162537Z
LAST-MODIFIED:20260412T184757Z
UID:10001298-1796457600-1796486400@gunstuff.tv
SUMMARY:High Power Rifle Match
DESCRIPTION:Details here: https://www.fxrgc.org/rifle/high-power-rifle-monthly/
URL:https://gunstuff.tv/event/high-power-rifle-match-28/
LOCATION:Benson Range
END:VEVENT
BEGIN:VEVENT
DTSTART;TZID=America/New_York:20261205T083000
DTEND;TZID=America/New_York:20261205T113000
DTSTAMP:20260421T174715
CREATED:20251109T181655Z
LAST-MODIFIED:20260412T184757Z
UID:10003044-1796459400-1796470200@gunstuff.tv
SUMMARY:Monthly Range Safety Orientation
DESCRIPTION:
URL:https://gunstuff.tv/event/monthly-range-safety-orientation-15/
LOCATION:Clubhouse
END:VEVENT
BEGIN:VEVENT
DTSTART;TZID=America/New_York:20261205T083000
DTEND;TZID=America/New_York:20261205T140000
DTSTAMP:20260421T174715
CREATED:20251003T031216Z
LAST-MODIFIED:20260410T070131Z
UID:10000663-1796459400-1796479200@gunstuff.tv
SUMMARY:PMRPC GSMM Match
DESCRIPTION:For more information you may contact the match director: James Sudduth at j.sudduth@ymail.com.
URL:https://gunstuff.tv/event/pmrpc-gsmm-match-15/
LOCATION:Port Malabar Rifle & Pistol Club\, 599 Hurley Blvd SW\, Palm Bay\, FL\, United States
GEO:27.987569;-80.71018
X-APPLE-STRUCTURED-LOCATION;VALUE=URI;X-ADDRESS=Port Malabar Rifle & Pistol Club 599 Hurley Blvd SW Palm Bay FL United States;X-APPLE-RADIUS=500;X-TITLE=599 Hurley Blvd SW:geo:-80.71018,27.987569
END:VEVENT
BEGIN:VEVENT
DTSTART;TZID=UTC:20261205T090000
DTEND;TZID=UTC:20261205T090000
DTSTAMP:20260421T174715
CREATED:20260110T165515Z
LAST-MODIFIED:20260412T110210Z
UID:10004209-1796461200-1796461200@gunstuff.tv
SUMMARY:Rimfire Known Distance
DESCRIPTION:Hurlburt Field\, FL – Hurlburt Field Rifle and Pistol Club\nDecember 05\, 2026 – December 06\, 2026\nThis is a Rimfire Known Distance Event. It is a 22LR (Rimfire) only event where the distances will be out to 100 yards or more based on the range. Only previous Appleseed attendees should sign up.\nCenterfire is NOT allowed at this event – 22 Rimfire Only.\nRegister Now\nAddress: Red Horse Road\, Hurlburt Field\, FL 32544\nWebsite: http://myhurlburt.com/pages/rifle.html\nPlease Read:  How to Prepare for an Event\nSafety Notice:\n–  Keep ALL firearms in your vehicle until after the safety briefing and you are instructed to bring them to the firing line.\n–  No illegal firearms are allowed.\n–  At centerfire-friendly ranges\, rifle cartridges are limited to 8mm (rifle) or .45 caliber (pistol and pistol caliber carbines).\n–  Effective 8/8/2025\, Project Appleseed has temporarily suspended the SIG-Sauer P320/M17/M18 (all variants) in our Pistol Clinics.\n–  Parents of youth attending\, please read our Message to Parents.\nSubject to state and local laws\, Instructors at your event may have discounted .22 ammo available. Reach out to the contact at the bottom of this page for availability.\nRange Fee:  $10 per day.\nCamping Available:\nFort Walton Beach is nearby and offers numerous camping opportunities\nHotels:\nNumerous hotels and motels in Fort Walton Beach\, US98 and Mary Esther Blvd.\nDirections:\nEnter main gate from Hwy 98 on Cody Ave.  Follow Cody Ave until it takes a hard left\, and at the stop sign turn left onto Hamby Place.  At the end of Hamby Place at the stop sign\, turn right onto Red Horse Road\, and go about 300 yards.  The Hurlburt Field Rifle and Pistol Club is on the left.\nGPS: \,\nState Laws to be aware of:\nIt is the responsibility of attendees to know and comply with all State and Federal Firearms Laws.\nFlorida State Firearms Laws\nFlorida is very gun friendly but check if you are not sure.\nMisc:\nAdditional information is required for those without base access.  Please contact Kim Williams at 850-218-3645 or Chuck at 850-218-6801 at least one week prior to event. Instructors will need to be pre-approved to gain entry onto the base.\nFor more information contact:\nName: FL State Coordinator Email Address: FL@appleseedinfo.org\nName: Kim Williams Phone: 850-218-3645\nName: Chuck Williams Phone: 850-218-6801
URL:https://gunstuff.tv/event/rimfire-known-distance-18/
LOCATION:Hurlburt Field Rifle and Pistol Club\, 4715 Radio Rd\, Milton\, FL\, United States
GEO:30.607298;-87.009272
X-APPLE-STRUCTURED-LOCATION;VALUE=URI;X-ADDRESS=Hurlburt Field Rifle and Pistol Club 4715 Radio Rd Milton FL United States;X-APPLE-RADIUS=500;X-TITLE=4715 Radio Rd:geo:-87.009272,30.607298
END:VEVENT
BEGIN:VEVENT
DTSTART;TZID=UTC:20261205T090000
DTEND;TZID=UTC:20261205T090000
DTSTAMP:20260421T174715
CREATED:20260110T165515Z
LAST-MODIFIED:20260412T110210Z
UID:10004210-1796461200-1796461200@gunstuff.tv
SUMMARY:Appleseed
DESCRIPTION:Orlando\, FL – Central Florida Rifle and Pistol Club\nDecember 05\, 2026 – December 06\, 2026\nThis is a traditional 25m Project Appleseed rifle event.\nBoth Centerfire and 22 Rimfire rifles are allowed at this event.\nRegister Now\nAddress: 14646 Weewahootee Road\, Orlando\, FL 32832\nWebsite: www.cfrpc.com\nPlease Read:  How to Prepare for an Event\nSafety Notice:\n–  Keep ALL firearms in your vehicle until after the safety briefing and you are instructed to bring them to the firing line.\n–  No illegal firearms are allowed.\n–  At centerfire-friendly ranges\, rifle cartridges are limited to 8mm (rifle) or .45 caliber (pistol and pistol caliber carbines).\n–  Effective 8/8/2025\, Project Appleseed has temporarily suspended the SIG-Sauer P320/M17/M18 (all variants) in our Pistol Clinics.\n–  Parents of youth attending\, please read our Message to Parents.\nSubject to state and local laws\, Instructors at your event may have discounted .22 ammo available. Reach out to the contact at the bottom of this page for availability.\nRange Fee:  $10/day for adults. Youth under 18 years old and CFRPC members are exempt.\nCamping Available:\nHotels:\nSeveral hotels on N. Semoran Blvd (Hwy 436) about 15 min from range.\nOrlando Airport Mariott\, 7499 Augusta National Dr. Orlando\, FL 32822\nRamada Inn and Suites\, 7500 Augusta National Dr. Orlando\, FL 32822\nQuality Inn Hotel\, Orlando Airport 2601 McCoy Road\, Orlando\, FL 32809\nDirections:\nProceed to Orlando area. Take Hwy 417 (N or S) to the Moss Park Road exit on 417. Proceed east on Moss Park Road. Go 1.4 miles\, then turn left onto John Wycliffe Blvd. Go 1.3 miles\, across RR tracks to 4-way intersection with Wewahootee Rd. Turn right onto Wewahootee Road. Go 1.7 miles to CFRPC club entrance. Turn right onto club driveway (marked with orange and white sign.\nSee range map for directions.\nGPS: 28.423708\,-81.171749\nState Laws to be aware of:\nIt is the responsibility of attendees to know and comply with all State and Federal Firearms Laws.\nFlorida State Firearms Laws\nUnder 18 must be accompanied by a parent or legal guardian. Attendees are responsible for knowing\, and abiding by Federal\, State and Local laws.\nMisc:\nEye protection required. No Armor Piercing\, Incendiary\, or Tracer ammunition allowed. Event will take place at 25m\, so bring out your .22 and learn the marksmanship skills that have been passed down from generation to generation. Centerfire rifles okay\, too. No alcohol permitted\nFor more information contact:\nName: FL State Coordinator Email Address: FL@appleseedinfo.org\nName: Dennis Gollehon Email Address: dennis.gollehon@appleseedinfo.org Phone: 321-427-6959
URL:https://gunstuff.tv/event/appleseed-200/
LOCATION:Central Florida Rifle and Pistol Club\, 14646 Wewahootee Rd\, Orlando\, FL\, United States
GEO:28.424342;-81.171213
X-APPLE-STRUCTURED-LOCATION;VALUE=URI;X-ADDRESS=Central Florida Rifle and Pistol Club 14646 Wewahootee Rd Orlando FL United States;X-APPLE-RADIUS=500;X-TITLE=14646 Wewahootee Rd:geo:-81.171213,28.424342
END:VEVENT
BEGIN:VEVENT
DTSTART;VALUE=DATE:20261206
DTEND;VALUE=DATE:20261207
DTSTAMP:20260421T174715
CREATED:20251123T191633Z
LAST-MODIFIED:20260412T200209Z
UID:10003204-1796515200-1796601599@gunstuff.tv
SUMMARY:Rudolph Open
DESCRIPTION:
URL:https://gunstuff.tv/event/rudolph-open-2/
LOCATION:IL
END:VEVENT
BEGIN:VEVENT
DTSTART;VALUE=DATE:20261206
DTEND;VALUE=DATE:20261207
DTSTAMP:20260421T174715
CREATED:20251123T191633Z
LAST-MODIFIED:20260412T200209Z
UID:10003205-1796515200-1796601599@gunstuff.tv
SUMMARY:December Open
DESCRIPTION:Registered Sporting Clays. \nRegistration opens at 7:30am.Shoot time 8am.For more information\, see the Registered Sporting Clays flyer.
URL:https://gunstuff.tv/event/december-open-2/
LOCATION:National Shooting Complex\, 5931 Roft Rd\, San Antonio\, TX\, United States
GEO:29.492881;-98.741985
X-APPLE-STRUCTURED-LOCATION;VALUE=URI;X-ADDRESS=National Shooting Complex 5931 Roft Rd San Antonio TX United States;X-APPLE-RADIUS=500;X-TITLE=5931 Roft Rd:geo:-98.741985,29.492881
END:VEVENT
BEGIN:VEVENT
DTSTART;TZID=UTC:20261206T083000
DTEND;TZID=UTC:20261206T083000
DTSTAMP:20260421T174715
CREATED:20251031T195459Z
LAST-MODIFIED:20260401T070149Z
UID:10002802-1796545800-1796545800@gunstuff.tv
SUMMARY:EDSS Level I Steel Challenge
DESCRIPTION:EDSS Level I Steel Challenge\nDate: 12/06/26\nStart Time: 8:30 AM\nLocation:\nEl Dorado Steel Shooters (SCSA522)\n5941 Union Mine Rd\nEl Dorado\, CA\nEvent Contact Information\nAmer Sahtout\n9162964076\nedss.public@gmail.com\nMatch Information\nEDSS Level I Club Match. Sign-ups available on Practiscore.com. 5941 Union Mine Rd.\, El Dorado Ca 95623\nEvent Website \nHome
URL:https://gunstuff.tv/event/edss-level-i-steel-challenge-14/
LOCATION:El Dorado Steel Shooters (SCSA522)\, 5941 Union Mine Rd\, El Dorado\, CA\, United States
GEO:38.652465;-120.833266
X-APPLE-STRUCTURED-LOCATION;VALUE=URI;X-ADDRESS=El Dorado Steel Shooters (SCSA522) 5941 Union Mine Rd El Dorado CA United States;X-APPLE-RADIUS=500;X-TITLE=5941 Union Mine Rd:geo:-120.833266,38.652465
END:VEVENT
BEGIN:VEVENT
DTSTART;TZID=America/New_York:20261206T090000
DTEND;TZID=America/New_York:20261206T120000
DTSTAMP:20260421T174715
CREATED:20251003T162645Z
LAST-MODIFIED:20260411T214640Z
UID:10001539-1796547600-1796558400@gunstuff.tv
SUMMARY:Weekly Trap League
DESCRIPTION:
URL:https://gunstuff.tv/event/weekly-trap-league-62/
LOCATION:Shotgun Range
END:VEVENT
BEGIN:VEVENT
DTSTART;TZID=UTC:20261206T094500
DTEND;TZID=UTC:20261206T094500
DTSTAMP:20260421T174715
CREATED:20260117T171711Z
LAST-MODIFIED:20260410T113154Z
UID:10004585-1796550300-1796550300@gunstuff.tv
SUMMARY:Bass River December Match
DESCRIPTION:Bass River December Match\nDate : 12/06/26\nStart Time: 9:45 AM\nLocation:\nBass River Rod & Gun Club (NE12)\nBass River Rod &Gun 620 Rt. 6A\nYarmouthport\, MA\nEvent Contact Information\nTimothy J Kent\n5082372137\ntjkent@comcast.net\nEvent Website\nhttps://www.bassriverrodandgun.com/
URL:https://gunstuff.tv/event/bass-river-december-match/
LOCATION:Bass River Rod & Gun Club (NE12)\, 79 State Rte 6 Alt\, Dennis\, MA\, United States
GEO:41.721025;-70.196653
X-APPLE-STRUCTURED-LOCATION;VALUE=URI;X-ADDRESS=Bass River Rod & Gun Club (NE12) 79 State Rte 6 Alt Dennis MA United States;X-APPLE-RADIUS=500;X-TITLE=79 State Rte 6 Alt:geo:-70.196653,41.721025
END:VEVENT
BEGIN:VEVENT
DTSTART;VALUE=DATE:20261207
DTEND;VALUE=DATE:20261208
DTSTAMP:20260421T174715
CREATED:20260213T031104Z
LAST-MODIFIED:20260410T034707Z
UID:10005351-1796601600-1796687999@gunstuff.tv
SUMMARY:Club Closed
DESCRIPTION:
URL:https://gunstuff.tv/event/club-closed-85/
LOCATION:IL
END:VEVENT
BEGIN:VEVENT
DTSTART;TZID=America/New_York:20261207T090000
DTEND;TZID=America/New_York:20261207T100000
DTSTAMP:20260421T174715
CREATED:20251003T162645Z
LAST-MODIFIED:20251010T162933Z
UID:10001540-1796634000-1796637600@gunstuff.tv
SUMMARY:4-H Class Indoors
DESCRIPTION:Indoor reserved for 4-H class.
URL:https://gunstuff.tv/event/4-h-class-indoors-62/
LOCATION:Indoor Range
END:VEVENT
BEGIN:VEVENT
DTSTART;TZID=America/New_York:20261207T160000
DTEND;TZID=America/New_York:20261207T180000
DTSTAMP:20260421T174715
CREATED:20251003T162645Z
LAST-MODIFIED:20251205T181711Z
UID:10001541-1796659200-1796666400@gunstuff.tv
SUMMARY:Skeet League
DESCRIPTION:Contact Frank Andrews with Questions.
URL:https://gunstuff.tv/event/skeet-league-62/
LOCATION:IL
END:VEVENT
BEGIN:VEVENT
DTSTART;TZID=America/New_York:20261207T193000
DTEND;TZID=America/New_York:20261207T223000
DTSTAMP:20260421T174715
CREATED:20251012T173819Z
LAST-MODIFIED:20260412T184757Z
UID:10002142-1796671800-1796682600@gunstuff.tv
SUMMARY:Board Meeting
DESCRIPTION:Monthly Board Meeting
URL:https://gunstuff.tv/event/board-meeting-33/
LOCATION:Clubhouse
END:VEVENT
BEGIN:VEVENT
DTSTART;VALUE=DATE:20261208
DTEND;VALUE=DATE:20261209
DTSTAMP:20260421T174715
CREATED:20251003T160032Z
LAST-MODIFIED:20260412T043238Z
UID:10001089-1796688000-1796774399@gunstuff.tv
SUMMARY:100\, 200\, 300 Yard Practice Benchrest Range
DESCRIPTION:
URL:https://gunstuff.tv/event/100-200-300-yard-practice-benchrest-range-54/
LOCATION:IL
END:VEVENT
BEGIN:VEVENT
DTSTART;VALUE=DATE:20261208
DTEND;VALUE=DATE:20261209
DTSTAMP:20260421T174715
CREATED:20260213T031104Z
LAST-MODIFIED:20260410T034707Z
UID:10005352-1796688000-1796774399@gunstuff.tv
SUMMARY:Club closed
DESCRIPTION:
URL:https://gunstuff.tv/event/club-closed-86/
LOCATION:IL
END:VEVENT
BEGIN:VEVENT
DTSTART;TZID=UTC:20261208T143000
DTEND;TZID=UTC:20261208T143000
DTSTAMP:20260421T174715
CREATED:20260110T171715Z
LAST-MODIFIED:20260410T113154Z
UID:10004346-1796740200-1796740200@gunstuff.tv
SUMMARY:SCWPSA Monthly Match
DESCRIPTION:SCWPSA Monthly Match\nDate : 12/08/26\nStart Time: 2:30 PM\nLocation:\nSouth Central Wisconsin Practical Shooters Assoc (WI31)\n2830 County Rd DR\nMonroe\, WI\nEvent Contact Information\nBob Slusarek\n630-669-0663\nscwpsamatch@pm.me\nMatch Information\nIndoor match typically 2-3 stages including 1 or 2 classifiers
URL:https://gunstuff.tv/event/scwpsa-monthly-match-11/
LOCATION:South Central Wisconsin Practical Shooters Assoc (WI31)\, 2830 County Road Dr\, Monroe\, WI\, United States
GEO:42.617903;-89.602405
X-APPLE-STRUCTURED-LOCATION;VALUE=URI;X-ADDRESS=South Central Wisconsin Practical Shooters Assoc (WI31) 2830 County Road Dr Monroe WI United States;X-APPLE-RADIUS=500;X-TITLE=2830 County Road Dr:geo:-89.602405,42.617903
END:VEVENT
BEGIN:VEVENT
DTSTART;TZID=America/New_York:20261208T180000
DTEND;TZID=America/New_York:20261208T203000
DTSTAMP:20260421T174715
CREATED:20251003T162405Z
LAST-MODIFIED:20260410T200155Z
UID:10001134-1796752800-1796761800@gunstuff.tv
SUMMARY:MRPC Member Meeting Holiday Event
DESCRIPTION:
URL:https://gunstuff.tv/event/mrpc-member-meeting-holiday-event/
LOCATION:Perry’s Restaurant\, 1210 Annapolis Rd\, Odenton\, MD\, United States
GEO:39.083488;-76.692407
X-APPLE-STRUCTURED-LOCATION;VALUE=URI;X-ADDRESS=Perry’s Restaurant 1210 Annapolis Rd Odenton MD United States;X-APPLE-RADIUS=500;X-TITLE=1210 Annapolis Rd:geo:-76.692407,39.083488
END:VEVENT
BEGIN:VEVENT
DTSTART;VALUE=DATE:20261209
DTEND;VALUE=DATE:20261210
DTSTAMP:20260421T174715
CREATED:20251003T160032Z
LAST-MODIFIED:20260412T043238Z
UID:10001091-1796774400-1796860799@gunstuff.tv
SUMMARY:Centerfire and Smallbore Practice - Smallbore Range
DESCRIPTION:
URL:https://gunstuff.tv/event/centerfire-and-smallbore-practice-smallbore-range-25/
LOCATION:IL
END:VEVENT
BEGIN:VEVENT
DTSTART;VALUE=DATE:20261210
DTEND;VALUE=DATE:20261211
DTSTAMP:20260421T174715
CREATED:20251003T160032Z
LAST-MODIFIED:20260412T043238Z
UID:10001090-1796860800-1796947199@gunstuff.tv
SUMMARY:1000 Yard Practice 8:00am Pits
DESCRIPTION:
URL:https://gunstuff.tv/event/1000-yard-practice-800am-pits-16/
LOCATION:IL
END:VEVENT
BEGIN:VEVENT
DTSTART;TZID=UTC:20261211T000000
DTEND;TZID=UTC:20261211T030000
DTSTAMP:20260421T174715
CREATED:20260111T213127Z
LAST-MODIFIED:20260414T084803Z
UID:10004416-1796947200-1796958000@gunstuff.tv
SUMMARY:RMSCA Holiday Bash
DESCRIPTION:
URL:https://gunstuff.tv/event/rmsca-holiday-bash-2/
LOCATION:IL
ORGANIZER;CN="Rocky Mountain Steel Construction Association":MAILTO:info@rmsca.org
END:VEVENT
BEGIN:VEVENT
DTSTART;VALUE=DATE:20261211
DTEND;VALUE=DATE:20261212
DTSTAMP:20260421T174715
CREATED:20251003T160032Z
LAST-MODIFIED:20260412T043238Z
UID:10001092-1796947200-1797033599@gunstuff.tv
SUMMARY:Across the Course Practice 8:00am Pits
DESCRIPTION:
URL:https://gunstuff.tv/event/across-the-course-practice-800am-pits-19/
LOCATION:IL
END:VEVENT
END:VCALENDAR