BEGIN:VCALENDAR
VERSION:2.0
PRODID:-//GunStuff TV - ECPv6.15.20//NONSGML v1.0//EN
CALSCALE:GREGORIAN
METHOD:PUBLISH
X-ORIGINAL-URL:https://gunstuff.tv
X-WR-CALDESC:Events for GunStuff TV
REFRESH-INTERVAL;VALUE=DURATION:PT1H
X-Robots-Tag:noindex
X-PUBLISHED-TTL:PT1H
BEGIN:VTIMEZONE
TZID:America/Phoenix
BEGIN:STANDARD
TZOFFSETFROM:-0700
TZOFFSETTO:-0700
TZNAME:MST
DTSTART:20250101T000000
END:STANDARD
END:VTIMEZONE
BEGIN:VTIMEZONE
TZID:America/New_York
BEGIN:DAYLIGHT
TZOFFSETFROM:-0500
TZOFFSETTO:-0400
TZNAME:EDT
DTSTART:20250309T070000
END:DAYLIGHT
BEGIN:STANDARD
TZOFFSETFROM:-0400
TZOFFSETTO:-0500
TZNAME:EST
DTSTART:20251102T060000
END:STANDARD
BEGIN:DAYLIGHT
TZOFFSETFROM:-0500
TZOFFSETTO:-0400
TZNAME:EDT
DTSTART:20260308T070000
END:DAYLIGHT
BEGIN:STANDARD
TZOFFSETFROM:-0400
TZOFFSETTO:-0500
TZNAME:EST
DTSTART:20261101T060000
END:STANDARD
BEGIN:DAYLIGHT
TZOFFSETFROM:-0500
TZOFFSETTO:-0400
TZNAME:EDT
DTSTART:20270314T070000
END:DAYLIGHT
BEGIN:STANDARD
TZOFFSETFROM:-0400
TZOFFSETTO:-0500
TZNAME:EST
DTSTART:20271107T060000
END:STANDARD
END:VTIMEZONE
BEGIN:VTIMEZONE
TZID:UTC
BEGIN:STANDARD
TZOFFSETFROM:+0000
TZOFFSETTO:+0000
TZNAME:UTC
DTSTART:20250101T000000
END:STANDARD
END:VTIMEZONE
BEGIN:VTIMEZONE
TZID:America/Chicago
BEGIN:DAYLIGHT
TZOFFSETFROM:-0600
TZOFFSETTO:-0500
TZNAME:CDT
DTSTART:20250309T080000
END:DAYLIGHT
BEGIN:STANDARD
TZOFFSETFROM:-0500
TZOFFSETTO:-0600
TZNAME:CST
DTSTART:20251102T070000
END:STANDARD
BEGIN:DAYLIGHT
TZOFFSETFROM:-0600
TZOFFSETTO:-0500
TZNAME:CDT
DTSTART:20260308T080000
END:DAYLIGHT
BEGIN:STANDARD
TZOFFSETFROM:-0500
TZOFFSETTO:-0600
TZNAME:CST
DTSTART:20261101T070000
END:STANDARD
BEGIN:DAYLIGHT
TZOFFSETFROM:-0600
TZOFFSETTO:-0500
TZNAME:CDT
DTSTART:20270314T080000
END:DAYLIGHT
BEGIN:STANDARD
TZOFFSETFROM:-0500
TZOFFSETTO:-0600
TZNAME:CST
DTSTART:20271107T070000
END:STANDARD
END:VTIMEZONE
BEGIN:VEVENT
DTSTART;VALUE=DATE:20261025
DTEND;VALUE=DATE:20261102
DTSTAMP:20260421T174605
CREATED:20260130T170142Z
LAST-MODIFIED:20260220T171635Z
UID:10004853-1792886400-1793577599@gunstuff.tv
SUMMARY:F Class Nationals
DESCRIPTION:
URL:https://gunstuff.tv/event/f-class-nationals-2/
LOCATION:IL
END:VEVENT
BEGIN:VEVENT
DTSTART;VALUE=DATE:20261029
DTEND;VALUE=DATE:20261102
DTSTAMP:20260421T174605
CREATED:20260227T171641Z
LAST-MODIFIED:20260412T043236Z
UID:10005867-1793232000-1793577599@gunstuff.tv
SUMMARY:NRA F-Class Long Range National Championships
DESCRIPTION:
URL:https://gunstuff.tv/event/nra-f-class-long-range-national-championships/
LOCATION:IL
END:VEVENT
BEGIN:VEVENT
DTSTART;VALUE=DATE:20261101
DTEND;VALUE=DATE:20261102
DTSTAMP:20260421T174605
CREATED:20251003T162536Z
LAST-MODIFIED:20260412T184755Z
UID:10001291-1793491200-1793577599@gunstuff.tv
SUMMARY:Daylight Saving Time Ends
DESCRIPTION:
URL:https://gunstuff.tv/event/daylight-saving-time-ends/
LOCATION:IL
END:VEVENT
BEGIN:VEVENT
DTSTART;TZID=UTC:20261101T080000
DTEND;TZID=UTC:20261101T080000
DTSTAMP:20260421T174605
CREATED:20260410T113152Z
LAST-MODIFIED:20260410T113152Z
UID:10007417-1793520000-1793520000@gunstuff.tv
SUMMARY:Klamath USPSA 11-01-26 JSPS OR09
DESCRIPTION:Klamath USPSA 11-01-26 JSPS OR09\nDate : 11/01/26\nStart Time: 8:00 AM\nLocation:\nJefferson State Practical Shooters (OR09)\n22811 OR-66\nKeno\, OR\nEvent Contact Information\nJake Nelson\n5418870467\njspsuspsa@gmail.com\nMatch Information\nLocation:\n22811 OR-66\nKeno\, Oregon 97627\nMatches are held at the Bill Scholtes’ Sportsman’s Park\, West of Keno\, Oregon. Visit and like our Facebook page at https://www.facebook.com/JeffersonStateShootingAssociation\nFive stages to test your skills and for your shooting enjoyment (approx. 135 rounds).\nPlease arrive between 0800-0830 to register/check-in if needed and to help finalize stage setup. $15 match fee ($10 for Juniors). Refunds\, less credit card handling fees\, allowed until registration closes. No refunds after registration is closed.\nAll shooters must sign-in and pay the day-use fee at the park kiosk as required ($10 per individual or $5 for persons 17 and under. This must be paid at the park. Annual memberships for the park are available for $70 and cover spouses and dependent children 18 and under).\n2026 Points Match Schedule:\n22 March – Grants Pass\n26 April – Grants Pass\n17 May – Medford\n7 June – Klamath\n19 July – Medford\n2 August – Klamath\n19-20 September – Medford (Oregon Open/Section Championship)\nTo qualify for the points series you must shoot 3 of the 6 available regular matches and the Section Championship (Section Championship counts for two). The best 5 of 8 scores will count towards your point total.\nEvent Website\nhttps://practiscore.com/klamath-uspsa-11-01-25-jsps-or09/register
URL:https://gunstuff.tv/event/klamath-uspsa-11-01-26-jsps-or09/
LOCATION:Jefferson State Practical Shooters (OR09)\, Keno\, OR\, United States
GEO:42.12653;-121.93001
END:VEVENT
BEGIN:VEVENT
DTSTART;TZID=UTC:20261101T083000
DTEND;TZID=UTC:20261101T083000
DTSTAMP:20260421T174605
CREATED:20251031T195459Z
LAST-MODIFIED:20260401T070148Z
UID:10002800-1793521800-1793521800@gunstuff.tv
SUMMARY:EDSS Level I Steel Challenge
DESCRIPTION:EDSS Level I Steel Challenge\nDate: 11/01/26\nStart Time: 8:30 AM\nLocation:\nEl Dorado Steel Shooters (SCSA522)\n5941 Union Mine Rd\nEl Dorado\, CA\nEvent Contact Information\nAmer Sahtout\n9162964076\nedss.public@gmail.com\nMatch Information\nEDSS Level I Club Match. Sign-ups available on Practiscore.com. 5941 Union Mine Rd.\, El Dorado Ca 95623\nEvent Website \nHome
URL:https://gunstuff.tv/event/edss-level-i-steel-challenge-13/
LOCATION:El Dorado Steel Shooters (SCSA522)\, 5941 Union Mine Rd\, El Dorado\, CA\, United States
GEO:38.652465;-120.833266
X-APPLE-STRUCTURED-LOCATION;VALUE=URI;X-ADDRESS=El Dorado Steel Shooters (SCSA522) 5941 Union Mine Rd El Dorado CA United States;X-APPLE-RADIUS=500;X-TITLE=5941 Union Mine Rd:geo:-120.833266,38.652465
END:VEVENT
BEGIN:VEVENT
DTSTART;TZID=UTC:20261101T090000
DTEND;TZID=UTC:20261101T090000
DTSTAMP:20260421T174605
CREATED:20260110T165513Z
LAST-MODIFIED:20260412T110207Z
UID:10004189-1793523600-1793523600@gunstuff.tv
SUMMARY:Rimfire Known Distance
DESCRIPTION:Sudlersville\, MD – Delmarva Sportsman Association\nNovember 01\, 2026 (One Day Event)\nThis is a Rimfire Known Distance Event. It is a 22LR (Rimfire) only event where the distances will be out to 100 yards or more based on the range. Only previous Appleseed attendees should sign up.\nCenterfire is NOT allowed at this event – 22 Rimfire Only.\nRegister Now\nAddress: 816 Sudlersville Cemetery Road\, Sudlersville\, MD 21668\nWebsite: dsarange.com\nPlease Read:  How to Prepare for an Event\nSafety Notice:\n–  Keep ALL firearms in your vehicle until after the safety briefing and you are instructed to bring them to the firing line.\n–  No illegal firearms are allowed.\n–  At centerfire-friendly ranges\, rifle cartridges are limited to 8mm (rifle) or .45 caliber (pistol and pistol caliber carbines).\n–  Effective 8/8/2025\, Project Appleseed has temporarily suspended the SIG-Sauer P320/M17/M18 (all variants) in our Pistol Clinics.\n–  Parents of youth attending\, please read our Message to Parents.\nSubject to state and local laws\, Instructors at your event may have discounted .22 ammo available. Reach out to the contact at the bottom of this page for availability.\nRange Fee:  No range fee\nCamping Available:\nNone available on site\nHotels:\nHoliday Inn Express Chestertown\, 150 Scheeler Rd\, Chestertown\, MD 21620  410-778-0778\nDirections:\nFrom MD 301\, Take MD-300 East for 4 miles\, passing through the town of Sudlersville\, MD. Turn Left onto Sudlersville Cemetary Rd for 1.7 miles. Range is on the right.\nGPS: 39.208919\,-75.839309\nState Laws to be aware of:\nIt is the responsibility of attendees to know and comply with all State and Federal Firearms Laws.\nMaryland State Firearms Laws\nMisc:\nThis range has a covered firing line.\nNO Alcohol Permitted.\nFor more information contact:\nName: MD State Coordinator Email Address: MD@appleseedinfo.org\nName: Brian Swift – Private Message to “BeSwift” on the Appleseed Forum Email Address: appleseedmaryland@gmail.com
URL:https://gunstuff.tv/event/rimfire-known-distance-16/
LOCATION:Delmarva Sportsman Association\, 816 Sudlersville Cemetary Rd\, Sudlersville\, MD\, United States
GEO:39.208195;-75.840107
X-APPLE-STRUCTURED-LOCATION;VALUE=URI;X-ADDRESS=Delmarva Sportsman Association 816 Sudlersville Cemetary Rd Sudlersville MD United States;X-APPLE-RADIUS=500;X-TITLE=816 Sudlersville Cemetary Rd:geo:-75.840107,39.208195
END:VEVENT
BEGIN:VEVENT
DTSTART;TZID=America/New_York:20261101T090000
DTEND;TZID=America/New_York:20261101T120000
DTSTAMP:20260421T174605
CREATED:20251003T162644Z
LAST-MODIFIED:20260411T214639Z
UID:10001521-1793523600-1793534400@gunstuff.tv
SUMMARY:Weekly Trap League
DESCRIPTION:
URL:https://gunstuff.tv/event/weekly-trap-league-57/
LOCATION:Shotgun Range
END:VEVENT
BEGIN:VEVENT
DTSTART;TZID=America/New_York:20261101T090000
DTEND;TZID=America/New_York:20261101T163000
DTSTAMP:20260421T174605
CREATED:20260208T183213Z
LAST-MODIFIED:20260412T184755Z
UID:10005113-1793523600-1793550600@gunstuff.tv
SUMMARY:High Power Silhouette
DESCRIPTION:Contact Roger Estes @ rce497@comcast.net \nThis is a High Power Silhouette match per month from March thru November\, 2026\, These will be high power rifle silhouette matches fired on the Lea Valley Range with a total of 40 rounds for record. Records will be kept and sent to the NRA for classification purposes. For the matches practice will begin at 9a.m. and matches will begin at 10.Rules will follow the NRA High Power Rifle Silhouette Rules. Briefly\, rifles for Highpower silhouette have to be at least a minimum center-fire caliber of 6mm\, no maximum. Ammo cannot be belted magnum by Club Rules for ammo.Clothes can be commensurate with the weather but cannot be made specifically silhouette competition\, with the exception that leather vest specifically for rifle silhouette can be used.The match firing will be on relays\, each relay\, consisting of 4 shooting competitors and spotters . Spotters are not mandatory for these matches. Scoring can be done by a spotter or by the competitor's person. The relay is called to the line\, the command of ready is given which is 15 seconds to get prepared to fire the 5 shots in 2 1/2 minutes\, then a short rest\, then 5 more rounds in 2 1/2 minutes. Following these shots\, competitors will show their scores to the stat officer so the scores are recorded. Relays will continue till all animals are fired at. Scores are counted by the knock down of animals off the range rail\, to a maximum of 40 animals. Once the relays are complete\, scores will be counted up and the winner gets cash for the award\, total of 25 for aggregate match winner. $20 for Class winner. Each 3 competitors will get a n award of cash. A plaque award can be substituted for the cash. There is a separate category in which AR-15 rifles are allowed. AR's don't follow the silhouette rules\, mostly because of the shape of the rifle and caliber which is .223. They are allowed in a separate category in this match to get more competitors to shoot these matches\, just generating interest in this sport. They have no classification in the match\, just for fun. The matches are fired on the first Sunday of the month.
URL:https://gunstuff.tv/event/high-power-silhouette-9/
LOCATION:Lea Valley Range
END:VEVENT
BEGIN:VEVENT
DTSTART;TZID=UTC:20261101T094500
DTEND;TZID=UTC:20261101T094500
DTSTAMP:20260421T174605
CREATED:20260117T171711Z
LAST-MODIFIED:20260410T113152Z
UID:10004583-1793526300-1793526300@gunstuff.tv
SUMMARY:Bass River November Match
DESCRIPTION:Bass River November Match\nDate : 11/01/26\nStart Time: 9:45 AM\nLocation:\nBass River Rod & Gun Club (NE12)\nBass River Rod &Gun 620 Rt. 6A\nYarmouthport\, MA\nEvent Contact Information\nTimothy J Kent\n5082372137\ntjkent@comcast.net\nEvent Website\nhttps://www.bassriverrodandgun.com/
URL:https://gunstuff.tv/event/bass-river-november-match/
LOCATION:Bass River Rod & Gun Club (NE12)\, 79 State Rte 6 Alt\, Dennis\, MA\, United States
GEO:41.721025;-70.196653
X-APPLE-STRUCTURED-LOCATION;VALUE=URI;X-ADDRESS=Bass River Rod & Gun Club (NE12) 79 State Rte 6 Alt Dennis MA United States;X-APPLE-RADIUS=500;X-TITLE=79 State Rte 6 Alt:geo:-70.196653,41.721025
END:VEVENT
BEGIN:VEVENT
DTSTART;TZID=UTC:20261101T100000
DTEND;TZID=UTC:20261101T100000
DTSTAMP:20260421T174605
CREATED:20260227T113152Z
LAST-MODIFIED:20260410T113152Z
UID:10005862-1793527200-1793527200@gunstuff.tv
SUMMARY:Ripon USPSA
DESCRIPTION:Ripon USPSA\nDate : 11/01/26\nStart Time: 10:00 AM\nLocation:\nRipon Gun Club (WI18)\nN9089 Koro rd\nRipon\, WI\nEvent Contact Information\nBill Hatfield\n920-538-4178\nBhatfield1@charter.net
URL:https://gunstuff.tv/event/ripon-uspsa-6/
LOCATION:Ripon Gun Club (WI18)\, 1699 Koro Rd\, Berlin\, WI\, United States
GEO:43.953345;-88.865982
X-APPLE-STRUCTURED-LOCATION;VALUE=URI;X-ADDRESS=Ripon Gun Club (WI18) 1699 Koro Rd Berlin WI United States;X-APPLE-RADIUS=500;X-TITLE=1699 Koro Rd:geo:-88.865982,43.953345
END:VEVENT
BEGIN:VEVENT
DTSTART;VALUE=DATE:20261102
DTEND;VALUE=DATE:20261103
DTSTAMP:20260421T174605
CREATED:20260213T031103Z
LAST-MODIFIED:20260410T034706Z
UID:10005328-1793577600-1793663999@gunstuff.tv
SUMMARY:Club Closed
DESCRIPTION:
URL:https://gunstuff.tv/event/club-closed-76/
LOCATION:IL
END:VEVENT
BEGIN:VEVENT
DTSTART;TZID=America/New_York:20261102T090000
DTEND;TZID=America/New_York:20261102T100000
DTSTAMP:20260421T174605
CREATED:20251003T162644Z
LAST-MODIFIED:20251010T162932Z
UID:10001522-1793610000-1793613600@gunstuff.tv
SUMMARY:4-H Class Indoors
DESCRIPTION:Indoor reserved for 4-H class.
URL:https://gunstuff.tv/event/4-h-class-indoors-57/
LOCATION:Indoor Range
END:VEVENT
BEGIN:VEVENT
DTSTART;TZID=America/New_York:20261102T160000
DTEND;TZID=America/New_York:20261102T180000
DTSTAMP:20260421T174605
CREATED:20251003T162644Z
LAST-MODIFIED:20251205T181711Z
UID:10001523-1793635200-1793642400@gunstuff.tv
SUMMARY:Skeet League
DESCRIPTION:Contact Frank Andrews with Questions.
URL:https://gunstuff.tv/event/skeet-league-57/
LOCATION:IL
END:VEVENT
BEGIN:VEVENT
DTSTART;TZID=America/New_York:20261102T160000
DTEND;TZID=America/New_York:20261102T180000
DTSTAMP:20260421T174605
CREATED:20251212T181644Z
LAST-MODIFIED:20260411T214640Z
UID:10003558-1793635200-1793642400@gunstuff.tv
SUMMARY:Skeet League
DESCRIPTION:Contact Frank Andrews with Questions.
URL:https://gunstuff.tv/event/skeet-league-147/
LOCATION:Skeet Range
END:VEVENT
BEGIN:VEVENT
DTSTART;TZID=America/New_York:20261102T193000
DTEND;TZID=America/New_York:20261102T223000
DTSTAMP:20260421T174605
CREATED:20251012T173818Z
LAST-MODIFIED:20260412T184755Z
UID:10002137-1793647800-1793658600@gunstuff.tv
SUMMARY:Board Meeting
DESCRIPTION:Monthly Board Meeting
URL:https://gunstuff.tv/event/board-meeting-32/
LOCATION:Clubhouse
END:VEVENT
BEGIN:VEVENT
DTSTART;VALUE=DATE:20261103
DTEND;VALUE=DATE:20261104
DTSTAMP:20260421T174605
CREATED:20251003T160031Z
LAST-MODIFIED:20260123T170135Z
UID:10001064-1793664000-1793750399@gunstuff.tv
SUMMARY:100\, 200\, 300 Yard Practice Benchrest Range
DESCRIPTION:
URL:https://gunstuff.tv/event/100-200-300-yard-practice-benchrest-range-49/
LOCATION:IL
END:VEVENT
BEGIN:VEVENT
DTSTART;VALUE=DATE:20261103
DTEND;VALUE=DATE:20261104
DTSTAMP:20260421T174605
CREATED:20251005T190547Z
LAST-MODIFIED:20260412T203315Z
UID:10001733-1793664000-1793750399@gunstuff.tv
SUMMARY:Helotes Chamber Foundation
DESCRIPTION:Helotes Chamber Foundation Clays 2 Raise Sporting Clays fundraiser.
URL:https://gunstuff.tv/event/helotes-chamber-foundation/
LOCATION:IL
END:VEVENT
BEGIN:VEVENT
DTSTART;VALUE=DATE:20261103
DTEND;VALUE=DATE:20261104
DTSTAMP:20260421T174605
CREATED:20260213T031103Z
LAST-MODIFIED:20260410T034706Z
UID:10005327-1793664000-1793750399@gunstuff.tv
SUMMARY:Club closed
DESCRIPTION:
URL:https://gunstuff.tv/event/club-closed-75/
LOCATION:IL
END:VEVENT
BEGIN:VEVENT
DTSTART;TZID=UTC:20261103T100000
DTEND;TZID=UTC:20261103T100000
DTSTAMP:20260421T174605
CREATED:20260227T113152Z
LAST-MODIFIED:20260410T113152Z
UID:10005863-1793700000-1793700000@gunstuff.tv
SUMMARY:November USPSA@LP Match
DESCRIPTION:November USPSA@LP Match\nDate : 11/03/26\nStart Time: 10:00 AM\nLocation:\nPpsa At Lower Providence (MID04)\n2857 Egypt Rd\nAudubon\, PA\nEvent Contact Information\nTed Murphy\n484-466-6011\ntedmurphyl4677@gmail.com\nEvent Website\nhttps://practiscore.com/clubs/uspsa-at-lower-providence-rod-and-gun-club
URL:https://gunstuff.tv/event/november-uspsalp-match/
LOCATION:Ppsa At Lower Providence (MID04)\, 2857 Egypt Rd\, Norristown\, PA\, United States
GEO:40.131147;-75.437877
X-APPLE-STRUCTURED-LOCATION;VALUE=URI;X-ADDRESS=Ppsa At Lower Providence (MID04) 2857 Egypt Rd Norristown PA United States;X-APPLE-RADIUS=500;X-TITLE=2857 Egypt Rd:geo:-75.437877,40.131147
END:VEVENT
BEGIN:VEVENT
DTSTART;VALUE=DATE:20261104
DTEND;VALUE=DATE:20261105
DTSTAMP:20260421T174605
CREATED:20251003T160031Z
LAST-MODIFIED:20260412T043236Z
UID:10001066-1793750400-1793836799@gunstuff.tv
SUMMARY:Centerfire and Smallbore Practice - Smallbore Range
DESCRIPTION:
URL:https://gunstuff.tv/event/centerfire-and-smallbore-practice-smallbore-range-20/
LOCATION:IL
END:VEVENT
BEGIN:VEVENT
DTSTART;VALUE=DATE:20261104
DTEND;VALUE=DATE:20261105
DTSTAMP:20260421T174605
CREATED:20251005T190051Z
LAST-MODIFIED:20260412T200156Z
UID:10001691-1793750400-1793836799@gunstuff.tv
SUMMARY:Wednesday Registered Skeet
DESCRIPTION:Registered Skeet.  Contact Jerry Adams at 240-605-3220 for details. \nClick here for flyer
URL:https://gunstuff.tv/event/wednesday-registered-skeet-19/
LOCATION:IL
END:VEVENT
BEGIN:VEVENT
DTSTART;VALUE=DATE:20261104
DTEND;VALUE=DATE:20261105
DTSTAMP:20260421T174605
CREATED:20251109T194634Z
LAST-MODIFIED:20260412T203315Z
UID:10003045-1793750400-1793836799@gunstuff.tv
SUMMARY:K9 for Warriors
DESCRIPTION:Sporting Clays Fundraiser.
URL:https://gunstuff.tv/event/k9-for-warriors-2/
LOCATION:IL
END:VEVENT
BEGIN:VEVENT
DTSTART;VALUE=DATE:20261105
DTEND;VALUE=DATE:20261106
DTSTAMP:20260421T174605
CREATED:20251003T160031Z
LAST-MODIFIED:20260412T043236Z
UID:10001065-1793836800-1793923199@gunstuff.tv
SUMMARY:600 Yard Practice 8:00am Pits
DESCRIPTION:
URL:https://gunstuff.tv/event/600-yard-practice-800am-pits-10/
LOCATION:IL
END:VEVENT
BEGIN:VEVENT
DTSTART;VALUE=DATE:20261105
DTEND;VALUE=DATE:20261106
DTSTAMP:20260421T174605
CREATED:20251116T200135Z
LAST-MODIFIED:20260412T203315Z
UID:10003127-1793836800-1793923199@gunstuff.tv
SUMMARY:1 Hope for Kids
DESCRIPTION:Charity Sporting Clays Shoot
URL:https://gunstuff.tv/event/1-hope-for-kids-2/
LOCATION:IL
END:VEVENT
BEGIN:VEVENT
DTSTART;VALUE=DATE:20261106
DTEND;VALUE=DATE:20261107
DTSTAMP:20260421T174605
CREATED:20251003T160031Z
LAST-MODIFIED:20260412T043236Z
UID:10001068-1793923200-1794009599@gunstuff.tv
SUMMARY:Across the Course Practice 8:00am Pits
DESCRIPTION:
URL:https://gunstuff.tv/event/across-the-course-practice-800am-pits-17/
LOCATION:IL
END:VEVENT
BEGIN:VEVENT
DTSTART;VALUE=DATE:20261106
DTEND;VALUE=DATE:20261107
DTSTAMP:20260421T174605
CREATED:20251116T200135Z
LAST-MODIFIED:20260412T203315Z
UID:10003126-1793923200-1794009599@gunstuff.tv
SUMMARY:Sky High for Kids Concert & Clays
DESCRIPTION:Sporting Clay Fundraiser and concert benefiting the cure of childhood cancer.
URL:https://gunstuff.tv/event/sky-high-for-kids-concert-clays-2/
LOCATION:National Shooting Complex\, 5931 Roft Rd\, San Antonio\, TX\, United States
GEO:29.492881;-98.741985
X-APPLE-STRUCTURED-LOCATION;VALUE=URI;X-ADDRESS=National Shooting Complex 5931 Roft Rd San Antonio TX United States;X-APPLE-RADIUS=500;X-TITLE=5931 Roft Rd:geo:-98.741985,29.492881
END:VEVENT
BEGIN:VEVENT
DTSTART;VALUE=DATE:20261106
DTEND;VALUE=DATE:20261107
DTSTAMP:20260421T174605
CREATED:20260213T031103Z
LAST-MODIFIED:20260410T034706Z
UID:10005329-1793923200-1794009599@gunstuff.tv
SUMMARY:Competition Bays Closed for steel challenge set up
DESCRIPTION:
URL:https://gunstuff.tv/event/competition-bays-closed-for-steel-challenge-set-up-9/
LOCATION:IL
END:VEVENT
BEGIN:VEVENT
DTSTART;VALUE=DATE:20261106
DTEND;VALUE=DATE:20261107
DTSTAMP:20260421T174605
CREATED:20260213T031103Z
LAST-MODIFIED:20260410T034706Z
UID:10005333-1793923200-1794009599@gunstuff.tv
SUMMARY:Rifle range closed for steel challenge setup & shoot.
DESCRIPTION:
URL:https://gunstuff.tv/event/rifle-range-closed-for-steel-challenge-setup-shoot-11/
LOCATION:IL
END:VEVENT
BEGIN:VEVENT
DTSTART;TZID=America/New_York:20261106T090000
DTEND;TZID=America/New_York:20261106T190000
DTSTAMP:20260421T174605
CREATED:20251109T181654Z
LAST-MODIFIED:20260412T184755Z
UID:10003039-1793955600-1793991600@gunstuff.tv
SUMMARY:75th Bull Run Open
DESCRIPTION:
URL:https://gunstuff.tv/event/75th-bull-run-open/
LOCATION:Fields 1-8
END:VEVENT
BEGIN:VEVENT
DTSTART;VALUE=DATE:20261107
DTEND;VALUE=DATE:20261108
DTSTAMP:20260421T174605
CREATED:20251003T160031Z
LAST-MODIFIED:20260412T043237Z
UID:10001067-1794009600-1794095999@gunstuff.tv
SUMMARY:Palma Practice 8:00am Pits
DESCRIPTION:
URL:https://gunstuff.tv/event/palma-practice-800am-pits-5/
LOCATION:IL
END:VEVENT
END:VCALENDAR