BEGIN:VCALENDAR
VERSION:2.0
PRODID:-//GunStuff TV - ECPv6.15.20//NONSGML v1.0//EN
CALSCALE:GREGORIAN
METHOD:PUBLISH
X-ORIGINAL-URL:https://gunstuff.tv
X-WR-CALDESC:Events for GunStuff TV
REFRESH-INTERVAL;VALUE=DURATION:PT1H
X-Robots-Tag:noindex
X-PUBLISHED-TTL:PT1H
BEGIN:VTIMEZONE
TZID:America/Denver
BEGIN:DAYLIGHT
TZOFFSETFROM:-0700
TZOFFSETTO:-0600
TZNAME:MDT
DTSTART:20250309T090000
END:DAYLIGHT
BEGIN:STANDARD
TZOFFSETFROM:-0600
TZOFFSETTO:-0700
TZNAME:MST
DTSTART:20251102T080000
END:STANDARD
BEGIN:DAYLIGHT
TZOFFSETFROM:-0700
TZOFFSETTO:-0600
TZNAME:MDT
DTSTART:20260308T090000
END:DAYLIGHT
BEGIN:STANDARD
TZOFFSETFROM:-0600
TZOFFSETTO:-0700
TZNAME:MST
DTSTART:20261101T080000
END:STANDARD
BEGIN:DAYLIGHT
TZOFFSETFROM:-0700
TZOFFSETTO:-0600
TZNAME:MDT
DTSTART:20270314T090000
END:DAYLIGHT
BEGIN:STANDARD
TZOFFSETFROM:-0600
TZOFFSETTO:-0700
TZNAME:MST
DTSTART:20271107T080000
END:STANDARD
END:VTIMEZONE
BEGIN:VTIMEZONE
TZID:America/Chicago
BEGIN:DAYLIGHT
TZOFFSETFROM:-0600
TZOFFSETTO:-0500
TZNAME:CDT
DTSTART:20250309T080000
END:DAYLIGHT
BEGIN:STANDARD
TZOFFSETFROM:-0500
TZOFFSETTO:-0600
TZNAME:CST
DTSTART:20251102T070000
END:STANDARD
BEGIN:DAYLIGHT
TZOFFSETFROM:-0600
TZOFFSETTO:-0500
TZNAME:CDT
DTSTART:20260308T080000
END:DAYLIGHT
BEGIN:STANDARD
TZOFFSETFROM:-0500
TZOFFSETTO:-0600
TZNAME:CST
DTSTART:20261101T070000
END:STANDARD
BEGIN:DAYLIGHT
TZOFFSETFROM:-0600
TZOFFSETTO:-0500
TZNAME:CDT
DTSTART:20270314T080000
END:DAYLIGHT
BEGIN:STANDARD
TZOFFSETFROM:-0500
TZOFFSETTO:-0600
TZNAME:CST
DTSTART:20271107T070000
END:STANDARD
END:VTIMEZONE
BEGIN:VTIMEZONE
TZID:America/New_York
BEGIN:DAYLIGHT
TZOFFSETFROM:-0500
TZOFFSETTO:-0400
TZNAME:EDT
DTSTART:20250309T070000
END:DAYLIGHT
BEGIN:STANDARD
TZOFFSETFROM:-0400
TZOFFSETTO:-0500
TZNAME:EST
DTSTART:20251102T060000
END:STANDARD
BEGIN:DAYLIGHT
TZOFFSETFROM:-0500
TZOFFSETTO:-0400
TZNAME:EDT
DTSTART:20260308T070000
END:DAYLIGHT
BEGIN:STANDARD
TZOFFSETFROM:-0400
TZOFFSETTO:-0500
TZNAME:EST
DTSTART:20261101T060000
END:STANDARD
BEGIN:DAYLIGHT
TZOFFSETFROM:-0500
TZOFFSETTO:-0400
TZNAME:EDT
DTSTART:20270314T070000
END:DAYLIGHT
BEGIN:STANDARD
TZOFFSETFROM:-0400
TZOFFSETTO:-0500
TZNAME:EST
DTSTART:20271107T060000
END:STANDARD
END:VTIMEZONE
BEGIN:VTIMEZONE
TZID:UTC
BEGIN:STANDARD
TZOFFSETFROM:+0000
TZOFFSETTO:+0000
TZNAME:UTC
DTSTART:20250101T000000
END:STANDARD
END:VTIMEZONE
BEGIN:VTIMEZONE
TZID:America/Los_Angeles
BEGIN:DAYLIGHT
TZOFFSETFROM:-0800
TZOFFSETTO:-0700
TZNAME:PDT
DTSTART:20250309T100000
END:DAYLIGHT
BEGIN:STANDARD
TZOFFSETFROM:-0700
TZOFFSETTO:-0800
TZNAME:PST
DTSTART:20251102T090000
END:STANDARD
BEGIN:DAYLIGHT
TZOFFSETFROM:-0800
TZOFFSETTO:-0700
TZNAME:PDT
DTSTART:20260308T100000
END:DAYLIGHT
BEGIN:STANDARD
TZOFFSETFROM:-0700
TZOFFSETTO:-0800
TZNAME:PST
DTSTART:20261101T090000
END:STANDARD
BEGIN:DAYLIGHT
TZOFFSETFROM:-0800
TZOFFSETTO:-0700
TZNAME:PDT
DTSTART:20270314T100000
END:DAYLIGHT
BEGIN:STANDARD
TZOFFSETFROM:-0700
TZOFFSETTO:-0800
TZNAME:PST
DTSTART:20271107T090000
END:STANDARD
END:VTIMEZONE
BEGIN:VTIMEZONE
TZID:UTC
BEGIN:STANDARD
TZOFFSETFROM:+0000
TZOFFSETTO:+0000
TZNAME:UTC
DTSTART:20250101T000000
END:STANDARD
END:VTIMEZONE
BEGIN:VTIMEZONE
TZID:America/Phoenix
BEGIN:STANDARD
TZOFFSETFROM:-0700
TZOFFSETTO:-0700
TZNAME:MST
DTSTART:20250101T000000
END:STANDARD
END:VTIMEZONE
BEGIN:VEVENT
DTSTART;TZID=America/Denver:20260301T060000
DTEND;TZID=America/Denver:20260302T210000
DTSTAMP:20260424T104156
CREATED:20260302T073129Z
LAST-MODIFIED:20260302T073129Z
UID:10005948-1772344800-1772485200@gunstuff.tv
SUMMARY:Mar 1&2 2026 - Member Only Day
DESCRIPTION:Member Only Day
URL:https://gunstuff.tv/event/mar-12-2026-member-only-day/
LOCATION:Fall River Gun Range\, 28300 Old Hwy 79\, Hot Springs\, SD\, United States
GEO:43.303233;-103.346518
X-APPLE-STRUCTURED-LOCATION;VALUE=URI;X-ADDRESS=Fall River Gun Range 28300 Old Hwy 79 Hot Springs SD United States;X-APPLE-RADIUS=500;X-TITLE=28300 Old Hwy 79:geo:-103.346518,43.303233
END:VEVENT
BEGIN:VEVENT
DTSTART;VALUE=DATE:20260302
DTEND;VALUE=DATE:20260303
DTSTAMP:20260424T104156
CREATED:20260203T033212Z
LAST-MODIFIED:20260224T034630Z
UID:10004973-1772409600-1772495999@gunstuff.tv
SUMMARY:Closed Mondays
DESCRIPTION:@ 			\n			\n							 \n\nHOURS: \nMonday: Closed \nTues-Thurs: 10am-8pm \nFri: 10am-5pm \nSat: 9:30am-5pm (shooting @10am) \nSun: 10:30am-4pm (shooting @11am) \nLast lane reservation is 1 hour before closing \n\n		\n\n\n\n\n\n\n						\n							Add to calendar						 \n\n\n\n									\n										Google Calendar									\n								\n\n									\n										iCalendar									\n								\n\n									\n										Outlook 365									\n								\n\n									\n										Outlook Live
URL:https://gunstuff.tv/event/closed-mondays-22/
LOCATION:OH
END:VEVENT
BEGIN:VEVENT
DTSTART;VALUE=DATE:20260302
DTEND;VALUE=DATE:20260303
DTSTAMP:20260424T104156
CREATED:20260213T031052Z
LAST-MODIFIED:20260227T031630Z
UID:10005163-1772409600-1772495999@gunstuff.tv
SUMMARY:Club Closed
DESCRIPTION:
URL:https://gunstuff.tv/event/club-closed-6/
LOCATION:OH
END:VEVENT
BEGIN:VEVENT
DTSTART;VALUE=DATE:20260302
DTEND;VALUE=DATE:20260303
DTSTAMP:20260424T104156
CREATED:20260213T031052Z
LAST-MODIFIED:20260227T031630Z
UID:10005164-1772409600-1772495999@gunstuff.tv
SUMMARY:comp bays closed steel challenge
DESCRIPTION:
URL:https://gunstuff.tv/event/comp-bays-closed-steel-challenge-2/
LOCATION:OH
END:VEVENT
BEGIN:VEVENT
DTSTART;TZID=America/New_York:20260302T083000
DTEND;TZID=America/New_York:20260302T120000
DTSTAMP:20260424T104156
CREATED:20260227T050133Z
LAST-MODIFIED:20260227T050133Z
UID:10005798-1772440200-1772452800@gunstuff.tv
SUMMARY:Fall/Winter PPC
DESCRIPTION:Fall / Winter PPC Season – Indoor range – Thursdays from 5:30 to 9:30 PM October 2\, 2025 to March 26\, 2026\, and Mondays from 8:30 AM to 12:00\, October 6th 2024 to March 30\, 2026.
URL:https://gunstuff.tv/event/fall-winter-ppc-45/
LOCATION:Indoor Rifle & Pistol Range\, 4770 Waterford Rd\,\, Village of Clarkston\, 48346
CATEGORIES:D.R. Wilson,Indoor Rifle & Pistol Rage,Range
ATTACH;FMTTYPE=image/jpeg:https://gunstuff.tv/wp-content/uploads/2025/10/PPC-Logo-6Evv9j.jpg
END:VEVENT
BEGIN:VEVENT
DTSTART;TZID=America/New_York:20260302T090000
DTEND;TZID=America/New_York:20260302T100000
DTSTAMP:20260424T104156
CREATED:20251003T162639Z
LAST-MODIFIED:20251010T162927Z
UID:10001393-1772442000-1772445600@gunstuff.tv
SUMMARY:4-H Class Indoors
DESCRIPTION:Indoor reserved for 4-H class.
URL:https://gunstuff.tv/event/4-h-class-indoors-22/
LOCATION:Indoor Range
END:VEVENT
BEGIN:VEVENT
DTSTART;TZID=America/New_York:20260302T090000
DTEND;TZID=America/New_York:20260302T110000
DTSTAMP:20260424T104156
CREATED:20260227T050133Z
LAST-MODIFIED:20260227T050133Z
UID:10005799-1772442000-1772449200@gunstuff.tv
SUMMARY:Traditional League AM
DESCRIPTION:
URL:https://gunstuff.tv/event/traditional-league-am-9/
LOCATION:Indoor Archery Range\, 4770 Waterford Rd\, Clarkston\, MI\, United States
CATEGORIES:Archery,Indoor Archery Range,Range,Winter League
ATTACH;FMTTYPE=image/jpeg:https://gunstuff.tv/wp-content/uploads/2025/12/Traditional_Barebow-3kQxVw.jpg
GEO:42.705297;-83.4014
X-APPLE-STRUCTURED-LOCATION;VALUE=URI;X-ADDRESS=Indoor Archery Range 4770 Waterford Rd Clarkston MI United States;X-APPLE-RADIUS=500;X-TITLE=4770 Waterford Rd:geo:-83.4014,42.705297
END:VEVENT
BEGIN:VEVENT
DTSTART;TZID=America/New_York:20260302T160000
DTEND;TZID=America/New_York:20260302T180000
DTSTAMP:20260424T104156
CREATED:20251003T162639Z
LAST-MODIFIED:20251205T181706Z
UID:10001394-1772467200-1772474400@gunstuff.tv
SUMMARY:Skeet League
DESCRIPTION:Contact Frank Andrews with Questions.
URL:https://gunstuff.tv/event/skeet-league-22/
LOCATION:OH
END:VEVENT
BEGIN:VEVENT
DTSTART;TZID=America/New_York:20260302T173000
DTEND;TZID=America/New_York:20260302T213000
DTSTAMP:20260424T104156
CREATED:20260227T050133Z
LAST-MODIFIED:20260227T050133Z
UID:10005801-1772472600-1772487000@gunstuff.tv
SUMMARY:Junior Rifle
DESCRIPTION:
URL:https://gunstuff.tv/event/junior-rifle-23/
LOCATION:Indoor Rifle & Pistol Range\, 4770 Waterford Rd\,\, Village of Clarkston\, 48346
CATEGORIES:D.R. Wilson,Indoor Rifle & Pistol Rage,Jr. Rifle,Range
ATTACH;FMTTYPE=image/jpeg:https://gunstuff.tv/wp-content/uploads/2025/10/Junior-Rifle-3-scaled-QIEwuL.jpg
END:VEVENT
BEGIN:VEVENT
DTSTART;TZID=America/New_York:20260302T183000
DTEND;TZID=America/New_York:20260302T193000
DTSTAMP:20260424T104156
CREATED:20260227T050133Z
LAST-MODIFIED:20260227T050133Z
UID:10005803-1772476200-1772479800@gunstuff.tv
SUMMARY:Drum Ball
DESCRIPTION:Drum Ball Fun on the Patio!\nJoin us for Drum Ball\, a unique and exciting way to get moving! If you’re looking for a fun\, low-impact workout that feels more like a game than exercise\, this is it.\nWe use drumsticks and large stability balls to combine drumming rhythms with fitness movements. It’s great for coordination\, core strength\, and releasing stress—all while listening to great music!\nWhen: Every Monday & Thursday evening\nTime: 6:30 PM – 7:30 PM\nLocation: Main Building Patio\nFee: $5 Drop-in per class\nNote: Sticks and balls are provided for all participants. Just bring your energy!
URL:https://gunstuff.tv/event/drum-ball-20/
LOCATION:OCSC Main Building Patio\, 4770 Waterford Rd\, Clarkston\, MI\, United States
CATEGORIES:Club Events,Open to the Public
ATTACH;FMTTYPE=image/jpeg:https://gunstuff.tv/wp-content/uploads/2025/12/Drum-Ball-at-OCSC-E9nLz4.jpg
GEO:42.705297;-83.4014
X-APPLE-STRUCTURED-LOCATION;VALUE=URI;X-ADDRESS=OCSC Main Building Patio 4770 Waterford Rd Clarkston MI United States;X-APPLE-RADIUS=500;X-TITLE=4770 Waterford Rd:geo:-83.4014,42.705297
END:VEVENT
BEGIN:VEVENT
DTSTART;TZID=America/New_York:20260302T190000
DTEND;TZID=America/New_York:20260302T210000
DTSTAMP:20260424T104156
CREATED:20260227T050133Z
LAST-MODIFIED:20260227T050133Z
UID:10005802-1772478000-1772485200@gunstuff.tv
SUMMARY:Traditional League PM
DESCRIPTION:
URL:https://gunstuff.tv/event/traditional-league-pm-9/
LOCATION:Indoor Archery Range\, 4770 Waterford Rd\, Clarkston\, MI\, United States
CATEGORIES:Archery,Indoor Archery Range,Range,Winter League
ATTACH;FMTTYPE=image/jpeg:https://gunstuff.tv/wp-content/uploads/2025/12/Traditional_Barebow-3kQxVw.jpg
GEO:42.705297;-83.4014
X-APPLE-STRUCTURED-LOCATION;VALUE=URI;X-ADDRESS=Indoor Archery Range 4770 Waterford Rd Clarkston MI United States;X-APPLE-RADIUS=500;X-TITLE=4770 Waterford Rd:geo:-83.4014,42.705297
END:VEVENT
BEGIN:VEVENT
DTSTART;TZID=America/New_York:20260302T190000
DTEND;TZID=America/New_York:20260302T213000
DTSTAMP:20260424T104156
CREATED:20260227T050133Z
LAST-MODIFIED:20260227T050133Z
UID:10005800-1772478000-1772487000@gunstuff.tv
SUMMARY:Executive Board Meeting
DESCRIPTION:
URL:https://gunstuff.tv/event/executive-board-meeting-6/
LOCATION:OCSC Main Hall\, 4770 Waterford Rd\, Clarkston\, MI\, United States
CATEGORIES:Board Meeting,Club Events
ATTACH;FMTTYPE=image/png:https://gunstuff.tv/wp-content/uploads/2025/10/Circle-Logo-e1647896702576-h8fJMO.png
GEO:42.705297;-83.4014
X-APPLE-STRUCTURED-LOCATION;VALUE=URI;X-ADDRESS=OCSC Main Hall 4770 Waterford Rd Clarkston MI United States;X-APPLE-RADIUS=500;X-TITLE=4770 Waterford Rd:geo:-83.4014,42.705297
END:VEVENT
BEGIN:VEVENT
DTSTART;TZID=UTC:20260302T190000
DTEND;TZID=UTC:20260302T220000
DTSTAMP:20260424T104156
CREATED:20260302T200137Z
LAST-MODIFIED:20260302T200140Z
UID:10005967-1772478000-1772488800@gunstuff.tv
SUMMARY:Open Range W/C 01/03/2026
DESCRIPTION:
URL:https://gunstuff.tv/event/open-range-w-c-01-03-2026/
LOCATION:Tiverton Small-bore Rifle Club
END:VEVENT
BEGIN:VEVENT
DTSTART;TZID=America/New_York:20260302T193000
DTEND;TZID=America/New_York:20260302T223000
DTSTAMP:20260424T104156
CREATED:20251012T173813Z
LAST-MODIFIED:20260301T183130Z
UID:10002081-1772479800-1772490600@gunstuff.tv
SUMMARY:Board Meeting
DESCRIPTION:Monthly Board Meeting
URL:https://gunstuff.tv/event/board-meeting-24/
LOCATION:Clubhouse
END:VEVENT
BEGIN:VEVENT
DTSTART;VALUE=DATE:20260303
DTEND;VALUE=DATE:20260304
DTSTAMP:20260424T104156
CREATED:20260213T031052Z
LAST-MODIFIED:20260227T031630Z
UID:10005161-1772496000-1772582399@gunstuff.tv
SUMMARY:Club closed
DESCRIPTION:
URL:https://gunstuff.tv/event/club-closed-5/
LOCATION:OH
END:VEVENT
BEGIN:VEVENT
DTSTART;VALUE=DATE:20260303
DTEND;VALUE=DATE:20260304
DTSTAMP:20260424T104156
CREATED:20260213T031052Z
LAST-MODIFIED:20260227T031630Z
UID:10005162-1772496000-1772582399@gunstuff.tv
SUMMARY:comp bays closed steel challenge
DESCRIPTION:
URL:https://gunstuff.tv/event/comp-bays-closed-steel-challenge/
LOCATION:OH
END:VEVENT
BEGIN:VEVENT
DTSTART;TZID=America/New_York:20260303T090000
DTEND;TZID=America/New_York:20260303T160000
DTSTAMP:20260424T104156
CREATED:20251012T173813Z
LAST-MODIFIED:20260301T183130Z
UID:10002082-1772528400-1772553600@gunstuff.tv
SUMMARY:US Army 3rd Infantry GAFPB Quals
DESCRIPTION:Host members of the 3rd Infantry Regiment (Old Guard) for the pistol segment of their qualification for the German Army Proficiency Badge
URL:https://gunstuff.tv/event/us-army-3rd-infantry-gafpb-quals/
LOCATION:Walsh & Sieger Ranges
END:VEVENT
BEGIN:VEVENT
DTSTART;TZID=America/Los_Angeles:20260303T090000
DTEND;TZID=America/Los_Angeles:20260303T160000
DTSTAMP:20260424T104156
CREATED:20260206T191709Z
LAST-MODIFIED:20260227T193139Z
UID:10005016-1772528400-1772553600@gunstuff.tv
SUMMARY:MPR – RSO Only – Airgun/.22 Only
DESCRIPTION:
URL:https://gunstuff.tv/event/mpr-rso-only-airgun-22-only-12/
LOCATION:USI Multi Purpose Range\, 4700 Evora Road\, Concord\, CA\, 94520
END:VEVENT
BEGIN:VEVENT
DTSTART;TZID=America/New_York:20260303T170000
DTEND;TZID=America/New_York:20260303T210000
DTSTAMP:20260424T104156
CREATED:20260302T111636Z
LAST-MODIFIED:20260302T111732Z
UID:10005954-1772557200-1772571600@gunstuff.tv
SUMMARY:Cosmic
DESCRIPTION:Time:  5-9\n$10 includes a round of 25 Wobble or Skeet and a Hot Dog + Soda
URL:https://gunstuff.tv/event/cosmic-7/
LOCATION:OH
END:VEVENT
BEGIN:VEVENT
DTSTART;TZID=America/New_York:20260303T173000
DTEND;TZID=America/New_York:20260303T210000
DTSTAMP:20260424T104156
CREATED:20260227T050133Z
LAST-MODIFIED:20260227T050133Z
UID:10005804-1772559000-1772571600@gunstuff.tv
SUMMARY:Bullseye
DESCRIPTION:Join us every Tuesday evening at the Oakland County Sportsmans Club for our weekly Bullseye session. Hosted by the DR Wilson Rifle and Pistol Club\, this event is dedicated to the art of precision shooting. Whether you are training for competition or simply want to improve your marksmanship\, these sessions provide a structured and welcoming environment for all skill levels.\nEvent Details\nWhen: Every Tuesday\nTime: 5:30 PM – 9:00 PM\nLocation: DR Wilson Rifle and Pistol Club Range\nFocus: Bullseye / Precision Pistol\nBenefits of Joining\nRefine Your Technique: Focus on the core pillars of marksmanship: stance\, grip\, sight alignment\, and trigger squeeze.\nConsistency: Our weekly schedule makes it easy to build a routine and see measurable improvement in your scores.\nCamaraderie: Connect with experienced shooters and club members who share a passion for the sport.
URL:https://gunstuff.tv/event/bullseye-7/
LOCATION:Indoor Rifle & Pistol Range\, 4770 Waterford Rd\,\, Village of Clarkston\, 48346
CATEGORIES:D.R. Wilson,Indoor Rifle & Pistol Rage,Range
ATTACH;FMTTYPE=image/jpeg:https://gunstuff.tv/wp-content/uploads/2026/01/gun-and-bullets-2021-10-18-18-53-59-utc-scaled-42cwdJ.jpg
END:VEVENT
BEGIN:VEVENT
DTSTART;TZID=America/New_York:20260303T190000
DTEND;TZID=America/New_York:20260303T210000
DTSTAMP:20260424T104156
CREATED:20260227T050133Z
LAST-MODIFIED:20260227T050133Z
UID:10005805-1772564400-1772571600@gunstuff.tv
SUMMARY:Boy Scouts
DESCRIPTION:
URL:https://gunstuff.tv/event/boy-scouts-22/
LOCATION:Michigan
CATEGORIES:Boy Scouts
END:VEVENT
BEGIN:VEVENT
DTSTART;TZID=America/New_York:20260303T190000
DTEND;TZID=America/New_York:20260303T210000
DTSTAMP:20260424T104156
CREATED:20260227T050133Z
LAST-MODIFIED:20260227T050133Z
UID:10005806-1772564400-1772571600@gunstuff.tv
SUMMARY:Animal League
DESCRIPTION:
URL:https://gunstuff.tv/event/animal-league-9/
LOCATION:Indoor Archery Range\, 4770 Waterford Rd\, Clarkston\, MI\, United States
CATEGORIES:Archery,Indoor Archery Range,Range,Winter League
ATTACH;FMTTYPE=image/jpeg:https://gunstuff.tv/wp-content/uploads/2026/01/Animal-X5cx5x.jpg
GEO:42.705297;-83.4014
X-APPLE-STRUCTURED-LOCATION;VALUE=URI;X-ADDRESS=Indoor Archery Range 4770 Waterford Rd Clarkston MI United States;X-APPLE-RADIUS=500;X-TITLE=4770 Waterford Rd:geo:-83.4014,42.705297
END:VEVENT
BEGIN:VEVENT
DTSTART;TZID=UTC:20260303T190000
DTEND;TZID=UTC:20260303T210000
DTSTAMP:20260424T104156
CREATED:20260303T001634Z
LAST-MODIFIED:20260303T001634Z
UID:10005970-1772564400-1772571600@gunstuff.tv
SUMMARY:Indoor Range Closed 7-9:00pm
DESCRIPTION:Little Club Match \nFreeport Red (home) vs 336 \nMatch 315 and 837
URL:https://gunstuff.tv/event/indoor-range-closed-7-900pm-9/
LOCATION:OH
END:VEVENT
BEGIN:VEVENT
DTSTART;TZID=UTC:20260303T233000
DTEND;TZID=UTC:20260304T030000
DTSTAMP:20260424T104156
CREATED:20260111T213126Z
LAST-MODIFIED:20260301T214627Z
UID:10004405-1772580600-1772593200@gunstuff.tv
SUMMARY:CSC Poker Fundraising Tournament
DESCRIPTION:
URL:https://gunstuff.tv/event/csc-poker-fundraising-tournament/
LOCATION:Satire Brewing Company\, 13101 Grant Cir N\, Denver\, CO\, United States
ORGANIZER;CN="Rocky Mountain Steel Construction Association":MAILTO:info@rmsca.org
GEO:39.935014;-104.985971
X-APPLE-STRUCTURED-LOCATION;VALUE=URI;X-ADDRESS=Satire Brewing Company 13101 Grant Cir N Denver CO United States;X-APPLE-RADIUS=500;X-TITLE=13101 Grant Cir N:geo:-104.985971,39.935014
END:VEVENT
BEGIN:VEVENT
DTSTART;VALUE=DATE:20260304
DTEND;VALUE=DATE:20260305
DTSTAMP:20260424T104156
CREATED:20251003T160028Z
LAST-MODIFIED:20260227T171633Z
UID:10000931-1772582400-1772668799@gunstuff.tv
SUMMARY:Centerfire and Smallbore Practice - Smallbore Range
DESCRIPTION:
URL:https://gunstuff.tv/event/centerfire-and-smallbore-practice-smallbore-range-15/
LOCATION:OH
END:VEVENT
BEGIN:VEVENT
DTSTART;VALUE=DATE:20260304
DTEND;VALUE=DATE:20260305
DTSTAMP:20260424T104156
CREATED:20251005T190050Z
LAST-MODIFIED:20260301T200128Z
UID:10001662-1772582400-1772668799@gunstuff.tv
SUMMARY:Wednesday Registered Skeet
DESCRIPTION:Registered Skeet.  Contact Jerry Adams at 240-605-3220 for details. \nClick here for flyer
URL:https://gunstuff.tv/event/wednesday-registered-skeet-5/
LOCATION:OH
END:VEVENT
BEGIN:VEVENT
DTSTART;VALUE=DATE:20260304
DTEND;VALUE=DATE:20260305
DTSTAMP:20260424T104156
CREATED:20260213T031052Z
LAST-MODIFIED:20260227T031630Z
UID:10005165-1772582400-1772668799@gunstuff.tv
SUMMARY:comp bays closed steel challenge
DESCRIPTION:
URL:https://gunstuff.tv/event/comp-bays-closed-steel-challenge-3/
LOCATION:OH
END:VEVENT
BEGIN:VEVENT
DTSTART;TZID=UTC:20260304T080000
DTEND;TZID=UTC:20260304T120000
DTSTAMP:20260424T104156
CREATED:20260303T001634Z
LAST-MODIFIED:20260303T001634Z
UID:10005971-1772611200-1772625600@gunstuff.tv
SUMMARY:Indoor range closed 8am-12:00pm
DESCRIPTION:Indoor range closed
URL:https://gunstuff.tv/event/indoor-range-closed-8am-1200pm-18/
LOCATION:OH
END:VEVENT
BEGIN:VEVENT
DTSTART;TZID=UTC:20260304T080000
DTEND;TZID=UTC:20260304T160000
DTSTAMP:20260424T104156
CREATED:20260303T001634Z
LAST-MODIFIED:20260303T001634Z
UID:10005972-1772611200-1772640000@gunstuff.tv
SUMMARY:*****Outdoor Range Closed 8:00am-4:00pm*****
DESCRIPTION:Outdoor Range Closed \n  \n 
URL:https://gunstuff.tv/event/outdoor-range-closed-800am-400pm/
LOCATION:OH
END:VEVENT
BEGIN:VEVENT
DTSTART;TZID=America/Los_Angeles:20260304T090000
DTEND;TZID=America/Los_Angeles:20260304T120000
DTSTAMP:20260424T104156
CREATED:20260206T191709Z
LAST-MODIFIED:20260227T193140Z
UID:10005017-1772614800-1772625600@gunstuff.tv
SUMMARY:Airgun Wednesdays
DESCRIPTION:Fun Airgun Only shooting session at the MPR- look for the big red flag on the pole that says “MPR”- that’s us! \nOpen to public\, airguns .30 cal and below. Benches available\, targets and stands\, 200 yard range. Good group of people. \nAll types of airguns- springers\, PCP’s\, Pistols.  Eye protection required\, ear protection optional \nNo bb\, darts or airsoft please. \n$15 Guest\n$10 for Diablo members (did you know Diablo membership is only $25 a year?)\n$5 for those special few that have purchased a USI VIP card.\nYouths accompanied by a Club member adult shoot free.\n \n\nUSI waiver must signed prior to shoot\, you can do so prior to attending: \n\n\nWaiver \n\n\nContact: \nSam Russo \nthePelleteer@gmail.com
URL:https://gunstuff.tv/event/airgun-wednesdays-21/
LOCATION:USI Multi Purpose Range\, 4700 Evora Road\, Concord\, CA\, 94520
CATEGORIES:Airgun
ATTACH;FMTTYPE=image/jpeg:https://gunstuff.tv/wp-content/uploads/2025/10/4MRvVFxy_400x400-e1623188943149-4rbkn0.jpg
ORGANIZER;CN="Sam Russo":MAILTO:airgun_fieldtarget@diablorodandgun.com
END:VEVENT
END:VCALENDAR