BEGIN:VCALENDAR
VERSION:2.0
PRODID:-//GunStuff TV - ECPv6.15.20//NONSGML v1.0//EN
CALSCALE:GREGORIAN
METHOD:PUBLISH
X-WR-CALNAME:GunStuff TV
X-ORIGINAL-URL:https://gunstuff.tv
X-WR-CALDESC:Events for GunStuff TV
REFRESH-INTERVAL;VALUE=DURATION:PT1H
X-Robots-Tag:noindex
X-PUBLISHED-TTL:PT1H
BEGIN:VTIMEZONE
TZID:America/Phoenix
BEGIN:STANDARD
TZOFFSETFROM:-0700
TZOFFSETTO:-0700
TZNAME:MST
DTSTART:20250101T000000
END:STANDARD
END:VTIMEZONE
BEGIN:VTIMEZONE
TZID:America/New_York
BEGIN:DAYLIGHT
TZOFFSETFROM:-0500
TZOFFSETTO:-0400
TZNAME:EDT
DTSTART:20250309T070000
END:DAYLIGHT
BEGIN:STANDARD
TZOFFSETFROM:-0400
TZOFFSETTO:-0500
TZNAME:EST
DTSTART:20251102T060000
END:STANDARD
BEGIN:DAYLIGHT
TZOFFSETFROM:-0500
TZOFFSETTO:-0400
TZNAME:EDT
DTSTART:20260308T070000
END:DAYLIGHT
BEGIN:STANDARD
TZOFFSETFROM:-0400
TZOFFSETTO:-0500
TZNAME:EST
DTSTART:20261101T060000
END:STANDARD
BEGIN:DAYLIGHT
TZOFFSETFROM:-0500
TZOFFSETTO:-0400
TZNAME:EDT
DTSTART:20270314T070000
END:DAYLIGHT
BEGIN:STANDARD
TZOFFSETFROM:-0400
TZOFFSETTO:-0500
TZNAME:EST
DTSTART:20271107T060000
END:STANDARD
BEGIN:DAYLIGHT
TZOFFSETFROM:-0500
TZOFFSETTO:-0400
TZNAME:EDT
DTSTART:20280312T070000
END:DAYLIGHT
BEGIN:STANDARD
TZOFFSETFROM:-0400
TZOFFSETTO:-0500
TZNAME:EST
DTSTART:20281105T060000
END:STANDARD
END:VTIMEZONE
BEGIN:VTIMEZONE
TZID:UTC
BEGIN:STANDARD
TZOFFSETFROM:+0000
TZOFFSETTO:+0000
TZNAME:UTC
DTSTART:20260101T000000
END:STANDARD
END:VTIMEZONE
BEGIN:VEVENT
DTSTART;VALUE=DATE:20261230
DTEND;VALUE=DATE:20261231
DTSTAMP:20260421T225950
CREATED:20251003T160032Z
LAST-MODIFIED:20260412T043239Z
UID:10001105-1798588800-1798675199@gunstuff.tv
SUMMARY:Centerfire and Smallbore Practice - Smallbore Range
DESCRIPTION:
URL:https://gunstuff.tv/event/centerfire-and-smallbore-practice-smallbore-range-28/
LOCATION:IL
END:VEVENT
BEGIN:VEVENT
DTSTART;VALUE=DATE:20261231
DTEND;VALUE=DATE:20270101
DTSTAMP:20260421T225950
CREATED:20251003T160032Z
LAST-MODIFIED:20260412T043239Z
UID:10001107-1798675200-1798761599@gunstuff.tv
SUMMARY:600 Yard Practice 8:00am Pits
DESCRIPTION:
URL:https://gunstuff.tv/event/600-yard-practice-800am-pits-16/
LOCATION:IL
END:VEVENT
BEGIN:VEVENT
DTSTART;TZID=America/New_York:20261231T180000
DTEND;TZID=America/New_York:20261231T183000
DTSTAMP:20260421T225950
CREATED:20251003T162645Z
LAST-MODIFIED:20260411T214641Z
UID:10001553-1798740000-1798741800@gunstuff.tv
SUMMARY:Member Session
DESCRIPTION:Hear committee reports\, ask questions\, make requests of the board.
URL:https://gunstuff.tv/event/member-session-15/
LOCATION:Indoor Range
END:VEVENT
BEGIN:VEVENT
DTSTART;TZID=America/New_York:20261231T183000
DTEND;TZID=America/New_York:20261231T203000
DTSTAMP:20260421T225950
CREATED:20251003T162645Z
LAST-MODIFIED:20260411T214641Z
UID:10001552-1798741800-1798749000@gunstuff.tv
SUMMARY:Board Meeting
DESCRIPTION:All members welcome.
URL:https://gunstuff.tv/event/board-meeting-18/
LOCATION:Indoor Range
END:VEVENT
BEGIN:VEVENT
DTSTART;VALUE=DATE:20270101
DTEND;VALUE=DATE:20270102
DTSTAMP:20260421T225950
CREATED:20251003T162537Z
LAST-MODIFIED:20260412T184759Z
UID:10001303-1798761600-1798847999@gunstuff.tv
SUMMARY:New Year's Day
DESCRIPTION:
URL:https://gunstuff.tv/event/new-years-day-2/
LOCATION:IL
END:VEVENT
BEGIN:VEVENT
DTSTART;VALUE=DATE:20270101
DTEND;VALUE=DATE:20270102
DTSTAMP:20260421T225950
CREATED:20260213T031105Z
LAST-MODIFIED:20260410T034708Z
UID:10005364-1798761600-1798847999@gunstuff.tv
SUMMARY:Competition Bays Closed for steel challenge set up
DESCRIPTION:
URL:https://gunstuff.tv/event/competition-bays-closed-for-steel-challenge-set-up-11/
LOCATION:IL
END:VEVENT
BEGIN:VEVENT
DTSTART;VALUE=DATE:20270101
DTEND;VALUE=DATE:20270102
DTSTAMP:20260421T225950
CREATED:20260213T031105Z
LAST-MODIFIED:20260410T034708Z
UID:10005365-1798761600-1798847999@gunstuff.tv
SUMMARY:Rifle range closed for steel challenge setup & shoot.
DESCRIPTION:
URL:https://gunstuff.tv/event/rifle-range-closed-for-steel-challenge-setup-shoot-13/
LOCATION:IL
END:VEVENT
BEGIN:VEVENT
DTSTART;VALUE=DATE:20270102
DTEND;VALUE=DATE:20270103
DTSTAMP:20260421T225950
CREATED:20260213T031105Z
LAST-MODIFIED:20260410T034708Z
UID:10005363-1798848000-1798934399@gunstuff.tv
SUMMARY:Steel Challenge
DESCRIPTION: Steel Shoot. Steel shooting offers a port of entry to the shooting sports that is far less intimidating than practical  shooting . Steel provides an excellent starting place for young or beginning shooters. Steel offers the most diversified shooting sport out there making it appealing to youth and seniors\, novice and experts. Any practical handgun \,including 22 rimfires (both handgun and rifle). Sign up starts at9AM\, Cost for monthly club level matches are $15 for Pinetucky Club Members and $20 for Non-member. A second firearm can be registered for an additional $10.Standard Pinetucky safety rules Apply. You can sign up at practiscore.com.  Please note our steel challenge is now six stages which requires a minimum round count of 150 rounds of ammunition.  Please plan accordingly.
URL:https://gunstuff.tv/event/steel-challenge-10/
LOCATION:IL
END:VEVENT
BEGIN:VEVENT
DTSTART;VALUE=DATE:20270102
DTEND;VALUE=DATE:20270103
DTSTAMP:20260421T225950
CREATED:20260213T031105Z
LAST-MODIFIED:20260410T034708Z
UID:10005366-1798848000-1798934399@gunstuff.tv
SUMMARY:Rifle Range Closed Today
DESCRIPTION:
URL:https://gunstuff.tv/event/rifle-range-closed-today-10/
LOCATION:IL
END:VEVENT
BEGIN:VEVENT
DTSTART;TZID=America/New_York:20270102T083000
DTEND;TZID=America/New_York:20270102T140000
DTSTAMP:20260421T225950
CREATED:20251003T031217Z
LAST-MODIFIED:20260410T070132Z
UID:10000669-1798878600-1798898400@gunstuff.tv
SUMMARY:PMRPC GSMM Match
DESCRIPTION:For more information you may contact the match director: James Sudduth at j.sudduth@ymail.com.
URL:https://gunstuff.tv/event/pmrpc-gsmm-match-16/
LOCATION:Port Malabar Rifle & Pistol Club\, 599 Hurley Blvd SW\, Palm Bay\, FL\, United States
GEO:27.987569;-80.71018
X-APPLE-STRUCTURED-LOCATION;VALUE=URI;X-ADDRESS=Port Malabar Rifle & Pistol Club 599 Hurley Blvd SW Palm Bay FL United States;X-APPLE-RADIUS=500;X-TITLE=599 Hurley Blvd SW:geo:-80.71018,27.987569
END:VEVENT
BEGIN:VEVENT
DTSTART;TZID=UTC:20270103T083000
DTEND;TZID=UTC:20270103T083000
DTSTAMP:20260421T225950
CREATED:20251031T195500Z
LAST-MODIFIED:20260401T070149Z
UID:10002804-1798965000-1798965000@gunstuff.tv
SUMMARY:EDSS Level I Steel Challenge
DESCRIPTION:EDSS Level I Steel Challenge\nDate: 1/03/27\nStart Time: 8:30 AM\nLocation:\nEl Dorado Steel Shooters (SCSA522)\n5941 Union Mine Rd\nEl Dorado\, CA\nEvent Contact Information\nAmer Sahtout\n9162964076\nedss.public@gmail.com\nMatch Information\nEDSS Level I Club Match. Sign-ups available on Practiscore.com. 5941 Union Mine Rd.\, El Dorado Ca 95623\nEvent Website \nHome
URL:https://gunstuff.tv/event/edss-level-i-steel-challenge-15/
LOCATION:El Dorado Steel Shooters (SCSA522)\, 5941 Union Mine Rd\, El Dorado\, CA\, United States
GEO:38.652465;-120.833266
X-APPLE-STRUCTURED-LOCATION;VALUE=URI;X-ADDRESS=El Dorado Steel Shooters (SCSA522) 5941 Union Mine Rd El Dorado CA United States;X-APPLE-RADIUS=500;X-TITLE=5941 Union Mine Rd:geo:-120.833266,38.652465
END:VEVENT
BEGIN:VEVENT
DTSTART;TZID=America/New_York:20270103T090000
DTEND;TZID=America/New_York:20270103T120000
DTSTAMP:20260421T225950
CREATED:20251003T162645Z
LAST-MODIFIED:20260411T214641Z
UID:10001554-1798966800-1798977600@gunstuff.tv
SUMMARY:Weekly Trap League
DESCRIPTION:
URL:https://gunstuff.tv/event/weekly-trap-league-66/
LOCATION:Shotgun Range
END:VEVENT
BEGIN:VEVENT
DTSTART;VALUE=DATE:20270104
DTEND;VALUE=DATE:20270105
DTSTAMP:20260421T225950
CREATED:20260213T031106Z
LAST-MODIFIED:20260410T034708Z
UID:10005367-1799020800-1799107199@gunstuff.tv
SUMMARY:Club Closed
DESCRIPTION:
URL:https://gunstuff.tv/event/club-closed-93/
LOCATION:IL
END:VEVENT
BEGIN:VEVENT
DTSTART;TZID=America/New_York:20270104T090000
DTEND;TZID=America/New_York:20270104T100000
DTSTAMP:20260421T225950
CREATED:20251003T162645Z
LAST-MODIFIED:20251010T162933Z
UID:10001555-1799053200-1799056800@gunstuff.tv
SUMMARY:4-H Class Indoors
DESCRIPTION:Indoor reserved for 4-H class.
URL:https://gunstuff.tv/event/4-h-class-indoors-66/
LOCATION:Indoor Range
END:VEVENT
BEGIN:VEVENT
DTSTART;TZID=America/New_York:20270104T160000
DTEND;TZID=America/New_York:20270104T180000
DTSTAMP:20260421T225950
CREATED:20251003T162645Z
LAST-MODIFIED:20251205T181712Z
UID:10001556-1799078400-1799085600@gunstuff.tv
SUMMARY:Skeet League
DESCRIPTION:Contact Frank Andrews with Questions.
URL:https://gunstuff.tv/event/skeet-league-66/
LOCATION:IL
END:VEVENT
BEGIN:VEVENT
DTSTART;VALUE=DATE:20270105
DTEND;VALUE=DATE:20270106
DTSTAMP:20260421T225950
CREATED:20260213T031106Z
LAST-MODIFIED:20260410T034708Z
UID:10005368-1799107200-1799193599@gunstuff.tv
SUMMARY:Club closed
DESCRIPTION:
URL:https://gunstuff.tv/event/club-closed-94/
LOCATION:IL
END:VEVENT
BEGIN:VEVENT
DTSTART;TZID=UTC:20270109T080000
DTEND;TZID=UTC:20270109T080000
DTSTAMP:20260421T225950
CREATED:20251031T195500Z
LAST-MODIFIED:20260401T070149Z
UID:10002805-1799481600-1799481600@gunstuff.tv
SUMMARY:Hansen Steel
DESCRIPTION:Hansen Steel\nDate: 1/09/27\nStart Time: 8:00 AM\nLocation:\nFort Myers Practical Shooters (SCSA254)\n27700 Zemel Road\nPunta Gorda\, FL\nEvent Contact Information\nSteve Naso\n2398490190\nstevenaso1@gmail.com\nMatch Information\nClassifier every second saturday.\nEvent Website\nhttp://
URL:https://gunstuff.tv/event/hansen-steel-15/
LOCATION:Fort Myers Practical Shooters (SCSA254)\, 25398 Zemel Rd\, Punta Gorda\, FL\, United States
GEO:26.799811;-82.032777
X-APPLE-STRUCTURED-LOCATION;VALUE=URI;X-ADDRESS=Fort Myers Practical Shooters (SCSA254) 25398 Zemel Rd Punta Gorda FL United States;X-APPLE-RADIUS=500;X-TITLE=25398 Zemel Rd:geo:-82.032777,26.799811
END:VEVENT
BEGIN:VEVENT
DTSTART;TZID=America/New_York:20270110T090000
DTEND;TZID=America/New_York:20270110T120000
DTSTAMP:20260421T225950
CREATED:20251003T162645Z
LAST-MODIFIED:20260411T214641Z
UID:10001557-1799571600-1799582400@gunstuff.tv
SUMMARY:Weekly Trap League
DESCRIPTION:
URL:https://gunstuff.tv/event/weekly-trap-league-67/
LOCATION:Shotgun Range
END:VEVENT
BEGIN:VEVENT
DTSTART;TZID=America/New_York:20270110T090000
DTEND;TZID=America/New_York:20270110T140000
DTSTAMP:20260421T225950
CREATED:20251003T031217Z
LAST-MODIFIED:20260410T070132Z
UID:10000670-1799571600-1799589600@gunstuff.tv
SUMMARY:Wyoming Antelope 2700
DESCRIPTION:
URL:https://gunstuff.tv/event/wyoming-antelope-2700-31/
LOCATION:Wyoming Antelope Club-Florida\, 3700 126th Ave N\, Clearwater\, FL\, United States
GEO:27.886432;-82.683263
X-APPLE-STRUCTURED-LOCATION;VALUE=URI;X-ADDRESS=Wyoming Antelope Club-Florida 3700 126th Ave N Clearwater FL United States;X-APPLE-RADIUS=500;X-TITLE=3700 126th Ave N:geo:-82.683263,27.886432
END:VEVENT
BEGIN:VEVENT
DTSTART;VALUE=DATE:20270111
DTEND;VALUE=DATE:20270112
DTSTAMP:20260421T225950
CREATED:20260213T031106Z
LAST-MODIFIED:20260410T034708Z
UID:10005369-1799625600-1799711999@gunstuff.tv
SUMMARY:Club Closed
DESCRIPTION:
URL:https://gunstuff.tv/event/club-closed-95/
LOCATION:IL
END:VEVENT
BEGIN:VEVENT
DTSTART;TZID=America/New_York:20270111T090000
DTEND;TZID=America/New_York:20270111T100000
DTSTAMP:20260421T225950
CREATED:20251003T162645Z
LAST-MODIFIED:20251010T162933Z
UID:10001558-1799658000-1799661600@gunstuff.tv
SUMMARY:4-H Class Indoors
DESCRIPTION:Indoor reserved for 4-H class.
URL:https://gunstuff.tv/event/4-h-class-indoors-67/
LOCATION:Indoor Range
END:VEVENT
BEGIN:VEVENT
DTSTART;TZID=America/New_York:20270111T160000
DTEND;TZID=America/New_York:20270111T180000
DTSTAMP:20260421T225950
CREATED:20251003T162645Z
LAST-MODIFIED:20251205T181712Z
UID:10001559-1799683200-1799690400@gunstuff.tv
SUMMARY:Skeet League
DESCRIPTION:Contact Frank Andrews with Questions.
URL:https://gunstuff.tv/event/skeet-league-67/
LOCATION:IL
END:VEVENT
BEGIN:VEVENT
DTSTART;VALUE=DATE:20270112
DTEND;VALUE=DATE:20270113
DTSTAMP:20260421T225950
CREATED:20260213T031106Z
LAST-MODIFIED:20260410T034708Z
UID:10005370-1799712000-1799798399@gunstuff.tv
SUMMARY:Club closed
DESCRIPTION:
URL:https://gunstuff.tv/event/club-closed-96/
LOCATION:IL
END:VEVENT
BEGIN:VEVENT
DTSTART;VALUE=DATE:20270115
DTEND;VALUE=DATE:20270116
DTSTAMP:20260421T225950
CREATED:20260213T031106Z
LAST-MODIFIED:20260410T034710Z
UID:10005372-1799971200-1800057599@gunstuff.tv
SUMMARY:Competition Bays closed for USPSA set up
DESCRIPTION:
URL:https://gunstuff.tv/event/competition-bays-closed-for-uspsa-set-up-12/
LOCATION:IL
END:VEVENT
BEGIN:VEVENT
DTSTART;VALUE=DATE:20270116
DTEND;VALUE=DATE:20270117
DTSTAMP:20260421T225950
CREATED:20260213T031106Z
LAST-MODIFIED:20260410T034710Z
UID:10005371-1800057600-1800143999@gunstuff.tv
SUMMARY:USPSA Pistol Match
DESCRIPTION:USPSA (United States Practical ShootingAssociation) Pistol Match: Practical Shooting measures the shooter’s ability toshoot rapidly and accurately through obstacle-laden courses. The shooter moves\,negotiates\, runs\, covers\, and speed reloads through the stage as fast as theirskill will allow.  If this fast paced shooting sounds like fun\, come outand give it a try. Show up with an unloaded centerfire pistol in .38\, 9mm\, .40\,or .45 in an enclosed case and ask a match official where the safe area is soyou can holster your gun safely.  Also bring a rigid holster\, magazines\,and mag pouches capable of holding at least 32 rounds.  Overall matchround counts are usually between 100 and 150 rounds.  Specific divisionrequirements can be found at http://uspsa.org.  Starts at 9:30 AM and costwill be $20 ($15 for Pinetucky members\, active duty military\, police\, andfire). You can sign up at practiscore.com
URL:https://gunstuff.tv/event/uspsa-pistol-match-12/
LOCATION:Pinetucky Gun Club\, 2096 Greenland Rd\, Blythe\, GA\, United States
GEO:33.344103;-82.138722
X-APPLE-STRUCTURED-LOCATION;VALUE=URI;X-ADDRESS=Pinetucky Gun Club 2096 Greenland Rd Blythe GA United States;X-APPLE-RADIUS=500;X-TITLE=2096 Greenland Rd:geo:-82.138722,33.344103
END:VEVENT
BEGIN:VEVENT
DTSTART;TZID=America/New_York:20270116T083000
DTEND;TZID=America/New_York:20270116T143000
DTSTAMP:20260421T225950
CREATED:20251003T031217Z
LAST-MODIFIED:20260410T070132Z
UID:10000671-1800088200-1800109800@gunstuff.tv
SUMMARY:PMRPC Rimfire Match
DESCRIPTION:For more information you may contact the match director: James Sudduth at j.sudduth@ymail.com.
URL:https://gunstuff.tv/event/pmrpc-rimfire-match-16/
LOCATION:Port Malabar Rifle & Pistol Club\, 599 Hurley Blvd SW\, Palm Bay\, FL\, United States
GEO:27.987569;-80.71018
X-APPLE-STRUCTURED-LOCATION;VALUE=URI;X-ADDRESS=Port Malabar Rifle & Pistol Club 599 Hurley Blvd SW Palm Bay FL United States;X-APPLE-RADIUS=500;X-TITLE=599 Hurley Blvd SW:geo:-80.71018,27.987569
END:VEVENT
BEGIN:VEVENT
DTSTART;TZID=UTC:20270116T090000
DTEND;TZID=UTC:20270116T090000
DTSTAMP:20260421T225950
CREATED:20260110T171716Z
LAST-MODIFIED:20260410T113155Z
UID:10004352-1800090000-1800090000@gunstuff.tv
SUMMARY:SAPSA USPSA Match
DESCRIPTION:SAPSA USPSA Match\nDate : 1/16/27\nStart Time: 9:00 AM\nLocation:\nSt. Augustine Practical Shooting Assn (FL13)\n18811 Maxville MacClenny Hwy\nJacksonville\, FL\nEvent Contact Information\nMicha McLain\n8505436555\nsapsashooters@gmail.com\nMatch Information\nSix stages including 1 classifier. Approximate round count is 150-200.\nSignup starts at 0800 and will end promptly at 0900.\nShooters meeting will commence upon closing of registration and match starts thereafter.\nMatch fee is $40 for non-members and $35 for members. Cash Only – No online payment accepted.\nEveryone is expected to help break the stages down after the match is over.\nEvent Website\nhttps://sapsa.org
URL:https://gunstuff.tv/event/sapsa-uspsa-match-16/
LOCATION:St. Augustine Practical Shooting Assn (FL13)\, 18811 Maxville MacClenny Hwy\, Jacksonville\, FL
END:VEVENT
BEGIN:VEVENT
DTSTART;TZID=UTC:20270116T100000
DTEND;TZID=UTC:20270116T100000
DTSTAMP:20260421T225950
CREATED:20260110T171716Z
LAST-MODIFIED:20260410T113155Z
UID:10004353-1800093600-1800093600@gunstuff.tv
SUMMARY:LowCountry USPSA
DESCRIPTION:LowCountry USPSA\nDate : 1/16/27\nStart Time: 10:00 AM\nLocation:\nLow Country Uspsa (NC37)\n466 Indigo Flats E\nTabor City\, NC\nEvent Contact Information\nallen terrell\n8432311810\nlowcountrypreserveuspsa@gmail.com\nEvent Website\nhttps://practiscore.com/clubs/low-country-uspsa
URL:https://gunstuff.tv/event/lowcountry-uspsa-16/
LOCATION:Low Country Uspsa (NC37)\, 466 Indigo Flats E\, Tabor City\, NC\, United States
GEO:34.025696;-78.628674
X-APPLE-STRUCTURED-LOCATION;VALUE=URI;X-ADDRESS=Low Country Uspsa (NC37) 466 Indigo Flats E Tabor City NC United States;X-APPLE-RADIUS=500;X-TITLE=466 Indigo Flats E:geo:-78.628674,34.025696
END:VEVENT
BEGIN:VEVENT
DTSTART;TZID=UTC:20270116T100000
DTEND;TZID=UTC:20270116T100000
DTSTAMP:20260421T225950
CREATED:20260128T014757Z
LAST-MODIFIED:20260401T070149Z
UID:10004821-1800093600-1800093600@gunstuff.tv
SUMMARY:VA Steel
DESCRIPTION:VA Steel\nDate: 1/16/27\nStart Time: 10:00 AM\nLocation:\nVasteel (SCSA382)\nBrushy Mountain Club 1813 Izaak Walton Road Hurt\, VA\nHurt\, VA\nEvent Contact Information\nJudy Gallion\n434-907-4443\nvasteel21@gmail.com\nMatch Information\nThis is a 6 Stage sanctioned Steel Challenge match. Registration at clubhouse from 9:00 am until 9:30 am\, match starts at 10:00 am.\nEvent Website\nhttp://
URL:https://gunstuff.tv/event/va-steel-14/
LOCATION:Vasteel (SCSA382)\, 307 Izaak Walton Rd\, Gretna\, VA\, United States
GEO:37.005382;-79.325362
X-APPLE-STRUCTURED-LOCATION;VALUE=URI;X-ADDRESS=Vasteel (SCSA382) 307 Izaak Walton Rd Gretna VA United States;X-APPLE-RADIUS=500;X-TITLE=307 Izaak Walton Rd:geo:-79.325362,37.005382
END:VEVENT
BEGIN:VEVENT
DTSTART;TZID=America/New_York:20270117T090000
DTEND;TZID=America/New_York:20270117T120000
DTSTAMP:20260421T225950
CREATED:20251003T162646Z
LAST-MODIFIED:20260411T214641Z
UID:10001560-1800176400-1800187200@gunstuff.tv
SUMMARY:Weekly Trap League
DESCRIPTION:
URL:https://gunstuff.tv/event/weekly-trap-league-68/
LOCATION:Shotgun Range
END:VEVENT
END:VCALENDAR