BEGIN:VCALENDAR
VERSION:2.0
PRODID:-//GunStuff TV - ECPv6.15.20//NONSGML v1.0//EN
CALSCALE:GREGORIAN
METHOD:PUBLISH
X-WR-CALNAME:GunStuff TV
X-ORIGINAL-URL:https://gunstuff.tv
X-WR-CALDESC:Events for GunStuff TV
REFRESH-INTERVAL;VALUE=DURATION:PT1H
X-Robots-Tag:noindex
X-PUBLISHED-TTL:PT1H
BEGIN:VTIMEZONE
TZID:America/New_York
BEGIN:DAYLIGHT
TZOFFSETFROM:-0500
TZOFFSETTO:-0400
TZNAME:EDT
DTSTART:20250309T070000
END:DAYLIGHT
BEGIN:STANDARD
TZOFFSETFROM:-0400
TZOFFSETTO:-0500
TZNAME:EST
DTSTART:20251102T060000
END:STANDARD
BEGIN:DAYLIGHT
TZOFFSETFROM:-0500
TZOFFSETTO:-0400
TZNAME:EDT
DTSTART:20260308T070000
END:DAYLIGHT
BEGIN:STANDARD
TZOFFSETFROM:-0400
TZOFFSETTO:-0500
TZNAME:EST
DTSTART:20261101T060000
END:STANDARD
BEGIN:DAYLIGHT
TZOFFSETFROM:-0500
TZOFFSETTO:-0400
TZNAME:EDT
DTSTART:20270314T070000
END:DAYLIGHT
BEGIN:STANDARD
TZOFFSETFROM:-0400
TZOFFSETTO:-0500
TZNAME:EST
DTSTART:20271107T060000
END:STANDARD
END:VTIMEZONE
BEGIN:VTIMEZONE
TZID:America/Phoenix
BEGIN:STANDARD
TZOFFSETFROM:-0700
TZOFFSETTO:-0700
TZNAME:MST
DTSTART:20250101T000000
END:STANDARD
END:VTIMEZONE
BEGIN:VTIMEZONE
TZID:UTC
BEGIN:STANDARD
TZOFFSETFROM:+0000
TZOFFSETTO:+0000
TZNAME:UTC
DTSTART:20250101T000000
END:STANDARD
END:VTIMEZONE
BEGIN:VTIMEZONE
TZID:America/Chicago
BEGIN:DAYLIGHT
TZOFFSETFROM:-0600
TZOFFSETTO:-0500
TZNAME:CDT
DTSTART:20250309T080000
END:DAYLIGHT
BEGIN:STANDARD
TZOFFSETFROM:-0500
TZOFFSETTO:-0600
TZNAME:CST
DTSTART:20251102T070000
END:STANDARD
BEGIN:DAYLIGHT
TZOFFSETFROM:-0600
TZOFFSETTO:-0500
TZNAME:CDT
DTSTART:20260308T080000
END:DAYLIGHT
BEGIN:STANDARD
TZOFFSETFROM:-0500
TZOFFSETTO:-0600
TZNAME:CST
DTSTART:20261101T070000
END:STANDARD
BEGIN:DAYLIGHT
TZOFFSETFROM:-0600
TZOFFSETTO:-0500
TZNAME:CDT
DTSTART:20270314T080000
END:DAYLIGHT
BEGIN:STANDARD
TZOFFSETFROM:-0500
TZOFFSETTO:-0600
TZNAME:CST
DTSTART:20271107T070000
END:STANDARD
END:VTIMEZONE
BEGIN:VEVENT
DTSTART;VALUE=DATE:20261127
DTEND;VALUE=DATE:20261128
DTSTAMP:20260421T190333
CREATED:20260213T031104Z
LAST-MODIFIED:20260410T034707Z
UID:10005343-1795737600-1795823999@gunstuff.tv
SUMMARY:OUTLAW CARBINE MATCH (Comp Bays CLOSED setup)
DESCRIPTION:
URL:https://gunstuff.tv/event/outlaw-carbine-match-comp-bays-closed-setup-2/
LOCATION:IL
END:VEVENT
BEGIN:VEVENT
DTSTART;VALUE=DATE:20261127
DTEND;VALUE=DATE:20261130
DTSTAMP:20260421T190333
CREATED:20251003T160032Z
LAST-MODIFIED:20260412T043238Z
UID:10001084-1795737600-1795996799@gunstuff.tv
SUMMARY:AZ State Long Range Championships
DESCRIPTION:
URL:https://gunstuff.tv/event/az-state-long-range-championships-2/
LOCATION:IL
END:VEVENT
BEGIN:VEVENT
DTSTART;TZID=UTC:20261127T090000
DTEND;TZID=UTC:20261127T090000
DTSTAMP:20260421T190333
CREATED:20260208T103211Z
LAST-MODIFIED:20260412T110209Z
UID:10005090-1795770000-1795770000@gunstuff.tv
SUMMARY:Pistol Clinic
DESCRIPTION:Fowler\, IN – Briggs Core Dynamics\, Inc.\nNovember 27\, 2026 – November 28\, 2026\nThis is a Pistol Clinic. The Pistol Clinic teaches the fundamentals of pistol/handgun safety\, accuracy\, and many other topics.\nYou must be at least 18 years of age to attend a pistol event in the State of Indiana.\nBoth 22LR and centerfire pistol cartridges are allowed at this event.\nRegister Now\nAddress: 3733 E 500 N\, Fowler\, IN 47944\nPlease Read:  How to Prepare for an Event\nSafety Notice:\n–  Keep ALL firearms in your vehicle until after the safety briefing and you are instructed to bring them to the firing line.\n–  No illegal firearms are allowed.\n–  At centerfire-friendly ranges\, rifle cartridges are limited to 8mm (rifle) or .45 caliber (pistol and pistol caliber carbines).\n–  Effective 8/8/2025\, Project Appleseed has temporarily suspended the SIG-Sauer P320/M17/M18 (all variants) in our Pistol Clinics.\n–  Parents of youth attending\, please read our Message to Parents.\nSubject to state and local laws\, Instructors at your event may have discounted .22 ammo available. Reach out to the contact at the bottom of this page for availability.\nRange Fee:\n$10 per person per day. Under 18 exempt.\nCamping Available:\n50 Primitive Campsites Onsite.\nHotels: Remington\, IN has a Holiday Inn Express and two other hotels. Drive time is 10 minutes.\nDirections: Go North out of Fowler on SR 55\, then go East on 500 N. You will run right into the range.\nGPS: 40.679537\,-87.255605\nState Laws to be aware of:\nIt is the responsibility of attendees to know and comply with all State and Federal Firearms Laws.\nIndiana State Firearms Laws\nMisc:\nThe facility has 5 different bays. The longest is 100 yards. We have a gaming bay with a Texas star\, dueling tree and pie plate rack.\nNo ammo .50 cal and up.\nFor more information contact:\nName: IN State Coordinator Email Address: IN@appleseedinfo.org
URL:https://gunstuff.tv/event/pistol-clinic-62/
LOCATION:Briggs Core Dynamics\, 1 N 500 W\, Fowler\, IN\, United States
GEO:40.608457;-87.41773
X-APPLE-STRUCTURED-LOCATION;VALUE=URI;X-ADDRESS=Briggs Core Dynamics 1 N 500 W Fowler IN United States;X-APPLE-RADIUS=500;X-TITLE=1 N 500 W:geo:-87.41773,40.608457
END:VEVENT
BEGIN:VEVENT
DTSTART;VALUE=DATE:20261128
DTEND;VALUE=DATE:20261129
DTSTAMP:20260421T190333
CREATED:20260213T031104Z
LAST-MODIFIED:20260410T034707Z
UID:10005344-1795824000-1795910399@gunstuff.tv
SUMMARY:OUTLAW CARBINE MATCH (Comp Bays CLOSED)
DESCRIPTION:
URL:https://gunstuff.tv/event/outlaw-carbine-match-comp-bays-closed-3/
LOCATION:IL
END:VEVENT
BEGIN:VEVENT
DTSTART;TZID=UTC:20261128T073000
DTEND;TZID=UTC:20261128T073000
DTSTAMP:20260421T190333
CREATED:20260207T171724Z
LAST-MODIFIED:20260410T113154Z
UID:10005066-1795851000-1795851000@gunstuff.tv
SUMMARY:NNRPA USPSA Match
DESCRIPTION:NNRPA USPSA Match\nDate : 11/28/26\nStart Time: 7:30 AM\nLocation:\nNortheastern Nevada Rifle & Pistol (NV06)\n308 Rifle Range Rd\nElko\, NV\nEvent Contact Information\nDennis Marsh\n775-934-2185\ndenmarsh@aol.com\nEvent Website\nhttp://nnrpa.org
URL:https://gunstuff.tv/event/nnrpa-uspsa-match-12/
LOCATION:Northeastern Nevada Rifle & Pistol (NV06)\, Elko\, NV\, United States
GEO:40.905583;-115.534429
END:VEVENT
BEGIN:VEVENT
DTSTART;TZID=UTC:20261128T090000
DTEND;TZID=UTC:20261128T090000
DTSTAMP:20260421T190333
CREATED:20260110T165515Z
LAST-MODIFIED:20260412T110209Z
UID:10004208-1795856400-1795856400@gunstuff.tv
SUMMARY:Appleseed
DESCRIPTION:Bothell\, WA – WCW Shooting Sports\nNovember 28\, 2026 – November 29\, 2026\nThis is a traditional 25m Project Appleseed rifle event.\nCenterfire is NOT allowed at this event – 22 Rimfire Only.\nRegister Now\nAddress: 1031 228th St SW\, Bothell\, WA 98021\nWebsite: www.wcwshootingsports.org\nPlease Read:  How to Prepare for an Event\nSafety Notice:\n–  Keep ALL firearms in your vehicle until after the safety briefing and you are instructed to bring them to the firing line.\n–  No illegal firearms are allowed.\n–  At centerfire-friendly ranges\, rifle cartridges are limited to 8mm (rifle) or .45 caliber (pistol and pistol caliber carbines).\n–  Effective 8/8/2025\, Project Appleseed has temporarily suspended the SIG-Sauer P320/M17/M18 (all variants) in our Pistol Clinics.\n–  Parents of youth attending\, please read our Message to Parents.\nSubject to state and local laws\, Instructors at your event may have discounted .22 ammo available. Reach out to the contact at the bottom of this page for availability.\nRange Fee:\n$30.98 Adults\n$14.62 Youth\nSales tax will be added. Range members exempt. Fees are to be paid at the range office located next to Range 1 and a receipt showing payment must be presented to the club officer in attendance at the event.\nFees are updated occasionally\, see www.wcwshootingsports.org/public-access/ for the most current information.\nCamping Available:  Lake Pleasant RV Park approximately 2.5 miles from range.\nHotels: Numerous lodging options within a 10 mile radius of the range.\nDirections:\nDriving from western WA (north side) – I-405 South exit 26 (Bothell/Mill Creek)\, follow SW (turn right after exit) to Bothell Everett Highway to 228th Street SE. Turn right on 228th Street going west. Continue about 1.5 miles. Range will be on the right.\nDriving from Western WA ( south side) – I 405 North exit 26 (Bothell/Mill creek)\, Follow SW (Turn left after exit) to Bothell Everett Highway to 228th Street SE. Turn right on 228th Street going west. Continue about 1.5 miles. Range will be on the right.\nDriving from Eastern WA – Take I-90West to I-405 North. Turn on I-405 North and continue following above directions.\nGPS: 47.813034\,-122.165191\nState Laws to be aware of:\nIt is the responsibility of attendees to know and comply with all State and Federal Firearms Laws.\nWashington State Firearms Laws\nMisc:\nThis event will be held at “Range 1”.\nAll attendees must check in at the range office located next to Range 1.\nRange rules are posted on their web site.\nA range waiver must be signed electronically and can be found on the top right corner of their website at https://www.wcwshootingsports.org/\, the direct link to the waiver is https://waiver.smartwaiver.com/w/603ffc5d470b8/web/\nFor more information contact:\nName: WA State Coordinator Email Address: WA@appleseedinfo.org
URL:https://gunstuff.tv/event/appleseed-199/
LOCATION:WCW Shooting Sports\, 1031 228th St SW\, Bothell\, WA\, United States
GEO:47.791598;-122.245854
X-APPLE-STRUCTURED-LOCATION;VALUE=URI;X-ADDRESS=WCW Shooting Sports 1031 228th St SW Bothell WA United States;X-APPLE-RADIUS=500;X-TITLE=1031 228th St SW:geo:-122.245854,47.791598
END:VEVENT
BEGIN:VEVENT
DTSTART;TZID=UTC:20261128T090000
DTEND;TZID=UTC:20261128T090000
DTSTAMP:20260421T190333
CREATED:20260308T104716Z
LAST-MODIFIED:20260412T110209Z
UID:10006207-1795856400-1795856400@gunstuff.tv
SUMMARY:Appleseed
DESCRIPTION:Hernando\, FL – Hernando Sportsman’s Club\nNovember 28\, 2026 – November 29\, 2026\nThis is a traditional 25m Project Appleseed rifle event.\nBoth Centerfire and 22 Rimfire rifles are allowed at this event.\nRegister Now\nAddress: 16121 Commercial Way\, Brooksville\, FL 34605\nWebsite: www.hernandosportsmansclub.com\nPlease Read:  How to Prepare for an Event\nSafety Notice:\n–  Keep ALL firearms in your vehicle until after the safety briefing and you are instructed to bring them to the firing line.\n–  No illegal firearms are allowed.\n–  At centerfire-friendly ranges\, rifle cartridges are limited to 8mm (rifle) or .45 caliber (pistol and pistol caliber carbines).\n–  Effective 8/8/2025\, Project Appleseed has temporarily suspended the SIG-Sauer P320/M17/M18 (all variants) in our Pistol Clinics.\n–  Parents of youth attending\, please read our Message to Parents.\nSubject to state and local laws\, Instructors at your event may have discounted .22 ammo available. Reach out to the contact at the bottom of this page for availability.\nRange Fee:  $15 per shooter per day. Children 12 and under $7 per shooter per day. Sorry\, no discount for club members for special events.\nCamping Available:\nNot at the range. However\, the Chassahowitzka River Campground and Recreation Area has camping available. 352-382-2200. located 4 miles north of the range.\nHotels:\nChassahowitzka Hotel\, Chassahowitzka 1-877-807-7783\nQuality Inn\, Weeki Watchee 352-596-2007\nComfort Inn\, Weeki Watchee 352-956-4000\nHoliday Inn Express\, Spring Hill 817-410-6681\nDirections:\nLocated on Hwy 19\, 9 1/2 miles north of SR 50\, Hernando County – look for the ‘Chassahowitzka Wildlife Management Area’ sign.\nGPS: 28.714310\,-82.572548\nState Laws to be aware of:\nIt is the responsibility of attendees to know and comply with all State and Federal Firearms Laws.\nFlorida State Firearms Laws\nMisc:\nPlease arrive for check in at 8AM sharp. We have a lot of ground to cover and cannot afford a late start!\nFood is available at the range and there is potable water. There are also several restaurants located within 5-10 miles of the range both and north and south\, but too far for lunch . Nearest commercial airport is Tampa\, FL approx. distance 60 miles. Brooksville is the nearest town approx. distance 20 miles. Centerfire OK up to .32 – no tracer / no AP Most of the course is fired at 25M\, so .22 rimfire is fine\, however\, for thems who bring a center fire rifle and can shoot within 8MOA\, there may be KD at 200m on Sunday PM. NO Alcohol Permitted\nFor more information contact:\nName: FL State Coordinator Email Address: FL@appleseedinfo.org\nName: Ken Gerace (BaldEagle) Email Address: appleseedeventinfo@gmail.com\nName: Henry Sutter (stoneknives) Email Address: henrysutter@gmail.com
URL:https://gunstuff.tv/event/appleseed-297/
LOCATION:Hernando Sportsman’s Club\, 16099 Commercial Way\, Brooksville\, FL\, United States
GEO:28.658237;-82.552257
X-APPLE-STRUCTURED-LOCATION;VALUE=URI;X-ADDRESS=Hernando Sportsman’s Club 16099 Commercial Way Brooksville FL United States;X-APPLE-RADIUS=500;X-TITLE=16099 Commercial Way:geo:-82.552257,28.658237
END:VEVENT
BEGIN:VEVENT
DTSTART;TZID=America/New_York:20261128T090000
DTEND;TZID=America/New_York:20261128T130000
DTSTAMP:20260421T190333
CREATED:20251003T162537Z
LAST-MODIFIED:20260412T184757Z
UID:10001297-1795856400-1795870800@gunstuff.tv
SUMMARY:Ram Bash
DESCRIPTION:See https://www.fxrgc.org/rifle/ram-bash/ for more info
URL:https://gunstuff.tv/event/ram-bash-14/
LOCATION:Lea Valley
END:VEVENT
BEGIN:VEVENT
DTSTART;TZID=UTC:20261128T094500
DTEND;TZID=UTC:20261128T094500
DTSTAMP:20260421T190333
CREATED:20260107T013351Z
LAST-MODIFIED:20260401T070149Z
UID:10003856-1795859100-1795859100@gunstuff.tv
SUMMARY:Shadow Hawk Defense Steel Challenge
DESCRIPTION:Shadow Hawk Defense Steel Challenge\nDate: 11/28/26\nStart Time: 9:45 AM\nLocation:\nShadow Hawk Defense (SCSA271)\n436 Apple Harvest Drive\nHedgesville\, WV\nEvent Contact Information\nLynn Kasic\n3046166582\ninfo@shadowhawkdefense.com\nMatch Information\nSame match on Saturday and Sunday. The squad you select determines the day and time that you shoot. All eight stages. Approximately *200* rounds. $30\, Second gun 1/2 price. Pay at the door.\nEvent Website\nhttp://www.ShadowHawkDefense.com
URL:https://gunstuff.tv/event/shadow-hawk-defense-steel-challenge-15/
LOCATION:Shadow Hawk Defense (SCSA271)\, 399 Apple Harvest Dr\, Hedgesville\, WV\, United States
GEO:39.389611;-78.197586
X-APPLE-STRUCTURED-LOCATION;VALUE=URI;X-ADDRESS=Shadow Hawk Defense (SCSA271) 399 Apple Harvest Dr Hedgesville WV United States;X-APPLE-RADIUS=500;X-TITLE=399 Apple Harvest Dr:geo:-78.197586,39.389611
END:VEVENT
BEGIN:VEVENT
DTSTART;TZID=UTC:20261128T100000
DTEND;TZID=UTC:20261128T100000
DTSTAMP:20260421T190333
CREATED:20260107T013351Z
LAST-MODIFIED:20260401T070149Z
UID:10003857-1795860000-1795860000@gunstuff.tv
SUMMARY:Low Country Steel Challenge
DESCRIPTION:Low Country Steel Challenge\nDate: 11/28/26\nStart Time: 10:00 AM\nLocation:\nLow Country SCSA (SCSA430)\n466 Indigo Flats E\nTabor City\, NC\nEvent Contact Information\nAllen Terrell\n843-231-1810\nlowcountrypreserveuspsa@gmail.org\nEvent Website\nhttps://practiscore.com/clubs/low-country-uspsa
URL:https://gunstuff.tv/event/low-country-steel-challenge-13/
LOCATION:Low Country SCSA (SCSA430)\, 466 Indigo Flats E\, Tabor City\, NC\, United States
GEO:34.025696;-78.628674
X-APPLE-STRUCTURED-LOCATION;VALUE=URI;X-ADDRESS=Low Country SCSA (SCSA430) 466 Indigo Flats E Tabor City NC United States;X-APPLE-RADIUS=500;X-TITLE=466 Indigo Flats E:geo:-78.628674,34.025696
END:VEVENT
BEGIN:VEVENT
DTSTART;TZID=UTC:20261128T100000
DTEND;TZID=UTC:20261128T100000
DTSTAMP:20260421T190333
CREATED:20260110T171715Z
LAST-MODIFIED:20260410T113154Z
UID:10004344-1795860000-1795860000@gunstuff.tv
SUMMARY:Kettlefoot USPSA Level 1 Match
DESCRIPTION:Kettlefoot USPSA Level 1 Match\nDate : 11/28/26\nStart Time: 10:00 AM\nLocation:\nKettlefoot Gun Club (TN24)\n21101 Kettlefoot Ln\nBristol\, VA\nEvent Contact Information\nAaron Sams\n4238638185\nKettlefootActionPistol@gmail.com\nEvent Website\nhttps://linktr.ee/Kettlefoot
URL:https://gunstuff.tv/event/kettlefoot-uspsa-level-1-match-11/
LOCATION:Kettlefoot Gun Club (TN24)\, 21101 Kettlefoot Ln\, Bristol\, VA\, United States
GEO:36.641477;-82.267603
X-APPLE-STRUCTURED-LOCATION;VALUE=URI;X-ADDRESS=Kettlefoot Gun Club (TN24) 21101 Kettlefoot Ln Bristol VA United States;X-APPLE-RADIUS=500;X-TITLE=21101 Kettlefoot Ln:geo:-82.267603,36.641477
END:VEVENT
BEGIN:VEVENT
DTSTART;TZID=UTC:20261128T100000
DTEND;TZID=UTC:20261128T100000
DTSTAMP:20260421T190333
CREATED:20260110T171715Z
LAST-MODIFIED:20260410T113154Z
UID:10004345-1795860000-1795860000@gunstuff.tv
SUMMARY:SCPS SCO19 2026-11-28
DESCRIPTION:SCPS SCO19 2026-11-28\nDate : 11/28/26\nStart Time: 10:00 AM\nLocation:\nSoCo Practical Shooters (SCPS) (ECO19)\n450 S Franceville Coal Mine Rd\nColorado Springs\, CO\nEvent Contact Information\nGermaine Adams\n719.439.6993\nsocopracticalshooters@gmail.com\nEvent Website\nhttps://practiscore.com/clubs/soco_practical_shooters
URL:https://gunstuff.tv/event/scps-sco19-2026-11-28/
LOCATION:SoCo Practical Shooters (SCPS) (ECO19)\, 450 S Franceville Coal Mine Rd\, Colorado Springs\, CO\, United States
GEO:38.82531;-104.590706
X-APPLE-STRUCTURED-LOCATION;VALUE=URI;X-ADDRESS=SoCo Practical Shooters (SCPS) (ECO19) 450 S Franceville Coal Mine Rd Colorado Springs CO United States;X-APPLE-RADIUS=500;X-TITLE=450 S Franceville Coal Mine Rd:geo:-104.590706,38.82531
END:VEVENT
BEGIN:VEVENT
DTSTART;TZID=America/New_York:20261129T090000
DTEND;TZID=America/New_York:20261129T120000
DTSTAMP:20260421T190333
CREATED:20251003T162644Z
LAST-MODIFIED:20260411T214640Z
UID:10001535-1795942800-1795953600@gunstuff.tv
SUMMARY:Weekly Trap League
DESCRIPTION:
URL:https://gunstuff.tv/event/weekly-trap-league-61/
LOCATION:Shotgun Range
END:VEVENT
BEGIN:VEVENT
DTSTART;TZID=America/New_York:20261129T100000
DTEND;TZID=America/New_York:20261129T120000
DTSTAMP:20260421T190333
CREATED:20251003T162645Z
LAST-MODIFIED:20251107T180151Z
UID:10001536-1795946400-1795953600@gunstuff.tv
SUMMARY:22 Marksmanship Challenge (Aspirin Shoot)
DESCRIPTION:Aspirin @ 50 yrds\nTums @ 100 yrds\nSteel @ 150 & 200 yrds\nCenterfire prohibited during event.
URL:https://gunstuff.tv/event/22-marksmanship-challenge-aspirin-shoot-14/
LOCATION:Square Range
END:VEVENT
BEGIN:VEVENT
DTSTART;TZID=UTC:20261129T114500
DTEND;TZID=UTC:20261129T114500
DTSTAMP:20260421T190333
CREATED:20260107T013351Z
LAST-MODIFIED:20260401T070149Z
UID:10003858-1795952700-1795952700@gunstuff.tv
SUMMARY:Shadow Hawk Defense Steel Challenge
DESCRIPTION:Shadow Hawk Defense Steel Challenge\nDate: 11/29/26\nStart Time: 11:45 AM\nLocation:\nShadow Hawk Defense (SCSA271)\n436 Apple Harvest Drive\nHedgesville\, WV\nEvent Contact Information\nLynn Kasic\n3046166582\ninfo@shadowhawkdefense.com\nMatch Information\nSame match on Saturday and Sunday. The squad you select determines the day and time that you shoot. All eight stages. Approximately *200* rounds. $30\, Second gun 1/2 price. Pay at the door.\nEvent Website\nhttp://www.ShadowHawkDefense.com
URL:https://gunstuff.tv/event/shadow-hawk-defense-steel-challenge-16/
LOCATION:Shadow Hawk Defense (SCSA271)\, 399 Apple Harvest Dr\, Hedgesville\, WV\, United States
GEO:39.389611;-78.197586
X-APPLE-STRUCTURED-LOCATION;VALUE=URI;X-ADDRESS=Shadow Hawk Defense (SCSA271) 399 Apple Harvest Dr Hedgesville WV United States;X-APPLE-RADIUS=500;X-TITLE=399 Apple Harvest Dr:geo:-78.197586,39.389611
END:VEVENT
BEGIN:VEVENT
DTSTART;TZID=America/New_York:20261129T120000
DTEND;TZID=America/New_York:20261129T163000
DTSTAMP:20260421T190333
CREATED:20251003T162405Z
LAST-MODIFIED:20260410T200155Z
UID:10001133-1795953600-1795969800@gunstuff.tv
SUMMARY:MRPC @ AGC Steel Challenge
DESCRIPTION:Steel Silhouette Targets
URL:https://gunstuff.tv/event/mrpc-agc-defensive-shooting-10/
LOCATION:AGC Shooting Bays 4\,5\,6
END:VEVENT
BEGIN:VEVENT
DTSTART;VALUE=DATE:20261130
DTEND;VALUE=DATE:20261201
DTSTAMP:20260421T190333
CREATED:20260213T031104Z
LAST-MODIFIED:20260410T034707Z
UID:10005346-1795996800-1796083199@gunstuff.tv
SUMMARY:Club Closed
DESCRIPTION:
URL:https://gunstuff.tv/event/club-closed-84/
LOCATION:IL
END:VEVENT
BEGIN:VEVENT
DTSTART;TZID=America/New_York:20261130T090000
DTEND;TZID=America/New_York:20261130T100000
DTSTAMP:20260421T190333
CREATED:20251003T162645Z
LAST-MODIFIED:20251010T162932Z
UID:10001537-1796029200-1796032800@gunstuff.tv
SUMMARY:4-H Class Indoors
DESCRIPTION:Indoor reserved for 4-H class.
URL:https://gunstuff.tv/event/4-h-class-indoors-61/
LOCATION:Indoor Range
END:VEVENT
BEGIN:VEVENT
DTSTART;TZID=America/New_York:20261130T160000
DTEND;TZID=America/New_York:20261130T180000
DTSTAMP:20260421T190333
CREATED:20251003T162645Z
LAST-MODIFIED:20251205T181711Z
UID:10001538-1796054400-1796061600@gunstuff.tv
SUMMARY:Skeet League
DESCRIPTION:Contact Frank Andrews with Questions.
URL:https://gunstuff.tv/event/skeet-league-61/
LOCATION:IL
END:VEVENT
BEGIN:VEVENT
DTSTART;VALUE=DATE:20261201
DTEND;VALUE=DATE:20261202
DTSTAMP:20260421T190333
CREATED:20251003T160032Z
LAST-MODIFIED:20260412T043238Z
UID:10001085-1796083200-1796169599@gunstuff.tv
SUMMARY:100\, 200\, 300 Yard Practice Benchrest Range
DESCRIPTION:
URL:https://gunstuff.tv/event/100-200-300-yard-practice-benchrest-range-53/
LOCATION:IL
END:VEVENT
BEGIN:VEVENT
DTSTART;VALUE=DATE:20261201
DTEND;VALUE=DATE:20261202
DTSTAMP:20260421T190333
CREATED:20260213T031104Z
LAST-MODIFIED:20260410T034707Z
UID:10005345-1796083200-1796169599@gunstuff.tv
SUMMARY:Club closed
DESCRIPTION:
URL:https://gunstuff.tv/event/club-closed-83/
LOCATION:IL
END:VEVENT
BEGIN:VEVENT
DTSTART;VALUE=DATE:20261202
DTEND;VALUE=DATE:20261203
DTSTAMP:20260421T190333
CREATED:20251003T160032Z
LAST-MODIFIED:20260412T043238Z
UID:10001087-1796169600-1796255999@gunstuff.tv
SUMMARY:Centerfire and Smallbore Practice - Smallbore Range
DESCRIPTION:
URL:https://gunstuff.tv/event/centerfire-and-smallbore-practice-smallbore-range-24/
LOCATION:IL
END:VEVENT
BEGIN:VEVENT
DTSTART;VALUE=DATE:20261202
DTEND;VALUE=DATE:20261203
DTSTAMP:20260421T190333
CREATED:20251005T190051Z
LAST-MODIFIED:20260412T200208Z
UID:10001693-1796169600-1796255999@gunstuff.tv
SUMMARY:Wednesday Registered Skeet
DESCRIPTION:Registered Skeet.  Contact Jerry Adams at 240-605-3220 for details. \nClick here for flyer
URL:https://gunstuff.tv/event/wednesday-registered-skeet-21/
LOCATION:IL
END:VEVENT
BEGIN:VEVENT
DTSTART;VALUE=DATE:20261203
DTEND;VALUE=DATE:20261204
DTSTAMP:20260421T190333
CREATED:20251003T160032Z
LAST-MODIFIED:20260412T043238Z
UID:10001086-1796256000-1796342399@gunstuff.tv
SUMMARY:Palma Practice
DESCRIPTION:
URL:https://gunstuff.tv/event/palma-practice/
LOCATION:IL
END:VEVENT
BEGIN:VEVENT
DTSTART;VALUE=DATE:20261204
DTEND;VALUE=DATE:20261205
DTSTAMP:20260421T190333
CREATED:20260213T031104Z
LAST-MODIFIED:20260410T034707Z
UID:10005347-1796342400-1796428799@gunstuff.tv
SUMMARY:Competition Bays Closed for steel challenge set up
DESCRIPTION:
URL:https://gunstuff.tv/event/competition-bays-closed-for-steel-challenge-set-up-10/
LOCATION:IL
END:VEVENT
BEGIN:VEVENT
DTSTART;VALUE=DATE:20261204
DTEND;VALUE=DATE:20261205
DTSTAMP:20260421T190333
CREATED:20260213T031104Z
LAST-MODIFIED:20260410T034707Z
UID:10005350-1796342400-1796428799@gunstuff.tv
SUMMARY:Rifle range closed for steel challenge setup & shoot.
DESCRIPTION:
URL:https://gunstuff.tv/event/rifle-range-closed-for-steel-challenge-setup-shoot-12/
LOCATION:IL
END:VEVENT
BEGIN:VEVENT
DTSTART;VALUE=DATE:20261204
DTEND;VALUE=DATE:20261207
DTSTAMP:20260421T190333
CREATED:20251003T160032Z
LAST-MODIFIED:20260412T043238Z
UID:10001088-1796342400-1796601599@gunstuff.tv
SUMMARY:AZ State Palma Championships
DESCRIPTION:
URL:https://gunstuff.tv/event/az-state-palma-championships-2/
LOCATION:IL
END:VEVENT
BEGIN:VEVENT
DTSTART;VALUE=DATE:20261205
DTEND;VALUE=DATE:20261206
DTSTAMP:20260421T190333
CREATED:20260213T031104Z
LAST-MODIFIED:20260410T034707Z
UID:10005348-1796428800-1796515199@gunstuff.tv
SUMMARY:Steel Challenge
DESCRIPTION: Steel Shoot. Steel shooting offers a port of entry to the shooting sports that is far less intimidating than practical  shooting . Steel provides an excellent starting place for young or beginning shooters. Steel offers the most diversified shooting sport out there making it appealing to youth and seniors\, novice and experts. Any practical handgun \,including 22 rimfires (both handgun and rifle). Sign up starts at9AM\, Cost for monthly club level matches are $15 for Pinetucky Club Members and $20 for Non-member. A second firearm can be registered for an additional $10.Standard Pinetucky safety rules Apply. You can sign up at practiscore.com.  Please note our steel challenge is now six stages which requires a minimum round count of 150 rounds of ammunition.  Please plan accordingly.
URL:https://gunstuff.tv/event/steel-challenge-9/
LOCATION:IL
END:VEVENT
BEGIN:VEVENT
DTSTART;VALUE=DATE:20261205
DTEND;VALUE=DATE:20261206
DTSTAMP:20260421T190333
CREATED:20260213T031104Z
LAST-MODIFIED:20260410T034707Z
UID:10005349-1796428800-1796515199@gunstuff.tv
SUMMARY:Rifle Range Closed Today
DESCRIPTION:
URL:https://gunstuff.tv/event/rifle-range-closed-today-9/
LOCATION:IL
END:VEVENT
BEGIN:VEVENT
DTSTART;TZID=America/New_York:20261205T080000
DTEND;TZID=America/New_York:20261205T160000
DTSTAMP:20260421T190333
CREATED:20251003T162537Z
LAST-MODIFIED:20260412T184757Z
UID:10001298-1796457600-1796486400@gunstuff.tv
SUMMARY:High Power Rifle Match
DESCRIPTION:Details here: https://www.fxrgc.org/rifle/high-power-rifle-monthly/
URL:https://gunstuff.tv/event/high-power-rifle-match-28/
LOCATION:Benson Range
END:VEVENT
END:VCALENDAR