BEGIN:VCALENDAR
VERSION:2.0
PRODID:-//GunStuff TV - ECPv6.15.20//NONSGML v1.0//EN
CALSCALE:GREGORIAN
METHOD:PUBLISH
X-WR-CALNAME:GunStuff TV
X-ORIGINAL-URL:https://gunstuff.tv
X-WR-CALDESC:Events for GunStuff TV
REFRESH-INTERVAL;VALUE=DURATION:PT1H
X-Robots-Tag:noindex
X-PUBLISHED-TTL:PT1H
BEGIN:VTIMEZONE
TZID:UTC
BEGIN:STANDARD
TZOFFSETFROM:+0000
TZOFFSETTO:+0000
TZNAME:UTC
DTSTART:20250101T000000
END:STANDARD
END:VTIMEZONE
BEGIN:VTIMEZONE
TZID:America/Chicago
BEGIN:DAYLIGHT
TZOFFSETFROM:-0600
TZOFFSETTO:-0500
TZNAME:CDT
DTSTART:20250309T080000
END:DAYLIGHT
BEGIN:STANDARD
TZOFFSETFROM:-0500
TZOFFSETTO:-0600
TZNAME:CST
DTSTART:20251102T070000
END:STANDARD
BEGIN:DAYLIGHT
TZOFFSETFROM:-0600
TZOFFSETTO:-0500
TZNAME:CDT
DTSTART:20260308T080000
END:DAYLIGHT
BEGIN:STANDARD
TZOFFSETFROM:-0500
TZOFFSETTO:-0600
TZNAME:CST
DTSTART:20261101T070000
END:STANDARD
BEGIN:DAYLIGHT
TZOFFSETFROM:-0600
TZOFFSETTO:-0500
TZNAME:CDT
DTSTART:20270314T080000
END:DAYLIGHT
BEGIN:STANDARD
TZOFFSETFROM:-0500
TZOFFSETTO:-0600
TZNAME:CST
DTSTART:20271107T070000
END:STANDARD
END:VTIMEZONE
BEGIN:VTIMEZONE
TZID:America/Phoenix
BEGIN:STANDARD
TZOFFSETFROM:-0700
TZOFFSETTO:-0700
TZNAME:MST
DTSTART:20250101T000000
END:STANDARD
END:VTIMEZONE
BEGIN:VTIMEZONE
TZID:America/New_York
BEGIN:DAYLIGHT
TZOFFSETFROM:-0500
TZOFFSETTO:-0400
TZNAME:EDT
DTSTART:20250309T070000
END:DAYLIGHT
BEGIN:STANDARD
TZOFFSETFROM:-0400
TZOFFSETTO:-0500
TZNAME:EST
DTSTART:20251102T060000
END:STANDARD
BEGIN:DAYLIGHT
TZOFFSETFROM:-0500
TZOFFSETTO:-0400
TZNAME:EDT
DTSTART:20260308T070000
END:DAYLIGHT
BEGIN:STANDARD
TZOFFSETFROM:-0400
TZOFFSETTO:-0500
TZNAME:EST
DTSTART:20261101T060000
END:STANDARD
BEGIN:DAYLIGHT
TZOFFSETFROM:-0500
TZOFFSETTO:-0400
TZNAME:EDT
DTSTART:20270314T070000
END:DAYLIGHT
BEGIN:STANDARD
TZOFFSETFROM:-0400
TZOFFSETTO:-0500
TZNAME:EST
DTSTART:20271107T060000
END:STANDARD
END:VTIMEZONE
BEGIN:VTIMEZONE
TZID:America/Halifax
BEGIN:DAYLIGHT
TZOFFSETFROM:-0400
TZOFFSETTO:-0300
TZNAME:ADT
DTSTART:20250309T060000
END:DAYLIGHT
BEGIN:STANDARD
TZOFFSETFROM:-0300
TZOFFSETTO:-0400
TZNAME:AST
DTSTART:20251102T050000
END:STANDARD
BEGIN:DAYLIGHT
TZOFFSETFROM:-0400
TZOFFSETTO:-0300
TZNAME:ADT
DTSTART:20260308T060000
END:DAYLIGHT
BEGIN:STANDARD
TZOFFSETFROM:-0300
TZOFFSETTO:-0400
TZNAME:AST
DTSTART:20261101T050000
END:STANDARD
BEGIN:DAYLIGHT
TZOFFSETFROM:-0400
TZOFFSETTO:-0300
TZNAME:ADT
DTSTART:20270314T060000
END:DAYLIGHT
BEGIN:STANDARD
TZOFFSETFROM:-0300
TZOFFSETTO:-0400
TZNAME:AST
DTSTART:20271107T050000
END:STANDARD
END:VTIMEZONE
BEGIN:VTIMEZONE
TZID:America/Los_Angeles
BEGIN:DAYLIGHT
TZOFFSETFROM:-0800
TZOFFSETTO:-0700
TZNAME:PDT
DTSTART:20250309T100000
END:DAYLIGHT
BEGIN:STANDARD
TZOFFSETFROM:-0700
TZOFFSETTO:-0800
TZNAME:PST
DTSTART:20251102T090000
END:STANDARD
BEGIN:DAYLIGHT
TZOFFSETFROM:-0800
TZOFFSETTO:-0700
TZNAME:PDT
DTSTART:20260308T100000
END:DAYLIGHT
BEGIN:STANDARD
TZOFFSETFROM:-0700
TZOFFSETTO:-0800
TZNAME:PST
DTSTART:20261101T090000
END:STANDARD
BEGIN:DAYLIGHT
TZOFFSETFROM:-0800
TZOFFSETTO:-0700
TZNAME:PDT
DTSTART:20270314T100000
END:DAYLIGHT
BEGIN:STANDARD
TZOFFSETFROM:-0700
TZOFFSETTO:-0800
TZNAME:PST
DTSTART:20271107T090000
END:STANDARD
END:VTIMEZONE
BEGIN:VEVENT
DTSTART;TZID=UTC:20260329T090000
DTEND;TZID=UTC:20260703T210000
DTSTAMP:20260419T121140
CREATED:20260330T200138Z
LAST-MODIFIED:20260406T200144Z
UID:10006626-1774774800-1783112400@gunstuff.tv
SUMMARY:Open Range W/C 29/03/2026
DESCRIPTION:
URL:https://gunstuff.tv/event/open-range-w-c-29-03-2026/
LOCATION:Tiverton Small-bore Rifle Club
END:VEVENT
BEGIN:VEVENT
DTSTART;VALUE=DATE:20260610
DTEND;VALUE=DATE:20260615
DTSTAMP:20260419T121140
CREATED:20251005T190050Z
LAST-MODIFIED:20260412T200130Z
UID:10001672-1781049600-1781481599@gunstuff.tv
SUMMARY:SCTP State Championships
DESCRIPTION:See event flyer
URL:https://gunstuff.tv/event/sctp-state-championships/
END:VEVENT
BEGIN:VEVENT
DTSTART;VALUE=DATE:20260614
DTEND;VALUE=DATE:20260615
DTSTAMP:20260419T121140
CREATED:20251003T160029Z
LAST-MODIFIED:20260412T043231Z
UID:10000987-1781395200-1781481599@gunstuff.tv
SUMMARY:600 Yard Practice 6:30am Pits
DESCRIPTION:
URL:https://gunstuff.tv/event/600-yard-practice-630am-pits-6/
END:VEVENT
BEGIN:VEVENT
DTSTART;VALUE=DATE:20260614
DTEND;VALUE=DATE:20260615
DTSTAMP:20260419T121140
CREATED:20251003T162535Z
LAST-MODIFIED:20260412T184745Z
UID:10001263-1781395200-1781481599@gunstuff.tv
SUMMARY:Flag Day
DESCRIPTION:
URL:https://gunstuff.tv/event/flag-day/
END:VEVENT
BEGIN:VEVENT
DTSTART;VALUE=DATE:20260614
DTEND;VALUE=DATE:20260615
DTSTAMP:20260419T121140
CREATED:20251003T162535Z
LAST-MODIFIED:20260412T184745Z
UID:10001264-1781395200-1781481599@gunstuff.tv
SUMMARY:7th Mo-Joe Open & Club Championships
DESCRIPTION:Mo-Joe Open & Club Championship Registered Skeet 5-gun
URL:https://gunstuff.tv/event/7th-mo-joe-open-club-championships-3/
LOCATION:Fields 1-8
END:VEVENT
BEGIN:VEVENT
DTSTART;VALUE=DATE:20260614
DTEND;VALUE=DATE:20260615
DTSTAMP:20260419T121140
CREATED:20260301T213129Z
LAST-MODIFIED:20260414T083129Z
UID:10005912-1781395200-1781481599@gunstuff.tv
SUMMARY:Club Rental
DESCRIPTION:
URL:https://gunstuff.tv/event/club-rental-14/
LOCATION:523 Sizer Run Rd\, Emporium\, PA\, United States
GEO:41.51031;-78.23157
END:VEVENT
BEGIN:VEVENT
DTSTART;TZID=UTC:20260614T070000
DTEND;TZID=UTC:20260614T070000
DTSTAMP:20260419T121140
CREATED:20260227T113144Z
LAST-MODIFIED:20260410T113138Z
UID:10005844-1781420400-1781420400@gunstuff.tv
SUMMARY:MCTA JUNE 14TH 2026
DESCRIPTION:MCTA JUNE 14TH 2026\nDate : 6/14/26\nStart Time: 7:00 AM\nLocation:\nMCTA (MS19)\nFlat Top Rd\nKiln\, MS\nEvent Contact Information\nJonathan Parker\n5044164735\nmctauspsa@gmail.com\nMatch Information\nhttps://practiscore.com/mcta-june-14th-2026/register\nEvent Website\nhttps://practiscore.com/mcta-june-14th-2026/register
URL:https://gunstuff.tv/event/mcta-june-14th-2026/
LOCATION:MCTA (MS19)\, 4001 Violet St\, Kiln\, MS\, United States
GEO:30.428267;-89.401848
X-APPLE-STRUCTURED-LOCATION;VALUE=URI;X-ADDRESS=MCTA (MS19) 4001 Violet St Kiln MS United States;X-APPLE-RADIUS=500;X-TITLE=4001 Violet St:geo:-89.401848,30.428267
END:VEVENT
BEGIN:VEVENT
DTSTART;TZID=America/New_York:20260614T080000
DTEND;TZID=America/New_York:20260614T150000
DTSTAMP:20260419T121140
CREATED:20260111T181636Z
LAST-MODIFIED:20260412T184745Z
UID:10004384-1781424000-1781449200@gunstuff.tv
SUMMARY:Cast Bullet Benchrest
DESCRIPTION:Cast Bullet Benchrest match registered with the Cast Bullet Association (CBA). 100 & 200 yd score and military competition based on CBA rules. Any rifle and ammunition is welcome as an Unclassified Entry to familiarize themselves with the course of fire. Contact Mark Mazzocco memazzocco@verizon.net for more info. 
URL:https://gunstuff.tv/event/cast-bullet-benchrest-5/
LOCATION:Benson Range
END:VEVENT
BEGIN:VEVENT
DTSTART;TZID=America/New_York:20260614T090000
DTEND;TZID=America/New_York:20260614T120000
DTSTAMP:20260419T121140
CREATED:20251003T162641Z
LAST-MODIFIED:20260411T214632Z
UID:10001446-1781427600-1781438400@gunstuff.tv
SUMMARY:Weekly Trap League
DESCRIPTION:
URL:https://gunstuff.tv/event/weekly-trap-league-37/
LOCATION:Shotgun Range
END:VEVENT
BEGIN:VEVENT
DTSTART;TZID=America/New_York:20260614T090000
DTEND;TZID=America/New_York:20260614T140000
DTSTAMP:20260419T121140
CREATED:20251003T031215Z
LAST-MODIFIED:20260410T070128Z
UID:10000628-1781427600-1781445600@gunstuff.tv
SUMMARY:Wyoming Antelope 2700
DESCRIPTION:
URL:https://gunstuff.tv/event/wyoming-antelope-2700-17/
LOCATION:Wyoming Antelope Club-Florida\, 3700 126th Ave N\, Clearwater\, FL\, United States
GEO:27.886432;-82.683263
X-APPLE-STRUCTURED-LOCATION;VALUE=URI;X-ADDRESS=Wyoming Antelope Club-Florida 3700 126th Ave N Clearwater FL United States;X-APPLE-RADIUS=500;X-TITLE=3700 126th Ave N:geo:-82.683263,27.886432
END:VEVENT
BEGIN:VEVENT
DTSTART;TZID=America/New_York:20260614T090000
DTEND;TZID=America/New_York:20260614T163000
DTSTAMP:20260419T121140
CREATED:20260111T181636Z
LAST-MODIFIED:20260412T184745Z
UID:10004383-1781427600-1781454600@gunstuff.tv
SUMMARY:Smallbore Silhouette
DESCRIPTION:Smallbore Silhouettes is a series of 60 shots standing unsupported at steel animal silhouettes using a 22 caliber rimfire rifle. Targets are chickens at 40m\, pigs at 60m\, turkeys at 77m rams at 100m\, and all targets are 5 mils so they are all the same angular dimensions at their respective ranges. Participants may compete in Standard Rifle (competition style rifles) and/or Hunting Rifle (typical 22 caliber rifle). Most hunting rifles qualify as standard rifles too. \nContact Chris Moss mossthom22@gmail.com
URL:https://gunstuff.tv/event/smallbore-silhouette-5/
LOCATION:Lea Valley Range
END:VEVENT
BEGIN:VEVENT
DTSTART;TZID=UTC:20260614T114500
DTEND;TZID=UTC:20260614T114500
DTSTAMP:20260419T121140
CREATED:20260110T171710Z
LAST-MODIFIED:20260410T113139Z
UID:10004279-1781437500-1781437500@gunstuff.tv
SUMMARY:Shadow Hawk Defense USPSA Level 1 - Jun
DESCRIPTION:Shadow Hawk Defense USPSA Level 1 – Jun\nDate : 6/14/26\nStart Time: 11:45 AM\nLocation:\nShadow Hawk Defense (VA31)\n436 Apple Harvest Drive\nHedgesville\, WV\nEvent Contact Information\nLynn Kasic\n304-616-6582\ninfo@shadowhawkdefense.com\nMatch Information\nSame match on both Sat and Sun. The squad you select will determine which day/time that you shoot. USPSA level 1 match. Approx round count 165.\n*** Per rule 6.2.4.1 Multiple entries in the same division are prohibited. ***\nMatch day start times\nSaturday-AM squads\nRange and registration open at 9:00 AM\nMandatory range brief: 9:45 AM*\nHammer down at 10:00 AM\nSunday (PM) only squads (when available)\nRange and registration open at 11:00\nMandatory range brief: 11:45\nHammer down at Noon\nMatch fee is paid at the door.\nEvent Website\nhttp://www.ShadowHawkDefense.com
URL:https://gunstuff.tv/event/shadow-hawk-defense-uspsa-level-1-jun-2/
LOCATION:Shadow Hawk Defense (VA31)\, 399 Apple Harvest Dr\, Hedgesville\, WV\, United States
GEO:39.389611;-78.197586
X-APPLE-STRUCTURED-LOCATION;VALUE=URI;X-ADDRESS=Shadow Hawk Defense (VA31) 399 Apple Harvest Dr Hedgesville WV United States;X-APPLE-RADIUS=500;X-TITLE=399 Apple Harvest Dr:geo:-78.197586,39.389611
END:VEVENT
BEGIN:VEVENT
DTSTART;TZID=America/New_York:20260614T130000
DTEND;TZID=America/New_York:20260614T150000
DTSTAMP:20260419T121140
CREATED:20251019T193323Z
LAST-MODIFIED:20260414T083128Z
UID:10002457-1781442000-1781449200@gunstuff.tv
SUMMARY:Open Trap Shoot - Weather Permitting
DESCRIPTION:Open shoot\, $5.00 per round.  The trap field is 2/10ths of a mile past the clubhouse. \nFor the latest information visit:https://www.facebook.com/groups/1663932967427026
URL:https://gunstuff.tv/event/open-trap-shoot-weather-permitting-8/
LOCATION:523 Sizer Run Road Emporium\, Emporium\, PA\, United States
GEO:41.500749;-78.322815
END:VEVENT
BEGIN:VEVENT
DTSTART;VALUE=DATE:20260615
DTEND;VALUE=DATE:20260616
DTSTAMP:20260419T121140
CREATED:20260213T031057Z
LAST-MODIFIED:20260410T034701Z
UID:10005250-1781481600-1781567999@gunstuff.tv
SUMMARY:Club Closed
DESCRIPTION:
URL:https://gunstuff.tv/event/club-closed-36/
END:VEVENT
BEGIN:VEVENT
DTSTART;TZID=America/New_York:20260615T090000
DTEND;TZID=America/New_York:20260615T100000
DTSTAMP:20260419T121140
CREATED:20251003T162641Z
LAST-MODIFIED:20251010T162929Z
UID:10001447-1781514000-1781517600@gunstuff.tv
SUMMARY:4-H Class Indoors
DESCRIPTION:Indoor reserved for 4-H class.
URL:https://gunstuff.tv/event/4-h-class-indoors-37/
LOCATION:Indoor Range
END:VEVENT
BEGIN:VEVENT
DTSTART;TZID=America/Halifax:20260615T120000
DTEND;TZID=America/Halifax:20260615T180000
DTSTAMP:20260419T121140
CREATED:20260308T013228Z
LAST-MODIFIED:20260407T014707Z
UID:10006191-1781524800-1781546400@gunstuff.tv
SUMMARY:Closer/Fermer
DESCRIPTION:Brinks
URL:https://gunstuff.tv/event/closer-fermer/
END:VEVENT
BEGIN:VEVENT
DTSTART;TZID=America/New_York:20260615T160000
DTEND;TZID=America/New_York:20260615T180000
DTSTAMP:20260419T121140
CREATED:20251003T162641Z
LAST-MODIFIED:20251205T181708Z
UID:10001448-1781539200-1781546400@gunstuff.tv
SUMMARY:Skeet League
DESCRIPTION:Contact Frank Andrews with Questions.
URL:https://gunstuff.tv/event/skeet-league-37/
END:VEVENT
BEGIN:VEVENT
DTSTART;TZID=America/New_York:20260615T160000
DTEND;TZID=America/New_York:20260615T180000
DTSTAMP:20260419T121140
CREATED:20251212T181641Z
LAST-MODIFIED:20260411T214632Z
UID:10003538-1781539200-1781546400@gunstuff.tv
SUMMARY:Skeet League
DESCRIPTION:Contact Frank Andrews with Questions.
URL:https://gunstuff.tv/event/skeet-league-127/
LOCATION:Skeet Range
END:VEVENT
BEGIN:VEVENT
DTSTART;VALUE=DATE:20260616
DTEND;VALUE=DATE:20260617
DTSTAMP:20260419T121140
CREATED:20251003T160029Z
LAST-MODIFIED:20260412T043231Z
UID:10000988-1781568000-1781654399@gunstuff.tv
SUMMARY:100\, 200\, 300 Yard Practice Benchrest Range
DESCRIPTION:
URL:https://gunstuff.tv/event/100-200-300-yard-practice-benchrest-range-29/
END:VEVENT
BEGIN:VEVENT
DTSTART;VALUE=DATE:20260616
DTEND;VALUE=DATE:20260617
DTSTAMP:20260419T121140
CREATED:20260213T031057Z
LAST-MODIFIED:20260410T034701Z
UID:10005249-1781568000-1781654399@gunstuff.tv
SUMMARY:Club closed
DESCRIPTION:
URL:https://gunstuff.tv/event/club-closed-35/
END:VEVENT
BEGIN:VEVENT
DTSTART;TZID=America/New_York:20260616T170000
DTEND;TZID=America/New_York:20260616T200000
DTSTAMP:20260419T121140
CREATED:20260328T214630Z
LAST-MODIFIED:20260411T214632Z
UID:10006586-1781629200-1781640000@gunstuff.tv
SUMMARY:Tactical Tuesday IDPA Practice
DESCRIPTION:Shooters new to Action Shooting contact Eric Zaharee at ABSAIDPA@gmail .com\nSee (Alder Brook) PractiScore.com for sign up Cost $5
URL:https://gunstuff.tv/event/tactical-tuesday-idpa-practice-10/
LOCATION:Action Bays
END:VEVENT
BEGIN:VEVENT
DTSTART;TZID=UTC:20260616T173000
DTEND;TZID=UTC:20260616T173000
DTSTAMP:20260419T121140
CREATED:20260418T174741Z
LAST-MODIFIED:20260418T174741Z
UID:10008055-1781631000-1781631000@gunstuff.tv
SUMMARY:Boise Steel Challenge
DESCRIPTION:Boise Steel Challenge\nDate: 6/16/26\nStart Time: 5:30 PM\nLocation:\nBoise Steel Challenge (SCSA581)\n2420 E Kuna Mora rd\nKuna\, ID\nEvent Contact Information\nPaul\n208-919-5336\nboisesteelchallenge@gmail.com\nMatch Information\nHeld at Black’s Creek Shooting Range\nEvent Website \nBoise Steel Challenge
URL:https://gunstuff.tv/event/boise-steel-challenge-11/
LOCATION:Boise Steel Challenge (SCSA581)\, 2420 E Kuna Mora Rd\, Kuna\, ID\, United States
GEO:43.459228;-116.383121
X-APPLE-STRUCTURED-LOCATION;VALUE=URI;X-ADDRESS=Boise Steel Challenge (SCSA581) 2420 E Kuna Mora Rd Kuna ID United States;X-APPLE-RADIUS=500;X-TITLE=2420 E Kuna Mora Rd:geo:-116.383121,43.459228
END:VEVENT
BEGIN:VEVENT
DTSTART;TZID=America/Chicago:20260616T190000
DTEND;TZID=America/Chicago:20260616T200000
DTSTAMP:20260419T121141
CREATED:20251014T211425Z
LAST-MODIFIED:20260414T221641Z
UID:10002192-1781636400-1781640000@gunstuff.tv
SUMMARY:Northwest Suburban Townhall Meeting
DESCRIPTION:Come out and join your friends at the ISRA Northwest Suburban Townhall meeting\, returning to the location at Golden Corral Buffet\, 1591 S Randall Rd\, Algonquin. Doors open at 6:00 PM with Buffet and free soft drink available for a special ISRA Meeting price. The meeting will be from 7-8 PM.\nPlease join us to enjoy great food and company and help support our gracious host\, Golden Corral Algonquin\, in our new location.\nNorthwest Suburban townhall Meeting Board\nmember@isra.org
URL:https://gunstuff.tv/event/northwest-suburban-grass-roots-meeting-9/
LOCATION:Golden Corral Restaurant – Algonquin\, 699 S Randall Rd\, Algonquin\, IL\, United States
CATEGORIES:Event Calendar
GEO:42.172548;-88.33535
X-APPLE-STRUCTURED-LOCATION;VALUE=URI;X-ADDRESS=Golden Corral Restaurant – Algonquin 699 S Randall Rd Algonquin IL United States;X-APPLE-RADIUS=500;X-TITLE=699 S Randall Rd:geo:-88.33535,42.172548
END:VEVENT
BEGIN:VEVENT
DTSTART;VALUE=DATE:20260617
DTEND;VALUE=DATE:20260618
DTSTAMP:20260419T121141
CREATED:20251005T190051Z
LAST-MODIFIED:20260412T200130Z
UID:10001674-1781654400-1781740799@gunstuff.tv
SUMMARY:Wednesday Registered Skeet
DESCRIPTION:Registered Skeet.  Contact Jerry Adams at 240-605-3220 for details. \nClick here for flyer
URL:https://gunstuff.tv/event/wednesday-registered-skeet-12/
END:VEVENT
BEGIN:VEVENT
DTSTART;VALUE=DATE:20260617
DTEND;VALUE=DATE:20260621
DTSTAMP:20260419T121141
CREATED:20251005T190051Z
LAST-MODIFIED:20260412T200130Z
UID:10001675-1781654400-1781999999@gunstuff.tv
SUMMARY:USAYESS National Championship
DESCRIPTION:More info available at https://www.usayess.org/nationals
URL:https://gunstuff.tv/event/usayess-national-championship/
END:VEVENT
BEGIN:VEVENT
DTSTART;TZID=UTC:20260617T164500
DTEND;TZID=UTC:20260617T164500
DTSTAMP:20260419T121141
CREATED:20260121T014636Z
LAST-MODIFIED:20260401T070143Z
UID:10004643-1781714700-1781714700@gunstuff.tv
SUMMARY:Bass River Weds Nite Steel
DESCRIPTION:Bass River Weds Nite Steel\nDate: 6/17/26\nStart Time: 4:45 PM\nLocation:\nBass River Rod & Gun Club (SCSA467)\nBass River Rod &Gun 620 Rt. 6A\nYarmouthport\, MA\nEvent Contact Information\nTimothy J Kent\n5082372137\ntjkent@comcast.net\nEvent Website\nhttps://www.bassriverrodandgun.com/
URL:https://gunstuff.tv/event/bass-river-weds-nite-steel-8/
LOCATION:Bass River Rod & Gun Club (SCSA467)\, 79 State Rte 6 Alt\, Dennis\, MA\, United States
GEO:41.721025;-70.196653
X-APPLE-STRUCTURED-LOCATION;VALUE=URI;X-ADDRESS=Bass River Rod & Gun Club (SCSA467) 79 State Rte 6 Alt Dennis MA United States;X-APPLE-RADIUS=500;X-TITLE=79 State Rte 6 Alt:geo:-70.196653,41.721025
END:VEVENT
BEGIN:VEVENT
DTSTART;TZID=America/Los_Angeles:20260617T170000
DTEND;TZID=America/Los_Angeles:20260617T220000
DTSTAMP:20260419T121141
CREATED:20260222T221631Z
LAST-MODIFIED:20260405T223147Z
UID:10005748-1781715600-1781733600@gunstuff.tv
SUMMARY:MOORE N MOORE - NIGHT SHOOT & BBQ
DESCRIPTION:For more information\, contact Moore N Moore at https://www.moorenmoore.com/night-shooting/
URL:https://gunstuff.tv/event/moore-n-moore-night-shoot-bbq-35/
LOCATION:Moore N Moore Sporting Clays\, 12653 Little Tujunga Canyon Rd\, Sylmar\, CA\, United States
CATEGORIES:Moore N Moore
ATTACH;FMTTYPE=image/png:https://gunstuff.tv/wp-content/uploads/2025/10/image-pjjZEf.png
ORGANIZER;CN="Moore N Moore Sporting Clays":MAILTO:info@moorenmoore.com
GEO:34.282317;-118.371281
X-APPLE-STRUCTURED-LOCATION;VALUE=URI;X-ADDRESS=Moore N Moore Sporting Clays 12653 Little Tujunga Canyon Rd Sylmar CA United States;X-APPLE-RADIUS=500;X-TITLE=12653 Little Tujunga Canyon Rd:geo:-118.371281,34.282317
END:VEVENT
BEGIN:VEVENT
DTSTART;TZID=America/Chicago:20260617T190000
DTEND;TZID=America/Chicago:20260617T200000
DTSTAMP:20260419T121141
CREATED:20260113T220133Z
LAST-MODIFIED:20260414T221642Z
UID:10004470-1781722800-1781726400@gunstuff.tv
SUMMARY:Will County Townhall Meeting
DESCRIPTION: ISRA invites you to join the Will County Townhall for our monthly meeting at the Silver Dollar Restaurant at 422 E. Mississippi Ave.\, Elwood\, IL\, and are open to everyone.\nMeetings start at 7 PM sharp; however\, feel free to come early and socialize with like-minded individuals before the meeting in our private room. Cash food and drinks are available. As always\, we will have our closing raffle where members can win a nice prize!\nHope to see you there!
URL:https://gunstuff.tv/event/will-county-townhall-meeting-6/
LOCATION:Silver Dollar Restaurant\, 398 E Mississippi Ave\, Elwood\, IL\, United States
CATEGORIES:Event Calendar
GEO:41.40415;-88.106391
X-APPLE-STRUCTURED-LOCATION;VALUE=URI;X-ADDRESS=Silver Dollar Restaurant 398 E Mississippi Ave Elwood IL United States;X-APPLE-RADIUS=500;X-TITLE=398 E Mississippi Ave:geo:-88.106391,41.40415
END:VEVENT
BEGIN:VEVENT
DTSTART;VALUE=DATE:20260618
DTEND;VALUE=DATE:20260619
DTSTAMP:20260419T121141
CREATED:20251003T160029Z
LAST-MODIFIED:20260412T043231Z
UID:10000989-1781740800-1781827199@gunstuff.tv
SUMMARY:600 Yard Practice 6:30am Pits
DESCRIPTION:
URL:https://gunstuff.tv/event/600-yard-practice-630am-pits-7/
END:VEVENT
BEGIN:VEVENT
DTSTART;TZID=America/New_York:20260618T190000
DTEND;TZID=America/New_York:20260618T220000
DTSTAMP:20260419T121141
CREATED:20260412T184745Z
LAST-MODIFIED:20260412T184745Z
UID:10007462-1781809200-1781820000@gunstuff.tv
SUMMARY:Doerflein Skeet League
DESCRIPTION:Doerflein Skeet League
URL:https://gunstuff.tv/event/doerflein-skeet-league-27/
LOCATION:Shotgun Fields
END:VEVENT
END:VCALENDAR