BEGIN:VCALENDAR
VERSION:2.0
PRODID:-//GunStuff TV - ECPv6.15.20//NONSGML v1.0//EN
CALSCALE:GREGORIAN
METHOD:PUBLISH
X-WR-CALNAME:GunStuff TV
X-ORIGINAL-URL:https://gunstuff.tv
X-WR-CALDESC:Events for GunStuff TV
REFRESH-INTERVAL;VALUE=DURATION:PT1H
X-Robots-Tag:noindex
X-PUBLISHED-TTL:PT1H
BEGIN:VTIMEZONE
TZID:America/New_York
BEGIN:DAYLIGHT
TZOFFSETFROM:-0500
TZOFFSETTO:-0400
TZNAME:EDT
DTSTART:20250309T070000
END:DAYLIGHT
BEGIN:STANDARD
TZOFFSETFROM:-0400
TZOFFSETTO:-0500
TZNAME:EST
DTSTART:20251102T060000
END:STANDARD
BEGIN:DAYLIGHT
TZOFFSETFROM:-0500
TZOFFSETTO:-0400
TZNAME:EDT
DTSTART:20260308T070000
END:DAYLIGHT
BEGIN:STANDARD
TZOFFSETFROM:-0400
TZOFFSETTO:-0500
TZNAME:EST
DTSTART:20261101T060000
END:STANDARD
BEGIN:DAYLIGHT
TZOFFSETFROM:-0500
TZOFFSETTO:-0400
TZNAME:EDT
DTSTART:20270314T070000
END:DAYLIGHT
BEGIN:STANDARD
TZOFFSETFROM:-0400
TZOFFSETTO:-0500
TZNAME:EST
DTSTART:20271107T060000
END:STANDARD
END:VTIMEZONE
BEGIN:VTIMEZONE
TZID:UTC
BEGIN:STANDARD
TZOFFSETFROM:+0000
TZOFFSETTO:+0000
TZNAME:UTC
DTSTART:20250101T000000
END:STANDARD
END:VTIMEZONE
BEGIN:VTIMEZONE
TZID:America/Los_Angeles
BEGIN:DAYLIGHT
TZOFFSETFROM:-0800
TZOFFSETTO:-0700
TZNAME:PDT
DTSTART:20250309T100000
END:DAYLIGHT
BEGIN:STANDARD
TZOFFSETFROM:-0700
TZOFFSETTO:-0800
TZNAME:PST
DTSTART:20251102T090000
END:STANDARD
BEGIN:DAYLIGHT
TZOFFSETFROM:-0800
TZOFFSETTO:-0700
TZNAME:PDT
DTSTART:20260308T100000
END:DAYLIGHT
BEGIN:STANDARD
TZOFFSETFROM:-0700
TZOFFSETTO:-0800
TZNAME:PST
DTSTART:20261101T090000
END:STANDARD
BEGIN:DAYLIGHT
TZOFFSETFROM:-0800
TZOFFSETTO:-0700
TZNAME:PDT
DTSTART:20270314T100000
END:DAYLIGHT
BEGIN:STANDARD
TZOFFSETFROM:-0700
TZOFFSETTO:-0800
TZNAME:PST
DTSTART:20271107T090000
END:STANDARD
END:VTIMEZONE
BEGIN:VTIMEZONE
TZID:America/Phoenix
BEGIN:STANDARD
TZOFFSETFROM:-0700
TZOFFSETTO:-0700
TZNAME:MST
DTSTART:20250101T000000
END:STANDARD
END:VTIMEZONE
BEGIN:VTIMEZONE
TZID:America/Chicago
BEGIN:DAYLIGHT
TZOFFSETFROM:-0600
TZOFFSETTO:-0500
TZNAME:CDT
DTSTART:20250309T080000
END:DAYLIGHT
BEGIN:STANDARD
TZOFFSETFROM:-0500
TZOFFSETTO:-0600
TZNAME:CST
DTSTART:20251102T070000
END:STANDARD
BEGIN:DAYLIGHT
TZOFFSETFROM:-0600
TZOFFSETTO:-0500
TZNAME:CDT
DTSTART:20260308T080000
END:DAYLIGHT
BEGIN:STANDARD
TZOFFSETFROM:-0500
TZOFFSETTO:-0600
TZNAME:CST
DTSTART:20261101T070000
END:STANDARD
BEGIN:DAYLIGHT
TZOFFSETFROM:-0600
TZOFFSETTO:-0500
TZNAME:CDT
DTSTART:20270314T080000
END:DAYLIGHT
BEGIN:STANDARD
TZOFFSETFROM:-0500
TZOFFSETTO:-0600
TZNAME:CST
DTSTART:20271107T070000
END:STANDARD
END:VTIMEZONE
BEGIN:VEVENT
DTSTART;TZID=America/New_York:20260511T160000
DTEND;TZID=America/New_York:20260511T180000
DTSTAMP:20260419T153118
CREATED:20251212T181640Z
LAST-MODIFIED:20260411T214629Z
UID:10003533-1778515200-1778522400@gunstuff.tv
SUMMARY:Skeet League
DESCRIPTION:Contact Frank Andrews with Questions.
URL:https://gunstuff.tv/event/skeet-league-122/
LOCATION:Skeet Range
END:VEVENT
BEGIN:VEVENT
DTSTART;TZID=America/New_York:20260511T160000
DTEND;TZID=America/New_York:20260511T180000
DTSTAMP:20260419T153118
CREATED:20251003T162640Z
LAST-MODIFIED:20251205T181707Z
UID:10001430-1778515200-1778522400@gunstuff.tv
SUMMARY:Skeet League
DESCRIPTION:Contact Frank Andrews with Questions.
URL:https://gunstuff.tv/event/skeet-league-32/
END:VEVENT
BEGIN:VEVENT
DTSTART;TZID=America/New_York:20260511T090000
DTEND;TZID=America/New_York:20260511T100000
DTSTAMP:20260419T153118
CREATED:20251003T162640Z
LAST-MODIFIED:20251010T162928Z
UID:10001429-1778490000-1778493600@gunstuff.tv
SUMMARY:4-H Class Indoors
DESCRIPTION:Indoor reserved for 4-H class.
URL:https://gunstuff.tv/event/4-h-class-indoors-32/
LOCATION:Indoor Range
END:VEVENT
BEGIN:VEVENT
DTSTART;VALUE=DATE:20260511
DTEND;VALUE=DATE:20260512
DTSTAMP:20260419T153118
CREATED:20260405T214646Z
LAST-MODIFIED:20260414T083128Z
UID:10006790-1778457600-1778543999@gunstuff.tv
SUMMARY:Pistol Range Closed 3-7pm
DESCRIPTION:
URL:https://gunstuff.tv/event/pistol-range-closed-3-7pm-10/
END:VEVENT
BEGIN:VEVENT
DTSTART;VALUE=DATE:20260511
DTEND;VALUE=DATE:20260512
DTSTAMP:20260419T153118
CREATED:20260213T031056Z
LAST-MODIFIED:20260410T034659Z
UID:10005229-1778457600-1778543999@gunstuff.tv
SUMMARY:Club Closed
DESCRIPTION:
URL:https://gunstuff.tv/event/club-closed-26/
END:VEVENT
BEGIN:VEVENT
DTSTART;TZID=America/New_York:20260510T140000
DTEND;TZID=America/New_York:20260510T160000
DTSTAMP:20260419T153118
CREATED:20260118T210132Z
LAST-MODIFIED:20260414T083127Z
UID:10004597-1778421600-1778428800@gunstuff.tv
SUMMARY:CamCo Clay Crushers Practice
DESCRIPTION:*Please dress appropriately for the weather conditions\, layers are a great idea!**Follow the Facebook page (Cameron County Clay Crushers) for all up to date information.***Any questions please contact Coach Mike 814-203-2624 or Coach Sabrina 814-203-2590.
URL:https://gunstuff.tv/event/camco-clay-crushers-practice-18/
LOCATION:523 Sizer Run Rd\, Emporium\, PA\, United States
GEO:41.51031;-78.23157
END:VEVENT
BEGIN:VEVENT
DTSTART;TZID=America/New_York:20260510T130000
DTEND;TZID=America/New_York:20260510T150000
DTSTAMP:20260419T153118
CREATED:20251019T193322Z
LAST-MODIFIED:20260414T083127Z
UID:10002452-1778418000-1778425200@gunstuff.tv
SUMMARY:Open Trap Shoot - Weather Permitting
DESCRIPTION:Open shoot\, $5.00 per round.  The trap field is 2/10ths of a mile past the clubhouse. \nFor the latest information visit:https://www.facebook.com/groups/1663932967427026
URL:https://gunstuff.tv/event/open-trap-shoot-weather-permitting-3/
LOCATION:523 Sizer Run Road Emporium\, Emporium\, PA\, United States
GEO:41.500749;-78.322815
END:VEVENT
BEGIN:VEVENT
DTSTART;TZID=UTC:20260510T114500
DTEND;TZID=UTC:20260510T114500
DTSTAMP:20260419T153118
CREATED:20260110T171709Z
LAST-MODIFIED:20260410T113136Z
UID:10004265-1778413500-1778413500@gunstuff.tv
SUMMARY:Shadow Hawk Defense USPSA Level 1 - May
DESCRIPTION:Shadow Hawk Defense USPSA Level 1 – May\nDate : 5/10/26\nStart Time: 11:45 AM\nLocation:\nShadow Hawk Defense (VA31)\n436 Apple Harvest Drive\nHedgesville\, WV\nEvent Contact Information\nLynn Kasic\n304-616-6582\ninfo@shadowhawkdefense.com\nMatch Information\nSame match on both Sat and Sun. The squad you select will determine which day/time that you shoot. USPSA level 1 match. Approx round count 165.\n*** Per rule 6.2.4.1 Multiple entries in the same division are prohibited. ***\nMatch day start times\nSaturday-AM squads\nRange and registration open at 9:00 AM\nMandatory range brief: 9:45 AM*\nHammer down at 10:00 AM\nSunday (PM) only squads (when available)\nRange and registration open at 11:00\nMandatory range brief: 11:45\nHammer down at Noon\nMatch fee is paid at the door.\nEvent Website\nhttp://www.ShadowHawkDefense.com
URL:https://gunstuff.tv/event/shadow-hawk-defense-uspsa-level-1-may-2/
LOCATION:Shadow Hawk Defense (VA31)\, 399 Apple Harvest Dr\, Hedgesville\, WV\, United States
GEO:39.389611;-78.197586
X-APPLE-STRUCTURED-LOCATION;VALUE=URI;X-ADDRESS=Shadow Hawk Defense (VA31) 399 Apple Harvest Dr Hedgesville WV United States;X-APPLE-RADIUS=500;X-TITLE=399 Apple Harvest Dr:geo:-78.197586,39.389611
END:VEVENT
BEGIN:VEVENT
DTSTART;TZID=America/New_York:20260510T090000
DTEND;TZID=America/New_York:20260510T163000
DTSTAMP:20260419T153118
CREATED:20260111T181635Z
LAST-MODIFIED:20260412T184742Z
UID:10004380-1778403600-1778430600@gunstuff.tv
SUMMARY:Smallbore Silhouette
DESCRIPTION:Smallbore Silhouettes is a series of 60 shots standing unsupported at steel animal silhouettes using a 22 caliber rimfire rifle. Targets are chickens at 40m\, pigs at 60m\, turkeys at 77m rams at 100m\, and all targets are 5 mils so they are all the same angular dimensions at their respective ranges. Participants may compete in Standard Rifle (competition style rifles) and/or Hunting Rifle (typical 22 caliber rifle). Most hunting rifles qualify as standard rifles too. \nContact Chris Moss mossthom22@gmail.com
URL:https://gunstuff.tv/event/smallbore-silhouette-4/
LOCATION:Lea Valley Range
END:VEVENT
BEGIN:VEVENT
DTSTART;TZID=America/New_York:20260510T090000
DTEND;TZID=America/New_York:20260510T140000
DTSTAMP:20260419T153118
CREATED:20251003T031215Z
LAST-MODIFIED:20260410T070129Z
UID:10000622-1778403600-1778421600@gunstuff.tv
SUMMARY:Wyoming Antelope 2700
DESCRIPTION:
URL:https://gunstuff.tv/event/wyoming-antelope-2700-15/
LOCATION:Wyoming Antelope Club-Florida\, 3700 126th Ave N\, Clearwater\, FL\, United States
GEO:27.886432;-82.683263
X-APPLE-STRUCTURED-LOCATION;VALUE=URI;X-ADDRESS=Wyoming Antelope Club-Florida 3700 126th Ave N Clearwater FL United States;X-APPLE-RADIUS=500;X-TITLE=3700 126th Ave N:geo:-82.683263,27.886432
END:VEVENT
BEGIN:VEVENT
DTSTART;TZID=America/New_York:20260510T090000
DTEND;TZID=America/New_York:20260510T120000
DTSTAMP:20260419T153118
CREATED:20251003T162640Z
LAST-MODIFIED:20260411T214629Z
UID:10001428-1778403600-1778414400@gunstuff.tv
SUMMARY:Weekly Trap League
DESCRIPTION:
URL:https://gunstuff.tv/event/weekly-trap-league-32/
LOCATION:Shotgun Range
END:VEVENT
BEGIN:VEVENT
DTSTART;TZID=UTC:20260510T090000
DTEND;TZID=UTC:20260510T090000
DTSTAMP:20260419T153118
CREATED:20260207T171715Z
LAST-MODIFIED:20260410T113135Z
UID:10005043-1778403600-1778403600@gunstuff.tv
SUMMARY:BSPSC Mother's Day Match
DESCRIPTION:BSPSC Mother’s Day Match\nDate : 5/10/26\nStart Time: 9:00 AM\nLocation:\nBig Sky Practical Shooting Club (NR02)\n1142 Deer Creek Road\nEast Missoula\, MT\nEvent Contact Information\nSean Boushie\n406-370-6927\nflintlocknfur@hotmail.com\nMatch Information\nMoms Shoot Free!!!!\nhttps://practiscore.com/bspsc-2026-may-uspsa-mothers-day-slot/register\nEvent Website\nhttps://bspsc.org/index.php
URL:https://gunstuff.tv/event/bspsc-mothers-day-match/
LOCATION:Big Sky Practical Shooting Club (NR02)\, 1142 Deer Creek Rd\, Missoula\, MT\, United States
GEO:46.862716;-113.891053
X-APPLE-STRUCTURED-LOCATION;VALUE=URI;X-ADDRESS=Big Sky Practical Shooting Club (NR02) 1142 Deer Creek Rd Missoula MT United States;X-APPLE-RADIUS=500;X-TITLE=1142 Deer Creek Rd:geo:-113.891053,46.862716
END:VEVENT
BEGIN:VEVENT
DTSTART;TZID=America/New_York:20260510T080000
DTEND;TZID=America/New_York:20260510T160000
DTSTAMP:20260419T153118
CREATED:20251003T162535Z
LAST-MODIFIED:20260412T184741Z
UID:10001252-1778400000-1778428800@gunstuff.tv
SUMMARY:High Power Rifle Match
DESCRIPTION:Details here: https://www.fxrgc.org/rifle/high-power-rifle-spring-league/
URL:https://gunstuff.tv/event/high-power-rifle-match-14/
LOCATION:Benson Range
END:VEVENT
BEGIN:VEVENT
DTSTART;TZID=America/Los_Angeles:20260510T080000
DTEND;TZID=America/Los_Angeles:20260510T150000
DTSTAMP:20260419T153118
CREATED:20260410T194640Z
LAST-MODIFIED:20260410T194640Z
UID:10007433-1778400000-1778425200@gunstuff.tv
SUMMARY:Steel Challenge Match
DESCRIPTION:Schedule \n\nRegistration:  7:45 AM – 8:30 AM\n\nYou may pre-register and pre-pay here:  https://practiscore.com/clubs/diablo-action-pistol\n\n\nMatch:  9:00 AM – 2:00 PM\n\nMatch Fee \n\n$25  ($20 if you have a valid United Sportsmen VIP Access Card)\nWe prefer that you pre-register and pay on Practiscore\, but if registering at match please bring exact change.\n\nPrerequisites \n\nCompetitors must be “Action Pistol Certified” to take part in this match.  To become certified\, see the calendar for orientation classes.\nAll competitors need to bring or have a photo of a current USI waiver range card (“Blue or Green” card) to shoot at the range. If you do not have a current card go to https://unitedsportsmen.com/waiver/ for more information\, to watch the videos and take the online quiz prior to the class. We can issue current waiver cards at the class if you have completed the online portion.\n\nAbout Steel Challenge \nSteel Challenge is a speed shooting competition that consists of eight standardized stages with steel targets in three sizes; small circular\, large circular and square targets.  Competitors are scored by the time it takes them to complete each stage\, and the match winner is the competitor with the lowest overall time. \nOur matches have 5 stages with 5 steel targets on each.  Each competitor shoots each stage five times\, with their slowest run dropped\, excluding the stage “Outer Limits” where only four runs are shot and the top three counted.  The counting times are totaled for their stage score\, and the five stage scores are added together to establish the competitor’s match score. \nFor each run\, one hit per target is required\, with an unlimited number of rounds permitted.  The last target to be shot is known as the “stop plate”\, which stops the timer. All primary target hits made after the stop plate has been struck\, will be scored with a 3-second penalty each. The maximum time permitted for a run is 30 seconds and a competitor will be stopped and asked to reload if they reach the 30-second limit.
URL:https://gunstuff.tv/event/steel-challenge-match-8/
LOCATION:Action Pistol Range\, 4700 Evora Road\, Concord\, CA\, 94520
CATEGORIES:Diablo Action Pistol
ATTACH;FMTTYPE=image/png:https://gunstuff.tv/wp-content/uploads/2025/10/Logo_of_the_Steel_Challenge_Shooting_Association-aRz8Tn.png
ORGANIZER;CN="Blade Benson":MAILTO:matchsupport@diabloactionpistol.com
GEO:42.705297;-83.4014
X-APPLE-STRUCTURED-LOCATION;VALUE=URI;X-ADDRESS=Action Pistol Range 4700 Evora Road Concord CA 94520;X-APPLE-RADIUS=500;X-TITLE=4700 Evora Road:geo:-83.4014,42.705297
END:VEVENT
BEGIN:VEVENT
DTSTART;TZID=America/Los_Angeles:20260510T080000
DTEND;TZID=America/Los_Angeles:20260510T120000
DTSTAMP:20260419T153118
CREATED:20260410T194638Z
LAST-MODIFIED:20260410T194638Z
UID:10007430-1778400000-1778414400@gunstuff.tv
SUMMARY:ARA Matches – 2nd Sunday
DESCRIPTION:We’ll start the season with four Unlimited ARA 4‑card matches and two 6‑card tournaments. Depending on participation and feedback\, we are hoping to add more events\,  including a Factory class later in the year.  \n  \n\n\n\n\n\nSecond Sunday –   ARA  Matches \n\n\n\n\n\nDay\n\n\nDate\n\n\nTime\n\n\nMatch\n\n\n\n\nSunday\n\n\n1/11/2026\n\n\n8:00 AM\n\n\n Regular Club Airgun/Factory/Repeater Match\n\n\n\n\nSaturday\n\n\n1/31/2026\n\n\n8:00 AM\n\n\n4 Card Unlimited ARA Match\n\n\n\n\nSunday\n\n\n2/8/2026\n\n\n8:00 AM\n\n\n6 Card Unlimited  ARA Club Tournament  *\n\n\n\n\nSunday\n\n\n3/8/2026\n\n\n8:00 AM\n\n\n4 Card Unlimited  ARA Match\n\n\n\n\nSunday\n\n\n4/12/2026\n\n\n8:00 AM\n\n\nClub or ARA Match TBD\n\n\n\n\nSunday\n\n\n5/10/2026\n\n\n8:00 AM\n\n\nClub or ARA Match TBD\n\n\n\n\nSunday\n\n\n6/14/2026\n\n\n8:00 AM\n\n\nClub or ARA Match TBD\n\n\n\n\nSunday\n\n\n7/12/2026\n\n\n8:00 AM\n\n\nClub or ARA Match TBD\n\n\n\n\nSunday\n\n\n8/9/2026\n\n\n8:00 AM\n\n\nClub or ARA Match TBD\n\n\n\n\nSunday\n\n\n9/13/2026\n\n\n8:00 AM\n\n\n4 Card Unlimited  ARA Match\n\n\n\n\nSunday\n\n\n10/11/2026\n\n\n8:00 AM\n\n\n6 Card Unlimited ARA Club Tournament    *\n\n\n\n\nSunday\n\n\n11/8/2026\n\n\n8:00 AM\n\n\n4 Card Unlimited  ARA Match\n\n\n\n\nSunday\n\n\n12/13/2026\n\n\n8:00 AM\n\n\nClub or ARA Match TBD\n\n\n\n\n\n\n\n*- Counts for double points
URL:https://gunstuff.tv/event/ara-matches-2nd-sunday-4/
LOCATION:USI Multi Purpose Range\, 4700 Evora Road\, Concord\, CA\, 94520
END:VEVENT
BEGIN:VEVENT
DTSTART;TZID=UTC:20260510T080000
DTEND;TZID=UTC:20260510T080000
DTSTAMP:20260419T153118
CREATED:20260227T113142Z
LAST-MODIFIED:20260410T113135Z
UID:10005839-1778400000-1778400000@gunstuff.tv
SUMMARY:MCTA MAY 10TH 2026
DESCRIPTION:MCTA MAY 10TH 2026\nDate : 5/10/26\nStart Time: 8:00 AM\nLocation:\nMCTA (MS19)\nFlat Top Rd\nKiln\, MS\nEvent Contact Information\nJonathan Parker\n5044164735\nmctauspsa@gmail.com\nMatch Information\nhttps://practiscore.com/mcta-may-10th-2026/register\nEvent Website\nhttps://practiscore.com/mcta-may-10th-2026/register
URL:https://gunstuff.tv/event/mcta-may-10th-2026/
LOCATION:MCTA (MS19)\, 4001 Violet St\, Kiln\, MS\, United States
GEO:30.428267;-89.401848
X-APPLE-STRUCTURED-LOCATION;VALUE=URI;X-ADDRESS=MCTA (MS19) 4001 Violet St Kiln MS United States;X-APPLE-RADIUS=500;X-TITLE=4001 Violet St:geo:-89.401848,30.428267
END:VEVENT
BEGIN:VEVENT
DTSTART;TZID=America/Los_Angeles:20260510T070000
DTEND;TZID=America/Los_Angeles:20260510T130000
DTSTAMP:20260419T153118
CREATED:20260410T194638Z
LAST-MODIFIED:20260410T194638Z
UID:10007429-1778396400-1778418000@gunstuff.tv
SUMMARY:Club Factory & Airgun Unsanctioned Match .22
DESCRIPTION:Club Factory & Airgun Unsanctioned Match .22 Rimfire and airguns up to .30 cal – 2nd Sun of every month\nBipod and Sandbag only rested Match : \n$8.00 Club Members \n$13.00 for Non Members
URL:https://gunstuff.tv/event/club-factory-airgun-unsanctioned-match-22-8/
LOCATION:USI Multi Purpose Range\, 4700 Evora Road\, Concord\, CA\, 94520
CATEGORIES:Benchrest
END:VEVENT
BEGIN:VEVENT
DTSTART;VALUE=DATE:20260510
DTEND;VALUE=DATE:20260511
DTSTAMP:20260419T153118
CREATED:20251003T162535Z
LAST-MODIFIED:20260412T184741Z
UID:10001253-1778371200-1778457599@gunstuff.tv
SUMMARY:Mother's Day
DESCRIPTION:
URL:https://gunstuff.tv/event/mothers-day/
END:VEVENT
BEGIN:VEVENT
DTSTART;VALUE=DATE:20260510
DTEND;VALUE=DATE:20260511
DTSTAMP:20260419T153118
CREATED:20251003T160028Z
LAST-MODIFIED:20260412T043229Z
UID:10000965-1778371200-1778457599@gunstuff.tv
SUMMARY:600 Yard E Target Club Match 6:30am Pits
DESCRIPTION:Regular practice will not be available
URL:https://gunstuff.tv/event/600-yard-e-target-club-match-630am-pits/
END:VEVENT
BEGIN:VEVENT
DTSTART;TZID=America/New_York:20260509T180000
DTEND;TZID=America/New_York:20260509T210000
DTSTAMP:20260419T153118
CREATED:20251010T162936Z
LAST-MODIFIED:20260410T200129Z
UID:10002004-1778349600-1778360400@gunstuff.tv
SUMMARY:MRPC Trap at AGC
DESCRIPTION:
URL:https://gunstuff.tv/event/mrpc-trap-at-agc-2/
END:VEVENT
BEGIN:VEVENT
DTSTART;TZID=America/Los_Angeles:20260509T170000
DTEND;TZID=America/Los_Angeles:20260509T200000
DTSTAMP:20260419T153118
CREATED:20260410T194638Z
LAST-MODIFIED:20260410T194638Z
UID:10007428-1778346000-1778356800@gunstuff.tv
SUMMARY:Diablo Saturday Night Shooting
DESCRIPTION:Diablo Saturday Night Shooting\n\n\n\n\n\n\n\n\nDiablo will be hosting Saturday night shooting at the public pistol range. \nIMPORTANT: If you need ammunition PLEASE be sure to grab it BEFORE USI closes. Diablo will NOT be selling ammo. \nIf you are in the mood to do some plinking\, head over to USI. Make sure you have your USI “Blue” card if not please make sure you have done the online waiver. \nTHIS WILL BE A WEEKLY SATURDAY NIGHT EVENT. BOTH RIFLE AND PISTOL WILL GENERALLY BE OPEN. \nHope to see everyone there!
URL:https://gunstuff.tv/event/diablo-saturday-night-shooting-27/
LOCATION:USI Public Pistol / Rifle Range\, 4700 Evora Road\, Concord\, 94520\, United States
CATEGORIES:Pistol Events
ATTACH;FMTTYPE=image/jpeg:https://gunstuff.tv/wp-content/uploads/2025/10/unnamed-2-MCqIwU.jpg
END:VEVENT
BEGIN:VEVENT
DTSTART;TZID=America/Chicago:20260509T160000
DTEND;TZID=America/Chicago:20260509T180000
DTSTAMP:20260419T153118
CREATED:20260414T024735Z
LAST-MODIFIED:20260414T024735Z
UID:10007486-1778342400-1778349600@gunstuff.tv
SUMMARY:Pistol 1
DESCRIPTION:This comprehensive beginner class is designed to build a solid foundation in handgun knowledge and handling. Whether you’re new to firearms or seeking to refine your skills\, this course will equip you with essential information and hands-on experience. \nWhat You’ll Learn: \nClassroom Instruction \n\nFirearm Fundamentals: Understand the mechanics of revolvers\, semi-automatic\, and striker-fired handguns\, as well as the types of ammunition they use.\nSafety First: Master the rules of firearm safety and range procedures to ensure a safe and enjoyable shooting experience.\nCarry & Holster Options: Explore different carry positions and holster styles to find the best fit for your needs.\nStorage Solutions: Learn practical tips for safely storing firearms at home.\n\nOn the Range \n\nHands-On Practice: Develop your stance\, grip\, sight alignment\, and trigger control under expert guidance.\nSkill-Building Drills: Practice essential techniques that build confidence and proficiency.\n\nThis course serves as an excellent prequel or sequel to our License to Carry class\, providing a thorough foundation in handgun handling and safety. \n\nEquipment Needed:\n\nGun rentals are included if needed.\nTargets\, eye protection\, and ear protection are provided.\nAmmo is available for purchase.\n\n\nRequirements:\n\nBring at least 50 rounds of ammunition.\nIf you own a handgun\, bring two magazines for reloading practice.\n\n\n\nGet ready to feel confident and prepared with your handgun skills. Sign up today to begin your journey! \nREGISTER NOW
URL:https://gunstuff.tv/event/pistol-1-11/
LOCATION:Shooting Center\, 2900 Shotts Street\, Fort Worth\, TX\, 76107
CATEGORIES:Shooting Center,Shooting Center Training
ATTACH;FMTTYPE=image/jpeg:https://gunstuff.tv/wp-content/uploads/2026/03/Intro-to-Handgun-kfYBu8-jU0k0M.jpg
ORGANIZER;CN="Defender Outdoors Shooting Center Training":MAILTO:info@defenderoutdoors.com
END:VEVENT
BEGIN:VEVENT
DTSTART;TZID=UTC:20260509T143000
DTEND;TZID=UTC:20260509T143000
DTSTAMP:20260419T153118
CREATED:20260110T171709Z
LAST-MODIFIED:20260410T113135Z
UID:10004264-1778337000-1778337000@gunstuff.tv
SUMMARY:SCWPSA Monthly Match
DESCRIPTION:SCWPSA Monthly Match\nDate : 5/09/26\nStart Time: 2:30 PM\nLocation:\nSouth Central Wisconsin Practical Shooters Assoc (WI31)\n2830 County Rd DR\nMonroe\, WI\nEvent Contact Information\nBob Slusarek\n630-669-0663\nscwpsamatch@pm.me\nMatch Information\nIndoor match typically 2-3 stages including 1 or 2 classifiers
URL:https://gunstuff.tv/event/scwpsa-monthly-match-4/
LOCATION:South Central Wisconsin Practical Shooters Assoc (WI31)\, 2830 County Road Dr\, Monroe\, WI\, United States
GEO:42.617903;-89.602405
X-APPLE-STRUCTURED-LOCATION;VALUE=URI;X-ADDRESS=South Central Wisconsin Practical Shooters Assoc (WI31) 2830 County Road Dr Monroe WI United States;X-APPLE-RADIUS=500;X-TITLE=2830 County Road Dr:geo:-89.602405,42.617903
END:VEVENT
BEGIN:VEVENT
DTSTART;TZID=America/New_York:20260509T141500
DTEND;TZID=America/New_York:20260509T161500
DTSTAMP:20260419T153118
CREATED:20260414T021633Z
LAST-MODIFIED:20260414T021701Z
UID:10007475-1778336100-1778343300@gunstuff.tv
SUMMARY:A Girl Reloaded
DESCRIPTION:A Girl Reloaded – Reset / Rebuild / Rise \n\n\nSomething new is starting at the range — and it was built with women like you in mind.   You’ve taken care of work. Family. Responsibilities. Deadlines. Now it’s your turn For just $30 a month. A Girl Reloaded is a women’s shooting community built for real life — and real schedules.
URL:https://gunstuff.tv/event/a-girl-reloaded-4/
LOCATION:Appalacian Gun\, Pawn & Range\, 140 Shelby Ln.\, Jasper\, GA\, 30143\, United States
CATEGORIES:Basic,firearm-safety,Safe Gun
ORGANIZER;CN="Appalachian Gun":MAILTO:Appalachiangun@gmail.com
END:VEVENT
BEGIN:VEVENT
DTSTART;TZID=America/Los_Angeles:20260509T130000
DTEND;TZID=America/Los_Angeles:20260509T170000
DTSTAMP:20260419T153118
CREATED:20260410T194638Z
LAST-MODIFIED:20260410T194638Z
UID:10007427-1778331600-1778346000@gunstuff.tv
SUMMARY:Musketeers (Juniors) Rifle/Pistol
DESCRIPTION:MUSKETEER .22LR:\nYouth shooters are the future of our sport. Children and Grandchildren of\nDiablo members\, who are between the ages of 8 and 18\, may participate in Youth Rifle & Pistol\, and Shotgun activities. Rifle & Pistol use .22 cal. rimfire only and shoot at the Multi-Purpose Range. Ammunition is supplied at the rifle events. Some loaner rifles are available\, but the shooters should provide their own firearms and parents should help out. During the shoots\, a responsible adult\, OTHER THAN the range officers\, must supervise youth shooters.\nShotgun events are at the Skeet Fields and shooters need their own shotguns..\nFFI PLEASE CONTACT RON SAVIONI (925) 228-4814 \nOR EMAIL US:   rp-musketeers@diablorodandgun.com
URL:https://gunstuff.tv/event/musketeers-juniors-rifle-pistol-8/
LOCATION:USI Multi Purpose Range\, 4700 Evora Road\, Concord\, CA\, 94520
CATEGORIES:.22lr Shooting,Musketeers
ATTACH;FMTTYPE=image/jpeg:https://gunstuff.tv/wp-content/uploads/2025/10/IMG_0683-e1464062597263-gQdQen.jpg
END:VEVENT
BEGIN:VEVENT
DTSTART;TZID=UTC:20260509T100000
DTEND;TZID=UTC:20260509T100000
DTSTAMP:20260419T153118
CREATED:20260304T061636Z
LAST-MODIFIED:20260401T070141Z
UID:10006079-1778320800-1778320800@gunstuff.tv
SUMMARY:SAGC Steel Challenge
DESCRIPTION:SAGC Steel Challenge\nDate: 5/09/26\nStart Time: 10:00 AM\nLocation:\nSan Angelo Gun Club (SCSA575)\n2827 Winger Rd\nSan Angelo\, TX\nEvent Contact Information\nSteve Speer\n469-585-5019\nangeloscsa@gmail.com\nMatch Information\n5-stage Steel Challenge match.\n0830 – Stage Setup. 0930 – Check-in\, payment. 0955 – Safety Briefing. 1000 – Match Shooting Begins.\nEvent Website\nhttps://practiscore.com/clubs/sagc
URL:https://gunstuff.tv/event/sagc-steel-challenge-3/
LOCATION:San Angelo Gun Club (SCSA575)\, San Angelo\, TX\, United States
GEO:31.44451;-100.533397
END:VEVENT
BEGIN:VEVENT
DTSTART;TZID=UTC:20260509T100000
DTEND;TZID=UTC:20260509T100000
DTSTAMP:20260419T153118
CREATED:20260107T013348Z
LAST-MODIFIED:20260401T070141Z
UID:10003827-1778320800-1778320800@gunstuff.tv
SUMMARY:PCWC Steel Challange
DESCRIPTION:PCWC Steel Challange\nDate: 5/09/26\nStart Time: 10:00 AM\nLocation:\nPitt County Wildlife Club (SCSA501)\n3029 Hwy 222\nGreenville\, NC\nEvent Contact Information\nJustin Smith\n2529451684\nPcwcuspsa@gmail.com\nEvent Website\nhttp://
URL:https://gunstuff.tv/event/pcwc-steel-challange-5/
LOCATION:Pitt County Wildlife Club (SCSA501)\, 3029 State Hwy 222\, Greenville\, NC\, United States
GEO:35.693348;-77.498038
X-APPLE-STRUCTURED-LOCATION;VALUE=URI;X-ADDRESS=Pitt County Wildlife Club (SCSA501) 3029 State Hwy 222 Greenville NC United States;X-APPLE-RADIUS=500;X-TITLE=3029 State Hwy 222:geo:-77.498038,35.693348
END:VEVENT
BEGIN:VEVENT
DTSTART;TZID=UTC:20260509T094500
DTEND;TZID=UTC:20260509T094500
DTSTAMP:20260419T153118
CREATED:20260110T171709Z
LAST-MODIFIED:20260410T113135Z
UID:10004263-1778319900-1778319900@gunstuff.tv
SUMMARY:Shadow Hawk Defense USPSA Level 1 - May
DESCRIPTION:Shadow Hawk Defense USPSA Level 1 – May\nDate : 5/09/26\nStart Time: 9:45 AM\nLocation:\nShadow Hawk Defense (VA31)\n436 Apple Harvest Drive\nHedgesville\, WV\nEvent Contact Information\nLynn Kasic\n304-616-6582\ninfo@shadowhawkdefense.com\nMatch Information\nSame match on both Sat and Sun. The squad you select will determine which day/time that you shoot. USPSA level 1 match. Approx round count 165.\n*** Per rule 6.2.4.1 Multiple entries in the same division are prohibited. ***\nMatch day start times\nSaturday-AM squads\nRange and registration open at 9:00 AM\nMandatory range brief: 9:45 AM*\nHammer down at 10:00 AM\nSunday (PM) only squads (when available)\nRange and registration open at 11:00\nMandatory range brief: 11:45\nHammer down at Noon\nMatch fee is paid at the door.\nEvent Website\nhttp://www.ShadowHawkDefense.com
URL:https://gunstuff.tv/event/shadow-hawk-defense-uspsa-level-1-may/
LOCATION:Shadow Hawk Defense (VA31)\, 399 Apple Harvest Dr\, Hedgesville\, WV\, United States
GEO:39.389611;-78.197586
X-APPLE-STRUCTURED-LOCATION;VALUE=URI;X-ADDRESS=Shadow Hawk Defense (VA31) 399 Apple Harvest Dr Hedgesville WV United States;X-APPLE-RADIUS=500;X-TITLE=399 Apple Harvest Dr:geo:-78.197586,39.389611
END:VEVENT
BEGIN:VEVENT
DTSTART;TZID=America/New_York:20260509T090000
DTEND;TZID=America/New_York:20260509T160000
DTSTAMP:20260419T153118
CREATED:20251012T173815Z
LAST-MODIFIED:20260412T184741Z
UID:10002099-1778317200-1778342400@gunstuff.tv
SUMMARY:IDPA/GPA Monthly Match
DESCRIPTION:https://www.fxrgc.org/pistol/idpa/ \nThese are our monthly IDPA matches.
URL:https://gunstuff.tv/event/idpa-monthly-match-5/
LOCATION:Culver Range
END:VEVENT
BEGIN:VEVENT
DTSTART;TZID=America/Los_Angeles:20260509T090000
DTEND;TZID=America/Los_Angeles:20260509T120000
DTSTAMP:20260419T153118
CREATED:20260410T194640Z
LAST-MODIFIED:20260410T194640Z
UID:10007432-1778317200-1778328000@gunstuff.tv
SUMMARY:Action Pistol – Sat Practice
DESCRIPTION:Range fee: \n\n$10  ($5 if you are a USI VIP Card holder)\nBring exact change.\n\nPlease note: \n\nThere will be no Saturday practice on the 5th Saturday of a month\, when those occur.\nThe number of practice bays available may be impacted by competition stage setup needs.
URL:https://gunstuff.tv/event/action-pistol-sat-practice-29/
LOCATION:Action Pistol Range\, 4700 Evora Road\, Concord\, CA\, 94520
CATEGORIES:Diablo Action Pistol
ATTACH;FMTTYPE=image/png:https://gunstuff.tv/wp-content/uploads/2025/10/White-bg_transparent-daplogo-e1547014989540-HGFVH2.png
ORGANIZER;CN="Blade Benson":MAILTO:matchsupport@diabloactionpistol.com
GEO:42.705297;-83.4014
X-APPLE-STRUCTURED-LOCATION;VALUE=URI;X-ADDRESS=Action Pistol Range 4700 Evora Road Concord CA 94520;X-APPLE-RADIUS=500;X-TITLE=4700 Evora Road:geo:-83.4014,42.705297
END:VEVENT
END:VCALENDAR