BEGIN:VCALENDAR
VERSION:2.0
PRODID:-//GunStuff TV - ECPv6.15.20//NONSGML v1.0//EN
CALSCALE:GREGORIAN
METHOD:PUBLISH
X-WR-CALNAME:GunStuff TV
X-ORIGINAL-URL:https://gunstuff.tv
X-WR-CALDESC:Events for GunStuff TV
REFRESH-INTERVAL;VALUE=DURATION:PT1H
X-Robots-Tag:noindex
X-PUBLISHED-TTL:PT1H
BEGIN:VTIMEZONE
TZID:America/New_York
BEGIN:DAYLIGHT
TZOFFSETFROM:-0500
TZOFFSETTO:-0400
TZNAME:EDT
DTSTART:20250309T070000
END:DAYLIGHT
BEGIN:STANDARD
TZOFFSETFROM:-0400
TZOFFSETTO:-0500
TZNAME:EST
DTSTART:20251102T060000
END:STANDARD
BEGIN:DAYLIGHT
TZOFFSETFROM:-0500
TZOFFSETTO:-0400
TZNAME:EDT
DTSTART:20260308T070000
END:DAYLIGHT
BEGIN:STANDARD
TZOFFSETFROM:-0400
TZOFFSETTO:-0500
TZNAME:EST
DTSTART:20261101T060000
END:STANDARD
BEGIN:DAYLIGHT
TZOFFSETFROM:-0500
TZOFFSETTO:-0400
TZNAME:EDT
DTSTART:20270314T070000
END:DAYLIGHT
BEGIN:STANDARD
TZOFFSETFROM:-0400
TZOFFSETTO:-0500
TZNAME:EST
DTSTART:20271107T060000
END:STANDARD
END:VTIMEZONE
BEGIN:VTIMEZONE
TZID:America/Indiana/Indianapolis
BEGIN:DAYLIGHT
TZOFFSETFROM:-0500
TZOFFSETTO:-0400
TZNAME:EDT
DTSTART:20250309T070000
END:DAYLIGHT
BEGIN:STANDARD
TZOFFSETFROM:-0400
TZOFFSETTO:-0500
TZNAME:EST
DTSTART:20251102T060000
END:STANDARD
BEGIN:DAYLIGHT
TZOFFSETFROM:-0500
TZOFFSETTO:-0400
TZNAME:EDT
DTSTART:20260308T070000
END:DAYLIGHT
BEGIN:STANDARD
TZOFFSETFROM:-0400
TZOFFSETTO:-0500
TZNAME:EST
DTSTART:20261101T060000
END:STANDARD
BEGIN:DAYLIGHT
TZOFFSETFROM:-0500
TZOFFSETTO:-0400
TZNAME:EDT
DTSTART:20270314T070000
END:DAYLIGHT
BEGIN:STANDARD
TZOFFSETFROM:-0400
TZOFFSETTO:-0500
TZNAME:EST
DTSTART:20271107T060000
END:STANDARD
END:VTIMEZONE
BEGIN:VTIMEZONE
TZID:America/Los_Angeles
BEGIN:DAYLIGHT
TZOFFSETFROM:-0800
TZOFFSETTO:-0700
TZNAME:PDT
DTSTART:20250309T100000
END:DAYLIGHT
BEGIN:STANDARD
TZOFFSETFROM:-0700
TZOFFSETTO:-0800
TZNAME:PST
DTSTART:20251102T090000
END:STANDARD
BEGIN:DAYLIGHT
TZOFFSETFROM:-0800
TZOFFSETTO:-0700
TZNAME:PDT
DTSTART:20260308T100000
END:DAYLIGHT
BEGIN:STANDARD
TZOFFSETFROM:-0700
TZOFFSETTO:-0800
TZNAME:PST
DTSTART:20261101T090000
END:STANDARD
BEGIN:DAYLIGHT
TZOFFSETFROM:-0800
TZOFFSETTO:-0700
TZNAME:PDT
DTSTART:20270314T100000
END:DAYLIGHT
BEGIN:STANDARD
TZOFFSETFROM:-0700
TZOFFSETTO:-0800
TZNAME:PST
DTSTART:20271107T090000
END:STANDARD
END:VTIMEZONE
BEGIN:VTIMEZONE
TZID:UTC
BEGIN:STANDARD
TZOFFSETFROM:+0000
TZOFFSETTO:+0000
TZNAME:UTC
DTSTART:20250101T000000
END:STANDARD
END:VTIMEZONE
BEGIN:VTIMEZONE
TZID:America/Denver
BEGIN:DAYLIGHT
TZOFFSETFROM:-0700
TZOFFSETTO:-0600
TZNAME:MDT
DTSTART:20250309T090000
END:DAYLIGHT
BEGIN:STANDARD
TZOFFSETFROM:-0600
TZOFFSETTO:-0700
TZNAME:MST
DTSTART:20251102T080000
END:STANDARD
BEGIN:DAYLIGHT
TZOFFSETFROM:-0700
TZOFFSETTO:-0600
TZNAME:MDT
DTSTART:20260308T090000
END:DAYLIGHT
BEGIN:STANDARD
TZOFFSETFROM:-0600
TZOFFSETTO:-0700
TZNAME:MST
DTSTART:20261101T080000
END:STANDARD
BEGIN:DAYLIGHT
TZOFFSETFROM:-0700
TZOFFSETTO:-0600
TZNAME:MDT
DTSTART:20270314T090000
END:DAYLIGHT
BEGIN:STANDARD
TZOFFSETFROM:-0600
TZOFFSETTO:-0700
TZNAME:MST
DTSTART:20271107T080000
END:STANDARD
END:VTIMEZONE
BEGIN:VTIMEZONE
TZID:America/Chicago
BEGIN:DAYLIGHT
TZOFFSETFROM:-0600
TZOFFSETTO:-0500
TZNAME:CDT
DTSTART:20250309T080000
END:DAYLIGHT
BEGIN:STANDARD
TZOFFSETFROM:-0500
TZOFFSETTO:-0600
TZNAME:CST
DTSTART:20251102T070000
END:STANDARD
BEGIN:DAYLIGHT
TZOFFSETFROM:-0600
TZOFFSETTO:-0500
TZNAME:CDT
DTSTART:20260308T080000
END:DAYLIGHT
BEGIN:STANDARD
TZOFFSETFROM:-0500
TZOFFSETTO:-0600
TZNAME:CST
DTSTART:20261101T070000
END:STANDARD
BEGIN:DAYLIGHT
TZOFFSETFROM:-0600
TZOFFSETTO:-0500
TZNAME:CDT
DTSTART:20270314T080000
END:DAYLIGHT
BEGIN:STANDARD
TZOFFSETFROM:-0500
TZOFFSETTO:-0600
TZNAME:CST
DTSTART:20271107T070000
END:STANDARD
END:VTIMEZONE
BEGIN:VTIMEZONE
TZID:UTC
BEGIN:STANDARD
TZOFFSETFROM:+0000
TZOFFSETTO:+0000
TZNAME:UTC
DTSTART:20250101T000000
END:STANDARD
END:VTIMEZONE
BEGIN:VEVENT
DTSTART;TZID=America/New_York:20260331T190000
DTEND;TZID=America/New_York:20260331T210000
DTSTAMP:20260424T072751
CREATED:20260327T051710Z
LAST-MODIFIED:20260327T051751Z
UID:10006532-1774983600-1774990800@gunstuff.tv
SUMMARY:Boy Scouts
DESCRIPTION:
URL:https://gunstuff.tv/event/boy-scouts-26/
LOCATION:Michigan
CATEGORIES:Boy Scouts
END:VEVENT
BEGIN:VEVENT
DTSTART;TZID=America/New_York:20260331T173000
DTEND;TZID=America/New_York:20260331T210000
DTSTAMP:20260424T072751
CREATED:20260327T051710Z
LAST-MODIFIED:20260327T051751Z
UID:10006531-1774978200-1774990800@gunstuff.tv
SUMMARY:Bullseye
DESCRIPTION:Join us every Tuesday evening at the Oakland County Sportsmans Club for our weekly Bullseye session. Hosted by the DR Wilson Rifle and Pistol Club\, this event is dedicated to the art of precision shooting. Whether you are training for competition or simply want to improve your marksmanship\, these sessions provide a structured and welcoming environment for all skill levels.\nEvent Details\nWhen: Every Tuesday\nTime: 5:30 PM – 9:00 PM\nLocation: DR Wilson Rifle and Pistol Club Range\nFocus: Bullseye / Precision Pistol\nBenefits of Joining\nRefine Your Technique: Focus on the core pillars of marksmanship: stance\, grip\, sight alignment\, and trigger squeeze.\nConsistency: Our weekly schedule makes it easy to build a routine and see measurable improvement in your scores.\nCamaraderie: Connect with experienced shooters and club members who share a passion for the sport.
URL:https://gunstuff.tv/event/bullseye-11/
LOCATION:Indoor Rifle & Pistol Range\, 4770 Waterford Rd\,\, Village of Clarkston\, 48346
CATEGORIES:D.R. Wilson,Indoor Rifle & Pistol Rage,Range
ATTACH;FMTTYPE=image/jpeg:https://gunstuff.tv/wp-content/uploads/2026/01/gun-and-bullets-2021-10-18-18-53-59-utc-scaled-42cwdJ.jpg
END:VEVENT
BEGIN:VEVENT
DTSTART;TZID=America/New_York:20260331T160000
DTEND;TZID=America/New_York:20260331T210000
DTSTAMP:20260424T072751
CREATED:20260316T113135Z
LAST-MODIFIED:20260330T113130Z
UID:10006340-1774972800-1774990800@gunstuff.tv
SUMMARY:5-Stand
DESCRIPTION:
URL:https://gunstuff.tv/event/5-stand-7/
LOCATION:OH
END:VEVENT
BEGIN:VEVENT
DTSTART;TZID=America/New_York:20260331T160000
DTEND;TZID=America/New_York:20260331T190000
DTSTAMP:20260424T072751
CREATED:20251228T204643Z
LAST-MODIFIED:20260329T214629Z
UID:10003667-1774972800-1774983600@gunstuff.tv
SUMMARY:CamCo Clay Crushers Meet at Portville
DESCRIPTION:  *Please dress appropriately for the weather conditions\, layers are a great idea!**Follow the Facebook page (Cameron County Clay Crushers) for all up to date information.***Any questions please contact Coach Mike 814-203-2624 or Coach Sabrina 814-203-2590.
URL:https://gunstuff.tv/event/camco-clay-crushers-meet-at-portville/
LOCATION:756 Butternut Brook Rd\, 513 Little Rd\, Kennedy\, NY\, United States
GEO:42.186698;-79.095261
X-APPLE-STRUCTURED-LOCATION;VALUE=URI;X-ADDRESS=756 Butternut Brook Rd 513 Little Rd Kennedy NY United States;X-APPLE-RADIUS=500;X-TITLE=513 Little Rd:geo:-79.095261,42.186698
END:VEVENT
BEGIN:VEVENT
DTSTART;TZID=America/Indiana/Indianapolis:20260331T150000
DTEND;TZID=America/Indiana/Indianapolis:20260331T200000
DTSTAMP:20260424T072751
CREATED:20260302T030134Z
LAST-MODIFIED:20260330T031627Z
UID:10005947-1774969200-1774987200@gunstuff.tv
SUMMARY:High Power League
DESCRIPTION:Range 1
URL:https://gunstuff.tv/event/high-power-league-11/
LOCATION:Wildcat Valley R and P Club\, 12094 S 300 E\, Brookston\, IN\, United States
CATEGORIES:Highpower
GEO:40.576877;-86.811749
X-APPLE-STRUCTURED-LOCATION;VALUE=URI;X-ADDRESS=Wildcat Valley R and P Club 12094 S 300 E Brookston IN United States;X-APPLE-RADIUS=500;X-TITLE=12094 S 300 E:geo:-86.811749,40.576877
END:VEVENT
BEGIN:VEVENT
DTSTART;TZID=America/Los_Angeles:20260331T090000
DTEND;TZID=America/Los_Angeles:20260331T160000
DTSTAMP:20260424T072751
CREATED:20260306T193144Z
LAST-MODIFIED:20260327T193142Z
UID:10006176-1774947600-1774972800@gunstuff.tv
SUMMARY:MPR – RSO Only – Airgun/.22 Only
DESCRIPTION:
URL:https://gunstuff.tv/event/mpr-rso-only-airgun-22-only-16/
LOCATION:USI Multi Purpose Range\, 4700 Evora Road\, Concord\, CA\, 94520
END:VEVENT
BEGIN:VEVENT
DTSTART;VALUE=DATE:20260331
DTEND;VALUE=DATE:20260401
DTSTAMP:20260424T072751
CREATED:20260213T031055Z
LAST-MODIFIED:20260327T034726Z
UID:10005203-1774915200-1775001599@gunstuff.tv
SUMMARY:Club closed
DESCRIPTION:
URL:https://gunstuff.tv/event/club-closed-14/
LOCATION:OH
END:VEVENT
BEGIN:VEVENT
DTSTART;TZID=America/New_York:20260330T183000
DTEND;TZID=America/New_York:20260330T193000
DTSTAMP:20260424T072751
CREATED:20260327T051710Z
LAST-MODIFIED:20260327T051750Z
UID:10006530-1774895400-1774899000@gunstuff.tv
SUMMARY:Drum Ball
DESCRIPTION:Drum Ball Fun on the Patio!\nJoin us for Drum Ball\, a unique and exciting way to get moving! If you’re looking for a fun\, low-impact workout that feels more like a game than exercise\, this is it.\nWe use drumsticks and large stability balls to combine drumming rhythms with fitness movements. It’s great for coordination\, core strength\, and releasing stress—all while listening to great music!\nWhen: Every Monday & Thursday evening\nTime: 6:30 PM – 7:30 PM\nLocation: Main Building Patio\nFee: $5 Drop-in per class\nNote: Sticks and balls are provided for all participants. Just bring your energy!
URL:https://gunstuff.tv/event/drum-ball-25/
LOCATION:OCSC Main Building Patio\, 4770 Waterford Rd\, Clarkston\, MI\, United States
CATEGORIES:Club Events,Open to the Public
ATTACH;FMTTYPE=image/jpeg:https://gunstuff.tv/wp-content/uploads/2025/12/Drum-Ball-at-OCSC-E9nLz4.jpg
GEO:42.705297;-83.4014
X-APPLE-STRUCTURED-LOCATION;VALUE=URI;X-ADDRESS=OCSC Main Building Patio 4770 Waterford Rd Clarkston MI United States;X-APPLE-RADIUS=500;X-TITLE=4770 Waterford Rd:geo:-83.4014,42.705297
END:VEVENT
BEGIN:VEVENT
DTSTART;TZID=America/New_York:20260330T173000
DTEND;TZID=America/New_York:20260330T213000
DTSTAMP:20260424T072751
CREATED:20260327T051710Z
LAST-MODIFIED:20260327T051750Z
UID:10006529-1774891800-1774906200@gunstuff.tv
SUMMARY:Junior Rifle
DESCRIPTION:
URL:https://gunstuff.tv/event/junior-rifle-27/
LOCATION:Indoor Rifle & Pistol Range\, 4770 Waterford Rd\,\, Village of Clarkston\, 48346
CATEGORIES:D.R. Wilson,Indoor Rifle & Pistol Rage,Jr. Rifle,Range
ATTACH;FMTTYPE=image/jpeg:https://gunstuff.tv/wp-content/uploads/2025/10/Junior-Rifle-3-scaled-QIEwuL.jpg
END:VEVENT
BEGIN:VEVENT
DTSTART;TZID=America/New_York:20260330T163000
DTEND;TZID=America/New_York:20260330T183000
DTSTAMP:20260424T072751
CREATED:20260303T033134Z
LAST-MODIFIED:20260324T034635Z
UID:10006053-1774888200-1774895400@gunstuff.tv
SUMMARY:Firearm Foundations
DESCRIPTION:Click Here to Sign Up! Firearm Foundations | Bud’s Gun Shop & Range\, Lexington KY\nOnly $45.  For this class\, you must pay in advance with a credit card.  Unpaid orders for seating will not be honored. \nIn our Firearm Foundations session\, you’ll learn the important basics of firearm safety and how to properly grip\, sight\, and shoot handguns. \nWhether you are new to firearms\, or perhaps you have already purchased a firearm\, but just lack experience—this is the class for you! \nThis is serious subject matter for sure\, but we keep it fun while you learn: \n–Basic Firearms Safety \n–Getting familiar with the parts and operation of handguns \n–Gripping\, aiming\, stance and trigger press \n–Considerations of using a handgun \nThe second part of the course focuses on live-fire in our unique Training Range. \nWe feature a variety of handguns in rimfire (.22LR) and centerfire calibers (.38 spl and 9mm) and each participant will get to choose then try several different firearms. \nWe provide: \n\nRange handguns for the class\nAmmunition\nEye & Ear protection\nTargets\n\nDO NOT BRING A FIREARM TO THIS CLASS–HANDGUNS ARE PROVIDED! \nIF SPOT IS RESERVED FOR A MINOR (UNDER 18) THEY MUST BE ACCOMPANIED BY AN ADULT. THERE MUST BE AN ADULT FOR EACH MINOR. \nThis is a perfect opportunity to learn the fundamentals of shooting without the noise\, flash\, and recoil of larger calibers. \nWith our certified instructors’ experience in teaching and hands-on training\, you can be confident that the information you’ll receive is among the best in the industry–read our reviews below! \nRESERVE YOUR SPOT ONLINE TODAY– these events fill up quickly.  In order to provide quality attention to our students\, we have a fixed number of available seats. \n*HANDGUNS\, AMMUNITION\, EAR AND EYE PROTECTION ARE PROVIDED IN THE COST OF THIS COURSE. \nCourse Length: 2 hours \nCourse Location: Bud’s Gun Shop and Range\, 1105 Industry Rd\, Lexington\, KY 40505 \nPlease consider bringing a sweater or light jacket as classroom temperature can be cool! \nCheck Dates for Available Courses\, If Date Does Not Appear In Drop Down Menu It Has Been Filled\n \n*****IMPORTANT: Please arrive at least 15 minutes before start of class to complete waivers at our range desk***** \n Late arrivals: Due to safety considerations and important safety training\, late arrivals will not be seated\, but allowed to attend the next available class. \nREGISTRATION ONLINE IS REQUIRED TO RESERVE YOUR SPOT\, SO SIGN UP TODAY! \nClick for Bud’s Gun Shop KY Cancellation Policies
URL:https://gunstuff.tv/event/firearm-foundations-7/
LOCATION:OH
CATEGORIES:Handgun Training,Introductory Training
ATTACH;FMTTYPE=image/jpeg:https://gunstuff.tv/wp-content/uploads/2025/10/firearmfoundationssquare-QsfJWo.jpg
END:VEVENT
BEGIN:VEVENT
DTSTART;TZID=America/New_York:20260330T160000
DTEND;TZID=America/New_York:20260330T180000
DTSTAMP:20260424T072751
CREATED:20251212T181639Z
LAST-MODIFIED:20260328T214630Z
UID:10003527-1774886400-1774893600@gunstuff.tv
SUMMARY:Skeet League
DESCRIPTION:Contact Frank Andrews with Questions.
URL:https://gunstuff.tv/event/skeet-league-116/
LOCATION:Skeet Range
END:VEVENT
BEGIN:VEVENT
DTSTART;TZID=America/New_York:20260330T160000
DTEND;TZID=America/New_York:20260330T180000
DTSTAMP:20260424T072751
CREATED:20251003T162639Z
LAST-MODIFIED:20251205T181707Z
UID:10001409-1774886400-1774893600@gunstuff.tv
SUMMARY:Skeet League
DESCRIPTION:Contact Frank Andrews with Questions.
URL:https://gunstuff.tv/event/skeet-league-26/
LOCATION:OH
END:VEVENT
BEGIN:VEVENT
DTSTART;TZID=America/New_York:20260330T090000
DTEND;TZID=America/New_York:20260330T100000
DTSTAMP:20260424T072751
CREATED:20251003T162639Z
LAST-MODIFIED:20251010T162927Z
UID:10001408-1774861200-1774864800@gunstuff.tv
SUMMARY:4-H Class Indoors
DESCRIPTION:Indoor reserved for 4-H class.
URL:https://gunstuff.tv/event/4-h-class-indoors-26/
LOCATION:Indoor Range
END:VEVENT
BEGIN:VEVENT
DTSTART;TZID=America/New_York:20260330T083000
DTEND;TZID=America/New_York:20260330T120000
DTSTAMP:20260424T072751
CREATED:20260327T051710Z
LAST-MODIFIED:20260327T051750Z
UID:10006528-1774859400-1774872000@gunstuff.tv
SUMMARY:Fall/Winter PPC
DESCRIPTION:Fall / Winter PPC Season – Indoor range – Thursdays from 5:30 to 9:30 PM October 2\, 2025 to March 26\, 2026\, and Mondays from 8:30 AM to 12:00\, October 6th 2024 to March 30\, 2026.
URL:https://gunstuff.tv/event/fall-winter-ppc-53/
LOCATION:Indoor Rifle & Pistol Range\, 4770 Waterford Rd\,\, Village of Clarkston\, 48346
CATEGORIES:D.R. Wilson,Indoor Rifle & Pistol Rage,Range
ATTACH;FMTTYPE=image/jpeg:https://gunstuff.tv/wp-content/uploads/2025/10/PPC-Logo-6Evv9j.jpg
END:VEVENT
BEGIN:VEVENT
DTSTART;TZID=UTC:20260330T080000
DTEND;TZID=UTC:20260331T160000
DTSTAMP:20260424T072751
CREATED:20260303T001635Z
LAST-MODIFIED:20260324T002222Z
UID:10005988-1774857600-1774972800@gunstuff.tv
SUMMARY:*****Outdoor Range Closed 8:00am-4:00pm*****
DESCRIPTION:Outdoor Range Closed \n  \n 
URL:https://gunstuff.tv/event/outdoor-range-closed-800am-400pm-5/
LOCATION:OH
END:VEVENT
BEGIN:VEVENT
DTSTART;TZID=America/Denver:20260330T060000
DTEND;TZID=America/Denver:20260331T170000
DTSTAMP:20260424T072751
CREATED:20260302T073130Z
LAST-MODIFIED:20260302T073130Z
UID:10005953-1774850400-1774976400@gunstuff.tv
SUMMARY:Mar 30&31 2026 Member Only Day
DESCRIPTION:The Range is Open to FRGC Members Only.
URL:https://gunstuff.tv/event/mar-3031-2026-member-only-day-2/
LOCATION:Fall River Gun Range\, 28300 Old Hwy 79\, Hot Springs\, SD\, United States
GEO:43.303233;-103.346518
X-APPLE-STRUCTURED-LOCATION;VALUE=URI;X-ADDRESS=Fall River Gun Range 28300 Old Hwy 79 Hot Springs SD United States;X-APPLE-RADIUS=500;X-TITLE=28300 Old Hwy 79:geo:-103.346518,43.303233
END:VEVENT
BEGIN:VEVENT
DTSTART;TZID=America/Denver:20260330T060000
DTEND;TZID=America/Denver:20260331T170000
DTSTAMP:20260424T072751
CREATED:20260302T073129Z
LAST-MODIFIED:20260330T080252Z
UID:10005952-1774850400-1774976400@gunstuff.tv
SUMMARY:Mar 30&31 2026 Member Only Day
DESCRIPTION:The Range is Open to FRGC Members Only.
URL:https://gunstuff.tv/event/mar-3031-2026-member-only-day/
LOCATION:Fall River Gun Range\, 28300 Old Hwy 79\, Hot Springs\, SD\, United States
GEO:43.303233;-103.346518
X-APPLE-STRUCTURED-LOCATION;VALUE=URI;X-ADDRESS=Fall River Gun Range 28300 Old Hwy 79 Hot Springs SD United States;X-APPLE-RADIUS=500;X-TITLE=28300 Old Hwy 79:geo:-103.346518,43.303233
END:VEVENT
BEGIN:VEVENT
DTSTART;VALUE=DATE:20260330
DTEND;VALUE=DATE:20260331
DTSTAMP:20260424T072751
CREATED:20260303T034637Z
LAST-MODIFIED:20260324T040130Z
UID:10006056-1774828800-1774915199@gunstuff.tv
SUMMARY:Closed Mondays
DESCRIPTION:@ 			\n			\n							 \n\nHOURS: \nMonday: Closed \nTues-Thurs: 10am-8pm \nFri: 10am-5pm \nSat: 9:30am-5pm (shooting @10am) \nSun: 10:30am-4pm (shooting @11am) \nLast lane reservation is 1 hour before closing \n\n		\n\n\n\n\n\n\n						\n							Add to calendar						 \n\n\n\n									\n										Google Calendar									\n								\n\n									\n										iCalendar									\n								\n\n									\n										Outlook 365									\n								\n\n									\n										Outlook Live
URL:https://gunstuff.tv/event/closed-mondays-26/
LOCATION:OH
END:VEVENT
BEGIN:VEVENT
DTSTART;VALUE=DATE:20260330
DTEND;VALUE=DATE:20260331
DTSTAMP:20260424T072751
CREATED:20260213T031054Z
LAST-MODIFIED:20260327T034726Z
UID:10005202-1774828800-1774915199@gunstuff.tv
SUMMARY:Club Closed
DESCRIPTION:
URL:https://gunstuff.tv/event/club-closed-13/
LOCATION:OH
END:VEVENT
BEGIN:VEVENT
DTSTART;TZID=America/New_York:20260329T180000
DTEND;TZID=America/New_York:20260329T210000
DTSTAMP:20260424T072751
CREATED:20260327T051658Z
LAST-MODIFIED:20260327T051750Z
UID:10006527-1774807200-1774818000@gunstuff.tv
SUMMARY:Bowling-Pin Shoots | Fall/Winter/Spring
DESCRIPTION:Cost: $5 Members\, $10 Non-Members\nThis is a “Fun-Shoot”\, for .22LR pistols\, but\, we will allow .22 LR (magazine fed.) rifles.\nTypical Equipment: Ruger Mark I\, II\, III\, IV\, 22/45; Hi Standard and other similar semi-auto\npistols\, and .22 Cal. Revolvers. Red Dot or Iron Sights.\nRequired: Eye and hearing protection.\nObjective and course of fire: Clear the tables as quickly as possible. Range: 21 Ft.\n6- tables per shooter per set. (Typically 2-3 sets per night.) Up to 5-shooters on the line.\nThe longest time is thrown out\, and the remaining 5 times are averaged for your score.\nThe maximum time for a table is 15-seconds\, cleared or not.\nPins must be OFF the table\, but not necessarily on the floor to stop the clock.\nShooters start at a “Low Ready” position\, waiting for the start buzzer.\nNo magazine changes\, but you are allowed to clear jams.\nCheck out our Range Safety Video at https://ocsportsmensclub.com/ranges/ and watch to the end after the credits\, at about the 14:30 mark to see what this is all about.
URL:https://gunstuff.tv/event/bowling-pin-shoots-fall-winter-spring-21/
LOCATION:Indoor Rifle & Pistol Range\, 4770 Waterford Rd\,\, Village of Clarkston\, 48346
CATEGORIES:D.R. Wilson,Indoor Rifle & Pistol Rage,Muzzleloaders,Range
ATTACH;FMTTYPE=image/jpeg:https://gunstuff.tv/wp-content/uploads/2025/10/Indoor_Pin_Shoots_2025-26_Flyer-FXbFJs.jpg
END:VEVENT
BEGIN:VEVENT
DTSTART;TZID=America/Los_Angeles:20260329T150000
DTEND;TZID=America/Los_Angeles:20260329T170000
DTSTAMP:20260424T072751
CREATED:20260227T193140Z
LAST-MODIFIED:20260327T193142Z
UID:10005881-1774796400-1774803600@gunstuff.tv
SUMMARY:Musketeer Skeet
DESCRIPTION:Shotgun for Youth Skeet 3-5pm\nLoaner Shotguns are available- please sign in at the clubhouse prior to coming out to the fields. \n“California Musketeers” is a youth shooting program recognized by the Civilian Marksmanship Program (CMP) and the National Rifle Association (NRA). The program is funded and operated by the Diablo Rod & Gun Club (DR&G). \n“California Musketeer’s” shotgun program is open to all youth between the ages of ten (10) and twenty (20) years of age\, but children and grandchildren of club members receive shot shell furnished by the club. Please see the sign up sheet\, which is for the youth shotgun component. \nFor further information\, contact Lee Halverson at speedelee@gmail.com or telephone (408) 375-6166. \nWe have one downloadable form for the Shotgun section: \nMUSKETEERS SIGNUP SHEET (Shotgun)
URL:https://gunstuff.tv/event/musketeer-skeet-2/
LOCATION:USI Clubhouse\, 4700 Evora Rd.\, Concord\, CA\, 94521
CATEGORIES:Musketeers
ATTACH;FMTTYPE=image/jpeg:https://gunstuff.tv/wp-content/uploads/2025/10/a2d52f_001d23512f9f4f099ae4b1cc038b999e_mv2-9EURTi.jpg
ORGANIZER;CN="Lee Halverson%2C Jr.":MAILTO:speedelee@gmail.com
END:VEVENT
BEGIN:VEVENT
DTSTART;TZID=America/New_York:20260329T140000
DTEND;TZID=America/New_York:20260329T160000
DTSTAMP:20260424T072751
CREATED:20251228T204643Z
LAST-MODIFIED:20260322T214632Z
UID:10003663-1774792800-1774800000@gunstuff.tv
SUMMARY:CamCo Clay Crushers Practice
DESCRIPTION:*Please dress appropriately for the weather conditions\, layers are a great idea!**Follow the Facebook page (Cameron County Clay Crushers) for all up to date information.***Any questions please contact Coach Mike 814-203-2624 or Coach Sabrina 814-203-2590.
URL:https://gunstuff.tv/event/camco-clay-crushers-practice-5/
LOCATION:523 Sizer Run Rd\, Emporium\, PA\, United States
GEO:41.51031;-78.23157
END:VEVENT
BEGIN:VEVENT
DTSTART;TZID=America/New_York:20260329T133000
DTEND;TZID=America/New_York:20260329T170000
DTSTAMP:20260424T072751
CREATED:20260327T051658Z
LAST-MODIFIED:20260327T051750Z
UID:10006525-1774791000-1774803600@gunstuff.tv
SUMMARY:JOAD League
DESCRIPTION:
URL:https://gunstuff.tv/event/joad-league-23/
LOCATION:Indoor Archery Range\, 4770 Waterford Rd\, Clarkston\, MI\, United States
CATEGORIES:Archery,Indoor Archery Range,Range
ATTACH;FMTTYPE=image/jpeg:https://gunstuff.tv/wp-content/uploads/2025/10/JOAD-SAM-Tournament-XezJUo.jpg
GEO:42.705297;-83.4014
X-APPLE-STRUCTURED-LOCATION;VALUE=URI;X-ADDRESS=Indoor Archery Range 4770 Waterford Rd Clarkston MI United States;X-APPLE-RADIUS=500;X-TITLE=4770 Waterford Rd:geo:-83.4014,42.705297
END:VEVENT
BEGIN:VEVENT
DTSTART;TZID=America/Los_Angeles:20260329T130000
DTEND;TZID=America/Los_Angeles:20260329T160000
DTSTAMP:20260424T072751
CREATED:20260227T193140Z
LAST-MODIFIED:20260327T193142Z
UID:10005880-1774789200-1774800000@gunstuff.tv
SUMMARY:All Club Members Shoot – MPR – 22’s and Air Guns Only – 5th Sundays
DESCRIPTION:22 rifles\, 22 pistols and air guns from 1 – 4.  All club members are invited! \nPRICING:\nMembers shoot for $10\nMembers with VIP shoot for $5\nAny RSO’s shoot for $5\nRSO’s with VIP shoot for $0\nResponsible RSO shoots for $0 \n 
URL:https://gunstuff.tv/event/all-club-members-shoot-mpr-22s-and-air-guns-only-5th-sundays-2/
LOCATION:USI Multi Purpose Range\, 4700 Evora Road\, Concord\, CA\, 94520
CATEGORIES:.22lr Shooting,Airgun
END:VEVENT
BEGIN:VEVENT
DTSTART;TZID=America/Los_Angeles:20260329T130000
DTEND;TZID=America/Los_Angeles:20260329T150000
DTSTAMP:20260424T072751
CREATED:20260227T193140Z
LAST-MODIFIED:20260327T193142Z
UID:10005879-1774789200-1774796400@gunstuff.tv
SUMMARY:Musketeer Trap
DESCRIPTION:Shotgun for Youth Trap 1-3pm\nLoaner Shotguns are available- please sign in at the clubhouse prior to coming out to the fields. \n“California Musketeers” is a youth shooting program recognized by the Civilian Marksmanship Program (CMP) and the National Rifle Association (NRA). The program is funded and operated by the Diablo Rod & Gun Club (DR&G). \n“California Musketeer’s” shotgun program is open to all youth between the ages of ten (10) and twenty (20) years of age\, but children and grandchildren of club members receive shot shell furnished by the club. Please see the sign up sheet\, which is for the youth shotgun component. \n                                        \nFor further information\, contact Lee Halverson at speedelee@gmail.com or telephone (408) 375-6166. \nWe have one downloadable form for the Shotgun section: \nMUSKETEERS SIGNUP SHEET (Shotgun)
URL:https://gunstuff.tv/event/musketeer-trap-2/
LOCATION:USI Clubhouse\, 4700 Evora Rd.\, Concord\, CA\, 94521
CATEGORIES:Musketeers
ATTACH;FMTTYPE=image/jpeg:https://gunstuff.tv/wp-content/uploads/2025/10/a2d52f_001d23512f9f4f099ae4b1cc038b999e_mv2-9EURTi.jpg
ORGANIZER;CN="Lee Halverson%2C Jr.":MAILTO:speedelee@gmail.com
END:VEVENT
BEGIN:VEVENT
DTSTART;TZID=UTC:20260329T130000
DTEND;TZID=UTC:20260329T130000
DTSTAMP:20260424T072752
CREATED:20260227T113138Z
LAST-MODIFIED:20260329T034743Z
UID:10005829-1774789200-1774789200@gunstuff.tv
SUMMARY:Benton Gun Club March 2026
DESCRIPTION:Benton Gun Club March 2026\nDate : 3/29/26\nStart Time: 1:00 PM\nLocation:\nBenton Gun Club (AR13)\n5522 Mt Olive Cutoff Rd\nBauxite\, AR\nEvent Contact Information\nDavid See\n5012494272\nbgcuspsa3@gmail.com\nMatch Information\nMatch opens for registration on Practiscore March 08
URL:https://gunstuff.tv/event/benton-gun-club-march-2026/
LOCATION:Benton Gun Club (AR13)\, 5522 Mt Olive Cutoff Rd\, Bauxite\, AR
END:VEVENT
BEGIN:VEVENT
DTSTART;TZID=America/New_York:20260329T123000
DTEND;TZID=America/New_York:20260329T143000
DTSTAMP:20260424T072752
CREATED:20260130T183231Z
LAST-MODIFIED:20260328T214629Z
UID:10004856-1774787400-1774794600@gunstuff.tv
SUMMARY:New Member Orientation and Range Tour
DESCRIPTION:Reservation required contact Eric Zaharee at absaidpa@gmail.com to attend
URL:https://gunstuff.tv/event/new-member-orientation-and-range-tour-3/
LOCATION:All Ranges and Club Classroom
END:VEVENT
BEGIN:VEVENT
DTSTART;TZID=America/Chicago:20260329T120000
DTEND;TZID=America/Chicago:20260329T170000
DTSTAMP:20260424T072752
CREATED:20260303T021743Z
LAST-MODIFIED:20260324T021634Z
UID:10006049-1774785600-1774803600@gunstuff.tv
SUMMARY:Blue Family Fund Texas Clay Shoot Championship
DESCRIPTION:Join us on March 29th at Defender Outdoors Clay Sports Ranch for the Texas Clay Shootout Championship benefitting the Blue Family Fund. All proceeds go to helping the families of first responders. \n  \nTeam of 4- $625 (Includes 1 cart\, Shooting Fees\, Dinner\, ear protection\, scorecard. Bring your own shotgun\, +100 rounds of Ammo\, eye protection) \nIndividual- $175 (Includes Shooting Fees\, Dinner\, ear protection\, scorecard Bring your own shotgun\, +100 rounds of Ammo\, eye protection) \nDinner Ticket- $25 \n  \nREGISTER HERE
URL:https://gunstuff.tv/event/blue-family-fund-texas-clay-shoot-championship/
LOCATION:Clay Sports Ranch\, 8270 Aledo Road\, Fort Worth\, TX\, 76126\, United States
CATEGORIES:Clay Sports Ranch Events
ATTACH;FMTTYPE=image/jpeg:https://gunstuff.tv/wp-content/uploads/2026/03/BFF-TCSC-Clay-Shoot-Flyer-2026.1-scaled-qywci5-6ZSLdZ.jpg
END:VEVENT
BEGIN:VEVENT
DTSTART;TZID=UTC:20260329T114500
DTEND;TZID=UTC:20260329T114500
DTSTAMP:20260424T072752
CREATED:20260107T013347Z
LAST-MODIFIED:20260325T064635Z
UID:10003816-1774784700-1774784700@gunstuff.tv
SUMMARY:Shadow Hawk Defense Steel Challenge
DESCRIPTION:Shadow Hawk Defense Steel Challenge\nDate: 3/29/26\nStart Time: 11:45 AM\nLocation:\nShadow Hawk Defense (SCSA271)\n436 Apple Harvest Drive\nHedgesville\, WV\nEvent Contact Information\nLynn Kasic\n3046166582\ninfo@shadowhawkdefense.com\nMatch Information\nSame match on Saturday and Sunday. The squad you select determines the day and time that you shoot. All eight stages. Approximately *200* rounds. $30\, Second gun 1/2 price. Pay at the door.\nEvent Website\nhttps://shadowhawkdefense.com/
URL:https://gunstuff.tv/event/shadow-hawk-defense-steel-challenge-4/
LOCATION:Shadow Hawk Defense (SCSA271)\, 399 Apple Harvest Dr\, Hedgesville\, WV\, United States
GEO:39.389611;-78.197586
X-APPLE-STRUCTURED-LOCATION;VALUE=URI;X-ADDRESS=Shadow Hawk Defense (SCSA271) 399 Apple Harvest Dr Hedgesville WV United States;X-APPLE-RADIUS=500;X-TITLE=399 Apple Harvest Dr:geo:-78.197586,39.389611
END:VEVENT
BEGIN:VEVENT
DTSTART;TZID=America/New_York:20260329T110000
DTEND;TZID=America/New_York:20260329T160000
DTSTAMP:20260424T072752
CREATED:20260327T051658Z
LAST-MODIFIED:20260327T051750Z
UID:10006526-1774782000-1774800000@gunstuff.tv
SUMMARY:Shotgun Shooting Hours
DESCRIPTION:
URL:https://gunstuff.tv/event/shotgun-shooting-hours-18/
LOCATION:Shotgun Ranges\, 4770 Waterford Rd\, Clarkston\, MI\, United States
CATEGORIES:Range,Shotgun,Shotgun Range
ATTACH;FMTTYPE=image/png:https://gunstuff.tv/wp-content/uploads/2025/10/shotgun-logo-160x160-1-mvSnxY.png
GEO:42.705297;-83.4014
X-APPLE-STRUCTURED-LOCATION;VALUE=URI;X-ADDRESS=Shotgun Ranges 4770 Waterford Rd Clarkston MI United States;X-APPLE-RADIUS=500;X-TITLE=4770 Waterford Rd:geo:-83.4014,42.705297
END:VEVENT
END:VCALENDAR