BEGIN:VCALENDAR
VERSION:2.0
PRODID:-//GunStuff TV - ECPv6.15.20//NONSGML v1.0//EN
CALSCALE:GREGORIAN
METHOD:PUBLISH
X-WR-CALNAME:GunStuff TV
X-ORIGINAL-URL:https://gunstuff.tv
X-WR-CALDESC:Events for GunStuff TV
REFRESH-INTERVAL;VALUE=DURATION:PT1H
X-Robots-Tag:noindex
X-PUBLISHED-TTL:PT1H
BEGIN:VTIMEZONE
TZID:America/New_York
BEGIN:DAYLIGHT
TZOFFSETFROM:-0500
TZOFFSETTO:-0400
TZNAME:EDT
DTSTART:20250309T070000
END:DAYLIGHT
BEGIN:STANDARD
TZOFFSETFROM:-0400
TZOFFSETTO:-0500
TZNAME:EST
DTSTART:20251102T060000
END:STANDARD
BEGIN:DAYLIGHT
TZOFFSETFROM:-0500
TZOFFSETTO:-0400
TZNAME:EDT
DTSTART:20260308T070000
END:DAYLIGHT
BEGIN:STANDARD
TZOFFSETFROM:-0400
TZOFFSETTO:-0500
TZNAME:EST
DTSTART:20261101T060000
END:STANDARD
BEGIN:DAYLIGHT
TZOFFSETFROM:-0500
TZOFFSETTO:-0400
TZNAME:EDT
DTSTART:20270314T070000
END:DAYLIGHT
BEGIN:STANDARD
TZOFFSETFROM:-0400
TZOFFSETTO:-0500
TZNAME:EST
DTSTART:20271107T060000
END:STANDARD
END:VTIMEZONE
BEGIN:VTIMEZONE
TZID:UTC
BEGIN:STANDARD
TZOFFSETFROM:+0000
TZOFFSETTO:+0000
TZNAME:UTC
DTSTART:20250101T000000
END:STANDARD
END:VTIMEZONE
BEGIN:VTIMEZONE
TZID:UTC
BEGIN:STANDARD
TZOFFSETFROM:+0000
TZOFFSETTO:+0000
TZNAME:UTC
DTSTART:20250101T000000
END:STANDARD
END:VTIMEZONE
BEGIN:VTIMEZONE
TZID:America/Chicago
BEGIN:DAYLIGHT
TZOFFSETFROM:-0600
TZOFFSETTO:-0500
TZNAME:CDT
DTSTART:20250309T080000
END:DAYLIGHT
BEGIN:STANDARD
TZOFFSETFROM:-0500
TZOFFSETTO:-0600
TZNAME:CST
DTSTART:20251102T070000
END:STANDARD
BEGIN:DAYLIGHT
TZOFFSETFROM:-0600
TZOFFSETTO:-0500
TZNAME:CDT
DTSTART:20260308T080000
END:DAYLIGHT
BEGIN:STANDARD
TZOFFSETFROM:-0500
TZOFFSETTO:-0600
TZNAME:CST
DTSTART:20261101T070000
END:STANDARD
BEGIN:DAYLIGHT
TZOFFSETFROM:-0600
TZOFFSETTO:-0500
TZNAME:CDT
DTSTART:20270314T080000
END:DAYLIGHT
BEGIN:STANDARD
TZOFFSETFROM:-0500
TZOFFSETTO:-0600
TZNAME:CST
DTSTART:20271107T070000
END:STANDARD
END:VTIMEZONE
BEGIN:VTIMEZONE
TZID:America/Los_Angeles
BEGIN:DAYLIGHT
TZOFFSETFROM:-0800
TZOFFSETTO:-0700
TZNAME:PDT
DTSTART:20250309T100000
END:DAYLIGHT
BEGIN:STANDARD
TZOFFSETFROM:-0700
TZOFFSETTO:-0800
TZNAME:PST
DTSTART:20251102T090000
END:STANDARD
BEGIN:DAYLIGHT
TZOFFSETFROM:-0800
TZOFFSETTO:-0700
TZNAME:PDT
DTSTART:20260308T100000
END:DAYLIGHT
BEGIN:STANDARD
TZOFFSETFROM:-0700
TZOFFSETTO:-0800
TZNAME:PST
DTSTART:20261101T090000
END:STANDARD
BEGIN:DAYLIGHT
TZOFFSETFROM:-0800
TZOFFSETTO:-0700
TZNAME:PDT
DTSTART:20270314T100000
END:DAYLIGHT
BEGIN:STANDARD
TZOFFSETFROM:-0700
TZOFFSETTO:-0800
TZNAME:PST
DTSTART:20271107T090000
END:STANDARD
END:VTIMEZONE
BEGIN:VTIMEZONE
TZID:America/Indiana/Indianapolis
BEGIN:DAYLIGHT
TZOFFSETFROM:-0500
TZOFFSETTO:-0400
TZNAME:EDT
DTSTART:20250309T070000
END:DAYLIGHT
BEGIN:STANDARD
TZOFFSETFROM:-0400
TZOFFSETTO:-0500
TZNAME:EST
DTSTART:20251102T060000
END:STANDARD
BEGIN:DAYLIGHT
TZOFFSETFROM:-0500
TZOFFSETTO:-0400
TZNAME:EDT
DTSTART:20260308T070000
END:DAYLIGHT
BEGIN:STANDARD
TZOFFSETFROM:-0400
TZOFFSETTO:-0500
TZNAME:EST
DTSTART:20261101T060000
END:STANDARD
BEGIN:DAYLIGHT
TZOFFSETFROM:-0500
TZOFFSETTO:-0400
TZNAME:EDT
DTSTART:20270314T070000
END:DAYLIGHT
BEGIN:STANDARD
TZOFFSETFROM:-0400
TZOFFSETTO:-0500
TZNAME:EST
DTSTART:20271107T060000
END:STANDARD
END:VTIMEZONE
BEGIN:VEVENT
DTSTART;TZID=America/New_York:20260322T180000
DTEND;TZID=America/New_York:20260322T210000
DTSTAMP:20260424T140227
CREATED:20260320T051640Z
LAST-MODIFIED:20260320T051640Z
UID:10006387-1774202400-1774213200@gunstuff.tv
SUMMARY:Bowling-Pin Shoots | Fall/Winter/Spring
DESCRIPTION:Cost: $5 Members\, $10 Non-Members\nThis is a “Fun-Shoot”\, for .22LR pistols\, but\, we will allow .22 LR (magazine fed.) rifles.\nTypical Equipment: Ruger Mark I\, II\, III\, IV\, 22/45; Hi Standard and other similar semi-auto\npistols\, and .22 Cal. Revolvers. Red Dot or Iron Sights.\nRequired: Eye and hearing protection.\nObjective and course of fire: Clear the tables as quickly as possible. Range: 21 Ft.\n6- tables per shooter per set. (Typically 2-3 sets per night.) Up to 5-shooters on the line.\nThe longest time is thrown out\, and the remaining 5 times are averaged for your score.\nThe maximum time for a table is 15-seconds\, cleared or not.\nPins must be OFF the table\, but not necessarily on the floor to stop the clock.\nShooters start at a “Low Ready” position\, waiting for the start buzzer.\nNo magazine changes\, but you are allowed to clear jams.\nCheck out our Range Safety Video at https://ocsportsmensclub.com/ranges/ and watch to the end after the credits\, at about the 14:30 mark to see what this is all about.
URL:https://gunstuff.tv/event/bowling-pin-shoots-fall-winter-spring-20/
LOCATION:Indoor Rifle & Pistol Range\, 4770 Waterford Rd\,\, Village of Clarkston\, 48346
CATEGORIES:D.R. Wilson,Indoor Rifle & Pistol Rage,Muzzleloaders,Range
ATTACH;FMTTYPE=image/jpeg:https://gunstuff.tv/wp-content/uploads/2025/10/Indoor_Pin_Shoots_2025-26_Flyer-FXbFJs.jpg
END:VEVENT
BEGIN:VEVENT
DTSTART;TZID=America/New_York:20260322T180000
DTEND;TZID=America/New_York:20260322T200000
DTSTAMP:20260424T140227
CREATED:20260320T051640Z
LAST-MODIFIED:20260320T051640Z
UID:10006386-1774202400-1774209600@gunstuff.tv
SUMMARY:FITA Target League
DESCRIPTION:
URL:https://gunstuff.tv/event/fita-target-league-12/
LOCATION:Indoor Archery Range\, 4770 Waterford Rd\, Clarkston\, MI\, United States
CATEGORIES:Archery,Indoor Archery Range,Range,Winter League
ATTACH;FMTTYPE=image/jpeg:https://gunstuff.tv/wp-content/uploads/2025/12/FITA_outdoorwednesday-4fSUc8.jpg
GEO:42.705297;-83.4014
X-APPLE-STRUCTURED-LOCATION;VALUE=URI;X-ADDRESS=Indoor Archery Range 4770 Waterford Rd Clarkston MI United States;X-APPLE-RADIUS=500;X-TITLE=4770 Waterford Rd:geo:-83.4014,42.705297
END:VEVENT
BEGIN:VEVENT
DTSTART;TZID=America/New_York:20260322T180000
DTEND;TZID=America/New_York:20260322T200000
DTSTAMP:20260424T140227
CREATED:20260320T051640Z
LAST-MODIFIED:20260320T051640Z
UID:10006376-1774202400-1774209600@gunstuff.tv
SUMMARY:FITA Target League
DESCRIPTION:
URL:https://gunstuff.tv/event/fita-target-league-13/
LOCATION:Indoor Archery Range\, 4770 Waterford Rd\, Clarkston\, MI\, United States
CATEGORIES:Archery,Indoor Archery Range,Range,Winter League
ATTACH;FMTTYPE=image/jpeg:https://gunstuff.tv/wp-content/uploads/2025/12/FITA_outdoorwednesday-4fSUc8.jpg
GEO:42.705297;-83.4014
X-APPLE-STRUCTURED-LOCATION;VALUE=URI;X-ADDRESS=Indoor Archery Range 4770 Waterford Rd Clarkston MI United States;X-APPLE-RADIUS=500;X-TITLE=4770 Waterford Rd:geo:-83.4014,42.705297
END:VEVENT
BEGIN:VEVENT
DTSTART;TZID=UTC:20260322T140000
DTEND;TZID=UTC:20260322T180000
DTSTAMP:20260424T140227
CREATED:20260303T001634Z
LAST-MODIFIED:20260317T001631Z
UID:10005985-1774188000-1774202400@gunstuff.tv
SUMMARY:Indoor Range closed 2-6:00pm
DESCRIPTION:Juniors will meet today \nAll new members must schedule\, please call John at 516-250-7373
URL:https://gunstuff.tv/event/indoor-range-closed-2-600pm-6/
LOCATION:CA
END:VEVENT
BEGIN:VEVENT
DTSTART;TZID=America/New_York:20260322T140000
DTEND;TZID=America/New_York:20260322T160000
DTSTAMP:20260424T140227
CREATED:20260118T210131Z
LAST-MODIFIED:20260315T214629Z
UID:10004593-1774188000-1774195200@gunstuff.tv
SUMMARY:CamCo Clay Crushers Practice
DESCRIPTION:*Please dress appropriately for the weather conditions\, layers are a great idea!**Follow the Facebook page (Cameron County Clay Crushers) for all up to date information.***Any questions please contact Coach Mike 814-203-2624 or Coach Sabrina 814-203-2590.
URL:https://gunstuff.tv/event/camco-clay-crushers-practice-15/
LOCATION:523 Sizer Run Rd\, Emporium\, PA\, United States
GEO:41.51031;-78.23157
END:VEVENT
BEGIN:VEVENT
DTSTART;TZID=UTC:20260322T140000
DTEND;TZID=UTC:20260322T140000
DTSTAMP:20260424T140227
CREATED:20260107T013347Z
LAST-MODIFIED:20260318T064635Z
UID:10003813-1774188000-1774188000@gunstuff.tv
SUMMARY:BVSA 2026 STEEL CHALLENGE - March 22
DESCRIPTION:BVSA 2026 STEEL CHALLENGE – March 22\nDate: 3/22/26\nStart Time: 2:00 PM\nLocation:\nBuffalo Valley Sportsmen’s Association (SCSA389)\n950 Sportsmens Club Rd\nMifflinburg\, PA\nEvent Contact Information\nLuke Walter\n5709391444\nlbw2@pct.edu\nEvent Website\nhttp://bvsportsman.org
URL:https://gunstuff.tv/event/bvsa-2026-steel-challenge-march-22/
LOCATION:Buffalo Valley Sportsmen’s Association (SCSA389)\, 1300 Sportsmens Club Rd\, Mifflinburg\, PA\, United States
GEO:40.947311;-77.103732
X-APPLE-STRUCTURED-LOCATION;VALUE=URI;X-ADDRESS=Buffalo Valley Sportsmen’s Association (SCSA389) 1300 Sportsmens Club Rd Mifflinburg PA United States;X-APPLE-RADIUS=500;X-TITLE=1300 Sportsmens Club Rd:geo:-77.103732,40.947311
END:VEVENT
BEGIN:VEVENT
DTSTART;TZID=America/New_York:20260322T133000
DTEND;TZID=America/New_York:20260322T170000
DTSTAMP:20260424T140227
CREATED:20260320T051640Z
LAST-MODIFIED:20260320T051640Z
UID:10006385-1774186200-1774198800@gunstuff.tv
SUMMARY:JOAD League
DESCRIPTION:
URL:https://gunstuff.tv/event/joad-league-21/
LOCATION:Indoor Archery Range\, 4770 Waterford Rd\, Clarkston\, MI\, United States
CATEGORIES:Archery,Indoor Archery Range,Range
ATTACH;FMTTYPE=image/jpeg:https://gunstuff.tv/wp-content/uploads/2025/10/JOAD-SAM-Tournament-XezJUo.jpg
GEO:42.705297;-83.4014
X-APPLE-STRUCTURED-LOCATION;VALUE=URI;X-ADDRESS=Indoor Archery Range 4770 Waterford Rd Clarkston MI United States;X-APPLE-RADIUS=500;X-TITLE=4770 Waterford Rd:geo:-83.4014,42.705297
END:VEVENT
BEGIN:VEVENT
DTSTART;TZID=America/New_York:20260322T133000
DTEND;TZID=America/New_York:20260322T170000
DTSTAMP:20260424T140227
CREATED:20260320T051640Z
LAST-MODIFIED:20260320T051640Z
UID:10006375-1774186200-1774198800@gunstuff.tv
SUMMARY:JOAD League
DESCRIPTION:
URL:https://gunstuff.tv/event/joad-league-22/
LOCATION:Indoor Archery Range\, 4770 Waterford Rd\, Clarkston\, MI\, United States
CATEGORIES:Archery,Indoor Archery Range,Range
ATTACH;FMTTYPE=image/jpeg:https://gunstuff.tv/wp-content/uploads/2025/10/JOAD-SAM-Tournament-XezJUo.jpg
GEO:42.705297;-83.4014
X-APPLE-STRUCTURED-LOCATION;VALUE=URI;X-ADDRESS=Indoor Archery Range 4770 Waterford Rd Clarkston MI United States;X-APPLE-RADIUS=500;X-TITLE=4770 Waterford Rd:geo:-83.4014,42.705297
END:VEVENT
BEGIN:VEVENT
DTSTART;TZID=America/New_York:20260322T130000
DTEND;TZID=America/New_York:20260322T160000
DTSTAMP:20260424T140227
CREATED:20260201T183132Z
LAST-MODIFIED:20260322T184643Z
UID:10004886-1774184400-1774195200@gunstuff.tv
SUMMARY:SAWS (Sunday Afternoon Winter Skeet) League
DESCRIPTION:https://www.fxrgc.org/shotgun/saws/ \nLeague Director: John Feroldi    jferoldi@yahoo.com
URL:https://gunstuff.tv/event/saws-sunday-afternoon-winter-skeet-league-11/
LOCATION:Skeet Fields 2-7
END:VEVENT
BEGIN:VEVENT
DTSTART;TZID=America/New_York:20260322T110000
DTEND;TZID=America/New_York:20260322T160000
DTSTAMP:20260424T140227
CREATED:20260320T051640Z
LAST-MODIFIED:20260320T051640Z
UID:10006374-1774177200-1774195200@gunstuff.tv
SUMMARY:Shotgun Shooting Hours
DESCRIPTION:
URL:https://gunstuff.tv/event/shotgun-shooting-hours-15/
LOCATION:Shotgun Ranges\, 4770 Waterford Rd\, Clarkston\, MI\, United States
CATEGORIES:Range,Shotgun,Shotgun Range
ATTACH;FMTTYPE=image/png:https://gunstuff.tv/wp-content/uploads/2025/10/shotgun-logo-160x160-1-mvSnxY.png
GEO:42.705297;-83.4014
X-APPLE-STRUCTURED-LOCATION;VALUE=URI;X-ADDRESS=Shotgun Ranges 4770 Waterford Rd Clarkston MI United States;X-APPLE-RADIUS=500;X-TITLE=4770 Waterford Rd:geo:-83.4014,42.705297
END:VEVENT
BEGIN:VEVENT
DTSTART;TZID=America/New_York:20260322T110000
DTEND;TZID=America/New_York:20260322T160000
DTSTAMP:20260424T140227
CREATED:20260320T051640Z
LAST-MODIFIED:20260320T051640Z
UID:10006384-1774177200-1774195200@gunstuff.tv
SUMMARY:Shotgun Shooting Hours
DESCRIPTION:
URL:https://gunstuff.tv/event/shotgun-shooting-hours-14/
LOCATION:Shotgun Ranges\, 4770 Waterford Rd\, Clarkston\, MI\, United States
CATEGORIES:Range,Shotgun,Shotgun Range
ATTACH;FMTTYPE=image/png:https://gunstuff.tv/wp-content/uploads/2025/10/shotgun-logo-160x160-1-mvSnxY.png
GEO:42.705297;-83.4014
X-APPLE-STRUCTURED-LOCATION;VALUE=URI;X-ADDRESS=Shotgun Ranges 4770 Waterford Rd Clarkston MI United States;X-APPLE-RADIUS=500;X-TITLE=4770 Waterford Rd:geo:-83.4014,42.705297
END:VEVENT
BEGIN:VEVENT
DTSTART;TZID=UTC:20260322T100000
DTEND;TZID=UTC:20260322T100000
DTSTAMP:20260424T140227
CREATED:20260227T113138Z
LAST-MODIFIED:20260320T113151Z
UID:10005827-1774173600-1774173600@gunstuff.tv
SUMMARY:Sidney Practical Shooters USPSA Super Classifier March 2026
DESCRIPTION:Sidney Practical Shooters USPSA Super Classifier March 2026\nDate : 3/22/26\nStart Time: 10:00 AM\nLocation:\nSidney Practical Shooters (IND23)\n2232 Rd 115\nSidney\, NE\nEvent Contact Information\nJustin w Christensen\n3082501869\nSidneypracticalshooters@gmail.com
URL:https://gunstuff.tv/event/sidney-practical-shooters-uspsa-super-classifier-march-2026/
LOCATION:Sidney Practical Shooters (IND23)\, 2400 Rd 115\, Sidney\, NE\, United States
GEO:41.163488;-102.954223
X-APPLE-STRUCTURED-LOCATION;VALUE=URI;X-ADDRESS=Sidney Practical Shooters (IND23) 2400 Rd 115 Sidney NE United States;X-APPLE-RADIUS=500;X-TITLE=2400 Rd 115:geo:-102.954223,41.163488
END:VEVENT
BEGIN:VEVENT
DTSTART;TZID=UTC:20260322T100000
DTEND;TZID=UTC:20260322T100000
DTSTAMP:20260424T140227
CREATED:20260121T014634Z
LAST-MODIFIED:20260318T064635Z
UID:10004632-1774173600-1774173600@gunstuff.tv
SUMMARY:PGC Steel Challenge
DESCRIPTION:PGC Steel Challenge\nDate: 3/22/26\nStart Time: 10:00 AM\nLocation:\nPalmetto Gun Club (SCSA077)\n951 Summers Dr\nRidgeville\, SC\nEvent Contact Information\nThomas Happel\n843-270-9250\nthedeltais@hotmail.com\nMatch Information\nMonthly 6-stage club match at Palmetto Gun Club.\nEvent Website\nhttps://www.palmettogunclub.org/
URL:https://gunstuff.tv/event/pgc-steel-challenge-5/
LOCATION:Palmetto Gun Club (SCSA077)\, 951 Summers Dr\, Ridgeville\, SC\, United States
GEO:32.923478;-80.292014
X-APPLE-STRUCTURED-LOCATION;VALUE=URI;X-ADDRESS=Palmetto Gun Club (SCSA077) 951 Summers Dr Ridgeville SC United States;X-APPLE-RADIUS=500;X-TITLE=951 Summers Dr:geo:-80.292014,32.923478
END:VEVENT
BEGIN:VEVENT
DTSTART;TZID=America/Chicago:20260322T090000
DTEND;TZID=America/Chicago:20260322T170000
DTSTAMP:20260424T140227
CREATED:20260217T220131Z
LAST-MODIFIED:20260317T220132Z
UID:10005662-1774170000-1774198800@gunstuff.tv
SUMMARY:2026 Illinois State Indoor Pistol Championship - Highland Pistol and Rifle Club - 9:00-5:00
DESCRIPTION:Current NRA pistol rules will govern. Standard indoor course. Click the link below for details.\nContact: John B. LaBusier 618-246-6648 (before 9 PM) or jblphoto@yahoo.com\nHighland Pistol & Rifle Club\, at the intersection of Iberg and Bellm Rds.\, approximately 1.3 miles Southeast of Highland\, Illinois\, near St. Louis\, Mo.\n2026 ILLINOIS STATE INDOOR PISTOL CHAMPIONSHIP Match Program
URL:https://gunstuff.tv/event/2026-illinois-state-indoor-pistol-championship-highland-pistol-and-rifle-club-900-500/
LOCATION:The Range\, 1589 N 7000W Rd\, Bonfield\, IL\, United States
CATEGORIES:Event Calendar,ISRA Event,Offsite Training
GEO:41.141026;-88.010679
X-APPLE-STRUCTURED-LOCATION;VALUE=URI;X-ADDRESS=The Range 1589 N 7000W Rd Bonfield IL United States;X-APPLE-RADIUS=500;X-TITLE=1589 N 7000W Rd:geo:-88.010679,41.141026
END:VEVENT
BEGIN:VEVENT
DTSTART;TZID=America/New_York:20260322T090000
DTEND;TZID=America/New_York:20260322T160000
DTSTAMP:20260424T140227
CREATED:20251109T181646Z
LAST-MODIFIED:20260322T184643Z
UID:10003020-1774170000-1774195200@gunstuff.tv
SUMMARY:Action Pistol Clinic
DESCRIPTION:Action Pistol Clinic hosted by member Adam Metcalf \nadam@openarmsinstruction.com
URL:https://gunstuff.tv/event/action-pistol-clinic-2/
LOCATION:Culver Range
END:VEVENT
BEGIN:VEVENT
DTSTART;TZID=America/New_York:20260322T090000
DTEND;TZID=America/New_York:20260322T140000
DTSTAMP:20260424T140227
CREATED:20251003T031215Z
LAST-MODIFIED:20260320T070130Z
UID:10000614-1774170000-1774188000@gunstuff.tv
SUMMARY:Wyoming Antelope NRA 2700
DESCRIPTION:
URL:https://gunstuff.tv/event/wyoming-antelope-nra-2700-6/
LOCATION:Wyoming Antelope Club-Florida\, 3700 126th Ave N\, Clearwater\, FL\, United States
GEO:27.886432;-82.683263
X-APPLE-STRUCTURED-LOCATION;VALUE=URI;X-ADDRESS=Wyoming Antelope Club-Florida 3700 126th Ave N Clearwater FL United States;X-APPLE-RADIUS=500;X-TITLE=3700 126th Ave N:geo:-82.683263,27.886432
END:VEVENT
BEGIN:VEVENT
DTSTART;TZID=America/New_York:20260322T090000
DTEND;TZID=America/New_York:20260322T120000
DTSTAMP:20260424T140227
CREATED:20260302T111637Z
LAST-MODIFIED:20260316T113135Z
UID:10005963-1774170000-1774180800@gunstuff.tv
SUMMARY:Sporting Clay 9 - Noon
DESCRIPTION:
URL:https://gunstuff.tv/event/sporting-clay-9-noon-8/
LOCATION:CA
END:VEVENT
BEGIN:VEVENT
DTSTART;TZID=America/New_York:20260322T090000
DTEND;TZID=America/New_York:20260322T120000
DTSTAMP:20260424T140227
CREATED:20260224T013141Z
LAST-MODIFIED:20260317T013325Z
UID:10005755-1774170000-1774180800@gunstuff.tv
SUMMARY:Basic Handgun
DESCRIPTION:Thinking about owning a handgun? \nAlready have one but want real training? \nBasic Handgun is where confident shooters are made. \nYou’ll learn: \n* Safety rules \n* Grip & stance \n* Loading/unloading \n* Dry fire practice \n* Live range shooting \n* Malfunction clearing \n3 Hours |  $150 \nAppalachian Gun\, Range & Training \nNo experience needed—just the desire to learn! \nThis is the BEST first step into responsible firearm ownership.
URL:https://gunstuff.tv/event/basic-handgun/
LOCATION:Appalacian Gun\, Pawn & Range\, 140 Shelby Ln.\, Jasper\, GA\, 30143\, United States
CATEGORIES:Basic,firearm-safety,Safe Gun
ORGANIZER;CN="Appalachian Gun":MAILTO:Appalachiangun@gmail.com
END:VEVENT
BEGIN:VEVENT
DTSTART;TZID=America/New_York:20260322T090000
DTEND;TZID=America/New_York:20260322T120000
DTSTAMP:20260424T140227
CREATED:20251003T162639Z
LAST-MODIFIED:20260313T190128Z
UID:10001401-1774170000-1774180800@gunstuff.tv
SUMMARY:Weekly Trap League
DESCRIPTION:
URL:https://gunstuff.tv/event/weekly-trap-league-25/
LOCATION:Shotgun Range
END:VEVENT
BEGIN:VEVENT
DTSTART;TZID=UTC:20260322T090000
DTEND;TZID=UTC:20260322T090000
DTSTAMP:20260424T140227
CREATED:20260321T174629Z
LAST-MODIFIED:20260321T174629Z
UID:10006450-1774170000-1774170000@gunstuff.tv
SUMMARY:US Steel Nationals
DESCRIPTION:US Steel Nationals\nMatch Status: Approved by DNROI\nMatch Starts on Mar 20\, 2026\nMatch will end Mar 22\, 2026\nMatch Location:\nConnecticut Practical Shooters\n2299 Gun Club Lane\nMims\, FL 32754\nManaged by:\nConnecticut Practical Shooters\nStage Count: 8\nRound Count: 195\nMatch Entry Fee: $100.00\nMatch Director: Douglas Koenig\nRange Master: Bob Young\nAdditional Details\nThe Host club where the match will be held is Titusville Rifle & Pistol club in Titusville\, FL.\nRegister!\nhttps://practiscore.com/2026-us-steel-nationals-march-20-22-2026/register
URL:https://gunstuff.tv/event/us-steel-nationals-2/
LOCATION:Connecticut Practical Shooters\, 3201 Kilbee St\, Mims\, FL\, United States
GEO:28.6865;-80.852848
X-APPLE-STRUCTURED-LOCATION;VALUE=URI;X-ADDRESS=Connecticut Practical Shooters 3201 Kilbee St Mims FL United States;X-APPLE-RADIUS=500;X-TITLE=3201 Kilbee St:geo:-80.852848,28.6865
END:VEVENT
BEGIN:VEVENT
DTSTART;TZID=UTC:20260322T083000
DTEND;TZID=UTC:20260322T083000
DTSTAMP:20260424T140227
CREATED:20260107T013346Z
LAST-MODIFIED:20260318T064634Z
UID:10003809-1774168200-1774168200@gunstuff.tv
SUMMARY:Havasu Steel Challenge Mar 22 2026 (4th Sunday)
DESCRIPTION:Havasu Steel Challenge Mar 22 2026 (4th Sunday)\nDate: 3/22/26\nStart Time: 8:30 AM\nLocation:\nLake Havasu Steel Challenge (SCSA494)\n7200 Dub Campbell Parkway\nLake Havasu City\, AZ\nEvent Contact Information\nJon Breazeal\n928-208-1161\nhavasusteelchallenge@gmail.com\nMatch Information\nTier 1 Steel Challenge Match – shooting 6 stages\n5 to Go\, Pendulum\, Smoke & Hope\, Showdown\, Roundabout\, Accelerator\, and/or two of the new Candidate Stages (tbd)\nSTART TIME: Sign-in @ 8:30am / Match starts @ 9:00am\n*2026 price increase: 1st gun $15\, additional gun(s) $5 each\nEvent Website\nhttps://www.fb.com/havasusteelchallenge
URL:https://gunstuff.tv/event/havasu-steel-challenge-mar-8-2026/
LOCATION:Lake Havasu Steel Challenge (SCSA494)\, 898 Campbell Rd\, Bullhead City\, AZ\, United States
GEO:35.189141;-114.52637
X-APPLE-STRUCTURED-LOCATION;VALUE=URI;X-ADDRESS=Lake Havasu Steel Challenge (SCSA494) 898 Campbell Rd Bullhead City AZ United States;X-APPLE-RADIUS=500;X-TITLE=898 Campbell Rd:geo:-114.52637,35.189141
END:VEVENT
BEGIN:VEVENT
DTSTART;TZID=America/New_York:20260322T080000
DTEND;TZID=America/New_York:20260322T183000
DTSTAMP:20260424T140229
CREATED:20251012T173814Z
LAST-MODIFIED:20260322T184643Z
UID:10002088-1774166400-1774204200@gunstuff.tv
SUMMARY:NORMAN J. SIEGER DEVIL’S BRIGADE MEMORIAL CHAMPIONSHIP
DESCRIPTION:CMP 1400 Pistol Aggregate Championship from 9 AM to 4:30 PM on the Walsh Range.  The CMP 1400 features 40-shot matches followed by a 30-shot EIC for both 22 Rimfire and Service Pistol (140-shot total)\, to be followed by a Service Revolver EIC.  Competitors must use metallic sights for both the 22 Rimfire\, Service Pistol and Service Revolver.  For info & position requests\, contact bullseye@fxrgc.org
URL:https://gunstuff.tv/event/norman-j-sieger-devils-brigade-memorial-championship/
LOCATION:Walsh Range
END:VEVENT
BEGIN:VEVENT
DTSTART;TZID=America/Chicago:20260322T080000
DTEND;TZID=America/Chicago:20260322T170000
DTSTAMP:20260424T140229
CREATED:20260315T211629Z
LAST-MODIFIED:20260322T211630Z
UID:10006335-1774166400-1774198800@gunstuff.tv
SUMMARY:NSCA Blooming Clays 2026
DESCRIPTION:
URL:https://gunstuff.tv/event/nsca-blooming-clays-2026-3/
LOCATION:Austin Gun Club\, 1999 S Key Ave\, Lampasas\, TX\, United States
CATEGORIES:NSCA Registered Shoot
ATTACH;FMTTYPE=image/png:https://gunstuff.tv/wp-content/uploads/2026/03/3.22.26-Blooming-Clays-Flyer-Header-o9WfLN.png
GEO:31.050454;-98.174788
X-APPLE-STRUCTURED-LOCATION;VALUE=URI;X-ADDRESS=Austin Gun Club 1999 S Key Ave Lampasas TX United States;X-APPLE-RADIUS=500;X-TITLE=1999 S Key Ave:geo:-98.174788,31.050454
END:VEVENT
BEGIN:VEVENT
DTSTART;TZID=America/Chicago:20260322T080000
DTEND;TZID=America/Chicago:20260322T170000
DTSTAMP:20260424T140229
CREATED:20260303T021740Z
LAST-MODIFIED:20260303T021740Z
UID:10006039-1774166400-1774198800@gunstuff.tv
SUMMARY:2nd Annual Aledo Clay Busters Clay Shoot
DESCRIPTION:Join us on Sunday\, March 22nd for the Second Annual Aledo Clay Busters Clay Shoot! \nAledo Clay Busters (ACB) offers youth shooters in the Weatherford and Aledo areas the opportunity to learn gun safety\, shooting skills\, and to compete with other youth around the county in the clay target sports: skeet\, trap\, and sporting clays. \nRegistration begins at 11:30am / Shooting begins at 1pm
URL:https://gunstuff.tv/event/2nd-annual-aledo-clay-busters-clay-shoot/
LOCATION:Clay Sports Ranch\, 8270 Aledo Road\, Fort Worth\, TX\, 76126\, United States
CATEGORIES:Clay Sports Ranch Events
END:VEVENT
BEGIN:VEVENT
DTSTART;TZID=America/Los_Angeles:20260322T080000
DTEND;TZID=America/Los_Angeles:20260322T150000
DTSTAMP:20260424T140229
CREATED:20260220T193136Z
LAST-MODIFIED:20260227T193141Z
UID:10005737-1774166400-1774191600@gunstuff.tv
SUMMARY:USPSA Match
DESCRIPTION:Match time\, information & sign-up on Practiscore:  https://practiscore.com/clubs/diablo-action-pistol
URL:https://gunstuff.tv/event/uspsa-match-7/
LOCATION:Action Pistol Range\, 4700 Evora Road\, Concord\, CA\, 94520
CATEGORIES:Diablo Action Pistol
ATTACH;FMTTYPE=image/jpeg:https://gunstuff.tv/wp-content/uploads/2025/10/USPSA-Logo_rgb-ujoezn.jpg
ORGANIZER;CN="Chris Colridge":MAILTO:matchsupport@diabloactionpistol.com
GEO:42.705297;-83.4014
X-APPLE-STRUCTURED-LOCATION;VALUE=URI;X-ADDRESS=Action Pistol Range 4700 Evora Road Concord CA 94520;X-APPLE-RADIUS=500;X-TITLE=4700 Evora Road:geo:-83.4014,42.705297
END:VEVENT
BEGIN:VEVENT
DTSTART;TZID=America/New_York:20260322T080000
DTEND;TZID=America/New_York:20260322T150000
DTSTAMP:20260424T140229
CREATED:20260111T181634Z
LAST-MODIFIED:20260322T184643Z
UID:10004377-1774166400-1774191600@gunstuff.tv
SUMMARY:Cast Bullet Benchrest
DESCRIPTION:Cast Bullet Benchrest match registered with the Cast Bullet Association (CBA). 100 & 200 yd score and military competition based on CBA rules. Any rifle and ammunition is welcome as an Unclassified Entry to familiarize themselves with the course of fire. Contact Mark Mazzocco memazzocco@verizon.net for more info. 
URL:https://gunstuff.tv/event/cast-bullet-benchrest-2/
LOCATION:Benson Range
END:VEVENT
BEGIN:VEVENT
DTSTART;TZID=America/New_York:20260322T080000
DTEND;TZID=America/New_York:20260322T130000
DTSTAMP:20260424T140229
CREATED:20251010T162936Z
LAST-MODIFIED:20260320T200129Z
UID:10002002-1774166400-1774184400@gunstuff.tv
SUMMARY:MRPC 200 yard Steel at AGC
DESCRIPTION:
URL:https://gunstuff.tv/event/mrpc-200-yard-steel-at-agc/
LOCATION:CA
END:VEVENT
BEGIN:VEVENT
DTSTART;VALUE=DATE:20260322
DTEND;VALUE=DATE:20260323
DTSTAMP:20260424T140229
CREATED:20260302T030130Z
LAST-MODIFIED:20260302T030130Z
UID:10005940-1774137600-1774223999@gunstuff.tv
SUMMARY:Steel Challenge
DESCRIPTION:Setup 8:00 AM Registration 10:00 AM\nMatch 11:00 AM\n(Ranges 3 thru 7 & Clubhouse)
URL:https://gunstuff.tv/event/steel-challenge-24/
LOCATION:Wildcat Valley R and P Club\, 12094 S 300 E\, Brookston\, IN\, United States
CATEGORIES:Steel Challenge
GEO:40.576877;-86.811749
X-APPLE-STRUCTURED-LOCATION;VALUE=URI;X-ADDRESS=Wildcat Valley R and P Club 12094 S 300 E Brookston IN United States;X-APPLE-RADIUS=500;X-TITLE=12094 S 300 E:geo:-86.811749,40.576877
END:VEVENT
BEGIN:VEVENT
DTSTART;VALUE=DATE:20260322
DTEND;VALUE=DATE:20260323
DTSTAMP:20260424T140229
CREATED:20260220T031629Z
LAST-MODIFIED:20260313T031629Z
UID:10005671-1774137600-1774223999@gunstuff.tv
SUMMARY:classroom closed
DESCRIPTION:
URL:https://gunstuff.tv/event/classroom-closed-4/
LOCATION:CA
END:VEVENT
BEGIN:VEVENT
DTSTART;VALUE=DATE:20260322
DTEND;VALUE=DATE:20260323
DTSTAMP:20260424T140229
CREATED:20260213T031054Z
LAST-MODIFIED:20260320T033132Z
UID:10005192-1774137600-1774223999@gunstuff.tv
SUMMARY:Spring/Summer hours begin
DESCRIPTION:
URL:https://gunstuff.tv/event/spring-summer-hours-begin/
LOCATION:CA
END:VEVENT
END:VCALENDAR