BEGIN:VCALENDAR
VERSION:2.0
PRODID:-//GunStuff TV - ECPv6.15.20//NONSGML v1.0//EN
CALSCALE:GREGORIAN
METHOD:PUBLISH
X-ORIGINAL-URL:https://gunstuff.tv
X-WR-CALDESC:Events for GunStuff TV
REFRESH-INTERVAL;VALUE=DURATION:PT1H
X-Robots-Tag:noindex
X-PUBLISHED-TTL:PT1H
BEGIN:VTIMEZONE
TZID:America/Los_Angeles
BEGIN:DAYLIGHT
TZOFFSETFROM:-0800
TZOFFSETTO:-0700
TZNAME:PDT
DTSTART:20250309T100000
END:DAYLIGHT
BEGIN:STANDARD
TZOFFSETFROM:-0700
TZOFFSETTO:-0800
TZNAME:PST
DTSTART:20251102T090000
END:STANDARD
BEGIN:DAYLIGHT
TZOFFSETFROM:-0800
TZOFFSETTO:-0700
TZNAME:PDT
DTSTART:20260308T100000
END:DAYLIGHT
BEGIN:STANDARD
TZOFFSETFROM:-0700
TZOFFSETTO:-0800
TZNAME:PST
DTSTART:20261101T090000
END:STANDARD
BEGIN:DAYLIGHT
TZOFFSETFROM:-0800
TZOFFSETTO:-0700
TZNAME:PDT
DTSTART:20270314T100000
END:DAYLIGHT
BEGIN:STANDARD
TZOFFSETFROM:-0700
TZOFFSETTO:-0800
TZNAME:PST
DTSTART:20271107T090000
END:STANDARD
END:VTIMEZONE
BEGIN:VEVENT
DTSTART;TZID=America/Los_Angeles:20260218T120000
DTEND;TZID=America/Los_Angeles:20260218T160000
DTSTAMP:20260422T095743
CREATED:20260123T191740Z
LAST-MODIFIED:20260213T192138Z
UID:10004700-1771416000-1771430400@gunstuff.tv
SUMMARY:.22 Silhouette Practice and Airguns welcome!
DESCRIPTION:22 Rimfire and Air guns only- Silhouette target shooting at the MPR. \nOffhand/Standing shooting at Metal Animal silhouettes with rifles or pistols\, open or scoped sights allowed. \nBenches are available during this practice period every Wednesday \nMembers of all 5 clubs are welcome.\n Fees are collected at the Multi Purpose Range\, not at the USI Clubhouse .\nThe MPR is the building on the right hand side as you pass the Public Range\, but before the Impalement Arts Range.\nLook for the red MPR flag on the flag post- that’s us!\n\nUSI waiver and a Blue Card issued from the USI clubhouse required prior to the match- there is no charge to these one time processes.\n\nA silhouette is a steel profile of an animal (chicken\, pig\, turkey\, or ram) standing on a pedestal. The object of the game is to knock as many silhouettes as possible off the stand\, shooting one round at each silhouette. It is a very simple competition\, with very simple scoring: Knocking an animal off its stand counts as a hit.\n\nAlthough silhouette is an easy game to learn\, it is not an easy game to master. The animals are rather small and the distances can reach out a bit; you must shoot offhand (standing); a moderate breeze can move a bullet or a pellet the width of an animal; your concentration becomes more difficult to hold as you knock down five in a row or with a close miss.  Silhouette is an endless challenge that makes you a better shooter!\nThis is a reoccurring event every Week- we intend to host this practice barring weather or extraordinary barriers preventing the event from occurring in a safe environment. Heavy fog\, severe weather or other acts of nature could force a postponement.\n\n+ GOOGLE CALENDAR+ ICAL EXPORT\n\n\nRelated Events
URL:https://gunstuff.tv/event/22-silhouette-practice-and-airguns-welcome-19/
LOCATION:USI Multi Purpose Range\, 4700 Evora Road\, Concord\, CA\, 94520
CATEGORIES:Airgun,Silhouette Shooting
ATTACH;FMTTYPE=image/jpeg:https://gunstuff.tv/wp-content/uploads/2025/10/Silhouette_Target_1-05Bdxg.jpg
ORGANIZER;CN="Dennis Winslow":MAILTO:dmwinslow@aol.com
END:VEVENT
BEGIN:VEVENT
DTSTART;TZID=America/Los_Angeles:20260214T090000
DTEND;TZID=America/Los_Angeles:20260214T120000
DTSTAMP:20260422T095743
CREATED:20260116T190306Z
LAST-MODIFIED:20260213T192137Z
UID:10004527-1771059600-1771070400@gunstuff.tv
SUMMARY:.22 Silhouette Match
DESCRIPTION:DETAILS  \n\nSilhouette Event- 2nd Saturday  from 9 – noon on the MPR for rimfire silhouette.   \nMembers of all 5 clubs are welcome.    \nDiablo  requested a portion of the MPR (  8  positions).   We  operate concurrently with the usual USI public shoot for 2 hrs from 10 to 12.     Both the public and the match break and check targets at the direction of the CRSO. \nFees are $7 for members and $13 for invited guests.  $3 go to USI for each shooter. Fees are collected at the MPR\, not at the USI Clubhouse .\nUSI waiver and a Blue Card issued from the USI clubhouse required prior to the match- there is no charge to these one time processes.\nI call the Silhouettes in the traditional Spanish\, avoiding confusion with the public shooters.\n\nSilhouette shooters are called to the bench\, guns pointed downrange\, flags inserted.  After approaching the bench\, firearms can not be touched until prompted for the live fire.\n\nUpon command\, shooters fire for 2 min.  After 2 banks of animals\, they return the guns to the rack\, flags inserted.\n\nThere is no gun handling except for the actual 10 shots per relay.   \n\n\nThis is a reoccurring event every month- we intend to host this match barring weather or extraordinary barriers preventing the event from occurring in a safe environment. Heavy fog\, severe weather or other acts of nature could force a postponement.
URL:https://gunstuff.tv/event/22-silhouette-match-6/
LOCATION:USI Multi Purpose Range\, 4700 Evora Road\, Concord\, CA\, 94520
CATEGORIES:Silhouette Shooting
ATTACH;FMTTYPE=image/jpeg:https://gunstuff.tv/wp-content/uploads/2025/10/Silhouette_Target_1-05Bdxg.jpg
ORGANIZER;CN="Dennis Winslow":MAILTO:dmwinslow@aol.com
END:VEVENT
BEGIN:VEVENT
DTSTART;TZID=America/Los_Angeles:20260211T120000
DTEND;TZID=America/Los_Angeles:20260211T160000
DTSTAMP:20260422T095743
CREATED:20260116T190306Z
LAST-MODIFIED:20260206T191707Z
UID:10004521-1770811200-1770825600@gunstuff.tv
SUMMARY:.22 Silhouette Practice and Airguns welcome!
DESCRIPTION:22 Rimfire and Air guns only- Silhouette target shooting at the MPR. \nOffhand/Standing shooting at Metal Animal silhouettes with rifles or pistols\, open or scoped sights allowed. \nBenches are available during this practice period every Wednesday \nMembers of all 5 clubs are welcome.\n Fees are collected at the Multi Purpose Range\, not at the USI Clubhouse .\nThe MPR is the building on the right hand side as you pass the Public Range\, but before the Impalement Arts Range.\nLook for the red MPR flag on the flag post- that’s us!\n\nUSI waiver and a Blue Card issued from the USI clubhouse required prior to the match- there is no charge to these one time processes.\n\nA silhouette is a steel profile of an animal (chicken\, pig\, turkey\, or ram) standing on a pedestal. The object of the game is to knock as many silhouettes as possible off the stand\, shooting one round at each silhouette. It is a very simple competition\, with very simple scoring: Knocking an animal off its stand counts as a hit.\n\nAlthough silhouette is an easy game to learn\, it is not an easy game to master. The animals are rather small and the distances can reach out a bit; you must shoot offhand (standing); a moderate breeze can move a bullet or a pellet the width of an animal; your concentration becomes more difficult to hold as you knock down five in a row or with a close miss.  Silhouette is an endless challenge that makes you a better shooter!\nThis is a reoccurring event every Week- we intend to host this practice barring weather or extraordinary barriers preventing the event from occurring in a safe environment. Heavy fog\, severe weather or other acts of nature could force a postponement.\n\n+ GOOGLE CALENDAR+ ICAL EXPORT\n\n\nRelated Events
URL:https://gunstuff.tv/event/22-silhouette-practice-and-airguns-welcome-18/
LOCATION:USI Multi Purpose Range\, 4700 Evora Road\, Concord\, CA\, 94520
CATEGORIES:Airgun,Silhouette Shooting
ATTACH;FMTTYPE=image/jpeg:https://gunstuff.tv/wp-content/uploads/2025/10/Silhouette_Target_1-05Bdxg.jpg
ORGANIZER;CN="Dennis Winslow":MAILTO:dmwinslow@aol.com
END:VEVENT
BEGIN:VEVENT
DTSTART;TZID=America/Los_Angeles:20260204T120000
DTEND;TZID=America/Los_Angeles:20260204T160000
DTSTAMP:20260422T095743
CREATED:20260109T190149Z
LAST-MODIFIED:20260130T191634Z
UID:10003898-1770206400-1770220800@gunstuff.tv
SUMMARY:.22 Silhouette Practice and Airguns welcome!
DESCRIPTION:22 Rimfire and Air guns only- Silhouette target shooting at the MPR. \nOffhand/Standing shooting at Metal Animal silhouettes with rifles or pistols\, open or scoped sights allowed. \nBenches are available during this practice period every Wednesday \nMembers of all 5 clubs are welcome.\n Fees are collected at the Multi Purpose Range\, not at the USI Clubhouse .\nThe MPR is the building on the right hand side as you pass the Public Range\, but before the Impalement Arts Range.\nLook for the red MPR flag on the flag post- that’s us!\n\nUSI waiver and a Blue Card issued from the USI clubhouse required prior to the match- there is no charge to these one time processes.\n\nA silhouette is a steel profile of an animal (chicken\, pig\, turkey\, or ram) standing on a pedestal. The object of the game is to knock as many silhouettes as possible off the stand\, shooting one round at each silhouette. It is a very simple competition\, with very simple scoring: Knocking an animal off its stand counts as a hit.\n\nAlthough silhouette is an easy game to learn\, it is not an easy game to master. The animals are rather small and the distances can reach out a bit; you must shoot offhand (standing); a moderate breeze can move a bullet or a pellet the width of an animal; your concentration becomes more difficult to hold as you knock down five in a row or with a close miss.  Silhouette is an endless challenge that makes you a better shooter!\nThis is a reoccurring event every Week- we intend to host this practice barring weather or extraordinary barriers preventing the event from occurring in a safe environment. Heavy fog\, severe weather or other acts of nature could force a postponement.\n\n+ GOOGLE CALENDAR+ ICAL EXPORT\n\n\nRelated Events
URL:https://gunstuff.tv/event/22-silhouette-practice-and-airguns-welcome-17/
LOCATION:USI Multi Purpose Range\, 4700 Evora Road\, Concord\, CA\, 94520
CATEGORIES:Airgun,Silhouette Shooting
ATTACH;FMTTYPE=image/jpeg:https://gunstuff.tv/wp-content/uploads/2025/10/Silhouette_Target_1-05Bdxg.jpg
ORGANIZER;CN="Dennis Winslow":MAILTO:dmwinslow@aol.com
END:VEVENT
BEGIN:VEVENT
DTSTART;TZID=America/Los_Angeles:20260201T080000
DTEND;TZID=America/Los_Angeles:20260201T130000
DTSTAMP:20260422T095743
CREATED:20260102T190145Z
LAST-MODIFIED:20260130T191633Z
UID:10003715-1769932800-1769950800@gunstuff.tv
SUMMARY:MPR – Diablo Small Bore and Air Gun Silhouette
DESCRIPTION:
URL:https://gunstuff.tv/event/mpr-diablo-small-bore-and-air-gun-silhouette-4/
LOCATION:USI Multi Purpose Range\, 4700 Evora Road\, Concord\, CA\, 94520
CATEGORIES:Airgun,Silhouette Shooting
END:VEVENT
BEGIN:VEVENT
DTSTART;TZID=America/Los_Angeles:20260128T120000
DTEND;TZID=America/Los_Angeles:20260128T160000
DTSTAMP:20260422T095743
CREATED:20260102T190144Z
LAST-MODIFIED:20260123T191739Z
UID:10003710-1769601600-1769616000@gunstuff.tv
SUMMARY:.22 Silhouette Practice and Airguns welcome!
DESCRIPTION:22 Rimfire and Air guns only- Silhouette target shooting at the MPR. \nOffhand/Standing shooting at Metal Animal silhouettes with rifles or pistols\, open or scoped sights allowed. \nBenches are available during this practice period every Wednesday \nMembers of all 5 clubs are welcome.\n Fees are collected at the Multi Purpose Range\, not at the USI Clubhouse .\nThe MPR is the building on the right hand side as you pass the Public Range\, but before the Impalement Arts Range.\nLook for the red MPR flag on the flag post- that’s us!\n\nUSI waiver and a Blue Card issued from the USI clubhouse required prior to the match- there is no charge to these one time processes.\n\nA silhouette is a steel profile of an animal (chicken\, pig\, turkey\, or ram) standing on a pedestal. The object of the game is to knock as many silhouettes as possible off the stand\, shooting one round at each silhouette. It is a very simple competition\, with very simple scoring: Knocking an animal off its stand counts as a hit.\n\nAlthough silhouette is an easy game to learn\, it is not an easy game to master. The animals are rather small and the distances can reach out a bit; you must shoot offhand (standing); a moderate breeze can move a bullet or a pellet the width of an animal; your concentration becomes more difficult to hold as you knock down five in a row or with a close miss.  Silhouette is an endless challenge that makes you a better shooter!\nThis is a reoccurring event every Week- we intend to host this practice barring weather or extraordinary barriers preventing the event from occurring in a safe environment. Heavy fog\, severe weather or other acts of nature could force a postponement.\n\n+ GOOGLE CALENDAR+ ICAL EXPORT\n\n\nRelated Events
URL:https://gunstuff.tv/event/22-silhouette-practice-and-airguns-welcome-16/
LOCATION:USI Multi Purpose Range\, 4700 Evora Road\, Concord\, CA\, 94520
CATEGORIES:Airgun,Silhouette Shooting
ATTACH;FMTTYPE=image/jpeg:https://gunstuff.tv/wp-content/uploads/2025/10/Silhouette_Target_1-05Bdxg.jpg
ORGANIZER;CN="Dennis Winslow":MAILTO:dmwinslow@aol.com
END:VEVENT
BEGIN:VEVENT
DTSTART;TZID=America/Los_Angeles:20260125T090000
DTEND;TZID=America/Los_Angeles:20260125T130000
DTSTAMP:20260422T095743
CREATED:20251226T184645Z
LAST-MODIFIED:20260102T190144Z
UID:10003654-1769331600-1769346000@gunstuff.tv
SUMMARY:.22 Silhouette Match
DESCRIPTION:DETAILS  \n\nSilhouette Event- 4th sunday  from 9 – noon on the MPR for rimfire silhouette.   \nMembers of all 5 clubs are welcome.    \nDiablo  requested a portion of the MPR (  8  positions).   We  operate concurrently with the usual USI public shoot for 2 hrs from 10 to 12.     Both the public and the match break and check targets at the direction of the CRSO. \nFees are $7 for members and $13 for invited guests.  $3 go to USI for each shooter. Fees are collected at the MPR\, not at the USI Clubhouse .\nUSI waiver and a Blue Card issued from the USI clubhouse required prior to the match- there is no charge to these one time processes.\nI call the Silhouettes in the traditional Spanish\, avoiding confusion with the public shooters.\n\nSilhouette shooters are called to the bench\, guns pointed downrange\, flags inserted.  After approaching the bench\, firearms can not be touched until prompted for the live fire.\n\nUpon command\, shooters fire for 2 min.  After 2 banks of animals\, they return the guns to the rack\, flags inserted.\n\nThere is no gun handling except for the actual 10 shots per relay.   \n\n\nThis is a reoccurring event every month- we intend to host this match barring weather or extraordinary barriers preventing the event from occurring in a safe environment. Heavy fog\, severe weather or other acts of nature could force a postponement.
URL:https://gunstuff.tv/event/22-silhouette-match-4/
LOCATION:USI Multi Purpose Range\, 4700 Evora Road\, Concord\, CA\, 94520
CATEGORIES:Silhouette Shooting
ATTACH;FMTTYPE=image/jpeg:https://gunstuff.tv/wp-content/uploads/2025/10/Silhouette_Target_1-05Bdxg.jpg
ORGANIZER;CN="Dennis Winslow":MAILTO:dmwinslow@aol.com
END:VEVENT
END:VCALENDAR