BEGIN:VCALENDAR
VERSION:2.0
PRODID:-//GunStuff TV - ECPv6.15.20//NONSGML v1.0//EN
CALSCALE:GREGORIAN
METHOD:PUBLISH
X-ORIGINAL-URL:https://gunstuff.tv
X-WR-CALDESC:Events for GunStuff TV
REFRESH-INTERVAL;VALUE=DURATION:PT1H
X-Robots-Tag:noindex
X-PUBLISHED-TTL:PT1H
BEGIN:VTIMEZONE
TZID:America/Chicago
BEGIN:DAYLIGHT
TZOFFSETFROM:-0600
TZOFFSETTO:-0500
TZNAME:CDT
DTSTART:20250309T080000
END:DAYLIGHT
BEGIN:STANDARD
TZOFFSETFROM:-0500
TZOFFSETTO:-0600
TZNAME:CST
DTSTART:20251102T070000
END:STANDARD
BEGIN:DAYLIGHT
TZOFFSETFROM:-0600
TZOFFSETTO:-0500
TZNAME:CDT
DTSTART:20260308T080000
END:DAYLIGHT
BEGIN:STANDARD
TZOFFSETFROM:-0500
TZOFFSETTO:-0600
TZNAME:CST
DTSTART:20261101T070000
END:STANDARD
BEGIN:DAYLIGHT
TZOFFSETFROM:-0600
TZOFFSETTO:-0500
TZNAME:CDT
DTSTART:20270314T080000
END:DAYLIGHT
BEGIN:STANDARD
TZOFFSETFROM:-0500
TZOFFSETTO:-0600
TZNAME:CST
DTSTART:20271107T070000
END:STANDARD
END:VTIMEZONE
BEGIN:VEVENT
DTSTART;TZID=America/Chicago:20260515T100000
DTEND;TZID=America/Chicago:20260515T170000
DTSTAMP:20260421T111943
CREATED:20260421T024640Z
LAST-MODIFIED:20260421T024640Z
UID:10008090-1778839200-1778864400@gunstuff.tv
SUMMARY:Full Auto Friday
DESCRIPTION:Every Friday is Full Auto Friday at Defender! Pick any full auto you want from our rental wall\, and then just buy the box of ammo\, and you’re on your way to having some serious fun. Shoot as much as you want because your target\, eye and ear protection\, range fee* and machine gun rental is all included! \n*Range fee only for full auto use. Standard range fees apply for general pistol and rifle shooting lanes.
URL:https://gunstuff.tv/event/full-auto-friday-37/
LOCATION:Shooting Center\, 2900 Shotts Street\, Fort Worth\, TX\, 76107
CATEGORIES:Shooting Center,Shooting Center Events
ATTACH;FMTTYPE=image/jpeg:https://gunstuff.tv/wp-content/uploads/2026/03/Full-Auto-Friday-Hahtdd-tZAQXN.jpg
ORGANIZER;CN="Defender Outdoors Shooting Center Events":MAILTO:info@defenderoutdoors.com
END:VEVENT
BEGIN:VEVENT
DTSTART;TZID=America/Chicago:20260516T080000
DTEND;TZID=America/Chicago:20260516T090000
DTSTAMP:20260421T111943
CREATED:20260421T024640Z
LAST-MODIFIED:20260421T024640Z
UID:10008092-1778918400-1778922000@gunstuff.tv
SUMMARY:LTC Qualification
DESCRIPTION:Are you a student who has taken an online LTC Course and need to complete your shooting qualification? Defender offers the LTC shooting proficiency portion every week. \nThe shooting qualification requires that you must be able to load\, unload\, and fire the handgun proficiently. If you are new to or inexperienced with shooting we strongly recommend taking either the LTC Prep or Handgun Fundamentals course. This course does not teach basic firearm skills or shooting instruction. (More info) \nPlease arrive a few minutes early to check in and bring a printed copy of your LTC 104 form. \nOur shooting qualification schedule is as follows: \n\nWednesdays – 10:00am\nSaturdays – 8:00am\n\nNo appointment needed\, you can simply walk-in during these available times. \nPlease bring the following: \n\nLTC 104 Form\nFirearm (rental available at additional charge)\n1 magazine\n50 rounds of ammo (ammunition is available for purchase at time of session)\nEye and Ear Protection (rentals available)\n\nBook Now
URL:https://gunstuff.tv/event/ltc-qualification-67/
LOCATION:Shooting Center\, 2900 Shotts Street\, Fort Worth\, TX\, 76107
CATEGORIES:Shooting Center,Shooting Center Training
ATTACH;FMTTYPE=image/jpeg:https://gunstuff.tv/wp-content/uploads/2025/10/LTC-Qualification-vTp9PG.jpg
ORGANIZER;CN="Defender Outdoors Shooting Center Training":MAILTO:info@defenderoutdoors.com
END:VEVENT
BEGIN:VEVENT
DTSTART;TZID=America/Chicago:20260516T080000
DTEND;TZID=America/Chicago:20260516T140000
DTSTAMP:20260421T111943
CREATED:20260421T024640Z
LAST-MODIFIED:20260421T024640Z
UID:10008091-1778918400-1778940000@gunstuff.tv
SUMMARY:License To Carry
DESCRIPTION:Allows you to carry your handgun in both concealed carry and open carry where it is legal to do so. \nClick here for step by step instructions on how to file for your License to Carry and what you need to know. Looking to just take your shooting qualification only? Click here. \nFormerly CHL\, this course includes your classroom time covering the current Texas State and Federal laws that surround your ability to carry a handgun\, as well as the required shooting proficiency test. The shooting qualification requires that you must be able to load\, unload\, and fire the handgun proficiently. \nTHIS IS NOT A FIREARMS TRAINING CLASS AND WILL NOT TEACH YOU HOW TO SHOOT. If you are new to firearms\, we strongly encourage you to take a Private LTC Prep Lesson prior to taking the class. \nNote: Texas rule banning persons under 21 from obtaining a License to Carry was declared unconstitutional. Persons 18-20 years old can now receive their LTC. Please note\, Defender CANNOT rent handguns OR sell ammunition to anyone under 21. If you are under 21\, you are required to provide your own firearm and ammunition in order to qualify for your LTC. \nShooting Proficiency Test Requirement \n3 Yard Line – 20 rounds\n7 Yard Line – 20 rounds\n15 Yard Line – 10 rounds \nWhat’s Included: \n\nState mandated License to Carry classroom instruction\nShooting qualification and range fee\nLTC-100 Certificate of Completion (it is your responsibility to submit your form\, Defender will not submit for you)\nHandgun rental for proficiency test (if needed)\nB27 target\nEye and ear protection (if needed)\n\nEquipment Needed: \n\nValid Driver’s License\nSemi-auto handgun or revolver\n50 rounds of ammo (available for purchase before the start of class. Subject to availability\, call ahead to check)\nEye and ear protection\nWriting utensil\nBeverage and snacks if desired (we have water\, soda and snacks available for purchase)\n\nNot Included: \n\nState application fee\nFingerprinting and fingerprinting fee (you will be prompted to schedule your fingerprinting appointment at the end of the DPS application process)\nTotal course time is about 6 hours. Please come prepared to learn and be engaged during the class.\n\nREGISTER HERE
URL:https://gunstuff.tv/event/license-to-carry-38/
LOCATION:Shooting Center\, 2900 Shotts Street\, Fort Worth\, TX\, 76107
CATEGORIES:Shooting Center,Shooting Center Training
ATTACH;FMTTYPE=image/jpeg:https://gunstuff.tv/wp-content/uploads/2026/03/LTC-01-e1571087185427-uiRozl-mX56WA.jpg
ORGANIZER;CN="Defender Outdoors Shooting Center Training":MAILTO:info@defenderoutdoors.com
END:VEVENT
BEGIN:VEVENT
DTSTART;TZID=America/Chicago:20260520T100000
DTEND;TZID=America/Chicago:20260520T110000
DTSTAMP:20260421T111943
CREATED:20260421T024641Z
LAST-MODIFIED:20260421T024641Z
UID:10008095-1779271200-1779274800@gunstuff.tv
SUMMARY:LTC Shooting Qualification
DESCRIPTION:Are you a student who has taken an online LTC Course and need to complete your shooting qualification? Defender offers the LTC shooting proficiency portion every week. \nThe shooting qualification requires that you must be able to load\, unload\, and fire the handgun proficiently. If you are new to or inexperienced with shooting we strongly recommend taking either the LTC Prep or Handgun Fundamentals course. This course does not teach basic firearm skills or shooting instruction. (More info) \nPlease arrive a few minutes early to check in and bring a printed copy of your LTC 104 form. \nOur shooting qualification schedule is as follows: \n\nWednesdays – 10:00am\nSaturdays – 8:00am\n\nNo appointment needed\, you can simply walk-in during these available times. \nPlease bring the following: \n\nLTC 104 Form\nFirearm (rental available at additional charge)\n1 magazine\n50 rounds of ammo (ammunition is available for purchase at time of session)\nEye and Ear Protection (rentals available)\n\nREGISTER NOW
URL:https://gunstuff.tv/event/ltc-shooting-qualification/
LOCATION:Shooting Center\, 2900 Shotts Street\, Fort Worth\, TX\, 76107
CATEGORIES:Shooting Center,Shooting Center Training
ATTACH;FMTTYPE=image/jpeg:https://gunstuff.tv/wp-content/uploads/2025/10/LTC-Qualification-vTp9PG.jpg
ORGANIZER;CN="Defender Outdoors Shooting Center Training":MAILTO:info@defenderoutdoors.com
END:VEVENT
BEGIN:VEVENT
DTSTART;TZID=America/Chicago:20260521T170000
DTEND;TZID=America/Chicago:20260521T190000
DTSTAMP:20260421T111943
CREATED:20260421T024641Z
LAST-MODIFIED:20260421T024641Z
UID:10008096-1779382800-1779390000@gunstuff.tv
SUMMARY:Ladies Only Pistol 2
DESCRIPTION:Strengthen Fundamentals\, Correct Mistakes\, Build Confidence \nWomen-only class! \nPistol 2 is a 2-hour course designed to build on your solid foundation of handgun knowledge and handling. This range-only class equips you with the tools to strengthen your fundamentals while also introducing new concepts that expand your skills. \nYou will focus on the fundamentals needed for both accuracy and precision\, while also learning how to diagnose and correct mistakes on your own. Each drill is structured to sharpen mechanics and reinforce confidence\, giving you noticeable progress by the end of the course. \nThis course is strategically designed to refine the essentials of marksmanship and prepare you for the next step in your pistol training progression. \nTopics Covered: \n\nRange Instruction\nRefine The Fundamentals\nHow To Diagnose And Correct Your Mistakes\nPresentation Of The Firearm In Preparation Of Drawing From A Holster\nMethods To Clear The Most Common Malfunctions\nEfficient Reloading Technique\nBalancing Speed And Precision To Shoot Accurately In Quick Succession\n\nRequired Equipment: \n\nHandgun and two magazines\nEye and ear protection\n150 rounds of ammunition (available for purchase)\n\nThere is NO holster use in this course \nWhat To Know Before You Get Here: \nThis class is designed for those individually capable of using and safely handling their own firearm and are looking to progress their shooting to the next level. Have any questions about the gear you have? Contact Us! \nREGISTER HERE
URL:https://gunstuff.tv/event/ladies-only-pistol-2-9/
LOCATION:Shooting Center\, 2900 Shotts Street\, Fort Worth\, TX\, 76107
CATEGORIES:Shooting Center,Shooting Center Training
ATTACH;FMTTYPE=image/jpeg:https://gunstuff.tv/wp-content/uploads/2026/03/Ladies-Only-Pistol-2-v2-mk3KQa.jpg
ORGANIZER;CN="Defender Outdoors Shooting Center Training":MAILTO:info@defenderoutdoors.com
END:VEVENT
END:VCALENDAR