BEGIN:VCALENDAR
VERSION:2.0
PRODID:-//GunStuff TV - ECPv6.15.20//NONSGML v1.0//EN
CALSCALE:GREGORIAN
METHOD:PUBLISH
X-WR-CALNAME:GunStuff TV
X-ORIGINAL-URL:https://gunstuff.tv
X-WR-CALDESC:Events for GunStuff TV
REFRESH-INTERVAL;VALUE=DURATION:PT1H
X-Robots-Tag:noindex
X-PUBLISHED-TTL:PT1H
BEGIN:VTIMEZONE
TZID:America/Chicago
BEGIN:DAYLIGHT
TZOFFSETFROM:-0600
TZOFFSETTO:-0500
TZNAME:CDT
DTSTART:20250309T080000
END:DAYLIGHT
BEGIN:STANDARD
TZOFFSETFROM:-0500
TZOFFSETTO:-0600
TZNAME:CST
DTSTART:20251102T070000
END:STANDARD
BEGIN:DAYLIGHT
TZOFFSETFROM:-0600
TZOFFSETTO:-0500
TZNAME:CDT
DTSTART:20260308T080000
END:DAYLIGHT
BEGIN:STANDARD
TZOFFSETFROM:-0500
TZOFFSETTO:-0600
TZNAME:CST
DTSTART:20261101T070000
END:STANDARD
BEGIN:DAYLIGHT
TZOFFSETFROM:-0600
TZOFFSETTO:-0500
TZNAME:CDT
DTSTART:20270314T080000
END:DAYLIGHT
BEGIN:STANDARD
TZOFFSETFROM:-0500
TZOFFSETTO:-0600
TZNAME:CST
DTSTART:20271107T070000
END:STANDARD
END:VTIMEZONE
BEGIN:VEVENT
DTSTART;TZID=America/Chicago:20260424T100000
DTEND;TZID=America/Chicago:20260424T170000
DTSTAMP:20260421T043946
CREATED:20260331T021746Z
LAST-MODIFIED:20260414T024728Z
UID:10006677-1777024800-1777050000@gunstuff.tv
SUMMARY:Full Auto Friday
DESCRIPTION:Every Friday is Full Auto Friday at Defender! Pick any full auto you want from our rental wall\, and then just buy the box of ammo\, and you’re on your way to having some serious fun. Shoot as much as you want because your target\, eye and ear protection\, range fee* and machine gun rental is all included! \n*Range fee only for full auto use. Standard range fees apply for general pistol and rifle shooting lanes.
URL:https://gunstuff.tv/event/full-auto-friday-34/
LOCATION:Shooting Center\, 2900 Shotts Street\, Fort Worth\, TX\, 76107
CATEGORIES:Shooting Center,Shooting Center Events
ATTACH;FMTTYPE=image/jpeg:https://gunstuff.tv/wp-content/uploads/2026/03/Full-Auto-Friday-Hahtdd-tZAQXN.jpg
ORGANIZER;CN="Defender Outdoors Shooting Center Events":MAILTO:info@defenderoutdoors.com
END:VEVENT
BEGIN:VEVENT
DTSTART;TZID=America/Chicago:20260424T170000
DTEND;TZID=America/Chicago:20260424T190000
DTSTAMP:20260421T043946
CREATED:20260421T024632Z
LAST-MODIFIED:20260421T024634Z
UID:10008086-1777050000-1777057200@gunstuff.tv
SUMMARY:Pistol 1
DESCRIPTION:This comprehensive beginner class is designed to build a solid foundation in handgun knowledge and handling. Whether you’re new to firearms or seeking to refine your skills\, this course will equip you with essential information and hands-on experience. \nWhat You’ll Learn: \nClassroom Instruction \n\nFirearm Fundamentals: Understand the mechanics of revolvers\, semi-automatic\, and striker-fired handguns\, as well as the types of ammunition they use.\nSafety First: Master the rules of firearm safety and range procedures to ensure a safe and enjoyable shooting experience.\nCarry & Holster Options: Explore different carry positions and holster styles to find the best fit for your needs.\nStorage Solutions: Learn practical tips for safely storing firearms at home.\n\nOn the Range \n\nHands-On Practice: Develop your stance\, grip\, sight alignment\, and trigger control under expert guidance.\nSkill-Building Drills: Practice essential techniques that build confidence and proficiency.\n\nThis course serves as an excellent prequel or sequel to our License to Carry class\, providing a thorough foundation in handgun handling and safety. \n\nEquipment Needed:\n\nGun rentals are included if needed.\nTargets\, eye protection\, and ear protection are provided.\nAmmo is available for purchase.\n\n\nRequirements:\n\nBring at least 50 rounds of ammunition.\nIf you own a handgun\, bring two magazines for reloading practice.\n\n\n\nGet ready to feel confident and prepared with your handgun skills. Sign up today to begin your journey! \nREGISTER NOW
URL:https://gunstuff.tv/event/pistol-1-12/
LOCATION:Shooting Center\, 2900 Shotts Street\, Fort Worth\, TX\, 76107
CATEGORIES:Shooting Center,Shooting Center Training
ATTACH;FMTTYPE=image/jpeg:https://gunstuff.tv/wp-content/uploads/2026/03/Intro-to-Handgun-kfYBu8-jU0k0M.jpg
ORGANIZER;CN="Defender Outdoors Shooting Center Training":MAILTO:info@defenderoutdoors.com
END:VEVENT
END:VCALENDAR