BEGIN:VCALENDAR
VERSION:2.0
PRODID:-//GunStuff TV - ECPv6.15.20//NONSGML v1.0//EN
CALSCALE:GREGORIAN
METHOD:PUBLISH
X-ORIGINAL-URL:https://gunstuff.tv
X-WR-CALDESC:Events for GunStuff TV
REFRESH-INTERVAL;VALUE=DURATION:PT1H
X-Robots-Tag:noindex
X-PUBLISHED-TTL:PT1H
BEGIN:VTIMEZONE
TZID:America/Chicago
BEGIN:DAYLIGHT
TZOFFSETFROM:-0600
TZOFFSETTO:-0500
TZNAME:CDT
DTSTART:20250309T080000
END:DAYLIGHT
BEGIN:STANDARD
TZOFFSETFROM:-0500
TZOFFSETTO:-0600
TZNAME:CST
DTSTART:20251102T070000
END:STANDARD
BEGIN:DAYLIGHT
TZOFFSETFROM:-0600
TZOFFSETTO:-0500
TZNAME:CDT
DTSTART:20260308T080000
END:DAYLIGHT
BEGIN:STANDARD
TZOFFSETFROM:-0500
TZOFFSETTO:-0600
TZNAME:CST
DTSTART:20261101T070000
END:STANDARD
BEGIN:DAYLIGHT
TZOFFSETFROM:-0600
TZOFFSETTO:-0500
TZNAME:CDT
DTSTART:20270314T080000
END:DAYLIGHT
BEGIN:STANDARD
TZOFFSETFROM:-0500
TZOFFSETTO:-0600
TZNAME:CST
DTSTART:20271107T070000
END:STANDARD
END:VTIMEZONE
BEGIN:VEVENT
DTSTART;TZID=America/Chicago:20260422T100000
DTEND;TZID=America/Chicago:20260422T110000
DTSTAMP:20260421T044224
CREATED:20260324T021638Z
LAST-MODIFIED:20260414T024735Z
UID:10006486-1776852000-1776855600@gunstuff.tv
SUMMARY:LTC Qualification
DESCRIPTION:Are you a student who has taken an online LTC Course and need to complete your shooting qualification? Defender offers the LTC shooting proficiency portion every week. \nThe shooting qualification requires that you must be able to load\, unload\, and fire the handgun proficiently. If you are new to or inexperienced with shooting we strongly recommend taking either the LTC Prep or Handgun Fundamentals course. This course does not teach basic firearm skills or shooting instruction. (More info) \nPlease arrive a few minutes early to check in and bring a printed copy of your LTC 104 form. \nOur shooting qualification schedule is as follows: \n\nWednesdays – 10:00am\nSaturdays – 8:00am\n\nNo appointment needed\, you can simply walk-in during these available times. \nPlease bring the following: \n\nLTC 104 Form\nFirearm (rental available at additional charge)\n1 magazine\n50 rounds of ammo (ammunition is available for purchase at time of session)\nEye and Ear Protection (rentals available)\n\nREGISTER NOW
URL:https://gunstuff.tv/event/ltc-qualification-60/
LOCATION:Shooting Center\, 2900 Shotts Street\, Fort Worth\, TX\, 76107
CATEGORIES:Shooting Center,Shooting Center Training
ATTACH;FMTTYPE=image/jpeg:https://gunstuff.tv/wp-content/uploads/2025/10/LTC-Qualification-vTp9PG.jpg
ORGANIZER;CN="Defender Outdoors Shooting Center Training":MAILTO:info@defenderoutdoors.com
END:VEVENT
BEGIN:VEVENT
DTSTART;TZID=America/Chicago:20260422T160000
DTEND;TZID=America/Chicago:20260422T190000
DTSTAMP:20260421T044224
CREATED:20260324T021638Z
LAST-MODIFIED:20260414T024735Z
UID:10006487-1776873600-1776884400@gunstuff.tv
SUMMARY:Practical Shooting 2
DESCRIPTION:Practical Shooting 2 is a 3-hour class focused on improving speed\, accuracy\, and efficiency on every stage. This course builds on the fundamentals from Practical Shooting 1 and applies them in a more performance-driven way. Students will work on refining recoil control\, tightening shot groups during faster strings\, and eliminating wasted movement to gain time across each stage. You’ll learn how to recognize visual cues sooner\, transition with more intention\, and plan stages with a strategy that maximizes your hit factor. Expect focused drills\, clear instruction\, and practical techniques you can take straight into competition. \nTopics Covered: \n\nPhysical structure\, grip\, and vision\nConfirmation levels\nTarget transitions\nEntries and exits\nShooting on the move\nStage planning\n\nWhat To Know Before You Get Here: \nIf you have not taken our Practical Shooting 1 course (formerly known as Introduction to Competitive Shooting) then please contact the instructor via email before signing up at mike@defenderoutdoors.com. \nRequired Equipment: \n\nYour own semi-automatic handgun\, 9mm to 45ACP (No revolvers or calibers under 9mm)\nRed dots are HIGHLY encouraged but not required\nBelt mounted kydex or similar material holster on or forward of the hip (No leather or “sticky” holsters\, and no drawing from behind the hip)\n3 magazines or more\nMagazine pouch/holder (At least one)\nAppropriate range attire (pants\, close-toed shoes\, shooting belt or a sturdy belt)\nAppropriate ear and eye protection\n350 rounds of ammunition minimum (No steel core\, steel case\, or aluminum case allowed)\nNOTE: Round counts may vary.\n\nRegister Here
URL:https://gunstuff.tv/event/practical-shooting-2-7/
LOCATION:Shooting Center\, 2900 Shotts Street\, Fort Worth\, TX\, 76107
CATEGORIES:Shooting Center,Shooting Center Training
ATTACH;FMTTYPE=image/jpeg:https://gunstuff.tv/wp-content/uploads/2026/03/Practical-Shooting-2-GA0wAM-uqMgLZ.jpg
ORGANIZER;CN="Defender Outdoors Shooting Center Training":MAILTO:info@defenderoutdoors.com
END:VEVENT
END:VCALENDAR